{"text_format":"1","workbook":"xlsx","n_sheets":4,"sheets":["Kortelė","Duomenys","Archyvas","Ataskaita_mėnesio"],"not_rendered":{"charts":0,"images":1,"macros":1,"external_links":2,"defined_names":10,"comments":2,"pivot_tables":0},"unopened":[],"bounds":{"document_bytes":16777216,"sheet_cells":100000,"rows_first":2000,"rows_last":500,"rows_between":2000,"halvings":0,"cell_chars":16384,"cell_head_chars":4096},"cells_cut":0,"cells_raw":0,"read":"whole","date_system":"1900"}

{"sheet":"Kortelė","index":0,"n_rows":500,"n_cols":26,"rows_kept":500,"cut":false,"hidden":false,"merged":[[25,1,26,6],[21,1,24,6],[3,1,3,6],[3,12,3,16],[1,14,1,15]]}
[]
[null,null,null,null,null,null,null,null,null,null,null,null,"х",null,"Yhteensä:",null,null,null,null,null,null,null,null,null,1,"x"]
[null,null,null,null,null,null,null,null,null,null,null,null,null,null,null,null,null,null,null,null,null,null,null,null,2]
[null,"2019-01-27",null,null,null,null,null,null,null,null,null,null,{"$f":"B26","v":"2019-02-03"},null,null,null,null,null,null,null,null,null,null,null,3]
[null,{"$f":"IF(ISBLANK(C5),\"\",COUNTA($C$5:C5))","v":1},"Butas",{"$f":"IFERROR(VLOOKUP(C5,Duomenys!$B$2:$C$51,2,FALSE),\"-\")","v":"Soukankaari 12A - 2  02360 Espoo"},null,{"$f":"IFERROR(HLOOKUP(VLOOKUP(C5,Duomenys!$B$2:$D$51,3,FALSE),Duomenys!$F$1:$BC$51,VLOOKUP(C6,Duomenys!$B$2:$D$51,3,FALSE)+1,FALSE),0)","v":0},{"$f":"IF(D5=\"-\",\"-\",IFERROR(VLOOKUP(C6,Duomenys!$B$2:$C$51,2,FALSE),\"-\"))","v":"-"},null,null,null,null,null,1,null,{"$f":"_xlfn.IFNA(VLOOKUP($M5,Ataskaita,2,FALSE),\"\")","v":"2019-02-02"},{"$f":"_xlfn.IFNA(VLOOKUP($M5,Ataskaita,4,FALSE),IF(AND(O4=\"\",O3<>\"\"),$O$2&\"             \"& SUM($Q3:Q$5)&\" h.\",\"\"))","v":"Pekontie 1, 01900 Nurmijärvi"},{"$f":"_xlfn.IFNA(VLOOKUP($M5,Ataskaita,5,FALSE),IF(AND(O4=\"\",O3<>\"\"),\"...\",\"\"))","v":2},null,null,null,null,null,null,null,4]
[null,{"$f":"IF(ISBLANK(C6),\"\",COUNTA($C$5:C6))","v":""},null,{"$f":"IFERROR(VLOOKUP(C6,Duomenys!$B$2:$C$51,2,FALSE),\"-\")","v":"-"},null,{"$f":"IFERROR(HLOOKUP(VLOOKUP(C6,Duomenys!$B$2:$D$51,3,FALSE),Duomenys!$F$1:$BC$51,VLOOKUP(C7,Duomenys!$B$2:$D$51,3,FALSE)+1,FALSE),0)","v":0},{"$f":"IF(D6=\"-\",\"-\",IFERROR(VLOOKUP(C7,Duomenys!$B$2:$C$51,2,FALSE),\"-\"))","v":"-"},null,null,null,null,null,2,null,"2019-02-02",{"$f":"_xlfn.IFNA(VLOOKUP($M6,Ataskaita,4,FALSE),IF(AND(O5=\"\",O4<>\"\"),$O$2&\"             \"& SUM($Q4:Q$5)&\" h.\",\"\"))","v":"Tiiramäentie 9, 01800 Nurmijärvi"},4,null,null,null,null,null,null,null,5]
[null,{"$f":"IF(ISBLANK(C7),\"\",COUNTA($C$5:C7))","v":""},null,{"$f":"IFERROR(VLOOKUP(C7,Duomenys!$B$2:$C$51,2,FALSE),\"-\")","v":"-"},null,{"$f":"IFERROR(HLOOKUP(VLOOKUP(C7,Duomenys!$B$2:$D$51,3,FALSE),Duomenys!$F$1:$BC$51,VLOOKUP(C8,Duomenys!$B$2:$D$51,3,FALSE)+1,FALSE),0)","v":0},{"$f":"IF(D7=\"-\",\"-\",IFERROR(VLOOKUP(C8,Duomenys!$B$2:$C$51,2,FALSE),\"-\"))","v":"-"},null,null,null,null,null,3,null,"2019-02-02",{"$f":"_xlfn.IFNA(VLOOKUP($M7,Ataskaita,4,FALSE),IF(AND(O6=\"\",O5<>\"\"),$O$2&\"             \"& SUM($Q5:Q$5)&\" h.\",\"\"))","v":"Ilmolantie 89, 01860 Nurmijärvi"},2,null,null,null,null,null,null,null,6]
[null,{"$f":"IF(ISBLANK(C8),\"\",COUNTA($C$5:C8))","v":""},null,{"$f":"IFERROR(VLOOKUP(C8,Duomenys!$B$2:$C$51,2,FALSE),\"-\")","v":"-"},null,{"$f":"IFERROR(HLOOKUP(VLOOKUP(C8,Duomenys!$B$2:$D$51,3,FALSE),Duomenys!$F$1:$BC$51,VLOOKUP(C9,Duomenys!$B$2:$D$51,3,FALSE)+1,FALSE),0)","v":0},{"$f":"IF(D8=\"-\",\"-\",IFERROR(VLOOKUP(C9,Duomenys!$B$2:$C$51,2,FALSE),\"-\"))","v":"-"},null,null,null,null,null,4,null,"2019-02-02",{"$f":"_xlfn.IFNA(VLOOKUP($M8,Ataskaita,4,FALSE),IF(AND(O7=\"\",O6<>\"\"),$O$2&\"             \"& SUM($Q$5:Q6)&\" h.\",\"\"))","v":"Tiiramäentie 9, 01800 Nurmijärvi"},3,null,null,null,null,null,null,null,7]
[null,{"$f":"IF(ISBLANK(C9),\"\",COUNTA($C$5:C9))","v":""},null,{"$f":"IFERROR(VLOOKUP(C9,Duomenys!$B$2:$C$51,2,FALSE),\"-\")","v":"-"},null,{"$f":"IFERROR(HLOOKUP(VLOOKUP(C9,Duomenys!$B$2:$D$51,3,FALSE),Duomenys!$F$1:$BC$51,VLOOKUP(C10,Duomenys!$B$2:$D$51,3,FALSE)+1,FALSE),0)","v":0},{"$f":"IF(D9=\"-\",\"-\",IFERROR(VLOOKUP(C10,Duomenys!$B$2:$C$51,2,FALSE),\"-\"))","v":"-"},null,null,null,null,null,5,null,"2019-02-02",{"$f":"_xlfn.IFNA(VLOOKUP($M9,Ataskaita,4,FALSE),IF(AND(O8=\"\",O7<>\"\"),$O$2&\"             \"& SUM($Q$5:Q7)&\" h.\",\"\"))","v":"Pekontie 1, 01900 Nurmijärvi"},4,null,null,null,null,null,null,null,8]
[null,{"$f":"IF(ISBLANK(C10),\"\",COUNTA($C$5:C10))","v":""},null,{"$f":"IFERROR(VLOOKUP(C10,Duomenys!$B$2:$C$51,2,FALSE),\"-\")","v":"-"},null,{"$f":"IFERROR(HLOOKUP(VLOOKUP(C10,Duomenys!$B$2:$D$51,3,FALSE),Duomenys!$F$1:$BC$51,VLOOKUP(C11,Duomenys!$B$2:$D$51,3,FALSE)+1,FALSE),0)","v":0},{"$f":"IF(D10=\"-\",\"-\",IFERROR(VLOOKUP(C11,Duomenys!$B$2:$C$51,2,FALSE),\"-\"))","v":"-"},null,null,null,null,null,6,null,"2019-02-03",{"$f":"_xlfn.IFNA(VLOOKUP($M10,Ataskaita,4,FALSE),IF(AND(O9=\"\",O8<>\"\"),$O$2&\"             \"& SUM($Q$5:Q8)&\" h.\",\"\"))","v":"Pekontie 1, 01900 Nurmijärvi"},2,null,null,null,null,null,null,null,9]
[null,{"$f":"IF(ISBLANK(C11),\"\",COUNTA($C$5:C11))","v":""},null,{"$f":"IFERROR(VLOOKUP(C11,Duomenys!$B$2:$C$51,2,FALSE),\"-\")","v":"-"},null,{"$f":"IFERROR(HLOOKUP(VLOOKUP(C11,Duomenys!$B$2:$D$51,3,FALSE),Duomenys!$F$1:$BC$51,VLOOKUP(C12,Duomenys!$B$2:$D$51,3,FALSE)+1,FALSE),0)","v":0},{"$f":"IF(D11=\"-\",\"-\",IFERROR(VLOOKUP(C12,Duomenys!$B$2:$C$51,2,FALSE),\"-\"))","v":"-"},null,null,null,null,null,7,null,"2019-02-03",{"$f":"_xlfn.IFNA(VLOOKUP($M11,Ataskaita,4,FALSE),IF(AND(O10=\"\",O9<>\"\"),$O$2&\"             \"& SUM($Q$5:Q9)&\" h.\",\"\"))","v":"Vanha Rajamäentie 173, 05200 Nurmijärvi"},3,null,null,null,null,null,null,null,10]
[null,{"$f":"IF(ISBLANK(C12),\"\",COUNTA($C$5:C12))","v":""},null,{"$f":"IFERROR(VLOOKUP(C12,Duomenys!$B$2:$C$51,2,FALSE),\"-\")","v":"-"},null,{"$f":"IFERROR(HLOOKUP(VLOOKUP(C12,Duomenys!$B$2:$D$51,3,FALSE),Duomenys!$F$1:$BC$51,VLOOKUP(C13,Duomenys!$B$2:$D$51,3,FALSE)+1,FALSE),0)","v":0},{"$f":"IF(D12=\"-\",\"-\",IFERROR(VLOOKUP(C13,Duomenys!$B$2:$C$51,2,FALSE),\"-\"))","v":"-"},null,null,null,null,null,8,null,"2019-02-03",{"$f":"_xlfn.IFNA(VLOOKUP($M12,Ataskaita,4,FALSE),IF(AND(O11=\"\",O10<>\"\"),$O$2&\"             \"& SUM($Q$5:Q10)&\" h.\",\"\"))","v":"Pekontie 1, 01900 Nurmijärvi"},2]
[null,{"$f":"IF(ISBLANK(C13),\"\",COUNTA($C$5:C13))","v":""},null,{"$f":"IFERROR(VLOOKUP(C13,Duomenys!$B$2:$C$51,2,FALSE),\"-\")","v":"-"},null,{"$f":"IFERROR(HLOOKUP(VLOOKUP(C13,Duomenys!$B$2:$D$51,3,FALSE),Duomenys!$F$1:$BC$51,VLOOKUP(C14,Duomenys!$B$2:$D$51,3,FALSE)+1,FALSE),0)","v":0},{"$f":"IF(D13=\"-\",\"-\",IFERROR(VLOOKUP(C14,Duomenys!$B$2:$C$51,2,FALSE),\"-\"))","v":"-"},null,null,null,null,null,9,null,"2019-02-03",{"$f":"_xlfn.IFNA(VLOOKUP($M13,Ataskaita,4,FALSE),IF(AND(O12=\"\",O11<>\"\"),$O$2&\"             \"& SUM($Q$5:Q11)&\" h.\",\"\"))","v":"Ruokosuonkuja 3, 04350 Tuusula"},1]
[null,{"$f":"IF(ISBLANK(C14),\"\",COUNTA($C$5:C14))","v":""},null,{"$f":"IFERROR(VLOOKUP(C14,Duomenys!$B$2:$C$51,2,FALSE),\"-\")","v":"-"},null,{"$f":"IFERROR(HLOOKUP(VLOOKUP(C14,Duomenys!$B$2:$D$51,3,FALSE),Duomenys!$F$1:$BC$51,VLOOKUP(C15,Duomenys!$B$2:$D$51,3,FALSE)+1,FALSE),0)","v":0},{"$f":"IF(D14=\"-\",\"-\",IFERROR(VLOOKUP(C15,Duomenys!$B$2:$C$51,2,FALSE),\"-\"))","v":"-"},null,null,null,null,null,10,null,"2019-02-03",{"$f":"_xlfn.IFNA(VLOOKUP($M14,Ataskaita,4,FALSE),IF(AND(O13=\"\",O12<>\"\"),$O$2&\"             \"& SUM($Q$5:Q12)&\" h.\",\"\"))","v":"Tiiramäentie 9, 01800 Nurmijärvi"},2]
[null,null,"-",null,{"$f":"SUM(E5:E13)","v":0},{"$f":"SUM(F5:F14)","v":0},null,null,null,null,null,null,11,null,"2019-02-03",{"$f":"_xlfn.IFNA(VLOOKUP($M15,Ataskaita,4,FALSE),IF(AND(O14=\"\",O13<>\"\"),$O$2&\"             \"& SUM($Q$5:Q13)&\" h.\",\"\"))","v":"Järventaustantie 141, 01810 Nurmijärvi"},4]
[null,null,null,null,null,null,null,null,null,null,null,null,12,null,"2019-02-05",{"$f":"_xlfn.IFNA(VLOOKUP($M16,Ataskaita,4,FALSE),IF(AND(O15=\"\",O14<>\"\"),$O$2&\"             \"& SUM($Q$5:Q14)&\" h.\",\"\"))","v":"Pekontie 1, 01900 Nurmijärvi"},3]
[null,null,null,null,null,null,null,null,null,null,null,null,13,null,"2019-02-05",{"$f":"_xlfn.IFNA(VLOOKUP($M17,Ataskaita,4,FALSE),IF(AND(O16=\"\",O15<>\"\"),$O$2&\"             \"& SUM($Q$5:Q15)&\" h.\",\"\"))","v":"Ruokosuonkuja 3, 04350 Tuusula"},5]
[null,null,null,null,null,null,null,null,null,null,null,null,14,null,"2019-02-05",{"$f":"_xlfn.IFNA(VLOOKUP($M18,Ataskaita,4,FALSE),IF(AND(O17=\"\",O16<>\"\"),$O$2&\"             \"& SUM($Q$5:Q16)&\" h.\",\"\"))","v":"Tiiramäentie 9, 01800 Nurmijärvi"},1]
[null,null,null,null,null,null,null,null,null,null,null,null,15,null,"2019-02-05",{"$f":"_xlfn.IFNA(VLOOKUP($M19,Ataskaita,4,FALSE),IF(AND(O18=\"\",O17<>\"\"),$O$2&\"             \"& SUM($Q$5:Q17)&\" h.\",\"\"))","v":"Ruokosuonkuja 3, 04350 Tuusula"},2]
[null,null,null,null,null,null,null,null,null,null,null,null,16,null,"2019-02-05",{"$f":"_xlfn.IFNA(VLOOKUP($M20,Ataskaita,4,FALSE),IF(AND(O19=\"\",O18<>\"\"),$O$2&\"             \"& SUM($Q$5:Q18)&\" h.\",\"\"))","v":"Pekontie 1, 01900 Nurmijärvi"},2]
[null,null,null,null,null,null,null,null,null,null,null,null,17,null,"2019-02-05",{"$f":"_xlfn.IFNA(VLOOKUP($M21,Ataskaita,4,FALSE),IF(AND(O20=\"\",O19<>\"\"),$O$2&\"             \"& SUM($Q$5:Q19)&\" h.\",\"\"))","v":"Vanha Rajamäentie 173, 05200 Nurmijärvi"},2]
[null,"A R C H Y V A S",null,null,null,null,null,null,null,null,null,null,18,null,"",{"$f":"_xlfn.IFNA(VLOOKUP($M22,Ataskaita,4,FALSE),IF(AND(O21=\"\",O20<>\"\"),$O$2&\"             \"& SUM($Q$5:Q20)&\" h.\",\"\"))","v":""},""]
[null,null,null,null,null,null,null,null,null,null,{"$f":"AND(O23=MAX(Archyvas!A1:A500,Kortelė!M2=\"x\"))","v":false},null,19,null,"",{"$f":"_xlfn.IFNA(VLOOKUP($M23,Ataskaita,4,FALSE),IF(AND(O22=\"\",O21<>\"\"),$O$2&\"             \"& SUM($Q$5:Q21)&\" h.\",\"\"))","v":"Yhteensä:             44 h."},"..."]
[null,null,null,null,null,null,null,null,null,null,null,null,20,null,"",{"$f":"_xlfn.IFNA(VLOOKUP($M24,Ataskaita,4,FALSE),IF(AND(O23=\"\",O22<>\"\"),$O$2&\"             \"& SUM($Q$5:Q22)&\" h.\",\"\"))","v":""},""]
[null,null,null,null,null,null,null,null,null,null,null,null,21,null,"",{"$f":"_xlfn.IFNA(VLOOKUP($M25,Ataskaita,4,FALSE),IF(AND(O24=\"\",O23<>\"\"),$O$2&\"             \"& SUM($Q$5:Q23)&\" h.\",\"\"))","v":""},""]
[null,"2019-02-03",null,null,null,null,null,null,null,null,null,null,22,null,"",{"$f":"_xlfn.IFNA(VLOOKUP($M26,Ataskaita,4,FALSE),IF(AND(O25=\"\",O24<>\"\"),$O$2&\"             \"& SUM($Q$5:Q24)&\" h.\",\"\"))","v":""},""]
[null,null,null,null,null,null,null,null,null,null,null,null,23,null,"",{"$f":"_xlfn.IFNA(VLOOKUP($M27,Ataskaita,4,FALSE),IF(AND(O26=\"\",O25<>\"\"),$O$2&\"             \"& SUM($Q$5:Q25)&\" h.\",\"\"))","v":""},""]
[null,{"$f":"IF(C28=0,\"\",COUNTA($C$28:C28))","v":1},{"$f":"_xlfn.IFNA(VLOOKUP($B$26,Archyvas,2,FALSE),\"---\")","v":"Butas"},{"$f":"_xlfn.IFNA(VLOOKUP($B$26,Archyvas,3,FALSE),\"---\")","v":"Soukankaari 12A - 2  02360 Espoo"},{"$f":"_xlfn.IFNA(VLOOKUP($B$26,Archyvas,4,FALSE),\"---\")","v":0},{"$f":"_xlfn.IFNA(VLOOKUP($B$26,Archyvas,5,FALSE),\"---\")","v":51},{"$f":"_xlfn.IFNA(VLOOKUP($B$26,Archyvas,6,FALSE),\"---\")","v":"Pekontie 1, 01900 Nurmijärvi"},null,null,null,null,null,24,null,"",{"$f":"_xlfn.IFNA(VLOOKUP($M28,Ataskaita,4,FALSE),IF(AND(O27=\"\",O26<>\"\"),$O$2&\"             \"& SUM($Q$5:Q26)&\" h.\",\"\"))","v":""},""]
[null,{"$f":"IF(C29=0,\"\",COUNTA($C$28:C29))","v":2},{"$f":"_xlfn.IFNA(VLOOKUP($B$26,Archyvas,7,FALSE),\"---\")","v":"Dažų pard."},{"$f":"_xlfn.IFNA(VLOOKUP($B$26,Archyvas,8,FALSE),\"---\")","v":"Pekontie 1, 01900 Nurmijärvi"},{"$f":"_xlfn.IFNA(VLOOKUP($B$26,Archyvas,9,FALSE),\"---\")","v":2},{"$f":"_xlfn.IFNA(VLOOKUP($B$26,Archyvas,10,FALSE),\"---\")","v":8},{"$f":"_xlfn.IFNA(VLOOKUP($B$26,Archyvas,11,FALSE),\"---\")","v":"Vanha Rajamäentie 173, 05200 Nurmijärvi"},null,null,null,null,null,25,null,"",{"$f":"_xlfn.IFNA(VLOOKUP($M29,Ataskaita,4,FALSE),IF(AND(O28=\"\",O27<>\"\"),$O$2&\"             \"& SUM($Q$5:Q27)&\" h.\",\"\"))","v":""},""]
[null,{"$f":"IF(C30=0,\"\",COUNTA($C$28:C30))","v":3},{"$f":"_xlfn.IFNA(VLOOKUP($B$26,Archyvas,12,FALSE),\"---\")","v":"Motociklai"},{"$f":"_xlfn.IFNA(VLOOKUP($B$26,Archyvas,13,FALSE),\"---\")","v":"Vanha Rajamäentie 173, 05200 Nurmijärvi"},{"$f":"_xlfn.IFNA(VLOOKUP($B$26,Archyvas,14,FALSE),\"---\")","v":3},{"$f":"_xlfn.IFNA(VLOOKUP($B$26,Archyvas,15,FALSE),\"---\")","v":8},{"$f":"_xlfn.IFNA(VLOOKUP($B$26,Archyvas,16,FALSE),\"---\")","v":"Pekontie 1, 01900 Nurmijärvi"},null,null,null,null,null,26,null,"",{"$f":"_xlfn.IFNA(VLOOKUP($M30,Ataskaita,4,FALSE),IF(AND(O29=\"\",O28<>\"\"),$O$2&\"             \"& SUM($Q$5:Q28)&\" h.\",\"\"))","v":""},""]
[null,{"$f":"IF(C31=0,\"\",COUNTA($C$28:C31))","v":4},{"$f":"_xlfn.IFNA(VLOOKUP($B$26,Archyvas,17,FALSE),\"---\")","v":"Dažų pard."},{"$f":"_xlfn.IFNA(VLOOKUP($B$26,Archyvas,18,FALSE),\"---\")","v":"Pekontie 1, 01900 Nurmijärvi"},{"$f":"_xlfn.IFNA(VLOOKUP($B$26,Archyvas,19,FALSE),\"---\")","v":2},{"$f":"_xlfn.IFNA(VLOOKUP($B$26,Archyvas,20,FALSE),\"---\")","v":8},{"$f":"_xlfn.IFNA(VLOOKUP($B$26,Archyvas,21,FALSE),\"---\")","v":"Ruokosuonkuja 3, 04350 Tuusula"},null,null,null,null,null,27,null,"",{"$f":"_xlfn.IFNA(VLOOKUP($M31,Ataskaita,4,FALSE),IF(AND(O30=\"\",O29<>\"\"),$O$2&\"             \"& SUM($Q$5:Q29)&\" h.\",\"\"))","v":""},""]
[null,{"$f":"IF(C32=0,\"\",COUNTA($C$28:C32))","v":5},{"$f":"_xlfn.IFNA(VLOOKUP($B$26,Archyvas,22,FALSE),\"---\")","v":"Namas 3"},{"$f":"_xlfn.IFNA(VLOOKUP($B$26,Archyvas,23,FALSE),\"---\")","v":"Ruokosuonkuja 3, 04350 Tuusula"},{"$f":"_xlfn.IFNA(VLOOKUP($B$26,Archyvas,24,FALSE),\"---\")","v":1},{"$f":"_xlfn.IFNA(VLOOKUP($B$26,Archyvas,25,FALSE),\"---\")","v":15},{"$f":"_xlfn.IFNA(VLOOKUP($B$26,Archyvas,26,FALSE),\"---\")","v":"Tiiramäentie 9, 01800 Nurmijärvi"},null,null,null,null,null,28,null,"",{"$f":"_xlfn.IFNA(VLOOKUP($M32,Ataskaita,4,FALSE),IF(AND(O31=\"\",O30<>\"\"),$O$2&\"             \"& SUM($Q$5:Q30)&\" h.\",\"\"))","v":""},""]
[null,{"$f":"IF(C33=0,\"\",COUNTA($C$28:C33))","v":6},{"$f":"_xlfn.IFNA(VLOOKUP($B$26,Archyvas,27,FALSE),\"---\")","v":"Namas 9"},{"$f":"_xlfn.IFNA(VLOOKUP($B$26,Archyvas,28,FALSE),\"---\")","v":"Tiiramäentie 9, 01800 Nurmijärvi"},{"$f":"_xlfn.IFNA(VLOOKUP($B$26,Archyvas,29,FALSE),\"---\")","v":2},{"$f":"_xlfn.IFNA(VLOOKUP($B$26,Archyvas,30,FALSE),\"---\")","v":7},{"$f":"_xlfn.IFNA(VLOOKUP($B$26,Archyvas,31,FALSE),\"---\")","v":"Järventaustantie 141, 01810 Nurmijärvi"},null,null,null,null,null,29,null,"",{"$f":"_xlfn.IFNA(VLOOKUP($M33,Ataskaita,4,FALSE),IF(AND(O32=\"\",O31<>\"\"),$O$2&\"             \"& SUM($Q$5:Q31)&\" h.\",\"\"))","v":""},""]
[null,{"$f":"IF(C34=0,\"\",COUNTA($C$28:C34))","v":7},{"$f":"_xlfn.IFNA(VLOOKUP($B$26,Archyvas,32,FALSE),\"---\")","v":"Dažų gamykl."},{"$f":"_xlfn.IFNA(VLOOKUP($B$26,Archyvas,33,FALSE),\"---\")","v":"Järventaustantie 141, 01810 Nurmijärvi"},{"$f":"_xlfn.IFNA(VLOOKUP($B$26,Archyvas,34,FALSE),\"---\")","v":4},{"$f":"_xlfn.IFNA(VLOOKUP($B$26,Archyvas,35,FALSE),\"---\")","v":45},{"$f":"_xlfn.IFNA(VLOOKUP($B$26,Archyvas,36,FALSE),\"---\")","v":"Soukankaari 12A - 2  02360 Espoo"},null,null,null,null,null,30,null,"",{"$f":"_xlfn.IFNA(VLOOKUP($M34,Ataskaita,4,FALSE),IF(AND(O33=\"\",O32<>\"\"),$O$2&\"             \"& SUM($Q$5:Q32)&\" h.\",\"\"))","v":""},""]
[null,{"$f":"IF(C35=0,\"\",COUNTA($C$28:C35))","v":8},{"$f":"_xlfn.IFNA(VLOOKUP($B$26,Archyvas,37,FALSE),\"---\")","v":"Butas"},{"$f":"_xlfn.IFNA(VLOOKUP($B$26,Archyvas,38,FALSE),\"---\")","v":"Soukankaari 12A - 2  02360 Espoo"},{"$f":"_xlfn.IFNA(VLOOKUP($B$26,Archyvas,39,FALSE),\"---\")","v":0},{"$f":"_xlfn.IFNA(VLOOKUP($B$26,Archyvas,40,FALSE),\"---\")","v":0},{"$f":"_xlfn.IFNA(VLOOKUP($B$26,Archyvas,41,FALSE),\"---\")","v":"-"},null,null,null,null,null,31,null,"",{"$f":"_xlfn.IFNA(VLOOKUP($M35,Ataskaita,4,FALSE),IF(AND(O34=\"\",O33<>\"\"),$O$2&\"             \"& SUM($Q$5:Q33)&\" h.\",\"\"))","v":""},""]
[null,{"$f":"IF(C36=0,\"\",COUNTA($C$28:C36))","v":""},{"$f":"_xlfn.IFNA(VLOOKUP($B$26,Archyvas,42,FALSE),\"---\")","v":0},{"$f":"_xlfn.IFNA(VLOOKUP($B$26,Archyvas,43,FALSE),\"---\")","v":"-"},{"$f":"_xlfn.IFNA(VLOOKUP($B$26,Archyvas,44,FALSE),\"---\")","v":0},{"$f":"_xlfn.IFNA(VLOOKUP($B$26,Archyvas,45,FALSE),\"---\")","v":0},{"$f":"_xlfn.IFNA(VLOOKUP($B$26,Archyvas,46,FALSE),\"---\")","v":"-"},null,null,null,null,null,32,null,"",{"$f":"_xlfn.IFNA(VLOOKUP($M36,Ataskaita,4,FALSE),IF(AND(O35=\"\",O34<>\"\"),$O$2&\"             \"& SUM($Q$5:Q34)&\" h.\",\"\"))","v":""},""]
[null,{"$f":"IF(C37=0,\"\",COUNTA($C$28:C37))","v":""},{"$f":"_xlfn.IFNA(VLOOKUP($B$26,Archyvas,47,FALSE),\"---\")","v":0},{"$f":"_xlfn.IFNA(VLOOKUP($B$26,Archyvas,48,FALSE),\"---\")","v":"-"},{"$f":"_xlfn.IFNA(VLOOKUP($B$26,Archyvas,49,FALSE),\"---\")","v":0},{"$f":"_xlfn.IFNA(VLOOKUP($B$26,Archyvas,50,FALSE),\"---\")","v":0},{"$f":"_xlfn.IFNA(VLOOKUP($B$26,Archyvas,51,FALSE),\"---\")","v":"-"},null,null,null,null,null,33,null,"",{"$f":"_xlfn.IFNA(VLOOKUP($M37,Ataskaita,4,FALSE),IF(AND(O36=\"\",O35<>\"\"),$O$2&\"             \"& SUM($Q$5:Q35)&\" h.\",\"\"))","v":""},""]
[null,null,{"$f":"_xlfn.IFNA(VLOOKUP($B$26,Archyvas,52,FALSE),\"---\")","v":"-"},{"$f":"_xlfn.IFNA(VLOOKUP($B$26,Archyvas,53,FALSE),\"---\")","v":0},{"$f":"_xlfn.IFNA(VLOOKUP($B$26,Archyvas,54,FALSE),\"---\")","v":14},{"$f":"_xlfn.IFNA(VLOOKUP($B$26,Archyvas,55,FALSE),\"---\")","v":142},null,null,null,null,null,null,34,null,"",{"$f":"_xlfn.IFNA(VLOOKUP($M38,Ataskaita,4,FALSE),IF(AND(O37=\"\",O36<>\"\"),$O$2&\"             \"& SUM($Q$5:Q36)&\" h.\",\"\"))","v":""},""]
[null,null,null,null,null,null,null,null,null,null,null,null,35,null,"",{"$f":"_xlfn.IFNA(VLOOKUP($M39,Ataskaita,4,FALSE),IF(AND(O38=\"\",O37<>\"\"),$O$2&\"             \"& SUM($Q$5:Q37)&\" h.\",\"\"))","v":""},""]
[null,null,null,null,null,null,null,null,null,null,null,null,36,null,"",{"$f":"_xlfn.IFNA(VLOOKUP($M40,Ataskaita,4,FALSE),IF(AND(O39=\"\",O38<>\"\"),$O$2&\"             \"& SUM($Q$5:Q38)&\" h.\",\"\"))","v":""},""]
[null,null,null,null,null,null,null,null,null,null,null,null,37,null,"",{"$f":"_xlfn.IFNA(VLOOKUP($M41,Ataskaita,4,FALSE),IF(AND(O40=\"\",O39<>\"\"),$O$2&\"             \"& SUM($Q$5:Q39)&\" h.\",\"\"))","v":""},""]
[null,null,null,null,null,null,null,null,null,null,null,null,38,null,"",{"$f":"_xlfn.IFNA(VLOOKUP($M42,Ataskaita,4,FALSE),IF(AND(O41=\"\",O40<>\"\"),$O$2&\"             \"& SUM($Q$5:Q40)&\" h.\",\"\"))","v":""},""]
[null,null,null,null,null,null,null,null,null,null,null,null,39,null,"",{"$f":"_xlfn.IFNA(VLOOKUP($M43,Ataskaita,4,FALSE),IF(AND(O42=\"\",O41<>\"\"),$O$2&\"             \"& SUM($Q$5:Q41)&\" h.\",\"\"))","v":""},""]
[null,null,null,null,null,null,null,null,null,null,null,null,40,null,"",{"$f":"_xlfn.IFNA(VLOOKUP($M44,Ataskaita,4,FALSE),IF(AND(O43=\"\",O42<>\"\"),$O$2&\"             \"& SUM($Q$5:Q42)&\" h.\",\"\"))","v":""},""]
[null,null,null,null,null,null,null,null,null,null,null,null,41,null,"",{"$f":"_xlfn.IFNA(VLOOKUP($M45,Ataskaita,4,FALSE),IF(AND(O44=\"\",O43<>\"\"),$O$2&\"             \"& SUM($Q$5:Q43)&\" h.\",\"\"))","v":""},""]
[null,null,null,null,null,null,null,null,null,null,null,null,42,null,"",{"$f":"_xlfn.IFNA(VLOOKUP($M46,Ataskaita,4,FALSE),IF(AND(O45=\"\",O44<>\"\"),$O$2&\"             \"& SUM($Q$5:Q44)&\" h.\",\"\"))","v":""},""]
[null,null,null,null,null,null,null,null,null,null,null,null,43,null,"",{"$f":"_xlfn.IFNA(VLOOKUP($M47,Ataskaita,4,FALSE),IF(AND(O46=\"\",O45<>\"\"),$O$2&\"             \"& SUM($Q$5:Q45)&\" h.\",\"\"))","v":""},""]
[null,null,null,null,null,null,null,null,null,null,null,null,44,null,"",{"$f":"_xlfn.IFNA(VLOOKUP($M48,Ataskaita,4,FALSE),IF(AND(O47=\"\",O46<>\"\"),$O$2&\"             \"& SUM($Q$5:Q46)&\" h.\",\"\"))","v":""},""]
[null,null,null,null,null,null,null,null,null,null,null,null,45,null,"",{"$f":"_xlfn.IFNA(VLOOKUP($M49,Ataskaita,4,FALSE),IF(AND(O48=\"\",O47<>\"\"),$O$2&\"             \"& SUM($Q$5:Q47)&\" h.\",\"\"))","v":""},""]
[null,null,null,null,null,null,null,null,null,null,null,null,46,null,"",{"$f":"_xlfn.IFNA(VLOOKUP($M50,Ataskaita,4,FALSE),IF(AND(O49=\"\",O48<>\"\"),$O$2&\"             \"& SUM($Q$5:Q48)&\" h.\",\"\"))","v":""},""]
[null,null,null,null,null,null,null,null,null,null,null,null,47,null,"",{"$f":"_xlfn.IFNA(VLOOKUP($M51,Ataskaita,4,FALSE),IF(AND(O50=\"\",O49<>\"\"),$O$2&\"             \"& SUM($Q$5:Q49)&\" h.\",\"\"))","v":""},""]
[null,null,null,null,null,null,null,null,null,null,null,null,48,null,"",{"$f":"_xlfn.IFNA(VLOOKUP($M52,Ataskaita,4,FALSE),IF(AND(O51=\"\",O50<>\"\"),$O$2&\"             \"& SUM($Q$5:Q50)&\" h.\",\"\"))","v":""},""]
[null,null,null,null,null,null,null,null,null,null,null,null,49,null,"",{"$f":"_xlfn.IFNA(VLOOKUP($M53,Ataskaita,4,FALSE),IF(AND(O52=\"\",O51<>\"\"),$O$2&\"             \"& SUM($Q$5:Q51)&\" h.\",\"\"))","v":""},""]
[null,null,null,null,null,null,null,null,null,null,null,null,50,null,"",{"$f":"_xlfn.IFNA(VLOOKUP($M54,Ataskaita,4,FALSE),IF(AND(O53=\"\",O52<>\"\"),$O$2&\"             \"& SUM($Q$5:Q52)&\" h.\",\"\"))","v":""},""]
[null,null,null,null,null,null,null,null,null,null,null,null,51,null,"",{"$f":"_xlfn.IFNA(VLOOKUP($M55,Ataskaita,4,FALSE),IF(AND(O54=\"\",O53<>\"\"),$O$2&\"             \"& SUM($Q$5:Q53)&\" h.\",\"\"))","v":""},""]
[null,null,null,null,null,null,null,null,null,null,null,null,52,null,"",{"$f":"_xlfn.IFNA(VLOOKUP($M56,Ataskaita,4,FALSE),IF(AND(O55=\"\",O54<>\"\"),$O$2&\"             \"& SUM($Q$5:Q54)&\" h.\",\"\"))","v":""},""]
[null,null,null,null,null,null,null,null,null,null,null,null,53,null,"",{"$f":"_xlfn.IFNA(VLOOKUP($M57,Ataskaita,4,FALSE),IF(AND(O56=\"\",O55<>\"\"),$O$2&\"             \"& SUM($Q$5:Q55)&\" h.\",\"\"))","v":""},""]
[null,null,null,null,null,null,null,null,null,null,null,null,54,null,"",{"$f":"_xlfn.IFNA(VLOOKUP($M58,Ataskaita,4,FALSE),IF(AND(O57=\"\",O56<>\"\"),$O$2&\"             \"& SUM($Q$5:Q56)&\" h.\",\"\"))","v":""},""]
[null,null,null,null,null,null,null,null,null,null,null,null,55,null,"",{"$f":"_xlfn.IFNA(VLOOKUP($M59,Ataskaita,4,FALSE),IF(AND(O58=\"\",O57<>\"\"),$O$2&\"             \"& SUM($Q$5:Q57)&\" h.\",\"\"))","v":""},""]
[null,null,null,null,null,null,null,null,null,null,null,null,56,null,"",{"$f":"_xlfn.IFNA(VLOOKUP($M60,Ataskaita,4,FALSE),IF(AND(O59=\"\",O58<>\"\"),$O$2&\"             \"& SUM($Q$5:Q58)&\" h.\",\"\"))","v":""},""]
[null,null,null,null,null,null,null,null,null,null,null,null,57,null,"",{"$f":"_xlfn.IFNA(VLOOKUP($M61,Ataskaita,4,FALSE),IF(AND(O60=\"\",O59<>\"\"),$O$2&\"             \"& SUM($Q$5:Q59)&\" h.\",\"\"))","v":""},""]
[null,null,null,null,null,null,null,null,null,null,null,null,58,null,"",{"$f":"_xlfn.IFNA(VLOOKUP($M62,Ataskaita,4,FALSE),IF(AND(O61=\"\",O60<>\"\"),$O$2&\"             \"& SUM($Q$5:Q60)&\" h.\",\"\"))","v":""},""]
[null,null,null,null,null,null,null,null,null,null,null,null,59,null,"",{"$f":"_xlfn.IFNA(VLOOKUP($M63,Ataskaita,4,FALSE),IF(AND(O62=\"\",O61<>\"\"),$O$2&\"             \"& SUM($Q$5:Q61)&\" h.\",\"\"))","v":""},""]
[null,null,null,null,null,null,null,null,null,null,null,null,60,null,"",{"$f":"_xlfn.IFNA(VLOOKUP($M64,Ataskaita,4,FALSE),IF(AND(O63=\"\",O62<>\"\"),$O$2&\"             \"& SUM($Q$5:Q62)&\" h.\",\"\"))","v":""},""]
[null,null,null,null,null,null,null,null,null,null,null,null,61,null,"",{"$f":"_xlfn.IFNA(VLOOKUP($M65,Ataskaita,4,FALSE),IF(AND(O64=\"\",O63<>\"\"),$O$2&\"             \"& SUM($Q$5:Q63)&\" h.\",\"\"))","v":""},""]
[null,null,null,null,null,null,null,null,null,null,null,null,62,null,"",{"$f":"_xlfn.IFNA(VLOOKUP($M66,Ataskaita,4,FALSE),IF(AND(O65=\"\",O64<>\"\"),$O$2&\"             \"& SUM($Q$5:Q64)&\" h.\",\"\"))","v":""},""]
[null,null,null,null,null,null,null,null,null,null,null,null,63,null,"",{"$f":"_xlfn.IFNA(VLOOKUP($M67,Ataskaita,4,FALSE),IF(AND(O66=\"\",O65<>\"\"),$O$2&\"             \"& SUM($Q$5:Q65)&\" h.\",\"\"))","v":""},""]
[null,null,null,null,null,null,null,null,null,null,null,null,64,null,"",{"$f":"_xlfn.IFNA(VLOOKUP($M68,Ataskaita,4,FALSE),IF(AND(O67=\"\",O66<>\"\"),$O$2&\"             \"& SUM($Q$5:Q66)&\" h.\",\"\"))","v":""},""]
[null,null,null,null,null,null,null,null,null,null,null,null,65,null,{"$f":"_xlfn.IFNA(VLOOKUP($M69,Ataskaita,2,FALSE),\"\")","v":""},{"$f":"_xlfn.IFNA(VLOOKUP($M69,Ataskaita,4,FALSE),IF(AND(O68=\"\",O67<>\"\"),$O$2&\"             \"& SUM($Q$5:Q67)&\" h.\",\"\"))","v":""},{"$f":"_xlfn.IFNA(VLOOKUP($M69,Ataskaita,5,FALSE),IF(AND(O68=\"\",O67<>\"\"),\"...\",\"\"))","v":""}]
[null,null,null,null,null,null,null,null,null,null,null,null,66,null,"",{"$f":"_xlfn.IFNA(VLOOKUP($M70,Ataskaita,4,FALSE),IF(AND(O69=\"\",O68<>\"\"),$O$2&\"             \"& SUM($Q$5:Q68)&\" h.\",\"\"))","v":""},""]
[null,null,null,null,null,null,null,null,null,null,null,null,67,null,"",{"$f":"_xlfn.IFNA(VLOOKUP($M71,Ataskaita,4,FALSE),IF(AND(O70=\"\",O69<>\"\"),$O$2&\"             \"& SUM($Q$5:Q69)&\" h.\",\"\"))","v":""},""]
[null,null,null,null,null,null,null,null,null,null,null,null,68,null,"",{"$f":"_xlfn.IFNA(VLOOKUP($M72,Ataskaita,4,FALSE),IF(AND(O71=\"\",O70<>\"\"),$O$2&\"             \"& SUM($Q$5:Q70)&\" h.\",\"\"))","v":""},""]
[null,null,null,null,null,null,null,null,null,null,null,null,69,null,"",{"$f":"_xlfn.IFNA(VLOOKUP($M73,Ataskaita,4,FALSE),IF(AND(O72=\"\",O71<>\"\"),$O$2&\"             \"& SUM($Q$5:Q71)&\" h.\",\"\"))","v":""},""]
[null,null,null,null,null,null,null,null,null,null,null,null,70,null,"",{"$f":"_xlfn.IFNA(VLOOKUP($M74,Ataskaita,4,FALSE),IF(AND(O73=\"\",O72<>\"\"),$O$2&\"             \"& SUM($Q$5:Q72)&\" h.\",\"\"))","v":""},""]
[null,null,null,null,null,null,null,null,null,null,null,null,71,null,"",{"$f":"_xlfn.IFNA(VLOOKUP($M75,Ataskaita,4,FALSE),IF(AND(O74=\"\",O73<>\"\"),$O$2&\"             \"& SUM($Q$5:Q73)&\" h.\",\"\"))","v":""},""]
[null,null,null,null,null,null,null,null,null,null,null,null,72,null,"",{"$f":"_xlfn.IFNA(VLOOKUP($M76,Ataskaita,4,FALSE),IF(AND(O75=\"\",O74<>\"\"),$O$2&\"             \"& SUM($Q$5:Q74)&\" h.\",\"\"))","v":""},""]
[null,null,null,null,null,null,null,null,null,null,null,null,73,null,"",{"$f":"_xlfn.IFNA(VLOOKUP($M77,Ataskaita,4,FALSE),IF(AND(O76=\"\",O75<>\"\"),$O$2&\"             \"& SUM($Q$5:Q75)&\" h.\",\"\"))","v":""},""]
[null,null,null,null,null,null,null,null,null,null,null,null,74,null,"",{"$f":"_xlfn.IFNA(VLOOKUP($M78,Ataskaita,4,FALSE),IF(AND(O77=\"\",O76<>\"\"),$O$2&\"             \"& SUM($Q$5:Q76)&\" h.\",\"\"))","v":""},""]
[null,null,null,null,null,null,null,null,null,null,null,null,75,null,"",{"$f":"_xlfn.IFNA(VLOOKUP($M79,Ataskaita,4,FALSE),IF(AND(O78=\"\",O77<>\"\"),$O$2&\"             \"& SUM($Q$5:Q77)&\" h.\",\"\"))","v":""},""]
[null,null,null,null,null,null,null,null,null,null,null,null,76,null,"",{"$f":"_xlfn.IFNA(VLOOKUP($M80,Ataskaita,4,FALSE),IF(AND(O79=\"\",O78<>\"\"),$O$2&\"             \"& SUM($Q$5:Q78)&\" h.\",\"\"))","v":""},""]
[null,null,null,null,null,null,null,null,null,null,null,null,77,null,"",{"$f":"_xlfn.IFNA(VLOOKUP($M81,Ataskaita,4,FALSE),IF(AND(O80=\"\",O79<>\"\"),$O$2&\"             \"& SUM($Q$5:Q79)&\" h.\",\"\"))","v":""},""]
[null,null,null,null,null,null,null,null,null,null,null,null,78,null,"",{"$f":"_xlfn.IFNA(VLOOKUP($M82,Ataskaita,4,FALSE),IF(AND(O81=\"\",O80<>\"\"),$O$2&\"             \"& SUM($Q$5:Q80)&\" h.\",\"\"))","v":""},""]
[null,null,null,null,null,null,null,null,null,null,null,null,79,null,"",{"$f":"_xlfn.IFNA(VLOOKUP($M83,Ataskaita,4,FALSE),IF(AND(O82=\"\",O81<>\"\"),$O$2&\"             \"& SUM($Q$5:Q81)&\" h.\",\"\"))","v":""},""]
[null,null,null,null,null,null,null,null,null,null,null,null,80,null,"",{"$f":"_xlfn.IFNA(VLOOKUP($M84,Ataskaita,4,FALSE),IF(AND(O83=\"\",O82<>\"\"),$O$2&\"             \"& SUM($Q$5:Q82)&\" h.\",\"\"))","v":""},""]
[null,null,null,null,null,null,null,null,null,null,null,null,81,null,"",{"$f":"_xlfn.IFNA(VLOOKUP($M85,Ataskaita,4,FALSE),IF(AND(O84=\"\",O83<>\"\"),$O$2&\"             \"& SUM($Q$5:Q83)&\" h.\",\"\"))","v":""},""]
[null,null,null,null,null,null,null,null,null,null,null,null,82,null,"",{"$f":"_xlfn.IFNA(VLOOKUP($M86,Ataskaita,4,FALSE),IF(AND(O85=\"\",O84<>\"\"),$O$2&\"             \"& SUM($Q$5:Q84)&\" h.\",\"\"))","v":""},""]
[null,null,null,null,null,null,null,null,null,null,null,null,83,null,"",{"$f":"_xlfn.IFNA(VLOOKUP($M87,Ataskaita,4,FALSE),IF(AND(O86=\"\",O85<>\"\"),$O$2&\"             \"& SUM($Q$5:Q85)&\" h.\",\"\"))","v":""},""]
[null,null,null,null,null,null,null,null,null,null,null,null,84,null,"",{"$f":"_xlfn.IFNA(VLOOKUP($M88,Ataskaita,4,FALSE),IF(AND(O87=\"\",O86<>\"\"),$O$2&\"             \"& SUM($Q$5:Q86)&\" h.\",\"\"))","v":""},""]
[null,null,null,null,null,null,null,null,null,null,null,null,85,null,"",{"$f":"_xlfn.IFNA(VLOOKUP($M89,Ataskaita,4,FALSE),IF(AND(O88=\"\",O87<>\"\"),$O$2&\"             \"& SUM($Q$5:Q87)&\" h.\",\"\"))","v":""},""]
[null,null,null,null,null,null,null,null,null,null,null,null,86,null,"",{"$f":"_xlfn.IFNA(VLOOKUP($M90,Ataskaita,4,FALSE),IF(AND(O89=\"\",O88<>\"\"),$O$2&\"             \"& SUM($Q$5:Q88)&\" h.\",\"\"))","v":""},""]
[null,null,null,null,null,null,null,null,null,null,null,null,87,null,"",{"$f":"_xlfn.IFNA(VLOOKUP($M91,Ataskaita,4,FALSE),IF(AND(O90=\"\",O89<>\"\"),$O$2&\"             \"& SUM($Q$5:Q89)&\" h.\",\"\"))","v":""},""]
[null,null,null,null,null,null,null,null,null,null,null,null,88,null,"",{"$f":"_xlfn.IFNA(VLOOKUP($M92,Ataskaita,4,FALSE),IF(AND(O91=\"\",O90<>\"\"),$O$2&\"             \"& SUM($Q$5:Q90)&\" h.\",\"\"))","v":""},""]
[null,null,null,null,null,null,null,null,null,null,null,null,89,null,"",{"$f":"_xlfn.IFNA(VLOOKUP($M93,Ataskaita,4,FALSE),IF(AND(O92=\"\",O91<>\"\"),$O$2&\"             \"& SUM($Q$5:Q91)&\" h.\",\"\"))","v":""},""]
[null,null,null,null,null,null,null,null,null,null,null,null,90,null,"",{"$f":"_xlfn.IFNA(VLOOKUP($M94,Ataskaita,4,FALSE),IF(AND(O93=\"\",O92<>\"\"),$O$2&\"             \"& SUM($Q$5:Q92)&\" h.\",\"\"))","v":""},""]
[null,null,null,null,null,null,null,null,null,null,null,null,91,null,"",{"$f":"_xlfn.IFNA(VLOOKUP($M95,Ataskaita,4,FALSE),IF(AND(O94=\"\",O93<>\"\"),$O$2&\"             \"& SUM($Q$5:Q93)&\" h.\",\"\"))","v":""},""]
[null,null,null,null,null,null,null,null,null,null,null,null,92,null,"",{"$f":"_xlfn.IFNA(VLOOKUP($M96,Ataskaita,4,FALSE),IF(AND(O95=\"\",O94<>\"\"),$O$2&\"             \"& SUM($Q$5:Q94)&\" h.\",\"\"))","v":""},""]
[null,null,null,null,null,null,null,null,null,null,null,null,93,null,"",{"$f":"_xlfn.IFNA(VLOOKUP($M97,Ataskaita,4,FALSE),IF(AND(O96=\"\",O95<>\"\"),$O$2&\"             \"& SUM($Q$5:Q95)&\" h.\",\"\"))","v":""},""]
[null,null,null,null,null,null,null,null,null,null,null,null,94,null,"",{"$f":"_xlfn.IFNA(VLOOKUP($M98,Ataskaita,4,FALSE),IF(AND(O97=\"\",O96<>\"\"),$O$2&\"             \"& SUM($Q$5:Q96)&\" h.\",\"\"))","v":""},""]
[null,null,null,null,null,null,null,null,null,null,null,null,95,null,"",{"$f":"_xlfn.IFNA(VLOOKUP($M99,Ataskaita,4,FALSE),IF(AND(O98=\"\",O97<>\"\"),$O$2&\"             \"& SUM($Q$5:Q97)&\" h.\",\"\"))","v":""},""]
[null,null,null,null,null,null,null,null,null,null,null,null,96,null,"",{"$f":"_xlfn.IFNA(VLOOKUP($M100,Ataskaita,4,FALSE),IF(AND(O99=\"\",O98<>\"\"),$O$2&\"             \"& SUM($Q$5:Q98)&\" h.\",\"\"))","v":""},""]
[null,null,null,null,null,null,null,null,null,null,null,null,97,null,"",{"$f":"_xlfn.IFNA(VLOOKUP($M101,Ataskaita,4,FALSE),IF(AND(O100=\"\",O99<>\"\"),$O$2&\"             \"& SUM($Q$5:Q99)&\" h.\",\"\"))","v":""},""]
[null,null,null,null,null,null,null,null,null,null,null,null,98,null,"",{"$f":"_xlfn.IFNA(VLOOKUP($M102,Ataskaita,4,FALSE),IF(AND(O101=\"\",O100<>\"\"),$O$2&\"             \"& SUM($Q$5:Q100)&\" h.\",\"\"))","v":""},""]
[null,null,null,null,null,null,null,null,null,null,null,null,99,null,"",{"$f":"_xlfn.IFNA(VLOOKUP($M103,Ataskaita,4,FALSE),IF(AND(O102=\"\",O101<>\"\"),$O$2&\"             \"& SUM($Q$5:Q101)&\" h.\",\"\"))","v":""},""]
[null,null,null,null,null,null,null,null,null,null,null,null,100,null,"",{"$f":"_xlfn.IFNA(VLOOKUP($M104,Ataskaita,4,FALSE),IF(AND(O103=\"\",O102<>\"\"),$O$2&\"             \"& SUM($Q$5:Q102)&\" h.\",\"\"))","v":""},""]
[null,null,null,null,null,null,null,null,null,null,null,null,101,null,"",{"$f":"_xlfn.IFNA(VLOOKUP($M105,Ataskaita,4,FALSE),IF(AND(O104=\"\",O103<>\"\"),$O$2&\"             \"& SUM($Q$5:Q103)&\" h.\",\"\"))","v":""},""]
[null,null,null,null,null,null,null,null,null,null,null,null,102,null,"",{"$f":"_xlfn.IFNA(VLOOKUP($M106,Ataskaita,4,FALSE),IF(AND(O105=\"\",O104<>\"\"),$O$2&\"             \"& SUM($Q$5:Q104)&\" h.\",\"\"))","v":""},""]
[null,null,null,null,null,null,null,null,null,null,null,null,103,null,"",{"$f":"_xlfn.IFNA(VLOOKUP($M107,Ataskaita,4,FALSE),IF(AND(O106=\"\",O105<>\"\"),$O$2&\"             \"& SUM($Q$5:Q105)&\" h.\",\"\"))","v":""},""]
[null,null,null,null,null,null,null,null,null,null,null,null,104,null,"",{"$f":"_xlfn.IFNA(VLOOKUP($M108,Ataskaita,4,FALSE),IF(AND(O107=\"\",O106<>\"\"),$O$2&\"             \"& SUM($Q$5:Q106)&\" h.\",\"\"))","v":""},""]
[null,null,null,null,null,null,null,null,null,null,null,null,105,null,"",{"$f":"_xlfn.IFNA(VLOOKUP($M109,Ataskaita,4,FALSE),IF(AND(O108=\"\",O107<>\"\"),$O$2&\"             \"& SUM($Q$5:Q107)&\" h.\",\"\"))","v":""},""]
[null,null,null,null,null,null,null,null,null,null,null,null,106,null,"",{"$f":"_xlfn.IFNA(VLOOKUP($M110,Ataskaita,4,FALSE),IF(AND(O109=\"\",O108<>\"\"),$O$2&\"             \"& SUM($Q$5:Q108)&\" h.\",\"\"))","v":""},""]
[null,null,null,null,null,null,null,null,null,null,null,null,107,null,"",{"$f":"_xlfn.IFNA(VLOOKUP($M111,Ataskaita,4,FALSE),IF(AND(O110=\"\",O109<>\"\"),$O$2&\"             \"& SUM($Q$5:Q109)&\" h.\",\"\"))","v":""},""]
[null,null,null,null,null,null,null,null,null,null,null,null,108,null,"",{"$f":"_xlfn.IFNA(VLOOKUP($M112,Ataskaita,4,FALSE),IF(AND(O111=\"\",O110<>\"\"),$O$2&\"             \"& SUM($Q$5:Q110)&\" h.\",\"\"))","v":""},""]
[null,null,null,null,null,null,null,null,null,null,null,null,109,null,"",{"$f":"_xlfn.IFNA(VLOOKUP($M113,Ataskaita,4,FALSE),IF(AND(O112=\"\",O111<>\"\"),$O$2&\"             \"& SUM($Q$5:Q111)&\" h.\",\"\"))","v":""},""]
[null,null,null,null,null,null,null,null,null,null,null,null,110,null,"",{"$f":"_xlfn.IFNA(VLOOKUP($M114,Ataskaita,4,FALSE),IF(AND(O113=\"\",O112<>\"\"),$O$2&\"             \"& SUM($Q$5:Q112)&\" h.\",\"\"))","v":""},""]
[null,null,null,null,null,null,null,null,null,null,null,null,111,null,"",{"$f":"_xlfn.IFNA(VLOOKUP($M115,Ataskaita,4,FALSE),IF(AND(O114=\"\",O113<>\"\"),$O$2&\"             \"& SUM($Q$5:Q113)&\" h.\",\"\"))","v":""},""]
[null,null,null,null,null,null,null,null,null,null,null,null,112,null,"",{"$f":"_xlfn.IFNA(VLOOKUP($M116,Ataskaita,4,FALSE),IF(AND(O115=\"\",O114<>\"\"),$O$2&\"             \"& SUM($Q$5:Q114)&\" h.\",\"\"))","v":""},""]
[null,null,null,null,null,null,null,null,null,null,null,null,113,null,"",{"$f":"_xlfn.IFNA(VLOOKUP($M117,Ataskaita,4,FALSE),IF(AND(O116=\"\",O115<>\"\"),$O$2&\"             \"& SUM($Q$5:Q115)&\" h.\",\"\"))","v":""},""]
[null,null,null,null,null,null,null,null,null,null,null,null,114,null,"",{"$f":"_xlfn.IFNA(VLOOKUP($M118,Ataskaita,4,FALSE),IF(AND(O117=\"\",O116<>\"\"),$O$2&\"             \"& SUM($Q$5:Q116)&\" h.\",\"\"))","v":""},""]
[null,null,null,null,null,null,null,null,null,null,null,null,115,null,"",{"$f":"_xlfn.IFNA(VLOOKUP($M119,Ataskaita,4,FALSE),IF(AND(O118=\"\",O117<>\"\"),$O$2&\"             \"& SUM($Q$5:Q117)&\" h.\",\"\"))","v":""},""]
[null,null,null,null,null,null,null,null,null,null,null,null,116,null,"",{"$f":"_xlfn.IFNA(VLOOKUP($M120,Ataskaita,4,FALSE),IF(AND(O119=\"\",O118<>\"\"),$O$2&\"             \"& SUM($Q$5:Q118)&\" h.\",\"\"))","v":""},""]
[null,null,null,null,null,null,null,null,null,null,null,null,117,null,"",{"$f":"_xlfn.IFNA(VLOOKUP($M121,Ataskaita,4,FALSE),IF(AND(O120=\"\",O119<>\"\"),$O$2&\"             \"& SUM($Q$5:Q119)&\" h.\",\"\"))","v":""},""]
[null,null,null,null,null,null,null,null,null,null,null,null,118,null,"",{"$f":"_xlfn.IFNA(VLOOKUP($M122,Ataskaita,4,FALSE),IF(AND(O121=\"\",O120<>\"\"),$O$2&\"             \"& SUM($Q$5:Q120)&\" h.\",\"\"))","v":""},""]
[null,null,null,null,null,null,null,null,null,null,null,null,119,null,"",{"$f":"_xlfn.IFNA(VLOOKUP($M123,Ataskaita,4,FALSE),IF(AND(O122=\"\",O121<>\"\"),$O$2&\"             \"& SUM($Q$5:Q121)&\" h.\",\"\"))","v":""},""]
[null,null,null,null,null,null,null,null,null,null,null,null,120,null,"",{"$f":"_xlfn.IFNA(VLOOKUP($M124,Ataskaita,4,FALSE),IF(AND(O123=\"\",O122<>\"\"),$O$2&\"             \"& SUM($Q$5:Q122)&\" h.\",\"\"))","v":""},""]
[null,null,null,null,null,null,null,null,null,null,null,null,121,null,"",{"$f":"_xlfn.IFNA(VLOOKUP($M125,Ataskaita,4,FALSE),IF(AND(O124=\"\",O123<>\"\"),$O$2&\"             \"& SUM($Q$5:Q123)&\" h.\",\"\"))","v":""},""]
[null,null,null,null,null,null,null,null,null,null,null,null,122,null,"",{"$f":"_xlfn.IFNA(VLOOKUP($M126,Ataskaita,4,FALSE),IF(AND(O125=\"\",O124<>\"\"),$O$2&\"             \"& SUM($Q$5:Q124)&\" h.\",\"\"))","v":""},""]
[null,null,null,null,null,null,null,null,null,null,null,null,123,null,"",{"$f":"_xlfn.IFNA(VLOOKUP($M127,Ataskaita,4,FALSE),IF(AND(O126=\"\",O125<>\"\"),$O$2&\"             \"& SUM($Q$5:Q125)&\" h.\",\"\"))","v":""},""]
[null,null,null,null,null,null,null,null,null,null,null,null,124,null,"",{"$f":"_xlfn.IFNA(VLOOKUP($M128,Ataskaita,4,FALSE),IF(AND(O127=\"\",O126<>\"\"),$O$2&\"             \"& SUM($Q$5:Q126)&\" h.\",\"\"))","v":""},""]
[null,null,null,null,null,null,null,null,null,null,null,null,125,null,"",{"$f":"_xlfn.IFNA(VLOOKUP($M129,Ataskaita,4,FALSE),IF(AND(O128=\"\",O127<>\"\"),$O$2&\"             \"& SUM($Q$5:Q127)&\" h.\",\"\"))","v":""},""]
[null,null,null,null,null,null,null,null,null,null,null,null,126,null,"",{"$f":"_xlfn.IFNA(VLOOKUP($M130,Ataskaita,4,FALSE),IF(AND(O129=\"\",O128<>\"\"),$O$2&\"             \"& SUM($Q$5:Q128)&\" h.\",\"\"))","v":""},""]
[null,null,null,null,null,null,null,null,null,null,null,null,127,null,"",{"$f":"_xlfn.IFNA(VLOOKUP($M131,Ataskaita,4,FALSE),IF(AND(O130=\"\",O129<>\"\"),$O$2&\"             \"& SUM($Q$5:Q129)&\" h.\",\"\"))","v":""},""]
[null,null,null,null,null,null,null,null,null,null,null,null,128,null,"",{"$f":"_xlfn.IFNA(VLOOKUP($M132,Ataskaita,4,FALSE),IF(AND(O131=\"\",O130<>\"\"),$O$2&\"             \"& SUM($Q$5:Q130)&\" h.\",\"\"))","v":""},""]
[null,null,null,null,null,null,null,null,null,null,null,null,129,null,{"$f":"_xlfn.IFNA(VLOOKUP($M133,Ataskaita,2,FALSE),\"\")","v":""},{"$f":"_xlfn.IFNA(VLOOKUP($M133,Ataskaita,4,FALSE),IF(AND(O132=\"\",O131<>\"\"),$O$2&\"             \"& SUM($Q$5:Q131)&\" h.\",\"\"))","v":""},{"$f":"_xlfn.IFNA(VLOOKUP($M133,Ataskaita,5,FALSE),IF(AND(O132=\"\",O131<>\"\"),\"...\",\"\"))","v":""}]
[null,null,null,null,null,null,null,null,null,null,null,null,130,null,"",{"$f":"_xlfn.IFNA(VLOOKUP($M134,Ataskaita,4,FALSE),IF(AND(O133=\"\",O132<>\"\"),$O$2&\"             \"& SUM($Q$5:Q132)&\" h.\",\"\"))","v":""},""]
[null,null,null,null,null,null,null,null,null,null,null,null,131,null,"",{"$f":"_xlfn.IFNA(VLOOKUP($M135,Ataskaita,4,FALSE),IF(AND(O134=\"\",O133<>\"\"),$O$2&\"             \"& SUM($Q$5:Q133)&\" h.\",\"\"))","v":""},""]
[null,null,null,null,null,null,null,null,null,null,null,null,132,null,"",{"$f":"_xlfn.IFNA(VLOOKUP($M136,Ataskaita,4,FALSE),IF(AND(O135=\"\",O134<>\"\"),$O$2&\"             \"& SUM($Q$5:Q134)&\" h.\",\"\"))","v":""},""]
[null,null,null,null,null,null,null,null,null,null,null,null,133,null,"",{"$f":"_xlfn.IFNA(VLOOKUP($M137,Ataskaita,4,FALSE),IF(AND(O136=\"\",O135<>\"\"),$O$2&\"             \"& SUM($Q$5:Q135)&\" h.\",\"\"))","v":""},""]
[null,null,null,null,null,null,null,null,null,null,null,null,134,null,"",{"$f":"_xlfn.IFNA(VLOOKUP($M138,Ataskaita,4,FALSE),IF(AND(O137=\"\",O136<>\"\"),$O$2&\"             \"& SUM($Q$5:Q136)&\" h.\",\"\"))","v":""},""]
[null,null,null,null,null,null,null,null,null,null,null,null,135,null,"",{"$f":"_xlfn.IFNA(VLOOKUP($M139,Ataskaita,4,FALSE),IF(AND(O138=\"\",O137<>\"\"),$O$2&\"             \"& SUM($Q$5:Q137)&\" h.\",\"\"))","v":""},""]
[null,null,null,null,null,null,null,null,null,null,null,null,136,null,"",{"$f":"_xlfn.IFNA(VLOOKUP($M140,Ataskaita,4,FALSE),IF(AND(O139=\"\",O138<>\"\"),$O$2&\"             \"& SUM($Q$5:Q138)&\" h.\",\"\"))","v":""},""]
[null,null,null,null,null,null,null,null,null,null,null,null,137,null,"",{"$f":"_xlfn.IFNA(VLOOKUP($M141,Ataskaita,4,FALSE),IF(AND(O140=\"\",O139<>\"\"),$O$2&\"             \"& SUM($Q$5:Q139)&\" h.\",\"\"))","v":""},""]
[null,null,null,null,null,null,null,null,null,null,null,null,138,null,"",{"$f":"_xlfn.IFNA(VLOOKUP($M142,Ataskaita,4,FALSE),IF(AND(O141=\"\",O140<>\"\"),$O$2&\"             \"& SUM($Q$5:Q140)&\" h.\",\"\"))","v":""},""]
[null,null,null,null,null,null,null,null,null,null,null,null,139,null,"",{"$f":"_xlfn.IFNA(VLOOKUP($M143,Ataskaita,4,FALSE),IF(AND(O142=\"\",O141<>\"\"),$O$2&\"             \"& SUM($Q$5:Q141)&\" h.\",\"\"))","v":""},""]
[null,null,null,null,null,null,null,null,null,null,null,null,140,null,"",{"$f":"_xlfn.IFNA(VLOOKUP($M144,Ataskaita,4,FALSE),IF(AND(O143=\"\",O142<>\"\"),$O$2&\"             \"& SUM($Q$5:Q142)&\" h.\",\"\"))","v":""},""]
[null,null,null,null,null,null,null,null,null,null,null,null,141,null,"",{"$f":"_xlfn.IFNA(VLOOKUP($M145,Ataskaita,4,FALSE),IF(AND(O144=\"\",O143<>\"\"),$O$2&\"             \"& SUM($Q$5:Q143)&\" h.\",\"\"))","v":""},""]
[null,null,null,null,null,null,null,null,null,null,null,null,142,null,"",{"$f":"_xlfn.IFNA(VLOOKUP($M146,Ataskaita,4,FALSE),IF(AND(O145=\"\",O144<>\"\"),$O$2&\"             \"& SUM($Q$5:Q144)&\" h.\",\"\"))","v":""},""]
[null,null,null,null,null,null,null,null,null,null,null,null,143,null,"",{"$f":"_xlfn.IFNA(VLOOKUP($M147,Ataskaita,4,FALSE),IF(AND(O146=\"\",O145<>\"\"),$O$2&\"             \"& SUM($Q$5:Q145)&\" h.\",\"\"))","v":""},""]
[null,null,null,null,null,null,null,null,null,null,null,null,144,null,"",{"$f":"_xlfn.IFNA(VLOOKUP($M148,Ataskaita,4,FALSE),IF(AND(O147=\"\",O146<>\"\"),$O$2&\"             \"& SUM($Q$5:Q146)&\" h.\",\"\"))","v":""},""]
[null,null,null,null,null,null,null,null,null,null,null,null,145,null,"",{"$f":"_xlfn.IFNA(VLOOKUP($M149,Ataskaita,4,FALSE),IF(AND(O148=\"\",O147<>\"\"),$O$2&\"             \"& SUM($Q$5:Q147)&\" h.\",\"\"))","v":""},""]
[null,null,null,null,null,null,null,null,null,null,null,null,146,null,"",{"$f":"_xlfn.IFNA(VLOOKUP($M150,Ataskaita,4,FALSE),IF(AND(O149=\"\",O148<>\"\"),$O$2&\"             \"& SUM($Q$5:Q148)&\" h.\",\"\"))","v":""},""]
[null,null,null,null,null,null,null,null,null,null,null,null,147,null,"",{"$f":"_xlfn.IFNA(VLOOKUP($M151,Ataskaita,4,FALSE),IF(AND(O150=\"\",O149<>\"\"),$O$2&\"             \"& SUM($Q$5:Q149)&\" h.\",\"\"))","v":""},""]
[null,null,null,null,null,null,null,null,null,null,null,null,148,null,"",{"$f":"_xlfn.IFNA(VLOOKUP($M152,Ataskaita,4,FALSE),IF(AND(O151=\"\",O150<>\"\"),$O$2&\"             \"& SUM($Q$5:Q150)&\" h.\",\"\"))","v":""},""]
[null,null,null,null,null,null,null,null,null,null,null,null,149,null,"",{"$f":"_xlfn.IFNA(VLOOKUP($M153,Ataskaita,4,FALSE),IF(AND(O152=\"\",O151<>\"\"),$O$2&\"             \"& SUM($Q$5:Q151)&\" h.\",\"\"))","v":""},""]
[null,null,null,null,null,null,null,null,null,null,null,null,150,null,"",{"$f":"_xlfn.IFNA(VLOOKUP($M154,Ataskaita,4,FALSE),IF(AND(O153=\"\",O152<>\"\"),$O$2&\"             \"& SUM($Q$5:Q152)&\" h.\",\"\"))","v":""},""]
[null,null,null,null,null,null,null,null,null,null,null,null,151,null,"",{"$f":"_xlfn.IFNA(VLOOKUP($M155,Ataskaita,4,FALSE),IF(AND(O154=\"\",O153<>\"\"),$O$2&\"             \"& SUM($Q$5:Q153)&\" h.\",\"\"))","v":""},""]
[null,null,null,null,null,null,null,null,null,null,null,null,152,null,"",{"$f":"_xlfn.IFNA(VLOOKUP($M156,Ataskaita,4,FALSE),IF(AND(O155=\"\",O154<>\"\"),$O$2&\"             \"& SUM($Q$5:Q154)&\" h.\",\"\"))","v":""},""]
[null,null,null,null,null,null,null,null,null,null,null,null,153,null,"",{"$f":"_xlfn.IFNA(VLOOKUP($M157,Ataskaita,4,FALSE),IF(AND(O156=\"\",O155<>\"\"),$O$2&\"             \"& SUM($Q$5:Q155)&\" h.\",\"\"))","v":""},""]
[null,null,null,null,null,null,null,null,null,null,null,null,154,null,"",{"$f":"_xlfn.IFNA(VLOOKUP($M158,Ataskaita,4,FALSE),IF(AND(O157=\"\",O156<>\"\"),$O$2&\"             \"& SUM($Q$5:Q156)&\" h.\",\"\"))","v":""},""]
[null,null,null,null,null,null,null,null,null,null,null,null,155,null,"",{"$f":"_xlfn.IFNA(VLOOKUP($M159,Ataskaita,4,FALSE),IF(AND(O158=\"\",O157<>\"\"),$O$2&\"             \"& SUM($Q$5:Q157)&\" h.\",\"\"))","v":""},""]
[null,null,null,null,null,null,null,null,null,null,null,null,156,null,"",{"$f":"_xlfn.IFNA(VLOOKUP($M160,Ataskaita,4,FALSE),IF(AND(O159=\"\",O158<>\"\"),$O$2&\"             \"& SUM($Q$5:Q158)&\" h.\",\"\"))","v":""},""]
[null,null,null,null,null,null,null,null,null,null,null,null,157,null,"",{"$f":"_xlfn.IFNA(VLOOKUP($M161,Ataskaita,4,FALSE),IF(AND(O160=\"\",O159<>\"\"),$O$2&\"             \"& SUM($Q$5:Q159)&\" h.\",\"\"))","v":""},""]
[null,null,null,null,null,null,null,null,null,null,null,null,158,null,"",{"$f":"_xlfn.IFNA(VLOOKUP($M162,Ataskaita,4,FALSE),IF(AND(O161=\"\",O160<>\"\"),$O$2&\"             \"& SUM($Q$5:Q160)&\" h.\",\"\"))","v":""},""]
[null,null,null,null,null,null,null,null,null,null,null,null,159,null,"",{"$f":"_xlfn.IFNA(VLOOKUP($M163,Ataskaita,4,FALSE),IF(AND(O162=\"\",O161<>\"\"),$O$2&\"             \"& SUM($Q$5:Q161)&\" h.\",\"\"))","v":""},""]
[null,null,null,null,null,null,null,null,null,null,null,null,160,null,"",{"$f":"_xlfn.IFNA(VLOOKUP($M164,Ataskaita,4,FALSE),IF(AND(O163=\"\",O162<>\"\"),$O$2&\"             \"& SUM($Q$5:Q162)&\" h.\",\"\"))","v":""},""]
[null,null,null,null,null,null,null,null,null,null,null,null,161,null,"",{"$f":"_xlfn.IFNA(VLOOKUP($M165,Ataskaita,4,FALSE),IF(AND(O164=\"\",O163<>\"\"),$O$2&\"             \"& SUM($Q$5:Q163)&\" h.\",\"\"))","v":""},""]
[null,null,null,null,null,null,null,null,null,null,null,null,162,null,"",{"$f":"_xlfn.IFNA(VLOOKUP($M166,Ataskaita,4,FALSE),IF(AND(O165=\"\",O164<>\"\"),$O$2&\"             \"& SUM($Q$5:Q164)&\" h.\",\"\"))","v":""},""]
[null,null,null,null,null,null,null,null,null,null,null,null,163,null,"",{"$f":"_xlfn.IFNA(VLOOKUP($M167,Ataskaita,4,FALSE),IF(AND(O166=\"\",O165<>\"\"),$O$2&\"             \"& SUM($Q$5:Q165)&\" h.\",\"\"))","v":""},""]
[null,null,null,null,null,null,null,null,null,null,null,null,164,null,"",{"$f":"_xlfn.IFNA(VLOOKUP($M168,Ataskaita,4,FALSE),IF(AND(O167=\"\",O166<>\"\"),$O$2&\"             \"& SUM($Q$5:Q166)&\" h.\",\"\"))","v":""},""]
[null,null,null,null,null,null,null,null,null,null,null,null,165,null,"",{"$f":"_xlfn.IFNA(VLOOKUP($M169,Ataskaita,4,FALSE),IF(AND(O168=\"\",O167<>\"\"),$O$2&\"             \"& SUM($Q$5:Q167)&\" h.\",\"\"))","v":""},""]
[null,null,null,null,null,null,null,null,null,null,null,null,166,null,"",{"$f":"_xlfn.IFNA(VLOOKUP($M170,Ataskaita,4,FALSE),IF(AND(O169=\"\",O168<>\"\"),$O$2&\"             \"& SUM($Q$5:Q168)&\" h.\",\"\"))","v":""},""]
[null,null,null,null,null,null,null,null,null,null,null,null,167,null,"",{"$f":"_xlfn.IFNA(VLOOKUP($M171,Ataskaita,4,FALSE),IF(AND(O170=\"\",O169<>\"\"),$O$2&\"             \"& SUM($Q$5:Q169)&\" h.\",\"\"))","v":""},""]
[null,null,null,null,null,null,null,null,null,null,null,null,168,null,"",{"$f":"_xlfn.IFNA(VLOOKUP($M172,Ataskaita,4,FALSE),IF(AND(O171=\"\",O170<>\"\"),$O$2&\"             \"& SUM($Q$5:Q170)&\" h.\",\"\"))","v":""},""]
[null,null,null,null,null,null,null,null,null,null,null,null,169,null,"",{"$f":"_xlfn.IFNA(VLOOKUP($M173,Ataskaita,4,FALSE),IF(AND(O172=\"\",O171<>\"\"),$O$2&\"             \"& SUM($Q$5:Q171)&\" h.\",\"\"))","v":""},""]
[null,null,null,null,null,null,null,null,null,null,null,null,170,null,"",{"$f":"_xlfn.IFNA(VLOOKUP($M174,Ataskaita,4,FALSE),IF(AND(O173=\"\",O172<>\"\"),$O$2&\"             \"& SUM($Q$5:Q172)&\" h.\",\"\"))","v":""},""]
[null,null,null,null,null,null,null,null,null,null,null,null,171,null,"",{"$f":"_xlfn.IFNA(VLOOKUP($M175,Ataskaita,4,FALSE),IF(AND(O174=\"\",O173<>\"\"),$O$2&\"             \"& SUM($Q$5:Q173)&\" h.\",\"\"))","v":""},""]
[null,null,null,null,null,null,null,null,null,null,null,null,172,null,"",{"$f":"_xlfn.IFNA(VLOOKUP($M176,Ataskaita,4,FALSE),IF(AND(O175=\"\",O174<>\"\"),$O$2&\"             \"& SUM($Q$5:Q174)&\" h.\",\"\"))","v":""},""]
[null,null,null,null,null,null,null,null,null,null,null,null,173,null,"",{"$f":"_xlfn.IFNA(VLOOKUP($M177,Ataskaita,4,FALSE),IF(AND(O176=\"\",O175<>\"\"),$O$2&\"             \"& SUM($Q$5:Q175)&\" h.\",\"\"))","v":""},""]
[null,null,null,null,null,null,null,null,null,null,null,null,174,null,"",{"$f":"_xlfn.IFNA(VLOOKUP($M178,Ataskaita,4,FALSE),IF(AND(O177=\"\",O176<>\"\"),$O$2&\"             \"& SUM($Q$5:Q176)&\" h.\",\"\"))","v":""},""]
[null,null,null,null,null,null,null,null,null,null,null,null,175,null,"",{"$f":"_xlfn.IFNA(VLOOKUP($M179,Ataskaita,4,FALSE),IF(AND(O178=\"\",O177<>\"\"),$O$2&\"             \"& SUM($Q$5:Q177)&\" h.\",\"\"))","v":""},""]
[null,null,null,null,null,null,null,null,null,null,null,null,176,null,"",{"$f":"_xlfn.IFNA(VLOOKUP($M180,Ataskaita,4,FALSE),IF(AND(O179=\"\",O178<>\"\"),$O$2&\"             \"& SUM($Q$5:Q178)&\" h.\",\"\"))","v":""},""]
[null,null,null,null,null,null,null,null,null,null,null,null,177,null,"",{"$f":"_xlfn.IFNA(VLOOKUP($M181,Ataskaita,4,FALSE),IF(AND(O180=\"\",O179<>\"\"),$O$2&\"             \"& SUM($Q$5:Q179)&\" h.\",\"\"))","v":""},""]
[null,null,null,null,null,null,null,null,null,null,null,null,178,null,"",{"$f":"_xlfn.IFNA(VLOOKUP($M182,Ataskaita,4,FALSE),IF(AND(O181=\"\",O180<>\"\"),$O$2&\"             \"& SUM($Q$5:Q180)&\" h.\",\"\"))","v":""},""]
[null,null,null,null,null,null,null,null,null,null,null,null,179,null,"",{"$f":"_xlfn.IFNA(VLOOKUP($M183,Ataskaita,4,FALSE),IF(AND(O182=\"\",O181<>\"\"),$O$2&\"             \"& SUM($Q$5:Q181)&\" h.\",\"\"))","v":""},""]
[null,null,null,null,null,null,null,null,null,null,null,null,180,null,"",{"$f":"_xlfn.IFNA(VLOOKUP($M184,Ataskaita,4,FALSE),IF(AND(O183=\"\",O182<>\"\"),$O$2&\"             \"& SUM($Q$5:Q182)&\" h.\",\"\"))","v":""},""]
[null,null,null,null,null,null,null,null,null,null,null,null,181,null,"",{"$f":"_xlfn.IFNA(VLOOKUP($M185,Ataskaita,4,FALSE),IF(AND(O184=\"\",O183<>\"\"),$O$2&\"             \"& SUM($Q$5:Q183)&\" h.\",\"\"))","v":""},""]
[null,null,null,null,null,null,null,null,null,null,null,null,182,null,"",{"$f":"_xlfn.IFNA(VLOOKUP($M186,Ataskaita,4,FALSE),IF(AND(O185=\"\",O184<>\"\"),$O$2&\"             \"& SUM($Q$5:Q184)&\" h.\",\"\"))","v":""},""]
[null,null,null,null,null,null,null,null,null,null,null,null,183,null,"",{"$f":"_xlfn.IFNA(VLOOKUP($M187,Ataskaita,4,FALSE),IF(AND(O186=\"\",O185<>\"\"),$O$2&\"             \"& SUM($Q$5:Q185)&\" h.\",\"\"))","v":""},""]
[null,null,null,null,null,null,null,null,null,null,null,null,184,null,"",{"$f":"_xlfn.IFNA(VLOOKUP($M188,Ataskaita,4,FALSE),IF(AND(O187=\"\",O186<>\"\"),$O$2&\"             \"& SUM($Q$5:Q186)&\" h.\",\"\"))","v":""},""]
[null,null,null,null,null,null,null,null,null,null,null,null,185,null,"",{"$f":"_xlfn.IFNA(VLOOKUP($M189,Ataskaita,4,FALSE),IF(AND(O188=\"\",O187<>\"\"),$O$2&\"             \"& SUM($Q$5:Q187)&\" h.\",\"\"))","v":""},""]
[null,null,null,null,null,null,null,null,null,null,null,null,186,null,"",{"$f":"_xlfn.IFNA(VLOOKUP($M190,Ataskaita,4,FALSE),IF(AND(O189=\"\",O188<>\"\"),$O$2&\"             \"& SUM($Q$5:Q188)&\" h.\",\"\"))","v":""},""]
[null,null,null,null,null,null,null,null,null,null,null,null,187,null,"",{"$f":"_xlfn.IFNA(VLOOKUP($M191,Ataskaita,4,FALSE),IF(AND(O190=\"\",O189<>\"\"),$O$2&\"             \"& SUM($Q$5:Q189)&\" h.\",\"\"))","v":""},""]
[null,null,null,null,null,null,null,null,null,null,null,null,188,null,"",{"$f":"_xlfn.IFNA(VLOOKUP($M192,Ataskaita,4,FALSE),IF(AND(O191=\"\",O190<>\"\"),$O$2&\"             \"& SUM($Q$5:Q190)&\" h.\",\"\"))","v":""},""]
[null,null,null,null,null,null,null,null,null,null,null,null,189,null,"",{"$f":"_xlfn.IFNA(VLOOKUP($M193,Ataskaita,4,FALSE),IF(AND(O192=\"\",O191<>\"\"),$O$2&\"             \"& SUM($Q$5:Q191)&\" h.\",\"\"))","v":""},""]
[null,null,null,null,null,null,null,null,null,null,null,null,190,null,"",{"$f":"_xlfn.IFNA(VLOOKUP($M194,Ataskaita,4,FALSE),IF(AND(O193=\"\",O192<>\"\"),$O$2&\"             \"& SUM($Q$5:Q192)&\" h.\",\"\"))","v":""},""]
[null,null,null,null,null,null,null,null,null,null,null,null,191,null,"",{"$f":"_xlfn.IFNA(VLOOKUP($M195,Ataskaita,4,FALSE),IF(AND(O194=\"\",O193<>\"\"),$O$2&\"             \"& SUM($Q$5:Q193)&\" h.\",\"\"))","v":""},""]
[null,null,null,null,null,null,null,null,null,null,null,null,192,null,"",{"$f":"_xlfn.IFNA(VLOOKUP($M196,Ataskaita,4,FALSE),IF(AND(O195=\"\",O194<>\"\"),$O$2&\"             \"& SUM($Q$5:Q194)&\" h.\",\"\"))","v":""},""]
[null,null,null,null,null,null,null,null,null,null,null,null,193,null,{"$f":"_xlfn.IFNA(VLOOKUP($M197,Ataskaita,2,FALSE),\"\")","v":""},{"$f":"_xlfn.IFNA(VLOOKUP($M197,Ataskaita,4,FALSE),IF(AND(O196=\"\",O195<>\"\"),$O$2&\"             \"& SUM($Q$5:Q195)&\" h.\",\"\"))","v":""},{"$f":"_xlfn.IFNA(VLOOKUP($M197,Ataskaita,5,FALSE),IF(AND(O196=\"\",O195<>\"\"),\"...\",\"\"))","v":""}]
[null,null,null,null,null,null,null,null,null,null,null,null,194,null,"",{"$f":"_xlfn.IFNA(VLOOKUP($M198,Ataskaita,4,FALSE),IF(AND(O197=\"\",O196<>\"\"),$O$2&\"             \"& SUM($Q$5:Q196)&\" h.\",\"\"))","v":""},""]
[null,null,null,null,null,null,null,null,null,null,null,null,195,null,"",{"$f":"_xlfn.IFNA(VLOOKUP($M199,Ataskaita,4,FALSE),IF(AND(O198=\"\",O197<>\"\"),$O$2&\"             \"& SUM($Q$5:Q197)&\" h.\",\"\"))","v":""},""]
[null,null,null,null,null,null,null,null,null,null,null,null,196,null,"",{"$f":"_xlfn.IFNA(VLOOKUP($M200,Ataskaita,4,FALSE),IF(AND(O199=\"\",O198<>\"\"),$O$2&\"             \"& SUM($Q$5:Q198)&\" h.\",\"\"))","v":""},""]
[null,null,null,null,null,null,null,null,null,null,null,null,197,null,"",{"$f":"_xlfn.IFNA(VLOOKUP($M201,Ataskaita,4,FALSE),IF(AND(O200=\"\",O199<>\"\"),$O$2&\"             \"& SUM($Q$5:Q199)&\" h.\",\"\"))","v":""},""]
[null,null,null,null,null,null,null,null,null,null,null,null,198,null,"",{"$f":"_xlfn.IFNA(VLOOKUP($M202,Ataskaita,4,FALSE),IF(AND(O201=\"\",O200<>\"\"),$O$2&\"             \"& SUM($Q$5:Q200)&\" h.\",\"\"))","v":""},""]
[null,null,null,null,null,null,null,null,null,null,null,null,199,null,"",{"$f":"_xlfn.IFNA(VLOOKUP($M203,Ataskaita,4,FALSE),IF(AND(O202=\"\",O201<>\"\"),$O$2&\"             \"& SUM($Q$5:Q201)&\" h.\",\"\"))","v":""},""]
[null,null,null,null,null,null,null,null,null,null,null,null,200,null,"",{"$f":"_xlfn.IFNA(VLOOKUP($M204,Ataskaita,4,FALSE),IF(AND(O203=\"\",O202<>\"\"),$O$2&\"             \"& SUM($Q$5:Q202)&\" h.\",\"\"))","v":""},""]
[null,null,null,null,null,null,null,null,null,null,null,null,201,null,"",{"$f":"_xlfn.IFNA(VLOOKUP($M205,Ataskaita,4,FALSE),IF(AND(O204=\"\",O203<>\"\"),$O$2&\"             \"& SUM($Q$5:Q203)&\" h.\",\"\"))","v":""},""]
[null,null,null,null,null,null,null,null,null,null,null,null,202,null,"",{"$f":"_xlfn.IFNA(VLOOKUP($M206,Ataskaita,4,FALSE),IF(AND(O205=\"\",O204<>\"\"),$O$2&\"             \"& SUM($Q$5:Q204)&\" h.\",\"\"))","v":""},""]
[null,null,null,null,null,null,null,null,null,null,null,null,203,null,"",{"$f":"_xlfn.IFNA(VLOOKUP($M207,Ataskaita,4,FALSE),IF(AND(O206=\"\",O205<>\"\"),$O$2&\"             \"& SUM($Q$5:Q205)&\" h.\",\"\"))","v":""},""]
[null,null,null,null,null,null,null,null,null,null,null,null,204,null,"",{"$f":"_xlfn.IFNA(VLOOKUP($M208,Ataskaita,4,FALSE),IF(AND(O207=\"\",O206<>\"\"),$O$2&\"             \"& SUM($Q$5:Q206)&\" h.\",\"\"))","v":""},""]
[null,null,null,null,null,null,null,null,null,null,null,null,205,null,"",{"$f":"_xlfn.IFNA(VLOOKUP($M209,Ataskaita,4,FALSE),IF(AND(O208=\"\",O207<>\"\"),$O$2&\"             \"& SUM($Q$5:Q207)&\" h.\",\"\"))","v":""},""]
[null,null,null,null,null,null,null,null,null,null,null,null,206,null,"",{"$f":"_xlfn.IFNA(VLOOKUP($M210,Ataskaita,4,FALSE),IF(AND(O209=\"\",O208<>\"\"),$O$2&\"             \"& SUM($Q$5:Q208)&\" h.\",\"\"))","v":""},""]
[null,null,null,null,null,null,null,null,null,null,null,null,207,null,"",{"$f":"_xlfn.IFNA(VLOOKUP($M211,Ataskaita,4,FALSE),IF(AND(O210=\"\",O209<>\"\"),$O$2&\"             \"& SUM($Q$5:Q209)&\" h.\",\"\"))","v":""},""]
[null,null,null,null,null,null,null,null,null,null,null,null,208,null,"",{"$f":"_xlfn.IFNA(VLOOKUP($M212,Ataskaita,4,FALSE),IF(AND(O211=\"\",O210<>\"\"),$O$2&\"             \"& SUM($Q$5:Q210)&\" h.\",\"\"))","v":""},""]
[null,null,null,null,null,null,null,null,null,null,null,null,209,null,"",{"$f":"_xlfn.IFNA(VLOOKUP($M213,Ataskaita,4,FALSE),IF(AND(O212=\"\",O211<>\"\"),$O$2&\"             \"& SUM($Q$5:Q211)&\" h.\",\"\"))","v":""},""]
[null,null,null,null,null,null,null,null,null,null,null,null,210,null,"",{"$f":"_xlfn.IFNA(VLOOKUP($M214,Ataskaita,4,FALSE),IF(AND(O213=\"\",O212<>\"\"),$O$2&\"             \"& SUM($Q$5:Q212)&\" h.\",\"\"))","v":""},""]
[null,null,null,null,null,null,null,null,null,null,null,null,211,null,"",{"$f":"_xlfn.IFNA(VLOOKUP($M215,Ataskaita,4,FALSE),IF(AND(O214=\"\",O213<>\"\"),$O$2&\"             \"& SUM($Q$5:Q213)&\" h.\",\"\"))","v":""},""]
[null,null,null,null,null,null,null,null,null,null,null,null,212,null,"",{"$f":"_xlfn.IFNA(VLOOKUP($M216,Ataskaita,4,FALSE),IF(AND(O215=\"\",O214<>\"\"),$O$2&\"             \"& SUM($Q$5:Q214)&\" h.\",\"\"))","v":""},""]
[null,null,null,null,null,null,null,null,null,null,null,null,213,null,"",{"$f":"_xlfn.IFNA(VLOOKUP($M217,Ataskaita,4,FALSE),IF(AND(O216=\"\",O215<>\"\"),$O$2&\"             \"& SUM($Q$5:Q215)&\" h.\",\"\"))","v":""},""]
[null,null,null,null,null,null,null,null,null,null,null,null,214,null,"",{"$f":"_xlfn.IFNA(VLOOKUP($M218,Ataskaita,4,FALSE),IF(AND(O217=\"\",O216<>\"\"),$O$2&\"             \"& SUM($Q$5:Q216)&\" h.\",\"\"))","v":""},""]
[null,null,null,null,null,null,null,null,null,null,null,null,215,null,"",{"$f":"_xlfn.IFNA(VLOOKUP($M219,Ataskaita,4,FALSE),IF(AND(O218=\"\",O217<>\"\"),$O$2&\"             \"& SUM($Q$5:Q217)&\" h.\",\"\"))","v":""},""]
[null,null,null,null,null,null,null,null,null,null,null,null,216,null,"",{"$f":"_xlfn.IFNA(VLOOKUP($M220,Ataskaita,4,FALSE),IF(AND(O219=\"\",O218<>\"\"),$O$2&\"             \"& SUM($Q$5:Q218)&\" h.\",\"\"))","v":""},""]
[null,null,null,null,null,null,null,null,null,null,null,null,217,null,"",{"$f":"_xlfn.IFNA(VLOOKUP($M221,Ataskaita,4,FALSE),IF(AND(O220=\"\",O219<>\"\"),$O$2&\"             \"& SUM($Q$5:Q219)&\" h.\",\"\"))","v":""},""]
[null,null,null,null,null,null,null,null,null,null,null,null,218,null,"",{"$f":"_xlfn.IFNA(VLOOKUP($M222,Ataskaita,4,FALSE),IF(AND(O221=\"\",O220<>\"\"),$O$2&\"             \"& SUM($Q$5:Q220)&\" h.\",\"\"))","v":""},""]
[null,null,null,null,null,null,null,null,null,null,null,null,219,null,"",{"$f":"_xlfn.IFNA(VLOOKUP($M223,Ataskaita,4,FALSE),IF(AND(O222=\"\",O221<>\"\"),$O$2&\"             \"& SUM($Q$5:Q221)&\" h.\",\"\"))","v":""},""]
[null,null,null,null,null,null,null,null,null,null,null,null,220,null,"",{"$f":"_xlfn.IFNA(VLOOKUP($M224,Ataskaita,4,FALSE),IF(AND(O223=\"\",O222<>\"\"),$O$2&\"             \"& SUM($Q$5:Q222)&\" h.\",\"\"))","v":""},""]
[null,null,null,null,null,null,null,null,null,null,null,null,221,null,"",{"$f":"_xlfn.IFNA(VLOOKUP($M225,Ataskaita,4,FALSE),IF(AND(O224=\"\",O223<>\"\"),$O$2&\"             \"& SUM($Q$5:Q223)&\" h.\",\"\"))","v":""},""]
[null,null,null,null,null,null,null,null,null,null,null,null,222,null,"",{"$f":"_xlfn.IFNA(VLOOKUP($M226,Ataskaita,4,FALSE),IF(AND(O225=\"\",O224<>\"\"),$O$2&\"             \"& SUM($Q$5:Q224)&\" h.\",\"\"))","v":""},""]
[null,null,null,null,null,null,null,null,null,null,null,null,223,null,"",{"$f":"_xlfn.IFNA(VLOOKUP($M227,Ataskaita,4,FALSE),IF(AND(O226=\"\",O225<>\"\"),$O$2&\"             \"& SUM($Q$5:Q225)&\" h.\",\"\"))","v":""},""]
[null,null,null,null,null,null,null,null,null,null,null,null,224,null,"",{"$f":"_xlfn.IFNA(VLOOKUP($M228,Ataskaita,4,FALSE),IF(AND(O227=\"\",O226<>\"\"),$O$2&\"             \"& SUM($Q$5:Q226)&\" h.\",\"\"))","v":""},""]
[null,null,null,null,null,null,null,null,null,null,null,null,225,null,"",{"$f":"_xlfn.IFNA(VLOOKUP($M229,Ataskaita,4,FALSE),IF(AND(O228=\"\",O227<>\"\"),$O$2&\"             \"& SUM($Q$5:Q227)&\" h.\",\"\"))","v":""},""]
[null,null,null,null,null,null,null,null,null,null,null,null,226,null,"",{"$f":"_xlfn.IFNA(VLOOKUP($M230,Ataskaita,4,FALSE),IF(AND(O229=\"\",O228<>\"\"),$O$2&\"             \"& SUM($Q$5:Q228)&\" h.\",\"\"))","v":""},""]
[null,null,null,null,null,null,null,null,null,null,null,null,227,null,"",{"$f":"_xlfn.IFNA(VLOOKUP($M231,Ataskaita,4,FALSE),IF(AND(O230=\"\",O229<>\"\"),$O$2&\"             \"& SUM($Q$5:Q229)&\" h.\",\"\"))","v":""},""]
[null,null,null,null,null,null,null,null,null,null,null,null,228,null,"",{"$f":"_xlfn.IFNA(VLOOKUP($M232,Ataskaita,4,FALSE),IF(AND(O231=\"\",O230<>\"\"),$O$2&\"             \"& SUM($Q$5:Q230)&\" h.\",\"\"))","v":""},""]
[null,null,null,null,null,null,null,null,null,null,null,null,229,null,"",{"$f":"_xlfn.IFNA(VLOOKUP($M233,Ataskaita,4,FALSE),IF(AND(O232=\"\",O231<>\"\"),$O$2&\"             \"& SUM($Q$5:Q231)&\" h.\",\"\"))","v":""},""]
[null,null,null,null,null,null,null,null,null,null,null,null,230,null,"",{"$f":"_xlfn.IFNA(VLOOKUP($M234,Ataskaita,4,FALSE),IF(AND(O233=\"\",O232<>\"\"),$O$2&\"             \"& SUM($Q$5:Q232)&\" h.\",\"\"))","v":""},""]
[null,null,null,null,null,null,null,null,null,null,null,null,231,null,"",{"$f":"_xlfn.IFNA(VLOOKUP($M235,Ataskaita,4,FALSE),IF(AND(O234=\"\",O233<>\"\"),$O$2&\"             \"& SUM($Q$5:Q233)&\" h.\",\"\"))","v":""},""]
[null,null,null,null,null,null,null,null,null,null,null,null,232,null,"",{"$f":"_xlfn.IFNA(VLOOKUP($M236,Ataskaita,4,FALSE),IF(AND(O235=\"\",O234<>\"\"),$O$2&\"             \"& SUM($Q$5:Q234)&\" h.\",\"\"))","v":""},""]
[null,null,null,null,null,null,null,null,null,null,null,null,233,null,"",{"$f":"_xlfn.IFNA(VLOOKUP($M237,Ataskaita,4,FALSE),IF(AND(O236=\"\",O235<>\"\"),$O$2&\"             \"& SUM($Q$5:Q235)&\" h.\",\"\"))","v":""},""]
[null,null,null,null,null,null,null,null,null,null,null,null,234,null,"",{"$f":"_xlfn.IFNA(VLOOKUP($M238,Ataskaita,4,FALSE),IF(AND(O237=\"\",O236<>\"\"),$O$2&\"             \"& SUM($Q$5:Q236)&\" h.\",\"\"))","v":""},""]
[null,null,null,null,null,null,null,null,null,null,null,null,235,null,"",{"$f":"_xlfn.IFNA(VLOOKUP($M239,Ataskaita,4,FALSE),IF(AND(O238=\"\",O237<>\"\"),$O$2&\"             \"& SUM($Q$5:Q237)&\" h.\",\"\"))","v":""},""]
[null,null,null,null,null,null,null,null,null,null,null,null,236,null,"",{"$f":"_xlfn.IFNA(VLOOKUP($M240,Ataskaita,4,FALSE),IF(AND(O239=\"\",O238<>\"\"),$O$2&\"             \"& SUM($Q$5:Q238)&\" h.\",\"\"))","v":""},""]
[null,null,null,null,null,null,null,null,null,null,null,null,237,null,"",{"$f":"_xlfn.IFNA(VLOOKUP($M241,Ataskaita,4,FALSE),IF(AND(O240=\"\",O239<>\"\"),$O$2&\"             \"& SUM($Q$5:Q239)&\" h.\",\"\"))","v":""},""]
[null,null,null,null,null,null,null,null,null,null,null,null,238,null,"",{"$f":"_xlfn.IFNA(VLOOKUP($M242,Ataskaita,4,FALSE),IF(AND(O241=\"\",O240<>\"\"),$O$2&\"             \"& SUM($Q$5:Q240)&\" h.\",\"\"))","v":""},""]
[null,null,null,null,null,null,null,null,null,null,null,null,239,null,"",{"$f":"_xlfn.IFNA(VLOOKUP($M243,Ataskaita,4,FALSE),IF(AND(O242=\"\",O241<>\"\"),$O$2&\"             \"& SUM($Q$5:Q241)&\" h.\",\"\"))","v":""},""]
[null,null,null,null,null,null,null,null,null,null,null,null,240,null,"",{"$f":"_xlfn.IFNA(VLOOKUP($M244,Ataskaita,4,FALSE),IF(AND(O243=\"\",O242<>\"\"),$O$2&\"             \"& SUM($Q$5:Q242)&\" h.\",\"\"))","v":""},""]
[null,null,null,null,null,null,null,null,null,null,null,null,241,null,"",{"$f":"_xlfn.IFNA(VLOOKUP($M245,Ataskaita,4,FALSE),IF(AND(O244=\"\",O243<>\"\"),$O$2&\"             \"& SUM($Q$5:Q243)&\" h.\",\"\"))","v":""},""]
[null,null,null,null,null,null,null,null,null,null,null,null,242,null,"",{"$f":"_xlfn.IFNA(VLOOKUP($M246,Ataskaita,4,FALSE),IF(AND(O245=\"\",O244<>\"\"),$O$2&\"             \"& SUM($Q$5:Q244)&\" h.\",\"\"))","v":""},""]
[null,null,null,null,null,null,null,null,null,null,null,null,243,null,"",{"$f":"_xlfn.IFNA(VLOOKUP($M247,Ataskaita,4,FALSE),IF(AND(O246=\"\",O245<>\"\"),$O$2&\"             \"& SUM($Q$5:Q245)&\" h.\",\"\"))","v":""},""]
[null,null,null,null,null,null,null,null,null,null,null,null,244,null,"",{"$f":"_xlfn.IFNA(VLOOKUP($M248,Ataskaita,4,FALSE),IF(AND(O247=\"\",O246<>\"\"),$O$2&\"             \"& SUM($Q$5:Q246)&\" h.\",\"\"))","v":""},""]
[null,null,null,null,null,null,null,null,null,null,null,null,245,null,"",{"$f":"_xlfn.IFNA(VLOOKUP($M249,Ataskaita,4,FALSE),IF(AND(O248=\"\",O247<>\"\"),$O$2&\"             \"& SUM($Q$5:Q247)&\" h.\",\"\"))","v":""},""]
[null,null,null,null,null,null,null,null,null,null,null,null,246,null,"",{"$f":"_xlfn.IFNA(VLOOKUP($M250,Ataskaita,4,FALSE),IF(AND(O249=\"\",O248<>\"\"),$O$2&\"             \"& SUM($Q$5:Q248)&\" h.\",\"\"))","v":""},""]
[null,null,null,null,null,null,null,null,null,null,null,null,247,null,"",{"$f":"_xlfn.IFNA(VLOOKUP($M251,Ataskaita,4,FALSE),IF(AND(O250=\"\",O249<>\"\"),$O$2&\"             \"& SUM($Q$5:Q249)&\" h.\",\"\"))","v":""},""]
[null,null,null,null,null,null,null,null,null,null,null,null,248,null,"",{"$f":"_xlfn.IFNA(VLOOKUP($M252,Ataskaita,4,FALSE),IF(AND(O251=\"\",O250<>\"\"),$O$2&\"             \"& SUM($Q$5:Q250)&\" h.\",\"\"))","v":""},""]
[null,null,null,null,null,null,null,null,null,null,null,null,249,null,"",{"$f":"_xlfn.IFNA(VLOOKUP($M253,Ataskaita,4,FALSE),IF(AND(O252=\"\",O251<>\"\"),$O$2&\"             \"& SUM($Q$5:Q251)&\" h.\",\"\"))","v":""},""]
[null,null,null,null,null,null,null,null,null,null,null,null,250,null,"",{"$f":"_xlfn.IFNA(VLOOKUP($M254,Ataskaita,4,FALSE),IF(AND(O253=\"\",O252<>\"\"),$O$2&\"             \"& SUM($Q$5:Q252)&\" h.\",\"\"))","v":""},""]
[null,null,null,null,null,null,null,null,null,null,null,null,251,null,"",{"$f":"_xlfn.IFNA(VLOOKUP($M255,Ataskaita,4,FALSE),IF(AND(O254=\"\",O253<>\"\"),$O$2&\"             \"& SUM($Q$5:Q253)&\" h.\",\"\"))","v":""},""]
[null,null,null,null,null,null,null,null,null,null,null,null,252,null,"",{"$f":"_xlfn.IFNA(VLOOKUP($M256,Ataskaita,4,FALSE),IF(AND(O255=\"\",O254<>\"\"),$O$2&\"             \"& SUM($Q$5:Q254)&\" h.\",\"\"))","v":""},""]
[null,null,null,null,null,null,null,null,null,null,null,null,253,null,"",{"$f":"_xlfn.IFNA(VLOOKUP($M257,Ataskaita,4,FALSE),IF(AND(O256=\"\",O255<>\"\"),$O$2&\"             \"& SUM($Q$5:Q255)&\" h.\",\"\"))","v":""},""]
[null,null,null,null,null,null,null,null,null,null,null,null,254,null,"",{"$f":"_xlfn.IFNA(VLOOKUP($M258,Ataskaita,4,FALSE),IF(AND(O257=\"\",O256<>\"\"),$O$2&\"             \"& SUM($Q$5:Q256)&\" h.\",\"\"))","v":""},""]
[null,null,null,null,null,null,null,null,null,null,null,null,255,null,"",{"$f":"_xlfn.IFNA(VLOOKUP($M259,Ataskaita,4,FALSE),IF(AND(O258=\"\",O257<>\"\"),$O$2&\"             \"& SUM($Q$5:Q257)&\" h.\",\"\"))","v":""},""]
[null,null,null,null,null,null,null,null,null,null,null,null,256,null,"",{"$f":"_xlfn.IFNA(VLOOKUP($M260,Ataskaita,4,FALSE),IF(AND(O259=\"\",O258<>\"\"),$O$2&\"             \"& SUM($Q$5:Q258)&\" h.\",\"\"))","v":""},""]
[null,null,null,null,null,null,null,null,null,null,null,null,257,null,{"$f":"_xlfn.IFNA(VLOOKUP($M261,Ataskaita,2,FALSE),\"\")","v":""},{"$f":"_xlfn.IFNA(VLOOKUP($M261,Ataskaita,4,FALSE),IF(AND(O260=\"\",O259<>\"\"),$O$2&\"             \"& SUM($Q$5:Q259)&\" h.\",\"\"))","v":""},{"$f":"_xlfn.IFNA(VLOOKUP($M261,Ataskaita,5,FALSE),IF(AND(O260=\"\",O259<>\"\"),\"...\",\"\"))","v":""}]
[null,null,null,null,null,null,null,null,null,null,null,null,258,null,"",{"$f":"_xlfn.IFNA(VLOOKUP($M262,Ataskaita,4,FALSE),IF(AND(O261=\"\",O260<>\"\"),$O$2&\"             \"& SUM($Q$5:Q260)&\" h.\",\"\"))","v":""},""]
[null,null,null,null,null,null,null,null,null,null,null,null,259,null,"",{"$f":"_xlfn.IFNA(VLOOKUP($M263,Ataskaita,4,FALSE),IF(AND(O262=\"\",O261<>\"\"),$O$2&\"             \"& SUM($Q$5:Q261)&\" h.\",\"\"))","v":""},""]
[null,null,null,null,null,null,null,null,null,null,null,null,260,null,"",{"$f":"_xlfn.IFNA(VLOOKUP($M264,Ataskaita,4,FALSE),IF(AND(O263=\"\",O262<>\"\"),$O$2&\"             \"& SUM($Q$5:Q262)&\" h.\",\"\"))","v":""},""]
[null,null,null,null,null,null,null,null,null,null,null,null,261,null,"",{"$f":"_xlfn.IFNA(VLOOKUP($M265,Ataskaita,4,FALSE),IF(AND(O264=\"\",O263<>\"\"),$O$2&\"             \"& SUM($Q$5:Q263)&\" h.\",\"\"))","v":""},""]
[null,null,null,null,null,null,null,null,null,null,null,null,262,null,"",{"$f":"_xlfn.IFNA(VLOOKUP($M266,Ataskaita,4,FALSE),IF(AND(O265=\"\",O264<>\"\"),$O$2&\"             \"& SUM($Q$5:Q264)&\" h.\",\"\"))","v":""},""]
[null,null,null,null,null,null,null,null,null,null,null,null,263,null,"",{"$f":"_xlfn.IFNA(VLOOKUP($M267,Ataskaita,4,FALSE),IF(AND(O266=\"\",O265<>\"\"),$O$2&\"             \"& SUM($Q$5:Q265)&\" h.\",\"\"))","v":""},""]
[null,null,null,null,null,null,null,null,null,null,null,null,264,null,"",{"$f":"_xlfn.IFNA(VLOOKUP($M268,Ataskaita,4,FALSE),IF(AND(O267=\"\",O266<>\"\"),$O$2&\"             \"& SUM($Q$5:Q266)&\" h.\",\"\"))","v":""},""]
[null,null,null,null,null,null,null,null,null,null,null,null,265,null,"",{"$f":"_xlfn.IFNA(VLOOKUP($M269,Ataskaita,4,FALSE),IF(AND(O268=\"\",O267<>\"\"),$O$2&\"             \"& SUM($Q$5:Q267)&\" h.\",\"\"))","v":""},""]
[null,null,null,null,null,null,null,null,null,null,null,null,266,null,"",{"$f":"_xlfn.IFNA(VLOOKUP($M270,Ataskaita,4,FALSE),IF(AND(O269=\"\",O268<>\"\"),$O$2&\"             \"& SUM($Q$5:Q268)&\" h.\",\"\"))","v":""},""]
[null,null,null,null,null,null,null,null,null,null,null,null,267,null,"",{"$f":"_xlfn.IFNA(VLOOKUP($M271,Ataskaita,4,FALSE),IF(AND(O270=\"\",O269<>\"\"),$O$2&\"             \"& SUM($Q$5:Q269)&\" h.\",\"\"))","v":""},""]
[null,null,null,null,null,null,null,null,null,null,null,null,268,null,"",{"$f":"_xlfn.IFNA(VLOOKUP($M272,Ataskaita,4,FALSE),IF(AND(O271=\"\",O270<>\"\"),$O$2&\"             \"& SUM($Q$5:Q270)&\" h.\",\"\"))","v":""},""]
[null,null,null,null,null,null,null,null,null,null,null,null,269,null,"",{"$f":"_xlfn.IFNA(VLOOKUP($M273,Ataskaita,4,FALSE),IF(AND(O272=\"\",O271<>\"\"),$O$2&\"             \"& SUM($Q$5:Q271)&\" h.\",\"\"))","v":""},""]
[null,null,null,null,null,null,null,null,null,null,null,null,270,null,"",{"$f":"_xlfn.IFNA(VLOOKUP($M274,Ataskaita,4,FALSE),IF(AND(O273=\"\",O272<>\"\"),$O$2&\"             \"& SUM($Q$5:Q272)&\" h.\",\"\"))","v":""},""]
[null,null,null,null,null,null,null,null,null,null,null,null,271,null,"",{"$f":"_xlfn.IFNA(VLOOKUP($M275,Ataskaita,4,FALSE),IF(AND(O274=\"\",O273<>\"\"),$O$2&\"             \"& SUM($Q$5:Q273)&\" h.\",\"\"))","v":""},""]
[null,null,null,null,null,null,null,null,null,null,null,null,272,null,"",{"$f":"_xlfn.IFNA(VLOOKUP($M276,Ataskaita,4,FALSE),IF(AND(O275=\"\",O274<>\"\"),$O$2&\"             \"& SUM($Q$5:Q274)&\" h.\",\"\"))","v":""},""]
[null,null,null,null,null,null,null,null,null,null,null,null,273,null,"",{"$f":"_xlfn.IFNA(VLOOKUP($M277,Ataskaita,4,FALSE),IF(AND(O276=\"\",O275<>\"\"),$O$2&\"             \"& SUM($Q$5:Q275)&\" h.\",\"\"))","v":""},""]
[null,null,null,null,null,null,null,null,null,null,null,null,274,null,"",{"$f":"_xlfn.IFNA(VLOOKUP($M278,Ataskaita,4,FALSE),IF(AND(O277=\"\",O276<>\"\"),$O$2&\"             \"& SUM($Q$5:Q276)&\" h.\",\"\"))","v":""},""]
[null,null,null,null,null,null,null,null,null,null,null,null,275,null,"",{"$f":"_xlfn.IFNA(VLOOKUP($M279,Ataskaita,4,FALSE),IF(AND(O278=\"\",O277<>\"\"),$O$2&\"             \"& SUM($Q$5:Q277)&\" h.\",\"\"))","v":""},""]
[null,null,null,null,null,null,null,null,null,null,null,null,276,null,"",{"$f":"_xlfn.IFNA(VLOOKUP($M280,Ataskaita,4,FALSE),IF(AND(O279=\"\",O278<>\"\"),$O$2&\"             \"& SUM($Q$5:Q278)&\" h.\",\"\"))","v":""},""]
[null,null,null,null,null,null,null,null,null,null,null,null,277,null,"",{"$f":"_xlfn.IFNA(VLOOKUP($M281,Ataskaita,4,FALSE),IF(AND(O280=\"\",O279<>\"\"),$O$2&\"             \"& SUM($Q$5:Q279)&\" h.\",\"\"))","v":""},""]
[null,null,null,null,null,null,null,null,null,null,null,null,278,null,"",{"$f":"_xlfn.IFNA(VLOOKUP($M282,Ataskaita,4,FALSE),IF(AND(O281=\"\",O280<>\"\"),$O$2&\"             \"& SUM($Q$5:Q280)&\" h.\",\"\"))","v":""},""]
[null,null,null,null,null,null,null,null,null,null,null,null,279,null,"",{"$f":"_xlfn.IFNA(VLOOKUP($M283,Ataskaita,4,FALSE),IF(AND(O282=\"\",O281<>\"\"),$O$2&\"             \"& SUM($Q$5:Q281)&\" h.\",\"\"))","v":""},""]
[null,null,null,null,null,null,null,null,null,null,null,null,280,null,"",{"$f":"_xlfn.IFNA(VLOOKUP($M284,Ataskaita,4,FALSE),IF(AND(O283=\"\",O282<>\"\"),$O$2&\"             \"& SUM($Q$5:Q282)&\" h.\",\"\"))","v":""},""]
[null,null,null,null,null,null,null,null,null,null,null,null,281,null,"",{"$f":"_xlfn.IFNA(VLOOKUP($M285,Ataskaita,4,FALSE),IF(AND(O284=\"\",O283<>\"\"),$O$2&\"             \"& SUM($Q$5:Q283)&\" h.\",\"\"))","v":""},""]
[null,null,null,null,null,null,null,null,null,null,null,null,282,null,"",{"$f":"_xlfn.IFNA(VLOOKUP($M286,Ataskaita,4,FALSE),IF(AND(O285=\"\",O284<>\"\"),$O$2&\"             \"& SUM($Q$5:Q284)&\" h.\",\"\"))","v":""},""]
[null,null,null,null,null,null,null,null,null,null,null,null,283,null,"",{"$f":"_xlfn.IFNA(VLOOKUP($M287,Ataskaita,4,FALSE),IF(AND(O286=\"\",O285<>\"\"),$O$2&\"             \"& SUM($Q$5:Q285)&\" h.\",\"\"))","v":""},""]
[null,null,null,null,null,null,null,null,null,null,null,null,284,null,"",{"$f":"_xlfn.IFNA(VLOOKUP($M288,Ataskaita,4,FALSE),IF(AND(O287=\"\",O286<>\"\"),$O$2&\"             \"& SUM($Q$5:Q286)&\" h.\",\"\"))","v":""},""]
[null,null,null,null,null,null,null,null,null,null,null,null,285,null,"",{"$f":"_xlfn.IFNA(VLOOKUP($M289,Ataskaita,4,FALSE),IF(AND(O288=\"\",O287<>\"\"),$O$2&\"             \"& SUM($Q$5:Q287)&\" h.\",\"\"))","v":""},""]
[null,null,null,null,null,null,null,null,null,null,null,null,286,null,"",{"$f":"_xlfn.IFNA(VLOOKUP($M290,Ataskaita,4,FALSE),IF(AND(O289=\"\",O288<>\"\"),$O$2&\"             \"& SUM($Q$5:Q288)&\" h.\",\"\"))","v":""},""]
[null,null,null,null,null,null,null,null,null,null,null,null,287,null,"",{"$f":"_xlfn.IFNA(VLOOKUP($M291,Ataskaita,4,FALSE),IF(AND(O290=\"\",O289<>\"\"),$O$2&\"             \"& SUM($Q$5:Q289)&\" h.\",\"\"))","v":""},""]
[null,null,null,null,null,null,null,null,null,null,null,null,288,null,"",{"$f":"_xlfn.IFNA(VLOOKUP($M292,Ataskaita,4,FALSE),IF(AND(O291=\"\",O290<>\"\"),$O$2&\"             \"& SUM($Q$5:Q290)&\" h.\",\"\"))","v":""},""]
[null,null,null,null,null,null,null,null,null,null,null,null,289,null,"",{"$f":"_xlfn.IFNA(VLOOKUP($M293,Ataskaita,4,FALSE),IF(AND(O292=\"\",O291<>\"\"),$O$2&\"             \"& SUM($Q$5:Q291)&\" h.\",\"\"))","v":""},""]
[null,null,null,null,null,null,null,null,null,null,null,null,290,null,"",{"$f":"_xlfn.IFNA(VLOOKUP($M294,Ataskaita,4,FALSE),IF(AND(O293=\"\",O292<>\"\"),$O$2&\"             \"& SUM($Q$5:Q292)&\" h.\",\"\"))","v":""},""]
[null,null,null,null,null,null,null,null,null,null,null,null,291,null,"",{"$f":"_xlfn.IFNA(VLOOKUP($M295,Ataskaita,4,FALSE),IF(AND(O294=\"\",O293<>\"\"),$O$2&\"             \"& SUM($Q$5:Q293)&\" h.\",\"\"))","v":""},""]
[null,null,null,null,null,null,null,null,null,null,null,null,292,null,"",{"$f":"_xlfn.IFNA(VLOOKUP($M296,Ataskaita,4,FALSE),IF(AND(O295=\"\",O294<>\"\"),$O$2&\"             \"& SUM($Q$5:Q294)&\" h.\",\"\"))","v":""},""]
[null,null,null,null,null,null,null,null,null,null,null,null,293,null,"",{"$f":"_xlfn.IFNA(VLOOKUP($M297,Ataskaita,4,FALSE),IF(AND(O296=\"\",O295<>\"\"),$O$2&\"             \"& SUM($Q$5:Q295)&\" h.\",\"\"))","v":""},""]
[null,null,null,null,null,null,null,null,null,null,null,null,294,null,"",{"$f":"_xlfn.IFNA(VLOOKUP($M298,Ataskaita,4,FALSE),IF(AND(O297=\"\",O296<>\"\"),$O$2&\"             \"& SUM($Q$5:Q296)&\" h.\",\"\"))","v":""},""]
[null,null,null,null,null,null,null,null,null,null,null,null,295,null,"",{"$f":"_xlfn.IFNA(VLOOKUP($M299,Ataskaita,4,FALSE),IF(AND(O298=\"\",O297<>\"\"),$O$2&\"             \"& SUM($Q$5:Q297)&\" h.\",\"\"))","v":""},""]
[null,null,null,null,null,null,null,null,null,null,null,null,296,null,"",{"$f":"_xlfn.IFNA(VLOOKUP($M300,Ataskaita,4,FALSE),IF(AND(O299=\"\",O298<>\"\"),$O$2&\"             \"& SUM($Q$5:Q298)&\" h.\",\"\"))","v":""},""]
[null,null,null,null,null,null,null,null,null,null,null,null,297,null,"",{"$f":"_xlfn.IFNA(VLOOKUP($M301,Ataskaita,4,FALSE),IF(AND(O300=\"\",O299<>\"\"),$O$2&\"             \"& SUM($Q$5:Q299)&\" h.\",\"\"))","v":""},""]
[null,null,null,null,null,null,null,null,null,null,null,null,298,null,"",{"$f":"_xlfn.IFNA(VLOOKUP($M302,Ataskaita,4,FALSE),IF(AND(O301=\"\",O300<>\"\"),$O$2&\"             \"& SUM($Q$5:Q300)&\" h.\",\"\"))","v":""},""]
[null,null,null,null,null,null,null,null,null,null,null,null,299,null,"",{"$f":"_xlfn.IFNA(VLOOKUP($M303,Ataskaita,4,FALSE),IF(AND(O302=\"\",O301<>\"\"),$O$2&\"             \"& SUM($Q$5:Q301)&\" h.\",\"\"))","v":""},""]
[null,null,null,null,null,null,null,null,null,null,null,null,300,null,"",{"$f":"_xlfn.IFNA(VLOOKUP($M304,Ataskaita,4,FALSE),IF(AND(O303=\"\",O302<>\"\"),$O$2&\"             \"& SUM($Q$5:Q302)&\" h.\",\"\"))","v":""},""]
[null,null,null,null,null,null,null,null,null,null,null,null,301,null,"",{"$f":"_xlfn.IFNA(VLOOKUP($M305,Ataskaita,4,FALSE),IF(AND(O304=\"\",O303<>\"\"),$O$2&\"             \"& SUM($Q$5:Q303)&\" h.\",\"\"))","v":""},""]
[null,null,null,null,null,null,null,null,null,null,null,null,302,null,"",{"$f":"_xlfn.IFNA(VLOOKUP($M306,Ataskaita,4,FALSE),IF(AND(O305=\"\",O304<>\"\"),$O$2&\"             \"& SUM($Q$5:Q304)&\" h.\",\"\"))","v":""},""]
[null,null,null,null,null,null,null,null,null,null,null,null,303,null,"",{"$f":"_xlfn.IFNA(VLOOKUP($M307,Ataskaita,4,FALSE),IF(AND(O306=\"\",O305<>\"\"),$O$2&\"             \"& SUM($Q$5:Q305)&\" h.\",\"\"))","v":""},""]
[null,null,null,null,null,null,null,null,null,null,null,null,304,null,"",{"$f":"_xlfn.IFNA(VLOOKUP($M308,Ataskaita,4,FALSE),IF(AND(O307=\"\",O306<>\"\"),$O$2&\"             \"& SUM($Q$5:Q306)&\" h.\",\"\"))","v":""},""]
[null,null,null,null,null,null,null,null,null,null,null,null,305,null,"",{"$f":"_xlfn.IFNA(VLOOKUP($M309,Ataskaita,4,FALSE),IF(AND(O308=\"\",O307<>\"\"),$O$2&\"             \"& SUM($Q$5:Q307)&\" h.\",\"\"))","v":""},""]
[null,null,null,null,null,null,null,null,null,null,null,null,306,null,"",{"$f":"_xlfn.IFNA(VLOOKUP($M310,Ataskaita,4,FALSE),IF(AND(O309=\"\",O308<>\"\"),$O$2&\"             \"& SUM($Q$5:Q308)&\" h.\",\"\"))","v":""},""]
[null,null,null,null,null,null,null,null,null,null,null,null,307,null,"",{"$f":"_xlfn.IFNA(VLOOKUP($M311,Ataskaita,4,FALSE),IF(AND(O310=\"\",O309<>\"\"),$O$2&\"             \"& SUM($Q$5:Q309)&\" h.\",\"\"))","v":""},""]
[null,null,null,null,null,null,null,null,null,null,null,null,308,null,"",{"$f":"_xlfn.IFNA(VLOOKUP($M312,Ataskaita,4,FALSE),IF(AND(O311=\"\",O310<>\"\"),$O$2&\"             \"& SUM($Q$5:Q310)&\" h.\",\"\"))","v":""},""]
[null,null,null,null,null,null,null,null,null,null,null,null,309,null,"",{"$f":"_xlfn.IFNA(VLOOKUP($M313,Ataskaita,4,FALSE),IF(AND(O312=\"\",O311<>\"\"),$O$2&\"             \"& SUM($Q$5:Q311)&\" h.\",\"\"))","v":""},""]
[null,null,null,null,null,null,null,null,null,null,null,null,310,null,"",{"$f":"_xlfn.IFNA(VLOOKUP($M314,Ataskaita,4,FALSE),IF(AND(O313=\"\",O312<>\"\"),$O$2&\"             \"& SUM($Q$5:Q312)&\" h.\",\"\"))","v":""},""]
[null,null,null,null,null,null,null,null,null,null,null,null,311,null,"",{"$f":"_xlfn.IFNA(VLOOKUP($M315,Ataskaita,4,FALSE),IF(AND(O314=\"\",O313<>\"\"),$O$2&\"             \"& SUM($Q$5:Q313)&\" h.\",\"\"))","v":""},""]
[null,null,null,null,null,null,null,null,null,null,null,null,312,null,"",{"$f":"_xlfn.IFNA(VLOOKUP($M316,Ataskaita,4,FALSE),IF(AND(O315=\"\",O314<>\"\"),$O$2&\"             \"& SUM($Q$5:Q314)&\" h.\",\"\"))","v":""},""]
[null,null,null,null,null,null,null,null,null,null,null,null,313,null,"",{"$f":"_xlfn.IFNA(VLOOKUP($M317,Ataskaita,4,FALSE),IF(AND(O316=\"\",O315<>\"\"),$O$2&\"             \"& SUM($Q$5:Q315)&\" h.\",\"\"))","v":""},""]
[null,null,null,null,null,null,null,null,null,null,null,null,314,null,"",{"$f":"_xlfn.IFNA(VLOOKUP($M318,Ataskaita,4,FALSE),IF(AND(O317=\"\",O316<>\"\"),$O$2&\"             \"& SUM($Q$5:Q316)&\" h.\",\"\"))","v":""},""]
[null,null,null,null,null,null,null,null,null,null,null,null,315,null,"",{"$f":"_xlfn.IFNA(VLOOKUP($M319,Ataskaita,4,FALSE),IF(AND(O318=\"\",O317<>\"\"),$O$2&\"             \"& SUM($Q$5:Q317)&\" h.\",\"\"))","v":""},""]
[null,null,null,null,null,null,null,null,null,null,null,null,316,null,"",{"$f":"_xlfn.IFNA(VLOOKUP($M320,Ataskaita,4,FALSE),IF(AND(O319=\"\",O318<>\"\"),$O$2&\"             \"& SUM($Q$5:Q318)&\" h.\",\"\"))","v":""},""]
[null,null,null,null,null,null,null,null,null,null,null,null,317,null,"",{"$f":"_xlfn.IFNA(VLOOKUP($M321,Ataskaita,4,FALSE),IF(AND(O320=\"\",O319<>\"\"),$O$2&\"             \"& SUM($Q$5:Q319)&\" h.\",\"\"))","v":""},""]
[null,null,null,null,null,null,null,null,null,null,null,null,318,null,"",{"$f":"_xlfn.IFNA(VLOOKUP($M322,Ataskaita,4,FALSE),IF(AND(O321=\"\",O320<>\"\"),$O$2&\"             \"& SUM($Q$5:Q320)&\" h.\",\"\"))","v":""},""]
[null,null,null,null,null,null,null,null,null,null,null,null,319,null,"",{"$f":"_xlfn.IFNA(VLOOKUP($M323,Ataskaita,4,FALSE),IF(AND(O322=\"\",O321<>\"\"),$O$2&\"             \"& SUM($Q$5:Q321)&\" h.\",\"\"))","v":""},""]
[null,null,null,null,null,null,null,null,null,null,null,null,320,null,"",{"$f":"_xlfn.IFNA(VLOOKUP($M324,Ataskaita,4,FALSE),IF(AND(O323=\"\",O322<>\"\"),$O$2&\"             \"& SUM($Q$5:Q322)&\" h.\",\"\"))","v":""},""]
[null,null,null,null,null,null,null,null,null,null,null,null,321,null,{"$f":"_xlfn.IFNA(VLOOKUP($M325,Ataskaita,2,FALSE),\"\")","v":""},{"$f":"_xlfn.IFNA(VLOOKUP($M325,Ataskaita,4,FALSE),IF(AND(O324=\"\",O323<>\"\"),$O$2&\"             \"& SUM($Q$5:Q323)&\" h.\",\"\"))","v":""},{"$f":"_xlfn.IFNA(VLOOKUP($M325,Ataskaita,5,FALSE),IF(AND(O324=\"\",O323<>\"\"),\"...\",\"\"))","v":""}]
[null,null,null,null,null,null,null,null,null,null,null,null,322,null,"",{"$f":"_xlfn.IFNA(VLOOKUP($M326,Ataskaita,4,FALSE),IF(AND(O325=\"\",O324<>\"\"),$O$2&\"             \"& SUM($Q$5:Q324)&\" h.\",\"\"))","v":""},""]
[null,null,null,null,null,null,null,null,null,null,null,null,323,null,"",{"$f":"_xlfn.IFNA(VLOOKUP($M327,Ataskaita,4,FALSE),IF(AND(O326=\"\",O325<>\"\"),$O$2&\"             \"& SUM($Q$5:Q325)&\" h.\",\"\"))","v":""},""]
[null,null,null,null,null,null,null,null,null,null,null,null,324,null,"",{"$f":"_xlfn.IFNA(VLOOKUP($M328,Ataskaita,4,FALSE),IF(AND(O327=\"\",O326<>\"\"),$O$2&\"             \"& SUM($Q$5:Q326)&\" h.\",\"\"))","v":""},""]
[null,null,null,null,null,null,null,null,null,null,null,null,325,null,"",{"$f":"_xlfn.IFNA(VLOOKUP($M329,Ataskaita,4,FALSE),IF(AND(O328=\"\",O327<>\"\"),$O$2&\"             \"& SUM($Q$5:Q327)&\" h.\",\"\"))","v":""},""]
[null,null,null,null,null,null,null,null,null,null,null,null,326,null,"",{"$f":"_xlfn.IFNA(VLOOKUP($M330,Ataskaita,4,FALSE),IF(AND(O329=\"\",O328<>\"\"),$O$2&\"             \"& SUM($Q$5:Q328)&\" h.\",\"\"))","v":""},""]
[null,null,null,null,null,null,null,null,null,null,null,null,327,null,"",{"$f":"_xlfn.IFNA(VLOOKUP($M331,Ataskaita,4,FALSE),IF(AND(O330=\"\",O329<>\"\"),$O$2&\"             \"& SUM($Q$5:Q329)&\" h.\",\"\"))","v":""},""]
[null,null,null,null,null,null,null,null,null,null,null,null,328,null,"",{"$f":"_xlfn.IFNA(VLOOKUP($M332,Ataskaita,4,FALSE),IF(AND(O331=\"\",O330<>\"\"),$O$2&\"             \"& SUM($Q$5:Q330)&\" h.\",\"\"))","v":""},""]
[null,null,null,null,null,null,null,null,null,null,null,null,329,null,"",{"$f":"_xlfn.IFNA(VLOOKUP($M333,Ataskaita,4,FALSE),IF(AND(O332=\"\",O331<>\"\"),$O$2&\"             \"& SUM($Q$5:Q331)&\" h.\",\"\"))","v":""},""]
[null,null,null,null,null,null,null,null,null,null,null,null,330,null,"",{"$f":"_xlfn.IFNA(VLOOKUP($M334,Ataskaita,4,FALSE),IF(AND(O333=\"\",O332<>\"\"),$O$2&\"             \"& SUM($Q$5:Q332)&\" h.\",\"\"))","v":""},""]
[null,null,null,null,null,null,null,null,null,null,null,null,331,null,"",{"$f":"_xlfn.IFNA(VLOOKUP($M335,Ataskaita,4,FALSE),IF(AND(O334=\"\",O333<>\"\"),$O$2&\"             \"& SUM($Q$5:Q333)&\" h.\",\"\"))","v":""},""]
[null,null,null,null,null,null,null,null,null,null,null,null,332,null,"",{"$f":"_xlfn.IFNA(VLOOKUP($M336,Ataskaita,4,FALSE),IF(AND(O335=\"\",O334<>\"\"),$O$2&\"             \"& SUM($Q$5:Q334)&\" h.\",\"\"))","v":""},""]
[null,null,null,null,null,null,null,null,null,null,null,null,333,null,"",{"$f":"_xlfn.IFNA(VLOOKUP($M337,Ataskaita,4,FALSE),IF(AND(O336=\"\",O335<>\"\"),$O$2&\"             \"& SUM($Q$5:Q335)&\" h.\",\"\"))","v":""},""]
[null,null,null,null,null,null,null,null,null,null,null,null,334,null,"",{"$f":"_xlfn.IFNA(VLOOKUP($M338,Ataskaita,4,FALSE),IF(AND(O337=\"\",O336<>\"\"),$O$2&\"             \"& SUM($Q$5:Q336)&\" h.\",\"\"))","v":""},""]
[null,null,null,null,null,null,null,null,null,null,null,null,335,null,"",{"$f":"_xlfn.IFNA(VLOOKUP($M339,Ataskaita,4,FALSE),IF(AND(O338=\"\",O337<>\"\"),$O$2&\"             \"& SUM($Q$5:Q337)&\" h.\",\"\"))","v":""},""]
[null,null,null,null,null,null,null,null,null,null,null,null,336,null,"",{"$f":"_xlfn.IFNA(VLOOKUP($M340,Ataskaita,4,FALSE),IF(AND(O339=\"\",O338<>\"\"),$O$2&\"             \"& SUM($Q$5:Q338)&\" h.\",\"\"))","v":""},""]
[null,null,null,null,null,null,null,null,null,null,null,null,337,null,"",{"$f":"_xlfn.IFNA(VLOOKUP($M341,Ataskaita,4,FALSE),IF(AND(O340=\"\",O339<>\"\"),$O$2&\"             \"& SUM($Q$5:Q339)&\" h.\",\"\"))","v":""},""]
[null,null,null,null,null,null,null,null,null,null,null,null,338,null,"",{"$f":"_xlfn.IFNA(VLOOKUP($M342,Ataskaita,4,FALSE),IF(AND(O341=\"\",O340<>\"\"),$O$2&\"             \"& SUM($Q$5:Q340)&\" h.\",\"\"))","v":""},""]
[null,null,null,null,null,null,null,null,null,null,null,null,339,null,"",{"$f":"_xlfn.IFNA(VLOOKUP($M343,Ataskaita,4,FALSE),IF(AND(O342=\"\",O341<>\"\"),$O$2&\"             \"& SUM($Q$5:Q341)&\" h.\",\"\"))","v":""},""]
[null,null,null,null,null,null,null,null,null,null,null,null,340,null,"",{"$f":"_xlfn.IFNA(VLOOKUP($M344,Ataskaita,4,FALSE),IF(AND(O343=\"\",O342<>\"\"),$O$2&\"             \"& SUM($Q$5:Q342)&\" h.\",\"\"))","v":""},""]
[null,null,null,null,null,null,null,null,null,null,null,null,341,null,"",{"$f":"_xlfn.IFNA(VLOOKUP($M345,Ataskaita,4,FALSE),IF(AND(O344=\"\",O343<>\"\"),$O$2&\"             \"& SUM($Q$5:Q343)&\" h.\",\"\"))","v":""},""]
[null,null,null,null,null,null,null,null,null,null,null,null,342,null,"",{"$f":"_xlfn.IFNA(VLOOKUP($M346,Ataskaita,4,FALSE),IF(AND(O345=\"\",O344<>\"\"),$O$2&\"             \"& SUM($Q$5:Q344)&\" h.\",\"\"))","v":""},""]
[null,null,null,null,null,null,null,null,null,null,null,null,343,null,"",{"$f":"_xlfn.IFNA(VLOOKUP($M347,Ataskaita,4,FALSE),IF(AND(O346=\"\",O345<>\"\"),$O$2&\"             \"& SUM($Q$5:Q345)&\" h.\",\"\"))","v":""},""]
[null,null,null,null,null,null,null,null,null,null,null,null,344,null,"",{"$f":"_xlfn.IFNA(VLOOKUP($M348,Ataskaita,4,FALSE),IF(AND(O347=\"\",O346<>\"\"),$O$2&\"             \"& SUM($Q$5:Q346)&\" h.\",\"\"))","v":""},""]
[null,null,null,null,null,null,null,null,null,null,null,null,345,null,"",{"$f":"_xlfn.IFNA(VLOOKUP($M349,Ataskaita,4,FALSE),IF(AND(O348=\"\",O347<>\"\"),$O$2&\"             \"& SUM($Q$5:Q347)&\" h.\",\"\"))","v":""},""]
[null,null,null,null,null,null,null,null,null,null,null,null,346,null,"",{"$f":"_xlfn.IFNA(VLOOKUP($M350,Ataskaita,4,FALSE),IF(AND(O349=\"\",O348<>\"\"),$O$2&\"             \"& SUM($Q$5:Q348)&\" h.\",\"\"))","v":""},""]
[null,null,null,null,null,null,null,null,null,null,null,null,347,null,"",{"$f":"_xlfn.IFNA(VLOOKUP($M351,Ataskaita,4,FALSE),IF(AND(O350=\"\",O349<>\"\"),$O$2&\"             \"& SUM($Q$5:Q349)&\" h.\",\"\"))","v":""},""]
[null,null,null,null,null,null,null,null,null,null,null,null,348,null,"",{"$f":"_xlfn.IFNA(VLOOKUP($M352,Ataskaita,4,FALSE),IF(AND(O351=\"\",O350<>\"\"),$O$2&\"             \"& SUM($Q$5:Q350)&\" h.\",\"\"))","v":""},""]
[null,null,null,null,null,null,null,null,null,null,null,null,349,null,"",{"$f":"_xlfn.IFNA(VLOOKUP($M353,Ataskaita,4,FALSE),IF(AND(O352=\"\",O351<>\"\"),$O$2&\"             \"& SUM($Q$5:Q351)&\" h.\",\"\"))","v":""},""]
[null,null,null,null,null,null,null,null,null,null,null,null,350,null,"",{"$f":"_xlfn.IFNA(VLOOKUP($M354,Ataskaita,4,FALSE),IF(AND(O353=\"\",O352<>\"\"),$O$2&\"             \"& SUM($Q$5:Q352)&\" h.\",\"\"))","v":""},""]
[null,null,null,null,null,null,null,null,null,null,null,null,351,null,"",{"$f":"_xlfn.IFNA(VLOOKUP($M355,Ataskaita,4,FALSE),IF(AND(O354=\"\",O353<>\"\"),$O$2&\"             \"& SUM($Q$5:Q353)&\" h.\",\"\"))","v":""},""]
[null,null,null,null,null,null,null,null,null,null,null,null,352,null,"",{"$f":"_xlfn.IFNA(VLOOKUP($M356,Ataskaita,4,FALSE),IF(AND(O355=\"\",O354<>\"\"),$O$2&\"             \"& SUM($Q$5:Q354)&\" h.\",\"\"))","v":""},""]
[null,null,null,null,null,null,null,null,null,null,null,null,353,null,"",{"$f":"_xlfn.IFNA(VLOOKUP($M357,Ataskaita,4,FALSE),IF(AND(O356=\"\",O355<>\"\"),$O$2&\"             \"& SUM($Q$5:Q355)&\" h.\",\"\"))","v":""},""]
[null,null,null,null,null,null,null,null,null,null,null,null,354,null,"",{"$f":"_xlfn.IFNA(VLOOKUP($M358,Ataskaita,4,FALSE),IF(AND(O357=\"\",O356<>\"\"),$O$2&\"             \"& SUM($Q$5:Q356)&\" h.\",\"\"))","v":""},""]
[null,null,null,null,null,null,null,null,null,null,null,null,355,null,"",{"$f":"_xlfn.IFNA(VLOOKUP($M359,Ataskaita,4,FALSE),IF(AND(O358=\"\",O357<>\"\"),$O$2&\"             \"& SUM($Q$5:Q357)&\" h.\",\"\"))","v":""},""]
[null,null,null,null,null,null,null,null,null,null,null,null,356,null,"",{"$f":"_xlfn.IFNA(VLOOKUP($M360,Ataskaita,4,FALSE),IF(AND(O359=\"\",O358<>\"\"),$O$2&\"             \"& SUM($Q$5:Q358)&\" h.\",\"\"))","v":""},""]
[null,null,null,null,null,null,null,null,null,null,null,null,357,null,"",{"$f":"_xlfn.IFNA(VLOOKUP($M361,Ataskaita,4,FALSE),IF(AND(O360=\"\",O359<>\"\"),$O$2&\"             \"& SUM($Q$5:Q359)&\" h.\",\"\"))","v":""},""]
[null,null,null,null,null,null,null,null,null,null,null,null,358,null,"",{"$f":"_xlfn.IFNA(VLOOKUP($M362,Ataskaita,4,FALSE),IF(AND(O361=\"\",O360<>\"\"),$O$2&\"             \"& SUM($Q$5:Q360)&\" h.\",\"\"))","v":""},""]
[null,null,null,null,null,null,null,null,null,null,null,null,359,null,"",{"$f":"_xlfn.IFNA(VLOOKUP($M363,Ataskaita,4,FALSE),IF(AND(O362=\"\",O361<>\"\"),$O$2&\"             \"& SUM($Q$5:Q361)&\" h.\",\"\"))","v":""},""]
[null,null,null,null,null,null,null,null,null,null,null,null,360,null,"",{"$f":"_xlfn.IFNA(VLOOKUP($M364,Ataskaita,4,FALSE),IF(AND(O363=\"\",O362<>\"\"),$O$2&\"             \"& SUM($Q$5:Q362)&\" h.\",\"\"))","v":""},""]
[null,null,null,null,null,null,null,null,null,null,null,null,361,null,"",{"$f":"_xlfn.IFNA(VLOOKUP($M365,Ataskaita,4,FALSE),IF(AND(O364=\"\",O363<>\"\"),$O$2&\"             \"& SUM($Q$5:Q363)&\" h.\",\"\"))","v":""},""]
[null,null,null,null,null,null,null,null,null,null,null,null,362,null,"",{"$f":"_xlfn.IFNA(VLOOKUP($M366,Ataskaita,4,FALSE),IF(AND(O365=\"\",O364<>\"\"),$O$2&\"             \"& SUM($Q$5:Q364)&\" h.\",\"\"))","v":""},""]
[null,null,null,null,null,null,null,null,null,null,null,null,363,null,"",{"$f":"_xlfn.IFNA(VLOOKUP($M367,Ataskaita,4,FALSE),IF(AND(O366=\"\",O365<>\"\"),$O$2&\"             \"& SUM($Q$5:Q365)&\" h.\",\"\"))","v":""},""]
[null,null,null,null,null,null,null,null,null,null,null,null,364,null,"",{"$f":"_xlfn.IFNA(VLOOKUP($M368,Ataskaita,4,FALSE),IF(AND(O367=\"\",O366<>\"\"),$O$2&\"             \"& SUM($Q$5:Q366)&\" h.\",\"\"))","v":""},""]
[null,null,null,null,null,null,null,null,null,null,null,null,365,null,"",{"$f":"_xlfn.IFNA(VLOOKUP($M369,Ataskaita,4,FALSE),IF(AND(O368=\"\",O367<>\"\"),$O$2&\"             \"& SUM($Q$5:Q367)&\" h.\",\"\"))","v":""},""]
[null,null,null,null,null,null,null,null,null,null,null,null,366,null,"",{"$f":"_xlfn.IFNA(VLOOKUP($M370,Ataskaita,4,FALSE),IF(AND(O369=\"\",O368<>\"\"),$O$2&\"             \"& SUM($Q$5:Q368)&\" h.\",\"\"))","v":""},""]
[null,null,null,null,null,null,null,null,null,null,null,null,367,null,"",{"$f":"_xlfn.IFNA(VLOOKUP($M371,Ataskaita,4,FALSE),IF(AND(O370=\"\",O369<>\"\"),$O$2&\"             \"& SUM($Q$5:Q369)&\" h.\",\"\"))","v":""},""]
[null,null,null,null,null,null,null,null,null,null,null,null,368,null,"",{"$f":"_xlfn.IFNA(VLOOKUP($M372,Ataskaita,4,FALSE),IF(AND(O371=\"\",O370<>\"\"),$O$2&\"             \"& SUM($Q$5:Q370)&\" h.\",\"\"))","v":""},""]
[null,null,null,null,null,null,null,null,null,null,null,null,369,null,"",{"$f":"_xlfn.IFNA(VLOOKUP($M373,Ataskaita,4,FALSE),IF(AND(O372=\"\",O371<>\"\"),$O$2&\"             \"& SUM($Q$5:Q371)&\" h.\",\"\"))","v":""},""]
[null,null,null,null,null,null,null,null,null,null,null,null,370,null,"",{"$f":"_xlfn.IFNA(VLOOKUP($M374,Ataskaita,4,FALSE),IF(AND(O373=\"\",O372<>\"\"),$O$2&\"             \"& SUM($Q$5:Q372)&\" h.\",\"\"))","v":""},""]
[null,null,null,null,null,null,null,null,null,null,null,null,371,null,"",{"$f":"_xlfn.IFNA(VLOOKUP($M375,Ataskaita,4,FALSE),IF(AND(O374=\"\",O373<>\"\"),$O$2&\"             \"& SUM($Q$5:Q373)&\" h.\",\"\"))","v":""},""]
[null,null,null,null,null,null,null,null,null,null,null,null,372,null,"",{"$f":"_xlfn.IFNA(VLOOKUP($M376,Ataskaita,4,FALSE),IF(AND(O375=\"\",O374<>\"\"),$O$2&\"             \"& SUM($Q$5:Q374)&\" h.\",\"\"))","v":""},""]
[null,null,null,null,null,null,null,null,null,null,null,null,373,null,"",{"$f":"_xlfn.IFNA(VLOOKUP($M377,Ataskaita,4,FALSE),IF(AND(O376=\"\",O375<>\"\"),$O$2&\"             \"& SUM($Q$5:Q375)&\" h.\",\"\"))","v":""},""]
[null,null,null,null,null,null,null,null,null,null,null,null,374,null,"",{"$f":"_xlfn.IFNA(VLOOKUP($M378,Ataskaita,4,FALSE),IF(AND(O377=\"\",O376<>\"\"),$O$2&\"             \"& SUM($Q$5:Q376)&\" h.\",\"\"))","v":""},""]
[null,null,null,null,null,null,null,null,null,null,null,null,375,null,"",{"$f":"_xlfn.IFNA(VLOOKUP($M379,Ataskaita,4,FALSE),IF(AND(O378=\"\",O377<>\"\"),$O$2&\"             \"& SUM($Q$5:Q377)&\" h.\",\"\"))","v":""},""]
[null,null,null,null,null,null,null,null,null,null,null,null,376,null,"",{"$f":"_xlfn.IFNA(VLOOKUP($M380,Ataskaita,4,FALSE),IF(AND(O379=\"\",O378<>\"\"),$O$2&\"             \"& SUM($Q$5:Q378)&\" h.\",\"\"))","v":""},""]
[null,null,null,null,null,null,null,null,null,null,null,null,377,null,"",{"$f":"_xlfn.IFNA(VLOOKUP($M381,Ataskaita,4,FALSE),IF(AND(O380=\"\",O379<>\"\"),$O$2&\"             \"& SUM($Q$5:Q379)&\" h.\",\"\"))","v":""},""]
[null,null,null,null,null,null,null,null,null,null,null,null,378,null,"",{"$f":"_xlfn.IFNA(VLOOKUP($M382,Ataskaita,4,FALSE),IF(AND(O381=\"\",O380<>\"\"),$O$2&\"             \"& SUM($Q$5:Q380)&\" h.\",\"\"))","v":""},""]
[null,null,null,null,null,null,null,null,null,null,null,null,379,null,"",{"$f":"_xlfn.IFNA(VLOOKUP($M383,Ataskaita,4,FALSE),IF(AND(O382=\"\",O381<>\"\"),$O$2&\"             \"& SUM($Q$5:Q381)&\" h.\",\"\"))","v":""},""]
[null,null,null,null,null,null,null,null,null,null,null,null,380,null,"",{"$f":"_xlfn.IFNA(VLOOKUP($M384,Ataskaita,4,FALSE),IF(AND(O383=\"\",O382<>\"\"),$O$2&\"             \"& SUM($Q$5:Q382)&\" h.\",\"\"))","v":""},""]
[null,null,null,null,null,null,null,null,null,null,null,null,381,null,"",{"$f":"_xlfn.IFNA(VLOOKUP($M385,Ataskaita,4,FALSE),IF(AND(O384=\"\",O383<>\"\"),$O$2&\"             \"& SUM($Q$5:Q383)&\" h.\",\"\"))","v":""},""]
[null,null,null,null,null,null,null,null,null,null,null,null,382,null,"",{"$f":"_xlfn.IFNA(VLOOKUP($M386,Ataskaita,4,FALSE),IF(AND(O385=\"\",O384<>\"\"),$O$2&\"             \"& SUM($Q$5:Q384)&\" h.\",\"\"))","v":""},""]
[null,null,null,null,null,null,null,null,null,null,null,null,383,null,"",{"$f":"_xlfn.IFNA(VLOOKUP($M387,Ataskaita,4,FALSE),IF(AND(O386=\"\",O385<>\"\"),$O$2&\"             \"& SUM($Q$5:Q385)&\" h.\",\"\"))","v":""},""]
[null,null,null,null,null,null,null,null,null,null,null,null,384,null,"",{"$f":"_xlfn.IFNA(VLOOKUP($M388,Ataskaita,4,FALSE),IF(AND(O387=\"\",O386<>\"\"),$O$2&\"             \"& SUM($Q$5:Q386)&\" h.\",\"\"))","v":""},""]
[null,null,null,null,null,null,null,null,null,null,null,null,385,null,{"$f":"_xlfn.IFNA(VLOOKUP($M389,Ataskaita,2,FALSE),\"\")","v":""},{"$f":"_xlfn.IFNA(VLOOKUP($M389,Ataskaita,4,FALSE),IF(AND(O388=\"\",O387<>\"\"),$O$2&\"             \"& SUM($Q$5:Q387)&\" h.\",\"\"))","v":""},{"$f":"_xlfn.IFNA(VLOOKUP($M389,Ataskaita,5,FALSE),IF(AND(O388=\"\",O387<>\"\"),\"...\",\"\"))","v":""}]
[null,null,null,null,null,null,null,null,null,null,null,null,386,null,"",{"$f":"_xlfn.IFNA(VLOOKUP($M390,Ataskaita,4,FALSE),IF(AND(O389=\"\",O388<>\"\"),$O$2&\"             \"& SUM($Q$5:Q388)&\" h.\",\"\"))","v":""},""]
[null,null,null,null,null,null,null,null,null,null,null,null,387,null,"",{"$f":"_xlfn.IFNA(VLOOKUP($M391,Ataskaita,4,FALSE),IF(AND(O390=\"\",O389<>\"\"),$O$2&\"             \"& SUM($Q$5:Q389)&\" h.\",\"\"))","v":""},""]
[null,null,null,null,null,null,null,null,null,null,null,null,388,null,"",{"$f":"_xlfn.IFNA(VLOOKUP($M392,Ataskaita,4,FALSE),IF(AND(O391=\"\",O390<>\"\"),$O$2&\"             \"& SUM($Q$5:Q390)&\" h.\",\"\"))","v":""},""]
[null,null,null,null,null,null,null,null,null,null,null,null,389,null,"",{"$f":"_xlfn.IFNA(VLOOKUP($M393,Ataskaita,4,FALSE),IF(AND(O392=\"\",O391<>\"\"),$O$2&\"             \"& SUM($Q$5:Q391)&\" h.\",\"\"))","v":""},""]
[null,null,null,null,null,null,null,null,null,null,null,null,390,null,"",{"$f":"_xlfn.IFNA(VLOOKUP($M394,Ataskaita,4,FALSE),IF(AND(O393=\"\",O392<>\"\"),$O$2&\"             \"& SUM($Q$5:Q392)&\" h.\",\"\"))","v":""},""]
[null,null,null,null,null,null,null,null,null,null,null,null,391,null,"",{"$f":"_xlfn.IFNA(VLOOKUP($M395,Ataskaita,4,FALSE),IF(AND(O394=\"\",O393<>\"\"),$O$2&\"             \"& SUM($Q$5:Q393)&\" h.\",\"\"))","v":""},""]
[null,null,null,null,null,null,null,null,null,null,null,null,392,null,"",{"$f":"_xlfn.IFNA(VLOOKUP($M396,Ataskaita,4,FALSE),IF(AND(O395=\"\",O394<>\"\"),$O$2&\"             \"& SUM($Q$5:Q394)&\" h.\",\"\"))","v":""},""]
[null,null,null,null,null,null,null,null,null,null,null,null,393,null,"",{"$f":"_xlfn.IFNA(VLOOKUP($M397,Ataskaita,4,FALSE),IF(AND(O396=\"\",O395<>\"\"),$O$2&\"             \"& SUM($Q$5:Q395)&\" h.\",\"\"))","v":""},""]
[null,null,null,null,null,null,null,null,null,null,null,null,394,null,"",{"$f":"_xlfn.IFNA(VLOOKUP($M398,Ataskaita,4,FALSE),IF(AND(O397=\"\",O396<>\"\"),$O$2&\"             \"& SUM($Q$5:Q396)&\" h.\",\"\"))","v":""},""]
[null,null,null,null,null,null,null,null,null,null,null,null,395,null,"",{"$f":"_xlfn.IFNA(VLOOKUP($M399,Ataskaita,4,FALSE),IF(AND(O398=\"\",O397<>\"\"),$O$2&\"             \"& SUM($Q$5:Q397)&\" h.\",\"\"))","v":""},""]
[null,null,null,null,null,null,null,null,null,null,null,null,396,null,"",{"$f":"_xlfn.IFNA(VLOOKUP($M400,Ataskaita,4,FALSE),IF(AND(O399=\"\",O398<>\"\"),$O$2&\"             \"& SUM($Q$5:Q398)&\" h.\",\"\"))","v":""},""]
[null,null,null,null,null,null,null,null,null,null,null,null,397,null,"",{"$f":"_xlfn.IFNA(VLOOKUP($M401,Ataskaita,4,FALSE),IF(AND(O400=\"\",O399<>\"\"),$O$2&\"             \"& SUM($Q$5:Q399)&\" h.\",\"\"))","v":""},""]
[null,null,null,null,null,null,null,null,null,null,null,null,398,null,"",{"$f":"_xlfn.IFNA(VLOOKUP($M402,Ataskaita,4,FALSE),IF(AND(O401=\"\",O400<>\"\"),$O$2&\"             \"& SUM($Q$5:Q400)&\" h.\",\"\"))","v":""},""]
[null,null,null,null,null,null,null,null,null,null,null,null,399,null,"",{"$f":"_xlfn.IFNA(VLOOKUP($M403,Ataskaita,4,FALSE),IF(AND(O402=\"\",O401<>\"\"),$O$2&\"             \"& SUM($Q$5:Q401)&\" h.\",\"\"))","v":""},""]
[null,null,null,null,null,null,null,null,null,null,null,null,400,null,"",{"$f":"_xlfn.IFNA(VLOOKUP($M404,Ataskaita,4,FALSE),IF(AND(O403=\"\",O402<>\"\"),$O$2&\"             \"& SUM($Q$5:Q402)&\" h.\",\"\"))","v":""},""]
[null,null,null,null,null,null,null,null,null,null,null,null,401,null,"",{"$f":"_xlfn.IFNA(VLOOKUP($M405,Ataskaita,4,FALSE),IF(AND(O404=\"\",O403<>\"\"),$O$2&\"             \"& SUM($Q$5:Q403)&\" h.\",\"\"))","v":""},""]
[null,null,null,null,null,null,null,null,null,null,null,null,402,null,"",{"$f":"_xlfn.IFNA(VLOOKUP($M406,Ataskaita,4,FALSE),IF(AND(O405=\"\",O404<>\"\"),$O$2&\"             \"& SUM($Q$5:Q404)&\" h.\",\"\"))","v":""},""]
[null,null,null,null,null,null,null,null,null,null,null,null,403,null,"",{"$f":"_xlfn.IFNA(VLOOKUP($M407,Ataskaita,4,FALSE),IF(AND(O406=\"\",O405<>\"\"),$O$2&\"             \"& SUM($Q$5:Q405)&\" h.\",\"\"))","v":""},""]
[null,null,null,null,null,null,null,null,null,null,null,null,404,null,"",{"$f":"_xlfn.IFNA(VLOOKUP($M408,Ataskaita,4,FALSE),IF(AND(O407=\"\",O406<>\"\"),$O$2&\"             \"& SUM($Q$5:Q406)&\" h.\",\"\"))","v":""},""]
[null,null,null,null,null,null,null,null,null,null,null,null,405,null,"",{"$f":"_xlfn.IFNA(VLOOKUP($M409,Ataskaita,4,FALSE),IF(AND(O408=\"\",O407<>\"\"),$O$2&\"             \"& SUM($Q$5:Q407)&\" h.\",\"\"))","v":""},""]
[null,null,null,null,null,null,null,null,null,null,null,null,406,null,"",{"$f":"_xlfn.IFNA(VLOOKUP($M410,Ataskaita,4,FALSE),IF(AND(O409=\"\",O408<>\"\"),$O$2&\"             \"& SUM($Q$5:Q408)&\" h.\",\"\"))","v":""},""]
[null,null,null,null,null,null,null,null,null,null,null,null,407,null,"",{"$f":"_xlfn.IFNA(VLOOKUP($M411,Ataskaita,4,FALSE),IF(AND(O410=\"\",O409<>\"\"),$O$2&\"             \"& SUM($Q$5:Q409)&\" h.\",\"\"))","v":""},""]
[null,null,null,null,null,null,null,null,null,null,null,null,408,null,"",{"$f":"_xlfn.IFNA(VLOOKUP($M412,Ataskaita,4,FALSE),IF(AND(O411=\"\",O410<>\"\"),$O$2&\"             \"& SUM($Q$5:Q410)&\" h.\",\"\"))","v":""},""]
[null,null,null,null,null,null,null,null,null,null,null,null,409,null,"",{"$f":"_xlfn.IFNA(VLOOKUP($M413,Ataskaita,4,FALSE),IF(AND(O412=\"\",O411<>\"\"),$O$2&\"             \"& SUM($Q$5:Q411)&\" h.\",\"\"))","v":""},""]
[null,null,null,null,null,null,null,null,null,null,null,null,410,null,"",{"$f":"_xlfn.IFNA(VLOOKUP($M414,Ataskaita,4,FALSE),IF(AND(O413=\"\",O412<>\"\"),$O$2&\"             \"& SUM($Q$5:Q412)&\" h.\",\"\"))","v":""},""]
[null,null,null,null,null,null,null,null,null,null,null,null,411,null,"",{"$f":"_xlfn.IFNA(VLOOKUP($M415,Ataskaita,4,FALSE),IF(AND(O414=\"\",O413<>\"\"),$O$2&\"             \"& SUM($Q$5:Q413)&\" h.\",\"\"))","v":""},""]
[null,null,null,null,null,null,null,null,null,null,null,null,412,null,"",{"$f":"_xlfn.IFNA(VLOOKUP($M416,Ataskaita,4,FALSE),IF(AND(O415=\"\",O414<>\"\"),$O$2&\"             \"& SUM($Q$5:Q414)&\" h.\",\"\"))","v":""},""]
[null,null,null,null,null,null,null,null,null,null,null,null,413,null,"",{"$f":"_xlfn.IFNA(VLOOKUP($M417,Ataskaita,4,FALSE),IF(AND(O416=\"\",O415<>\"\"),$O$2&\"             \"& SUM($Q$5:Q415)&\" h.\",\"\"))","v":""},""]
[null,null,null,null,null,null,null,null,null,null,null,null,414,null,"",{"$f":"_xlfn.IFNA(VLOOKUP($M418,Ataskaita,4,FALSE),IF(AND(O417=\"\",O416<>\"\"),$O$2&\"             \"& SUM($Q$5:Q416)&\" h.\",\"\"))","v":""},""]
[null,null,null,null,null,null,null,null,null,null,null,null,415,null,"",{"$f":"_xlfn.IFNA(VLOOKUP($M419,Ataskaita,4,FALSE),IF(AND(O418=\"\",O417<>\"\"),$O$2&\"             \"& SUM($Q$5:Q417)&\" h.\",\"\"))","v":""},""]
[null,null,null,null,null,null,null,null,null,null,null,null,416,null,"",{"$f":"_xlfn.IFNA(VLOOKUP($M420,Ataskaita,4,FALSE),IF(AND(O419=\"\",O418<>\"\"),$O$2&\"             \"& SUM($Q$5:Q418)&\" h.\",\"\"))","v":""},""]
[null,null,null,null,null,null,null,null,null,null,null,null,417,null,"",{"$f":"_xlfn.IFNA(VLOOKUP($M421,Ataskaita,4,FALSE),IF(AND(O420=\"\",O419<>\"\"),$O$2&\"             \"& SUM($Q$5:Q419)&\" h.\",\"\"))","v":""},""]
[null,null,null,null,null,null,null,null,null,null,null,null,418,null,"",{"$f":"_xlfn.IFNA(VLOOKUP($M422,Ataskaita,4,FALSE),IF(AND(O421=\"\",O420<>\"\"),$O$2&\"             \"& SUM($Q$5:Q420)&\" h.\",\"\"))","v":""},""]
[null,null,null,null,null,null,null,null,null,null,null,null,419,null,"",{"$f":"_xlfn.IFNA(VLOOKUP($M423,Ataskaita,4,FALSE),IF(AND(O422=\"\",O421<>\"\"),$O$2&\"             \"& SUM($Q$5:Q421)&\" h.\",\"\"))","v":""},""]
[null,null,null,null,null,null,null,null,null,null,null,null,420,null,"",{"$f":"_xlfn.IFNA(VLOOKUP($M424,Ataskaita,4,FALSE),IF(AND(O423=\"\",O422<>\"\"),$O$2&\"             \"& SUM($Q$5:Q422)&\" h.\",\"\"))","v":""},""]
[null,null,null,null,null,null,null,null,null,null,null,null,421,null,"",{"$f":"_xlfn.IFNA(VLOOKUP($M425,Ataskaita,4,FALSE),IF(AND(O424=\"\",O423<>\"\"),$O$2&\"             \"& SUM($Q$5:Q423)&\" h.\",\"\"))","v":""},""]
[null,null,null,null,null,null,null,null,null,null,null,null,422,null,"",{"$f":"_xlfn.IFNA(VLOOKUP($M426,Ataskaita,4,FALSE),IF(AND(O425=\"\",O424<>\"\"),$O$2&\"             \"& SUM($Q$5:Q424)&\" h.\",\"\"))","v":""},""]
[null,null,null,null,null,null,null,null,null,null,null,null,423,null,"",{"$f":"_xlfn.IFNA(VLOOKUP($M427,Ataskaita,4,FALSE),IF(AND(O426=\"\",O425<>\"\"),$O$2&\"             \"& SUM($Q$5:Q425)&\" h.\",\"\"))","v":""},""]
[null,null,null,null,null,null,null,null,null,null,null,null,424,null,"",{"$f":"_xlfn.IFNA(VLOOKUP($M428,Ataskaita,4,FALSE),IF(AND(O427=\"\",O426<>\"\"),$O$2&\"             \"& SUM($Q$5:Q426)&\" h.\",\"\"))","v":""},""]
[null,null,null,null,null,null,null,null,null,null,null,null,425,null,"",{"$f":"_xlfn.IFNA(VLOOKUP($M429,Ataskaita,4,FALSE),IF(AND(O428=\"\",O427<>\"\"),$O$2&\"             \"& SUM($Q$5:Q427)&\" h.\",\"\"))","v":""},""]
[null,null,null,null,null,null,null,null,null,null,null,null,426,null,"",{"$f":"_xlfn.IFNA(VLOOKUP($M430,Ataskaita,4,FALSE),IF(AND(O429=\"\",O428<>\"\"),$O$2&\"             \"& SUM($Q$5:Q428)&\" h.\",\"\"))","v":""},""]
[null,null,null,null,null,null,null,null,null,null,null,null,427,null,"",{"$f":"_xlfn.IFNA(VLOOKUP($M431,Ataskaita,4,FALSE),IF(AND(O430=\"\",O429<>\"\"),$O$2&\"             \"& SUM($Q$5:Q429)&\" h.\",\"\"))","v":""},""]
[null,null,null,null,null,null,null,null,null,null,null,null,428,null,"",{"$f":"_xlfn.IFNA(VLOOKUP($M432,Ataskaita,4,FALSE),IF(AND(O431=\"\",O430<>\"\"),$O$2&\"             \"& SUM($Q$5:Q430)&\" h.\",\"\"))","v":""},""]
[null,null,null,null,null,null,null,null,null,null,null,null,429,null,"",{"$f":"_xlfn.IFNA(VLOOKUP($M433,Ataskaita,4,FALSE),IF(AND(O432=\"\",O431<>\"\"),$O$2&\"             \"& SUM($Q$5:Q431)&\" h.\",\"\"))","v":""},""]
[null,null,null,null,null,null,null,null,null,null,null,null,430,null,"",{"$f":"_xlfn.IFNA(VLOOKUP($M434,Ataskaita,4,FALSE),IF(AND(O433=\"\",O432<>\"\"),$O$2&\"             \"& SUM($Q$5:Q432)&\" h.\",\"\"))","v":""},""]
[null,null,null,null,null,null,null,null,null,null,null,null,431,null,"",{"$f":"_xlfn.IFNA(VLOOKUP($M435,Ataskaita,4,FALSE),IF(AND(O434=\"\",O433<>\"\"),$O$2&\"             \"& SUM($Q$5:Q433)&\" h.\",\"\"))","v":""},""]
[null,null,null,null,null,null,null,null,null,null,null,null,432,null,"",{"$f":"_xlfn.IFNA(VLOOKUP($M436,Ataskaita,4,FALSE),IF(AND(O435=\"\",O434<>\"\"),$O$2&\"             \"& SUM($Q$5:Q434)&\" h.\",\"\"))","v":""},""]
[null,null,null,null,null,null,null,null,null,null,null,null,433,null,"",{"$f":"_xlfn.IFNA(VLOOKUP($M437,Ataskaita,4,FALSE),IF(AND(O436=\"\",O435<>\"\"),$O$2&\"             \"& SUM($Q$5:Q435)&\" h.\",\"\"))","v":""},""]
[null,null,null,null,null,null,null,null,null,null,null,null,434,null,"",{"$f":"_xlfn.IFNA(VLOOKUP($M438,Ataskaita,4,FALSE),IF(AND(O437=\"\",O436<>\"\"),$O$2&\"             \"& SUM($Q$5:Q436)&\" h.\",\"\"))","v":""},""]
[null,null,null,null,null,null,null,null,null,null,null,null,435,null,"",{"$f":"_xlfn.IFNA(VLOOKUP($M439,Ataskaita,4,FALSE),IF(AND(O438=\"\",O437<>\"\"),$O$2&\"             \"& SUM($Q$5:Q437)&\" h.\",\"\"))","v":""},""]
[null,null,null,null,null,null,null,null,null,null,null,null,436,null,"",{"$f":"_xlfn.IFNA(VLOOKUP($M440,Ataskaita,4,FALSE),IF(AND(O439=\"\",O438<>\"\"),$O$2&\"             \"& SUM($Q$5:Q438)&\" h.\",\"\"))","v":""},""]
[null,null,null,null,null,null,null,null,null,null,null,null,437,null,"",{"$f":"_xlfn.IFNA(VLOOKUP($M441,Ataskaita,4,FALSE),IF(AND(O440=\"\",O439<>\"\"),$O$2&\"             \"& SUM($Q$5:Q439)&\" h.\",\"\"))","v":""},""]
[null,null,null,null,null,null,null,null,null,null,null,null,438,null,"",{"$f":"_xlfn.IFNA(VLOOKUP($M442,Ataskaita,4,FALSE),IF(AND(O441=\"\",O440<>\"\"),$O$2&\"             \"& SUM($Q$5:Q440)&\" h.\",\"\"))","v":""},""]
[null,null,null,null,null,null,null,null,null,null,null,null,439,null,"",{"$f":"_xlfn.IFNA(VLOOKUP($M443,Ataskaita,4,FALSE),IF(AND(O442=\"\",O441<>\"\"),$O$2&\"             \"& SUM($Q$5:Q441)&\" h.\",\"\"))","v":""},""]
[null,null,null,null,null,null,null,null,null,null,null,null,440,null,"",{"$f":"_xlfn.IFNA(VLOOKUP($M444,Ataskaita,4,FALSE),IF(AND(O443=\"\",O442<>\"\"),$O$2&\"             \"& SUM($Q$5:Q442)&\" h.\",\"\"))","v":""},""]
[null,null,null,null,null,null,null,null,null,null,null,null,441,null,"",{"$f":"_xlfn.IFNA(VLOOKUP($M445,Ataskaita,4,FALSE),IF(AND(O444=\"\",O443<>\"\"),$O$2&\"             \"& SUM($Q$5:Q443)&\" h.\",\"\"))","v":""},""]
[null,null,null,null,null,null,null,null,null,null,null,null,442,null,"",{"$f":"_xlfn.IFNA(VLOOKUP($M446,Ataskaita,4,FALSE),IF(AND(O445=\"\",O444<>\"\"),$O$2&\"             \"& SUM($Q$5:Q444)&\" h.\",\"\"))","v":""},""]
[null,null,null,null,null,null,null,null,null,null,null,null,443,null,"",{"$f":"_xlfn.IFNA(VLOOKUP($M447,Ataskaita,4,FALSE),IF(AND(O446=\"\",O445<>\"\"),$O$2&\"             \"& SUM($Q$5:Q445)&\" h.\",\"\"))","v":""},""]
[null,null,null,null,null,null,null,null,null,null,null,null,444,null,"",{"$f":"_xlfn.IFNA(VLOOKUP($M448,Ataskaita,4,FALSE),IF(AND(O447=\"\",O446<>\"\"),$O$2&\"             \"& SUM($Q$5:Q446)&\" h.\",\"\"))","v":""},""]
[null,null,null,null,null,null,null,null,null,null,null,null,445,null,"",{"$f":"_xlfn.IFNA(VLOOKUP($M449,Ataskaita,4,FALSE),IF(AND(O448=\"\",O447<>\"\"),$O$2&\"             \"& SUM($Q$5:Q447)&\" h.\",\"\"))","v":""},""]
[null,null,null,null,null,null,null,null,null,null,null,null,446,null,"",{"$f":"_xlfn.IFNA(VLOOKUP($M450,Ataskaita,4,FALSE),IF(AND(O449=\"\",O448<>\"\"),$O$2&\"             \"& SUM($Q$5:Q448)&\" h.\",\"\"))","v":""},""]
[null,null,null,null,null,null,null,null,null,null,null,null,447,null,"",{"$f":"_xlfn.IFNA(VLOOKUP($M451,Ataskaita,4,FALSE),IF(AND(O450=\"\",O449<>\"\"),$O$2&\"             \"& SUM($Q$5:Q449)&\" h.\",\"\"))","v":""},""]
[null,null,null,null,null,null,null,null,null,null,null,null,448,null,"",{"$f":"_xlfn.IFNA(VLOOKUP($M452,Ataskaita,4,FALSE),IF(AND(O451=\"\",O450<>\"\"),$O$2&\"             \"& SUM($Q$5:Q450)&\" h.\",\"\"))","v":""},""]
[null,null,null,null,null,null,null,null,null,null,null,null,449,null,{"$f":"_xlfn.IFNA(VLOOKUP($M453,Ataskaita,2,FALSE),\"\")","v":""},{"$f":"_xlfn.IFNA(VLOOKUP($M453,Ataskaita,4,FALSE),IF(AND(O452=\"\",O451<>\"\"),$O$2&\"             \"& SUM($Q$5:Q451)&\" h.\",\"\"))","v":""},{"$f":"_xlfn.IFNA(VLOOKUP($M453,Ataskaita,5,FALSE),IF(AND(O452=\"\",O451<>\"\"),\"...\",\"\"))","v":""}]
[null,null,null,null,null,null,null,null,null,null,null,null,450,null,"",{"$f":"_xlfn.IFNA(VLOOKUP($M454,Ataskaita,4,FALSE),IF(AND(O453=\"\",O452<>\"\"),$O$2&\"             \"& SUM($Q$5:Q452)&\" h.\",\"\"))","v":""},""]
[null,null,null,null,null,null,null,null,null,null,null,null,451,null,"",{"$f":"_xlfn.IFNA(VLOOKUP($M455,Ataskaita,4,FALSE),IF(AND(O454=\"\",O453<>\"\"),$O$2&\"             \"& SUM($Q$5:Q453)&\" h.\",\"\"))","v":""},""]
[null,null,null,null,null,null,null,null,null,null,null,null,452,null,"",{"$f":"_xlfn.IFNA(VLOOKUP($M456,Ataskaita,4,FALSE),IF(AND(O455=\"\",O454<>\"\"),$O$2&\"             \"& SUM($Q$5:Q454)&\" h.\",\"\"))","v":""},""]
[null,null,null,null,null,null,null,null,null,null,null,null,453,null,"",{"$f":"_xlfn.IFNA(VLOOKUP($M457,Ataskaita,4,FALSE),IF(AND(O456=\"\",O455<>\"\"),$O$2&\"             \"& SUM($Q$5:Q455)&\" h.\",\"\"))","v":""},""]
[null,null,null,null,null,null,null,null,null,null,null,null,454,null,"",{"$f":"_xlfn.IFNA(VLOOKUP($M458,Ataskaita,4,FALSE),IF(AND(O457=\"\",O456<>\"\"),$O$2&\"             \"& SUM($Q$5:Q456)&\" h.\",\"\"))","v":""},""]
[null,null,null,null,null,null,null,null,null,null,null,null,455,null,"",{"$f":"_xlfn.IFNA(VLOOKUP($M459,Ataskaita,4,FALSE),IF(AND(O458=\"\",O457<>\"\"),$O$2&\"             \"& SUM($Q$5:Q457)&\" h.\",\"\"))","v":""},""]
[null,null,null,null,null,null,null,null,null,null,null,null,456,null,"",{"$f":"_xlfn.IFNA(VLOOKUP($M460,Ataskaita,4,FALSE),IF(AND(O459=\"\",O458<>\"\"),$O$2&\"             \"& SUM($Q$5:Q458)&\" h.\",\"\"))","v":""},""]
[null,null,null,null,null,null,null,null,null,null,null,null,457,null,"",{"$f":"_xlfn.IFNA(VLOOKUP($M461,Ataskaita,4,FALSE),IF(AND(O460=\"\",O459<>\"\"),$O$2&\"             \"& SUM($Q$5:Q459)&\" h.\",\"\"))","v":""},""]
[null,null,null,null,null,null,null,null,null,null,null,null,458,null,"",{"$f":"_xlfn.IFNA(VLOOKUP($M462,Ataskaita,4,FALSE),IF(AND(O461=\"\",O460<>\"\"),$O$2&\"             \"& SUM($Q$5:Q460)&\" h.\",\"\"))","v":""},""]
[null,null,null,null,null,null,null,null,null,null,null,null,459,null,"",{"$f":"_xlfn.IFNA(VLOOKUP($M463,Ataskaita,4,FALSE),IF(AND(O462=\"\",O461<>\"\"),$O$2&\"             \"& SUM($Q$5:Q461)&\" h.\",\"\"))","v":""},""]
[null,null,null,null,null,null,null,null,null,null,null,null,460,null,"",{"$f":"_xlfn.IFNA(VLOOKUP($M464,Ataskaita,4,FALSE),IF(AND(O463=\"\",O462<>\"\"),$O$2&\"             \"& SUM($Q$5:Q462)&\" h.\",\"\"))","v":""},""]
[null,null,null,null,null,null,null,null,null,null,null,null,461,null,"",{"$f":"_xlfn.IFNA(VLOOKUP($M465,Ataskaita,4,FALSE),IF(AND(O464=\"\",O463<>\"\"),$O$2&\"             \"& SUM($Q$5:Q463)&\" h.\",\"\"))","v":""},""]
[null,null,null,null,null,null,null,null,null,null,null,null,462,null,"",{"$f":"_xlfn.IFNA(VLOOKUP($M466,Ataskaita,4,FALSE),IF(AND(O465=\"\",O464<>\"\"),$O$2&\"             \"& SUM($Q$5:Q464)&\" h.\",\"\"))","v":""},""]
[null,null,null,null,null,null,null,null,null,null,null,null,463,null,"",{"$f":"_xlfn.IFNA(VLOOKUP($M467,Ataskaita,4,FALSE),IF(AND(O466=\"\",O465<>\"\"),$O$2&\"             \"& SUM($Q$5:Q465)&\" h.\",\"\"))","v":""},""]
[null,null,null,null,null,null,null,null,null,null,null,null,464,null,"",{"$f":"_xlfn.IFNA(VLOOKUP($M468,Ataskaita,4,FALSE),IF(AND(O467=\"\",O466<>\"\"),$O$2&\"             \"& SUM($Q$5:Q466)&\" h.\",\"\"))","v":""},""]
[null,null,null,null,null,null,null,null,null,null,null,null,465,null,"",{"$f":"_xlfn.IFNA(VLOOKUP($M469,Ataskaita,4,FALSE),IF(AND(O468=\"\",O467<>\"\"),$O$2&\"             \"& SUM($Q$5:Q467)&\" h.\",\"\"))","v":""},""]
[null,null,null,null,null,null,null,null,null,null,null,null,466,null,"",{"$f":"_xlfn.IFNA(VLOOKUP($M470,Ataskaita,4,FALSE),IF(AND(O469=\"\",O468<>\"\"),$O$2&\"             \"& SUM($Q$5:Q468)&\" h.\",\"\"))","v":""},""]
[null,null,null,null,null,null,null,null,null,null,null,null,467,null,"",{"$f":"_xlfn.IFNA(VLOOKUP($M471,Ataskaita,4,FALSE),IF(AND(O470=\"\",O469<>\"\"),$O$2&\"             \"& SUM($Q$5:Q469)&\" h.\",\"\"))","v":""},""]
[null,null,null,null,null,null,null,null,null,null,null,null,468,null,"",{"$f":"_xlfn.IFNA(VLOOKUP($M472,Ataskaita,4,FALSE),IF(AND(O471=\"\",O470<>\"\"),$O$2&\"             \"& SUM($Q$5:Q470)&\" h.\",\"\"))","v":""},""]
[null,null,null,null,null,null,null,null,null,null,null,null,469,null,"",{"$f":"_xlfn.IFNA(VLOOKUP($M473,Ataskaita,4,FALSE),IF(AND(O472=\"\",O471<>\"\"),$O$2&\"             \"& SUM($Q$5:Q471)&\" h.\",\"\"))","v":""},""]
[null,null,null,null,null,null,null,null,null,null,null,null,470,null,"",{"$f":"_xlfn.IFNA(VLOOKUP($M474,Ataskaita,4,FALSE),IF(AND(O473=\"\",O472<>\"\"),$O$2&\"             \"& SUM($Q$5:Q472)&\" h.\",\"\"))","v":""},""]
[null,null,null,null,null,null,null,null,null,null,null,null,471,null,"",{"$f":"_xlfn.IFNA(VLOOKUP($M475,Ataskaita,4,FALSE),IF(AND(O474=\"\",O473<>\"\"),$O$2&\"             \"& SUM($Q$5:Q473)&\" h.\",\"\"))","v":""},""]
[null,null,null,null,null,null,null,null,null,null,null,null,472,null,"",{"$f":"_xlfn.IFNA(VLOOKUP($M476,Ataskaita,4,FALSE),IF(AND(O475=\"\",O474<>\"\"),$O$2&\"             \"& SUM($Q$5:Q474)&\" h.\",\"\"))","v":""},""]
[null,null,null,null,null,null,null,null,null,null,null,null,473,null,"",{"$f":"_xlfn.IFNA(VLOOKUP($M477,Ataskaita,4,FALSE),IF(AND(O476=\"\",O475<>\"\"),$O$2&\"             \"& SUM($Q$5:Q475)&\" h.\",\"\"))","v":""},""]
[null,null,null,null,null,null,null,null,null,null,null,null,474,null,"",{"$f":"_xlfn.IFNA(VLOOKUP($M478,Ataskaita,4,FALSE),IF(AND(O477=\"\",O476<>\"\"),$O$2&\"             \"& SUM($Q$5:Q476)&\" h.\",\"\"))","v":""},""]
[null,null,null,null,null,null,null,null,null,null,null,null,475,null,"",{"$f":"_xlfn.IFNA(VLOOKUP($M479,Ataskaita,4,FALSE),IF(AND(O478=\"\",O477<>\"\"),$O$2&\"             \"& SUM($Q$5:Q477)&\" h.\",\"\"))","v":""},""]
[null,null,null,null,null,null,null,null,null,null,null,null,476,null,"",{"$f":"_xlfn.IFNA(VLOOKUP($M480,Ataskaita,4,FALSE),IF(AND(O479=\"\",O478<>\"\"),$O$2&\"             \"& SUM($Q$5:Q478)&\" h.\",\"\"))","v":""},""]
[null,null,null,null,null,null,null,null,null,null,null,null,477,null,"",{"$f":"_xlfn.IFNA(VLOOKUP($M481,Ataskaita,4,FALSE),IF(AND(O480=\"\",O479<>\"\"),$O$2&\"             \"& SUM($Q$5:Q479)&\" h.\",\"\"))","v":""},""]
[null,null,null,null,null,null,null,null,null,null,null,null,478,null,"",{"$f":"_xlfn.IFNA(VLOOKUP($M482,Ataskaita,4,FALSE),IF(AND(O481=\"\",O480<>\"\"),$O$2&\"             \"& SUM($Q$5:Q480)&\" h.\",\"\"))","v":""},""]
[null,null,null,null,null,null,null,null,null,null,null,null,479,null,"",{"$f":"_xlfn.IFNA(VLOOKUP($M483,Ataskaita,4,FALSE),IF(AND(O482=\"\",O481<>\"\"),$O$2&\"             \"& SUM($Q$5:Q481)&\" h.\",\"\"))","v":""},""]
[null,null,null,null,null,null,null,null,null,null,null,null,480,null,"",{"$f":"_xlfn.IFNA(VLOOKUP($M484,Ataskaita,4,FALSE),IF(AND(O483=\"\",O482<>\"\"),$O$2&\"             \"& SUM($Q$5:Q482)&\" h.\",\"\"))","v":""},""]
[null,null,null,null,null,null,null,null,null,null,null,null,481,null,"",{"$f":"_xlfn.IFNA(VLOOKUP($M485,Ataskaita,4,FALSE),IF(AND(O484=\"\",O483<>\"\"),$O$2&\"             \"& SUM($Q$5:Q483)&\" h.\",\"\"))","v":""},""]
[null,null,null,null,null,null,null,null,null,null,null,null,482,null,"",{"$f":"_xlfn.IFNA(VLOOKUP($M486,Ataskaita,4,FALSE),IF(AND(O485=\"\",O484<>\"\"),$O$2&\"             \"& SUM($Q$5:Q484)&\" h.\",\"\"))","v":""},""]
[null,null,null,null,null,null,null,null,null,null,null,null,483,null,"",{"$f":"_xlfn.IFNA(VLOOKUP($M487,Ataskaita,4,FALSE),IF(AND(O486=\"\",O485<>\"\"),$O$2&\"             \"& SUM($Q$5:Q485)&\" h.\",\"\"))","v":""},""]
[null,null,null,null,null,null,null,null,null,null,null,null,484,null,"",{"$f":"_xlfn.IFNA(VLOOKUP($M488,Ataskaita,4,FALSE),IF(AND(O487=\"\",O486<>\"\"),$O$2&\"             \"& SUM($Q$5:Q486)&\" h.\",\"\"))","v":""},""]
[null,null,null,null,null,null,null,null,null,null,null,null,485,null,"",{"$f":"_xlfn.IFNA(VLOOKUP($M489,Ataskaita,4,FALSE),IF(AND(O488=\"\",O487<>\"\"),$O$2&\"             \"& SUM($Q$5:Q487)&\" h.\",\"\"))","v":""},""]
[null,null,null,null,null,null,null,null,null,null,null,null,486,null,"",{"$f":"_xlfn.IFNA(VLOOKUP($M490,Ataskaita,4,FALSE),IF(AND(O489=\"\",O488<>\"\"),$O$2&\"             \"& SUM($Q$5:Q488)&\" h.\",\"\"))","v":""},""]
[null,null,null,null,null,null,null,null,null,null,null,null,487,null,"",{"$f":"_xlfn.IFNA(VLOOKUP($M491,Ataskaita,4,FALSE),IF(AND(O490=\"\",O489<>\"\"),$O$2&\"             \"& SUM($Q$5:Q489)&\" h.\",\"\"))","v":""},""]
[null,null,null,null,null,null,null,null,null,null,null,null,488,null,"",{"$f":"_xlfn.IFNA(VLOOKUP($M492,Ataskaita,4,FALSE),IF(AND(O491=\"\",O490<>\"\"),$O$2&\"             \"& SUM($Q$5:Q490)&\" h.\",\"\"))","v":""},""]
[null,null,null,null,null,null,null,null,null,null,null,null,489,null,"",{"$f":"_xlfn.IFNA(VLOOKUP($M493,Ataskaita,4,FALSE),IF(AND(O492=\"\",O491<>\"\"),$O$2&\"             \"& SUM($Q$5:Q491)&\" h.\",\"\"))","v":""},""]
[null,null,null,null,null,null,null,null,null,null,null,null,490,null,"",{"$f":"_xlfn.IFNA(VLOOKUP($M494,Ataskaita,4,FALSE),IF(AND(O493=\"\",O492<>\"\"),$O$2&\"             \"& SUM($Q$5:Q492)&\" h.\",\"\"))","v":""},""]
[null,null,null,null,null,null,null,null,null,null,null,null,491,null,"",{"$f":"_xlfn.IFNA(VLOOKUP($M495,Ataskaita,4,FALSE),IF(AND(O494=\"\",O493<>\"\"),$O$2&\"             \"& SUM($Q$5:Q493)&\" h.\",\"\"))","v":""},""]
[null,null,null,null,null,null,null,null,null,null,null,null,492,null,"",{"$f":"_xlfn.IFNA(VLOOKUP($M496,Ataskaita,4,FALSE),IF(AND(O495=\"\",O494<>\"\"),$O$2&\"             \"& SUM($Q$5:Q494)&\" h.\",\"\"))","v":""},""]
[null,null,null,null,null,null,null,null,null,null,null,null,493,null,"",{"$f":"_xlfn.IFNA(VLOOKUP($M497,Ataskaita,4,FALSE),IF(AND(O496=\"\",O495<>\"\"),$O$2&\"             \"& SUM($Q$5:Q495)&\" h.\",\"\"))","v":""},""]
[null,null,null,null,null,null,null,null,null,null,null,null,494,null,"",{"$f":"_xlfn.IFNA(VLOOKUP($M498,Ataskaita,4,FALSE),IF(AND(O497=\"\",O496<>\"\"),$O$2&\"             \"& SUM($Q$5:Q496)&\" h.\",\"\"))","v":""},""]
[null,null,null,null,null,null,null,null,null,null,null,null,495,null,"",{"$f":"_xlfn.IFNA(VLOOKUP($M499,Ataskaita,4,FALSE),IF(AND(O498=\"\",O497<>\"\"),$O$2&\"             \"& SUM($Q$5:Q497)&\" h.\",\"\"))","v":""},""]
[null,null,null,null,null,null,null,null,null,null,null,null,496,null,"",{"$f":"_xlfn.IFNA(VLOOKUP($M500,Ataskaita,4,FALSE),IF(AND(O499=\"\",O498<>\"\"),$O$2&\"             \"& SUM($Q$5:Q498)&\" h.\",\"\"))","v":""},""]

{"sheet":"Duomenys","index":1,"n_rows":51,"n_cols":14,"rows_kept":51,"cut":false,"hidden":false,"merged":[]}
[null,null,null,null,null,1,2,3,4,5,6,7,8,9]
[1,"Butas","Soukankaari 12A - 2  02360 Espoo",1,null,0,51,45,58,53,49,45,50,20]
[2,"Dažų pard.","Pekontie 1, 01900 Nurmijärvi",2,null,51,0,10,8,12,8,14,2,34]
[3,"Dažų gamykl.","Järventaustantie 141, 01810 Nurmijärvi",3,null,45,10,0,17,15,9,7,11,28]
[4,"Motociklai","Vanha Rajamäentie 173, 05200 Nurmijärvi",4,null,58,8,17,0,16,15,18,9,41]
[5,"Namas 89","Ilmolantie 89, 01860 Nurmijärvi",5,null,53,12,15,16,0,19,11,13,37]
[6,"Namas 3","Ruokosuonkuja 3, 04350 Tuusula",6,null,49,8,9,15,19,0,15,8,31]
[7,"Namas 9","Tiiramäentie 9, 01800 Nurmijärvi",7,null,45,14,7,18,11,15,0,15,28]
[8,"Offisas 29","Ilveskaari 29, 01900 Nurmijärvi",8,null,50,2,9,9,13,7,15,0,34]
[9,"8 butai virtuvės Helsinkis","Ruusankatu 2, 00250 Helsinki",9,null,20,34,28,41,37,31,28,34,0]
[10,null,null,10]
[11,null,null,11]
[12,null,null,12]
[13,null,null,13]
[14,null,null,14]
[15,null,null,15]
[16,null,null,16]
[17,null,null,17]
[18,null,null,18]
[19,null,null,19]
[20,null,null,20]
[21,null,null,21]
[22,null,null,22]
[23,null,null,23]
[24,null,null,24]
[25,null,null,25]
[26,null,null,26]
[27,null,null,27]
[28,null,null,28]
[29,null,null,29]
[30,null,null,30]
[31,null,null,31]
[32,null,null,32]
[33,null,null,33]
[34,null,null,34]
[35,null,null,35]
[36,null,null,36]
[37,null,null,37]
[38,null,null,38]
[39,null,null,39]
[40,null,null,40]
[41,null,null,41]
[42,null,null,42]
[43,null,null,43]
[44,null,null,44]
[45,null,null,45]
[46,null,null,46]
[47,null,null,47]
[48,null,null,48]
[49,null,null,49]
[50,null,null,50]

{"sheet":"Archyvas","index":2,"n_rows":331,"n_cols":82,"rows_kept":331,"cut":false,"hidden":false,"merged":[]}
["Data","Objektas","Adresas",null,null,null,null,null,null,null,null,null,null,null,null,null,null,null,null,null,null,null,null,null,null,null,null,null,null,null,null,null,null,null,null,null,null,null,null,null,null,null,null,null,null,null,null,null,null,null,null,null,null,null,null,null,null,null,null,null,null,null,null,"Butas"]
["2019-01-07","Butas","Soukankaari 12A - 2  02360 Espoo",null,51,"Pekontie 1, 01900 Nurmijärvi","Dažų pard.","Pekontie 1, 01900 Nurmijärvi",2,12,"Ilmolantie 89, 01860 Nurmijärvi","Namas 89","Ilmolantie 89, 01860 Nurmijärvi",1,15,"Järventaustantie 141, 01810 Nurmijärvi","Dažų gamykl.","Järventaustantie 141, 01810 Nurmijärvi",1,9,"Ilveskaari 29, 01900 Nurmijärvi","Offisas 29","Ilveskaari 29, 01900 Nurmijärvi",1,50,"Soukankaari 12A - 2  02360 Espoo","Butas","Soukankaari 12A - 2  02360 Espoo",null,0,"-",null,"-",null,0,"-",null,"-",null,0,"-",null,"-",null,0,"-",null,"-",null,0,"-","-",null,5,137,null,null,{"$f":"IF(BG2=\"\",\"\",MAX(BF$1:BF1)+1)","v":""},{"$f":"IF(TEXT(Kortelė!$B$26,\"mm\")=IF(A2=\"\",\"\",TEXT(A2,\"mm\")),A2,\"\")","v":""},null,{"$f":"IFERROR(INDEX($BG$2:$BG$500,MATCH(ROW()-ROW($A$1),$BF$2:$BF$500,0)),\"\")","v":"2019-02-02"},{"$f":"_xlfn.IFNA(IF(BL2=\"\",\"\",MAX(BJ$1:BJ1)+1),\"\")","v":""},{"$f":"$BI$2","v":"2019-02-02"},{"$f":"IF(IF(IF(VLOOKUP($BK2,Archyvas,2,FALSE)=$BL$1,\"\",VLOOKUP($BK2,Archyvas,5,FALSE))=0,\"\",IF(VLOOKUP($BK2,Archyvas,2,FALSE)=$BL$1,\"\",VLOOKUP($BK2,Archyvas,5,FALSE)))=\"\",\"\",IF(IF(VLOOKUP($BK2,Archyvas,2,FALSE)=$BL$1,\"\",VLOOKUP($BK2,Archyvas,2,FALSE))=0,\"\",IF(VLOOKUP($BK2,Archyvas,2,FALSE)=$BL$1,\"\",VLOOKUP($BK2,Archyvas,2,FALSE))))","v":""},{"$f":"IF(IF(VLOOKUP($BK2,Archyvas,2,FALSE)=$BL$1,\"\",VLOOKUP($BK2,Archyvas,3,FALSE))=0,\"\",IF(VLOOKUP($BK2,Archyvas,2,FALSE)=$BL$1,\"\",VLOOKUP($BK2,Archyvas,3,FALSE)))","v":""},{"$f":"IF(IF(VLOOKUP($BK2,Archyvas,2,FALSE)=$BL$1,\"\",VLOOKUP($BK2,Archyvas,4,FALSE))=0,\"\",IF(VLOOKUP($BK2,Archyvas,2,FALSE)=$BL$1,\"\",VLOOKUP($BK2,Archyvas,4,FALSE)))","v":""},{"$f":"IF(IF(VLOOKUP($BK2,Archyvas,2,FALSE)=$BL$1,\"\",VLOOKUP($BK2,Archyvas,5,FALSE))=0,\"\",IF(VLOOKUP($BK2,Archyvas,2,FALSE)=$BL$1,\"\",VLOOKUP($BK2,Archyvas,5,FALSE)))","v":""},{"$f":"IF(IF(VLOOKUP($BK2,Archyvas,2,FALSE)=$BL$1,\"\",VLOOKUP($BK2,Archyvas,6,FALSE))=0,\"\",IF(VLOOKUP($BK2,Archyvas,2,FALSE)=$BL$1,\"\",VLOOKUP($BK2,Archyvas,6,FALSE)))","v":""},null,{"$f":"_xlfn.IFNA(IF(BS2=\"\",\"\",MAX(BR$1:BR1)+1),\"\")","v":1},{"$f":"IFERROR(INDEX(BK$2:BK$330,MATCH(ROW()-ROW($BJ$1),$BJ$2:$BJ$330,0)),\"\")","v":"2019-02-02"},{"$f":"IFERROR(INDEX(BL$2:BL$330,MATCH(ROW()-ROW($BJ$1),$BJ$2:$BJ$330,0)),\"\")","v":"Dažų pard."},{"$f":"IFERROR(INDEX(BM$2:BM$330,MATCH(ROW()-ROW($BJ$1),$BJ$2:$BJ$330,0)),\"\")","v":"Pekontie 1, 01900 Nurmijärvi"},{"$f":"IFERROR(INDEX(BN$2:BN$330,MATCH(ROW()-ROW($BJ$1),$BJ$2:$BJ$330,0)),\"\")","v":2},{"$f":"IFERROR(INDEX(BO$2:BO$330,MATCH(ROW()-ROW($BJ$1),$BJ$2:$BJ$330,0)),\"\")","v":14},{"$f":"IFERROR(INDEX(BP$2:BP$330,MATCH(ROW()-ROW($BJ$1),$BJ$2:$BJ$330,0)),\"\")","v":"Tiiramäentie 9, 01800 Nurmijärvi"},null,null,null,null,null,"Yhteensä:"]
["2019-01-14","Butas","Soukankaari 12A - 2  02360 Espoo",null,49,"Ruokosuonkuja 3, 04350 Tuusula","Namas 3","Ruokosuonkuja 3, 04350 Tuusula",1,15,"Tiiramäentie 9, 01800 Nurmijärvi","Namas 9","Tiiramäentie 9, 01800 Nurmijärvi",1,7,"Järventaustantie 141, 01810 Nurmijärvi","Dažų gamykl.","Järventaustantie 141, 01810 Nurmijärvi",1,45,"Soukankaari 12A - 2  02360 Espoo","Butas","Soukankaari 12A - 2  02360 Espoo",null,0,"-",null,"-",null,0,"-",null,"-",null,0,"-",null,"-",null,0,"-",null,"-",null,0,"-",null,"-",null,0,"-","-",null,3,116,null,null,{"$f":"IF(BG3=\"\",\"\",MAX(BF$1:BF2)+1)","v":""},{"$f":"IF(TEXT(Kortelė!$B$26,\"mm\")=IF(A3=\"\",\"\",TEXT(A3,\"mm\")),A3,\"\")","v":""},null,"2019-02-03",{"$f":"_xlfn.IFNA(IF(BL3=\"\",\"\",MAX(BJ$1:BJ2)+1),\"\")","v":1},{"$f":"BK2","v":"2019-02-02"},{"$f":"IF(IF(IF(VLOOKUP($BK3,Archyvas,7,FALSE)=$BL$1,\"\",VLOOKUP($BK3,Archyvas,10,FALSE))=0,\"\",IF(VLOOKUP($BK3,Archyvas,7,FALSE)=$BL$1,\"\",VLOOKUP($BK3,Archyvas,10,FALSE)))=\"\",\"\",IF(IF(VLOOKUP($BK3,Archyvas,7,FALSE)=$BL$1,\"\",VLOOKUP($BK3,Archyvas,7,FALSE))=0,\"\",IF(VLOOKUP($BK3,Archyvas,7,FALSE)=$BL$1,\"\",VLOOKUP($BK3,Archyvas,7,FALSE))))","v":"Dažų pard."},{"$f":"IF(IF(VLOOKUP($BK3,Archyvas,7,FALSE)=$BL$1,\"\",VLOOKUP($BK3,Archyvas,8,FALSE))=0,\"\",IF(VLOOKUP($BK3,Archyvas,7,FALSE)=$BL$1,\"\",VLOOKUP($BK3,Archyvas,8,FALSE)))","v":"Pekontie 1, 01900 Nurmijärvi"},{"$f":"IF(IF(VLOOKUP($BK3,Archyvas,7,FALSE)=$BL$1,\"\",VLOOKUP($BK3,Archyvas,9,FALSE))=0,\"\",IF(VLOOKUP($BK3,Archyvas,7,FALSE)=$BL$1,\"\",VLOOKUP($BK3,Archyvas,9,FALSE)))","v":2},{"$f":"IF(IF(VLOOKUP($BK3,Archyvas,7,FALSE)=$BL$1,\"\",VLOOKUP($BK3,Archyvas,10,FALSE))=0,\"\",IF(VLOOKUP($BK3,Archyvas,7,FALSE)=$BL$1,\"\",VLOOKUP($BK3,Archyvas,10,FALSE)))","v":14},{"$f":"IF(IF(VLOOKUP($BK3,Archyvas,7,FALSE)=$BL$1,\"\",VLOOKUP($BK3,Archyvas,11,FALSE))=0,\"\",IF(VLOOKUP($BK3,Archyvas,7,FALSE)=$BL$1,\"\",VLOOKUP($BK3,Archyvas,11,FALSE)))","v":"Tiiramäentie 9, 01800 Nurmijärvi"},null,{"$f":"_xlfn.IFNA(IF(BS3=\"\",\"\",MAX(BR$1:BR2)+1),\"\")","v":2},"2019-02-02","Namas 9","Tiiramäentie 9, 01800 Nurmijärvi",4,11,"Ilmolantie 89, 01860 Nurmijärvi",null,null,null,null,null,"Viso:"]
["2019-01-15","Butas","Soukankaari 12A - 2  02360 Espoo",null,58,"Vanha Rajamäentie 173, 05200 Nurmijärvi","Motociklai","Vanha Rajamäentie 173, 05200 Nurmijärvi",3,9,"Ilveskaari 29, 01900 Nurmijärvi","Offisas 29","Ilveskaari 29, 01900 Nurmijärvi",2,50,"Soukankaari 12A - 2  02360 Espoo","Butas","Soukankaari 12A - 2  02360 Espoo",null,0,"-",null,"-",null,0,"-",null,"-",null,0,"-",null,"-",null,0,"-",null,"-",null,0,"-",null,"-",null,0,"-",null,"-",null,0,"-","-",null,5,117,null,null,{"$f":"IF(BG4=\"\",\"\",MAX(BF$1:BF3)+1)","v":""},{"$f":"IF(TEXT(Kortelė!$B$26,\"mm\")=IF(A4=\"\",\"\",TEXT(A4,\"mm\")),A4,\"\")","v":""},null,"2019-02-05",{"$f":"_xlfn.IFNA(IF(BL4=\"\",\"\",MAX(BJ$1:BJ3)+1),\"\")","v":2},"2019-02-02",{"$f":"IF(IF(IF(VLOOKUP($BK4,Archyvas,12,FALSE)=$BL$1,\"\",VLOOKUP($BK4,Archyvas,15,FALSE))=0,\"\",IF(VLOOKUP($BK4,Archyvas,12,FALSE)=$BL$1,\"\",VLOOKUP($BK4,Archyvas,15,FALSE)))=\"\",\"\",IF(IF(VLOOKUP($BK4,Archyvas,12,FALSE)=$BL$1,\"\",VLOOKUP($BK4,Archyvas,12,FALSE))=0,\"\",IF(VLOOKUP($BK4,Archyvas,12,FALSE)=$BL$1,\"\",VLOOKUP($BK4,Archyvas,12,FALSE))))","v":"Namas 9"},{"$f":"IF(IF(VLOOKUP($BK4,Archyvas,12,FALSE)=$BL$1,\"\",VLOOKUP($BK4,Archyvas,13,FALSE))=0,\"\",IF(VLOOKUP($BK4,Archyvas,12,FALSE)=$BL$1,\"\",VLOOKUP($BK4,Archyvas,13,FALSE)))","v":"Tiiramäentie 9, 01800 Nurmijärvi"},{"$f":"IF(IF(VLOOKUP($BK4,Archyvas,12,FALSE)=$BL$1,\"\",VLOOKUP($BK4,Archyvas,14,FALSE))=0,\"\",IF(VLOOKUP($BK4,Archyvas,12,FALSE)=$BL$1,\"\",VLOOKUP($BK4,Archyvas,14,FALSE)))","v":4},{"$f":"IF(IF(VLOOKUP($BK4,Archyvas,12,FALSE)=$BL$1,\"\",VLOOKUP($BK4,Archyvas,15,FALSE))=0,\"\",IF(VLOOKUP($BK4,Archyvas,12,FALSE)=$BL$1,\"\",VLOOKUP($BK4,Archyvas,15,FALSE)))","v":11},{"$f":"IF(IF(VLOOKUP($BK4,Archyvas,12,FALSE)=$BL$1,\"\",VLOOKUP($BK4,Archyvas,16,FALSE))=0,\"\",IF(VLOOKUP($BK4,Archyvas,12,FALSE)=$BL$1,\"\",VLOOKUP($BK4,Archyvas,16,FALSE)))","v":"Ilmolantie 89, 01860 Nurmijärvi"},null,{"$f":"_xlfn.IFNA(IF(BS4=\"\",\"\",MAX(BR$1:BR3)+1),\"\")","v":3},"2019-02-02","Namas 89","Ilmolantie 89, 01860 Nurmijärvi",2,11,"Tiiramäentie 9, 01800 Nurmijärvi",null,null,null,null,null,"Итого:"]
["2019-01-21","Butas","Soukankaari 12A - 2  02360 Espoo",null,51,"Pekontie 1, 01900 Nurmijärvi","Dažų pard.","Pekontie 1, 01900 Nurmijärvi",4,12,"Ilmolantie 89, 01860 Nurmijärvi","Namas 89","Ilmolantie 89, 01860 Nurmijärvi",2,15,"Järventaustantie 141, 01810 Nurmijärvi","Dažų gamykl.","Järventaustantie 141, 01810 Nurmijärvi",2,9,"Ilveskaari 29, 01900 Nurmijärvi","Offisas 29","Ilveskaari 29, 01900 Nurmijärvi",2,50,"Soukankaari 12A - 2  02360 Espoo","Butas","Soukankaari 12A - 2  02360 Espoo",null,0,"-",null,"-",null,0,"-",null,"-",null,0,"-",null,"-",null,0,"-",null,"-",null,0,"-","-",null,10,137,null,null,{"$f":"IF(BG5=\"\",\"\",MAX(BF$1:BF4)+1)","v":""},{"$f":"IF(TEXT(Kortelė!$B$26,\"mm\")=IF(A5=\"\",\"\",TEXT(A5,\"mm\")),A5,\"\")","v":""},null,"",{"$f":"_xlfn.IFNA(IF(BL5=\"\",\"\",MAX(BJ$1:BJ4)+1),\"\")","v":""},"2019-02-02",{"$f":"IF(IF(IF(VLOOKUP($BK5,Archyvas,17,FALSE)=$BL$1,\"\",VLOOKUP($BK5,Archyvas,20,FALSE))=0,\"\",IF(VLOOKUP($BK5,Archyvas,17,FALSE)=$BL$1,\"\",VLOOKUP($BK5,Archyvas,20,FALSE)))=\"\",\"\",IF(IF(VLOOKUP($BK5,Archyvas,17,FALSE)=$BL$1,\"\",VLOOKUP($BK5,Archyvas,17,FALSE))=0,\"\",IF(VLOOKUP($BK5,Archyvas,17,FALSE)=$BL$1,\"\",VLOOKUP($BK5,Archyvas,17,FALSE))))","v":""},{"$f":"IF(IF(VLOOKUP($BK5,Archyvas,17,FALSE)=$BL$1,\"\",VLOOKUP($BK5,Archyvas,18,FALSE))=0,\"\",IF(VLOOKUP($BK5,Archyvas,17,FALSE)=$BL$1,\"\",VLOOKUP($BK5,Archyvas,18,FALSE)))","v":"Ilmolantie 89, 01860 Nurmijärvi"},{"$f":"IF(IF(VLOOKUP($BK5,Archyvas,17,FALSE)=$BL$1,\"\",VLOOKUP($BK5,Archyvas,19,FALSE))=0,\"\",IF(VLOOKUP($BK5,Archyvas,17,FALSE)=$BL$1,\"\",VLOOKUP($BK5,Archyvas,19,FALSE)))","v":1},{"$f":"IF(IF(VLOOKUP($BK5,Archyvas,17,FALSE)=$BL$1,\"\",VLOOKUP($BK5,Archyvas,20,FALSE))=0,\"\",IF(VLOOKUP($BK5,Archyvas,17,FALSE)=$BL$1,\"\",VLOOKUP($BK5,Archyvas,20,FALSE)))","v":""},{"$f":"IF(IF(VLOOKUP($BK5,Archyvas,17,FALSE)=$BL$1,\"\",VLOOKUP($BK5,Archyvas,21,FALSE))=0,\"\",IF(VLOOKUP($BK5,Archyvas,17,FALSE)=$BL$1,\"\",VLOOKUP($BK5,Archyvas,21,FALSE)))","v":"Ilmolantie 89, 01860 Nurmijärvi"},null,{"$f":"_xlfn.IFNA(IF(BS5=\"\",\"\",MAX(BR$1:BR4)+1),\"\")","v":4},"2019-02-02","Namas 9","Tiiramäentie 9, 01800 Nurmijärvi",3,14,"Pekontie 1, 01900 Nurmijärvi",null,null,null,null,null,"In total:"]
["2019-01-22","Butas","Soukankaari 12A - 2  02360 Espoo",null,20,"Ruusankatu 2, 00250 Helsinki","8 butai virtuvės Helsinkis","Ruusankatu 2, 00250 Helsinki",8,20,"Soukankaari 12A - 2  02360 Espoo","Butas","Soukankaari 12A - 2  02360 Espoo",null,0,"-",null,"-",null,0,"-",null,"-",null,0,"-",null,"-",null,0,"-",null,"-",null,0,"-",null,"-",null,0,"-",null,"-",null,0,"-",null,"-",null,0,"-","-",null,8,40,null,null,{"$f":"IF(BG6=\"\",\"\",MAX(BF$1:BF5)+1)","v":""},{"$f":"IF(TEXT(Kortelė!$B$26,\"mm\")=IF(A6=\"\",\"\",TEXT(A6,\"mm\")),A6,\"\")","v":""},null,"",{"$f":"_xlfn.IFNA(IF(BL6=\"\",\"\",MAX(BJ$1:BJ5)+1),\"\")","v":3},"2019-02-02",{"$f":"IF(IF(IF(VLOOKUP($BK6,Archyvas,22,FALSE)=$BL$1,\"\",VLOOKUP($BK6,Archyvas,25,FALSE))=0,\"\",IF(VLOOKUP($BK6,Archyvas,22,FALSE)=$BL$1,\"\",VLOOKUP($BK6,Archyvas,25,FALSE)))=\"\",\"\",IF(IF(VLOOKUP($BK6,Archyvas,22,FALSE)=$BL$1,\"\",VLOOKUP($BK6,Archyvas,22,FALSE))=0,\"\",IF(VLOOKUP($BK6,Archyvas,22,FALSE)=$BL$1,\"\",VLOOKUP($BK6,Archyvas,22,FALSE))))","v":"Namas 89"},{"$f":"IF(IF(VLOOKUP($BK6,Archyvas,22,FALSE)=$BL$1,\"\",VLOOKUP($BK6,Archyvas,23,FALSE))=0,\"\",IF(VLOOKUP($BK6,Archyvas,22,FALSE)=$BL$1,\"\",VLOOKUP($BK6,Archyvas,23,FALSE)))","v":"Ilmolantie 89, 01860 Nurmijärvi"},{"$f":"IF(IF(VLOOKUP($BK6,Archyvas,22,FALSE)=$BL$1,\"\",VLOOKUP($BK6,Archyvas,24,FALSE))=0,\"\",IF(VLOOKUP($BK6,Archyvas,22,FALSE)=$BL$1,\"\",VLOOKUP($BK6,Archyvas,24,FALSE)))","v":2},{"$f":"IF(IF(VLOOKUP($BK6,Archyvas,22,FALSE)=$BL$1,\"\",VLOOKUP($BK6,Archyvas,25,FALSE))=0,\"\",IF(VLOOKUP($BK6,Archyvas,22,FALSE)=$BL$1,\"\",VLOOKUP($BK6,Archyvas,25,FALSE)))","v":11},{"$f":"IF(IF(VLOOKUP($BK6,Archyvas,22,FALSE)=$BL$1,\"\",VLOOKUP($BK6,Archyvas,26,FALSE))=0,\"\",IF(VLOOKUP($BK6,Archyvas,22,FALSE)=$BL$1,\"\",VLOOKUP($BK6,Archyvas,26,FALSE)))","v":"Tiiramäentie 9, 01800 Nurmijärvi"},null,{"$f":"_xlfn.IFNA(IF(BS6=\"\",\"\",MAX(BR$1:BR5)+1),\"\")","v":5},"2019-02-02","Dažų pard.","Pekontie 1, 01900 Nurmijärvi",4,51,"Soukankaari 12A - 2  02360 Espoo"]
["2019-01-28","Butas","Soukankaari 12A - 2  02360 Espoo",null,49,"Ruokosuonkuja 3, 04350 Tuusula","Namas 3","Ruokosuonkuja 3, 04350 Tuusula",2,15,"Tiiramäentie 9, 01800 Nurmijärvi","Namas 9","Tiiramäentie 9, 01800 Nurmijärvi",2,7,"Järventaustantie 141, 01810 Nurmijärvi","Dažų gamykl.","Järventaustantie 141, 01810 Nurmijärvi",2,9,"Ilveskaari 29, 01900 Nurmijärvi","Offisas 29","Ilveskaari 29, 01900 Nurmijärvi",2,50,"Soukankaari 12A - 2  02360 Espoo","Butas","Soukankaari 12A - 2  02360 Espoo",null,0,"-",null,"-",null,0,"-",null,"-",null,0,"-",null,"-",null,0,"-",null,"-",null,0,"-","-",null,8,130,null,null,{"$f":"IF(BG7=\"\",\"\",MAX(BF$1:BF6)+1)","v":""},{"$f":"IF(TEXT(Kortelė!$B$26,\"mm\")=IF(A7=\"\",\"\",TEXT(A7,\"mm\")),A7,\"\")","v":""},null,"",{"$f":"_xlfn.IFNA(IF(BL7=\"\",\"\",MAX(BJ$1:BJ6)+1),\"\")","v":4},"2019-02-02",{"$f":"IF(IF(IF(VLOOKUP($BK7,Archyvas,27,FALSE)=$BL$1,\"\",VLOOKUP($BK7,Archyvas,30,FALSE))=0,\"\",IF(VLOOKUP($BK7,Archyvas,27,FALSE)=$BL$1,\"\",VLOOKUP($BK7,Archyvas,30,FALSE)))=\"\",\"\",IF(IF(VLOOKUP($BK7,Archyvas,27,FALSE)=$BL$1,\"\",VLOOKUP($BK7,Archyvas,27,FALSE))=0,\"\",IF(VLOOKUP($BK7,Archyvas,27,FALSE)=$BL$1,\"\",VLOOKUP($BK7,Archyvas,27,FALSE))))","v":"Namas 9"},{"$f":"IF(IF(VLOOKUP($BK7,Archyvas,27,FALSE)=$BL$1,\"\",VLOOKUP($BK7,Archyvas,28,FALSE))=0,\"\",IF(VLOOKUP($BK7,Archyvas,27,FALSE)=$BL$1,\"\",VLOOKUP($BK7,Archyvas,28,FALSE)))","v":"Tiiramäentie 9, 01800 Nurmijärvi"},{"$f":"IF(IF(VLOOKUP($BK7,Archyvas,27,FALSE)=$BL$1,\"\",VLOOKUP($BK7,Archyvas,29,FALSE))=0,\"\",IF(VLOOKUP($BK7,Archyvas,27,FALSE)=$BL$1,\"\",VLOOKUP($BK7,Archyvas,29,FALSE)))","v":3},{"$f":"IF(IF(VLOOKUP($BK7,Archyvas,27,FALSE)=$BL$1,\"\",VLOOKUP($BK7,Archyvas,30,FALSE))=0,\"\",IF(VLOOKUP($BK7,Archyvas,27,FALSE)=$BL$1,\"\",VLOOKUP($BK7,Archyvas,30,FALSE)))","v":14},{"$f":"IF(IF(VLOOKUP($BK7,Archyvas,27,FALSE)=$BL$1,\"\",VLOOKUP($BK7,Archyvas,31,FALSE))=0,\"\",IF(VLOOKUP($BK7,Archyvas,27,FALSE)=$BL$1,\"\",VLOOKUP($BK7,Archyvas,31,FALSE)))","v":"Pekontie 1, 01900 Nurmijärvi"},null,{"$f":"_xlfn.IFNA(IF(BS7=\"\",\"\",MAX(BR$1:BR6)+1),\"\")","v":6},"2019-02-03","Dažų pard.","Pekontie 1, 01900 Nurmijärvi",2,8,"Vanha Rajamäentie 173, 05200 Nurmijärvi"]
["2019-01-29","Butas","Soukankaari 12A - 2  02360 Espoo",null,20,"Ruusankatu 2, 00250 Helsinki","8 butai virtuvės Helsinkis","Ruusankatu 2, 00250 Helsinki",8,20,"Soukankaari 12A - 2  02360 Espoo","Butas","Soukankaari 12A - 2  02360 Espoo",null,0,"-",null,"-",null,0,"-",null,"-",null,0,"-",null,"-",null,0,"-",null,"-",null,0,"-",null,"-",null,0,"-",null,"-",null,0,"-",null,"-",null,0,"-","-",null,8,40,null,null,{"$f":"IF(BG8=\"\",\"\",MAX(BF$1:BF7)+1)","v":""},{"$f":"IF(TEXT(Kortelė!$B$26,\"mm\")=IF(A8=\"\",\"\",TEXT(A8,\"mm\")),A8,\"\")","v":""},null,"",{"$f":"_xlfn.IFNA(IF(BL8=\"\",\"\",MAX(BJ$1:BJ7)+1),\"\")","v":5},"2019-02-02",{"$f":"IF(IF(IF(VLOOKUP($BK8,Archyvas,32,FALSE)=$BL$1,\"\",VLOOKUP($BK8,Archyvas,35,FALSE))=0,\"\",IF(VLOOKUP($BK8,Archyvas,32,FALSE)=$BL$1,\"\",VLOOKUP($BK8,Archyvas,35,FALSE)))=\"\",\"\",IF(IF(VLOOKUP($BK8,Archyvas,32,FALSE)=$BL$1,\"\",VLOOKUP($BK8,Archyvas,32,FALSE))=0,\"\",IF(VLOOKUP($BK8,Archyvas,32,FALSE)=$BL$1,\"\",VLOOKUP($BK8,Archyvas,32,FALSE))))","v":"Dažų pard."},{"$f":"IF(IF(VLOOKUP($BK8,Archyvas,32,FALSE)=$BL$1,\"\",VLOOKUP($BK8,Archyvas,33,FALSE))=0,\"\",IF(VLOOKUP($BK8,Archyvas,32,FALSE)=$BL$1,\"\",VLOOKUP($BK8,Archyvas,33,FALSE)))","v":"Pekontie 1, 01900 Nurmijärvi"},{"$f":"IF(IF(VLOOKUP($BK8,Archyvas,32,FALSE)=$BL$1,\"\",VLOOKUP($BK8,Archyvas,34,FALSE))=0,\"\",IF(VLOOKUP($BK8,Archyvas,32,FALSE)=$BL$1,\"\",VLOOKUP($BK8,Archyvas,34,FALSE)))","v":4},{"$f":"IF(IF(VLOOKUP($BK8,Archyvas,32,FALSE)=$BL$1,\"\",VLOOKUP($BK8,Archyvas,35,FALSE))=0,\"\",IF(VLOOKUP($BK8,Archyvas,32,FALSE)=$BL$1,\"\",VLOOKUP($BK8,Archyvas,35,FALSE)))","v":51},{"$f":"IF(IF(VLOOKUP($BK8,Archyvas,32,FALSE)=$BL$1,\"\",VLOOKUP($BK8,Archyvas,36,FALSE))=0,\"\",IF(VLOOKUP($BK8,Archyvas,32,FALSE)=$BL$1,\"\",VLOOKUP($BK8,Archyvas,36,FALSE)))","v":"Soukankaari 12A - 2  02360 Espoo"},null,{"$f":"_xlfn.IFNA(IF(BS8=\"\",\"\",MAX(BR$1:BR7)+1),\"\")","v":7},"2019-02-03","Motociklai","Vanha Rajamäentie 173, 05200 Nurmijärvi",3,8,"Pekontie 1, 01900 Nurmijärvi"]
["2019-02-02","Butas","Soukankaari 12A - 2  02360 Espoo",null,51,"Pekontie 1, 01900 Nurmijärvi","Dažų pard.","Pekontie 1, 01900 Nurmijärvi",2,14,"Tiiramäentie 9, 01800 Nurmijärvi","Namas 9","Tiiramäentie 9, 01800 Nurmijärvi",4,11,"Ilmolantie 89, 01860 Nurmijärvi","Namas 89","Ilmolantie 89, 01860 Nurmijärvi",1,0,"Ilmolantie 89, 01860 Nurmijärvi","Namas 89","Ilmolantie 89, 01860 Nurmijärvi",2,11,"Tiiramäentie 9, 01800 Nurmijärvi","Namas 9","Tiiramäentie 9, 01800 Nurmijärvi",3,14,"Pekontie 1, 01900 Nurmijärvi","Dažų pard.","Pekontie 1, 01900 Nurmijärvi",4,51,"Soukankaari 12A - 2  02360 Espoo","Butas","Soukankaari 12A - 2  02360 Espoo",null,0,"-",null,"-",null,0,"-",null,"-",null,0,"-","-",null,16,152,null,null,{"$f":"IF(BG9=\"\",\"\",MAX(BF$1:BF8)+1)","v":1},{"$f":"IF(TEXT(Kortelė!$B$26,\"mm\")=IF(A9=\"\",\"\",TEXT(A9,\"mm\")),A9,\"\")","v":"2019-02-02"},null,"",{"$f":"_xlfn.IFNA(IF(BL9=\"\",\"\",MAX(BJ$1:BJ8)+1),\"\")","v":""},"2019-02-02",{"$f":"IF(IF(IF(VLOOKUP($BK9,Archyvas,37,FALSE)=$BL$1,\"\",VLOOKUP($BK9,Archyvas,40,FALSE))=0,\"\",IF(VLOOKUP($BK9,Archyvas,37,FALSE)=$BL$1,\"\",VLOOKUP($BK9,Archyvas,40,FALSE)))=\"\",\"\",IF(IF(VLOOKUP($BK9,Archyvas,37,FALSE)=$BL$1,\"\",VLOOKUP($BK9,Archyvas,37,FALSE))=0,\"\",IF(VLOOKUP($BK9,Archyvas,37,FALSE)=$BL$1,\"\",VLOOKUP($BK9,Archyvas,37,FALSE))))","v":""},{"$f":"IF(IF(VLOOKUP($BK9,Archyvas,37,FALSE)=$BL$1,\"\",VLOOKUP($BK9,Archyvas,38,FALSE))=0,\"\",IF(VLOOKUP($BK9,Archyvas,37,FALSE)=$BL$1,\"\",VLOOKUP($BK9,Archyvas,38,FALSE)))","v":""},{"$f":"IF(IF(VLOOKUP($BK9,Archyvas,37,FALSE)=$BL$1,\"\",VLOOKUP($BK9,Archyvas,39,FALSE))=0,\"\",IF(VLOOKUP($BK9,Archyvas,37,FALSE)=$BL$1,\"\",VLOOKUP($BK9,Archyvas,39,FALSE)))","v":""},{"$f":"IF(IF(VLOOKUP($BK9,Archyvas,37,FALSE)=$BL$1,\"\",VLOOKUP($BK9,Archyvas,40,FALSE))=0,\"\",IF(VLOOKUP($BK9,Archyvas,37,FALSE)=$BL$1,\"\",VLOOKUP($BK9,Archyvas,40,FALSE)))","v":""},{"$f":"IF(IF(VLOOKUP($BK9,Archyvas,37,FALSE)=$BL$1,\"\",VLOOKUP($BK9,Archyvas,41,FALSE))=0,\"\",IF(VLOOKUP($BK9,Archyvas,37,FALSE)=$BL$1,\"\",VLOOKUP($BK9,Archyvas,41,FALSE)))","v":""},null,{"$f":"_xlfn.IFNA(IF(BS9=\"\",\"\",MAX(BR$1:BR8)+1),\"\")","v":8},"2019-02-03","Dažų pard.","Pekontie 1, 01900 Nurmijärvi",2,8,"Ruokosuonkuja 3, 04350 Tuusula"]
["2019-02-03","Butas","Soukankaari 12A - 2  02360 Espoo",null,51,"Pekontie 1, 01900 Nurmijärvi","Dažų pard.","Pekontie 1, 01900 Nurmijärvi",2,8,"Vanha Rajamäentie 173, 05200 Nurmijärvi","Motociklai","Vanha Rajamäentie 173, 05200 Nurmijärvi",3,8,"Pekontie 1, 01900 Nurmijärvi","Dažų pard.","Pekontie 1, 01900 Nurmijärvi",2,8,"Ruokosuonkuja 3, 04350 Tuusula","Namas 3","Ruokosuonkuja 3, 04350 Tuusula",1,15,"Tiiramäentie 9, 01800 Nurmijärvi","Namas 9","Tiiramäentie 9, 01800 Nurmijärvi",2,7,"Järventaustantie 141, 01810 Nurmijärvi","Dažų gamykl.","Järventaustantie 141, 01810 Nurmijärvi",4,45,"Soukankaari 12A - 2  02360 Espoo","Butas","Soukankaari 12A - 2  02360 Espoo",null,0,"-",null,"-",null,0,"-",null,"-",null,0,"-","-",null,14,142,null,null,{"$f":"IF(BG10=\"\",\"\",MAX(BF$1:BF9)+1)","v":2},{"$f":"IF(TEXT(Kortelė!$B$26,\"mm\")=IF(A10=\"\",\"\",TEXT(A10,\"mm\")),A10,\"\")","v":"2019-02-03"},null,"",{"$f":"_xlfn.IFNA(IF(BL10=\"\",\"\",MAX(BJ$1:BJ9)+1),\"\")","v":""},"2019-02-02",{"$f":"IF(IF(IF(VLOOKUP($BK10,Archyvas,42,FALSE)=$BL$1,\"\",VLOOKUP($BK10,Archyvas,45,FALSE))=0,\"\",IF(VLOOKUP($BK10,Archyvas,42,FALSE)=$BL$1,\"\",VLOOKUP($BK10,Archyvas,45,FALSE)))=\"\",\"\",IF(IF(VLOOKUP($BK10,Archyvas,42,FALSE)=$BL$1,\"\",VLOOKUP($BK10,Archyvas,42,FALSE))=0,\"\",IF(VLOOKUP($BK10,Archyvas,42,FALSE)=$BL$1,\"\",VLOOKUP($BK10,Archyvas,42,FALSE))))","v":""},{"$f":"IF(IF(VLOOKUP($BK10,Archyvas,42,FALSE)=$BL$1,\"\",VLOOKUP($BK10,Archyvas,43,FALSE))=0,\"\",IF(VLOOKUP($BK10,Archyvas,42,FALSE)=$BL$1,\"\",VLOOKUP($BK10,Archyvas,43,FALSE)))","v":"-"},{"$f":"IF(IF(VLOOKUP($BK10,Archyvas,42,FALSE)=$BL$1,\"\",VLOOKUP($BK10,Archyvas,44,FALSE))=0,\"\",IF(VLOOKUP($BK10,Archyvas,42,FALSE)=$BL$1,\"\",VLOOKUP($BK10,Archyvas,44,FALSE)))","v":""},{"$f":"IF(IF(VLOOKUP($BK10,Archyvas,42,FALSE)=$BL$1,\"\",VLOOKUP($BK10,Archyvas,45,FALSE))=0,\"\",IF(VLOOKUP($BK10,Archyvas,42,FALSE)=$BL$1,\"\",VLOOKUP($BK10,Archyvas,45,FALSE)))","v":""},{"$f":"IF(IF(VLOOKUP($BK10,Archyvas,42,FALSE)=$BL$1,\"\",VLOOKUP($BK10,Archyvas,46,FALSE))=0,\"\",IF(VLOOKUP($BK10,Archyvas,42,FALSE)=$BL$1,\"\",VLOOKUP($BK10,Archyvas,46,FALSE)))","v":"-"},null,{"$f":"_xlfn.IFNA(IF(BS10=\"\",\"\",MAX(BR$1:BR9)+1),\"\")","v":9},"2019-02-03","Namas 3","Ruokosuonkuja 3, 04350 Tuusula",1,15,"Tiiramäentie 9, 01800 Nurmijärvi"]
["2019-02-05","Butas","Soukankaari 12A - 2  02360 Espoo",null,51,"Pekontie 1, 01900 Nurmijärvi","Dažų pard.","Pekontie 1, 01900 Nurmijärvi",3,8,"Ruokosuonkuja 3, 04350 Tuusula","Namas 3","Ruokosuonkuja 3, 04350 Tuusula",5,15,"Tiiramäentie 9, 01800 Nurmijärvi","Namas 9","Tiiramäentie 9, 01800 Nurmijärvi",1,15,"Ruokosuonkuja 3, 04350 Tuusula","Namas 3","Ruokosuonkuja 3, 04350 Tuusula",2,8,"Pekontie 1, 01900 Nurmijärvi","Dažų pard.","Pekontie 1, 01900 Nurmijärvi",2,8,"Vanha Rajamäentie 173, 05200 Nurmijärvi","Motociklai","Vanha Rajamäentie 173, 05200 Nurmijärvi",2,58,"Soukankaari 12A - 2  02360 Espoo","Butas","Soukankaari 12A - 2  02360 Espoo",null,0,"-",null,"-",null,0,"-",null,"-",null,0,"-","-",null,15,163,null,null,{"$f":"IF(BG11=\"\",\"\",MAX(BF$1:BF10)+1)","v":3},{"$f":"IF(TEXT(Kortelė!$B$26,\"mm\")=IF(A11=\"\",\"\",TEXT(A11,\"mm\")),A11,\"\")","v":"2019-02-05"},null,"",{"$f":"_xlfn.IFNA(IF(BL11=\"\",\"\",MAX(BJ$1:BJ10)+1),\"\")","v":""},"2019-02-02",{"$f":"IF(IF(IF(VLOOKUP($BK11,Archyvas,47,FALSE)=$BL$1,\"\",VLOOKUP($BK11,Archyvas,50,FALSE))=0,\"\",IF(VLOOKUP($BK11,Archyvas,47,FALSE)=$BL$1,\"\",VLOOKUP($BK11,Archyvas,50,FALSE)))=\"\",\"\",IF(IF(VLOOKUP($BK11,Archyvas,47,FALSE)=$BL$1,\"\",VLOOKUP($BK11,Archyvas,47,FALSE))=0,\"\",IF(VLOOKUP($BK11,Archyvas,47,FALSE)=$BL$1,\"\",VLOOKUP($BK11,Archyvas,47,FALSE))))","v":""},{"$f":"IF(IF(VLOOKUP($BK11,Archyvas,47,FALSE)=$BL$1,\"\",VLOOKUP($BK11,Archyvas,48,FALSE))=0,\"\",IF(VLOOKUP($BK11,Archyvas,47,FALSE)=$BL$1,\"\",VLOOKUP($BK11,Archyvas,48,FALSE)))","v":"-"},{"$f":"IF(IF(VLOOKUP($BK11,Archyvas,47,FALSE)=$BL$1,\"\",VLOOKUP($BK11,Archyvas,49,FALSE))=0,\"\",IF(VLOOKUP($BK11,Archyvas,47,FALSE)=$BL$1,\"\",VLOOKUP($BK11,Archyvas,49,FALSE)))","v":""},{"$f":"IF(IF(VLOOKUP($BK11,Archyvas,47,FALSE)=$BL$1,\"\",VLOOKUP($BK11,Archyvas,50,FALSE))=0,\"\",IF(VLOOKUP($BK11,Archyvas,47,FALSE)=$BL$1,\"\",VLOOKUP($BK11,Archyvas,50,FALSE)))","v":""},{"$f":"IF(IF(VLOOKUP($BK11,Archyvas,47,FALSE)=$BL$1,\"\",VLOOKUP($BK11,Archyvas,51,FALSE))=0,\"\",IF(VLOOKUP($BK11,Archyvas,47,FALSE)=$BL$1,\"\",VLOOKUP($BK11,Archyvas,51,FALSE)))","v":"-"},null,{"$f":"_xlfn.IFNA(IF(BS11=\"\",\"\",MAX(BR$1:BR10)+1),\"\")","v":10},"2019-02-03","Namas 9","Tiiramäentie 9, 01800 Nurmijärvi",2,7,"Järventaustantie 141, 01810 Nurmijärvi"]
["2019-01-26","Butas","Soukankaari 12A - 2  02360 Espoo",null,45,"Tiiramäentie 9, 01800 Nurmijärvi","Namas 9","Tiiramäentie 9, 01800 Nurmijärvi",1,15,"Ilveskaari 29, 01900 Nurmijärvi","Offisas 29","Ilveskaari 29, 01900 Nurmijärvi",1,50,"Soukankaari 12A - 2  02360 Espoo","Butas","Soukankaari 12A - 2  02360 Espoo",null,0,"-",null,null,null,null,null,null,null,null,null,null,null,null,null,null,null,null,null,null,null,null,null,null,null,null,null,null,null,null,null,null,null,null,null,null,null,null,{"$f":"IF(BG12=\"\",\"\",MAX(BF$1:BF11)+1)","v":""},{"$f":"IF(TEXT(Kortelė!$B$26,\"mm\")=IF(A12=\"\",\"\",TEXT(A12,\"mm\")),A12,\"\")","v":""},null,"",{"$f":"_xlfn.IFNA(IF(BL12=\"\",\"\",MAX(BJ$1:BJ11)+1),\"\")","v":""},{"$f":"BI11","v":""},null,null,null,null,null,{"$f":"IF(BO12=\"\",\"Nulis\",\"Kazkas\")","v":"Nulis"},{"$f":"_xlfn.IFNA(IF(BS12=\"\",\"\",MAX(BR$1:BR11)+1),\"\")","v":11},"2019-02-03","Dažų gamykl.","Järventaustantie 141, 01810 Nurmijärvi",4,45,"Soukankaari 12A - 2  02360 Espoo"]
["2019-01-27","Butas","Soukankaari 12A - 2  02360 Espoo",null,45,"Järventaustantie 141, 01810 Nurmijärvi","Dažų gamykl.","Järventaustantie 141, 01810 Nurmijärvi",1,17,"Vanha Rajamäentie 173, 05200 Nurmijärvi","Motociklai","Vanha Rajamäentie 173, 05200 Nurmijärvi",1,15,"Ruokosuonkuja 3, 04350 Tuusula","Namas 3","Ruokosuonkuja 3, 04350 Tuusula",1,49,"Soukankaari 12A - 2  02360 Espoo","Butas","Soukankaari 12A - 2  02360 Espoo",null,0,"-",null,null,null,null,null,null,null,null,null,null,null,null,null,null,null,null,null,null,null,null,null,null,null,null,null,null,null,null,null,null,null,{"$f":"IF(BG13=\"\",\"\",MAX(BF$1:BF12)+1)","v":""},{"$f":"IF(TEXT(Kortelė!$B$26,\"mm\")=IF(A13=\"\",\"\",TEXT(A13,\"mm\")),A13,\"\")","v":""},null,{"$f":"IFERROR(INDEX($BG$2:$BG$500,MATCH(ROW()-ROW($A$1),$BF$2:$BF$500,0)),\"\")","v":""},{"$f":"_xlfn.IFNA(IF(BL13=\"\",\"\",MAX(BJ$1:BJ12)+1),\"\")","v":""},{"$f":"$BI$3","v":"2019-02-03"},{"$f":"IF(IF(IF(VLOOKUP($BK13,Archyvas,2,FALSE)=$BL$1,\"\",VLOOKUP($BK13,Archyvas,5,FALSE))=0,\"\",IF(VLOOKUP($BK13,Archyvas,2,FALSE)=$BL$1,\"\",VLOOKUP($BK13,Archyvas,5,FALSE)))=\"\",\"\",IF(IF(VLOOKUP($BK13,Archyvas,2,FALSE)=$BL$1,\"\",VLOOKUP($BK13,Archyvas,2,FALSE))=0,\"\",IF(VLOOKUP($BK13,Archyvas,2,FALSE)=$BL$1,\"\",VLOOKUP($BK13,Archyvas,2,FALSE))))","v":""},{"$f":"IF(IF(VLOOKUP($BK13,Archyvas,2,FALSE)=$BL$1,\"\",VLOOKUP($BK13,Archyvas,3,FALSE))=0,\"\",IF(VLOOKUP($BK13,Archyvas,2,FALSE)=$BL$1,\"\",VLOOKUP($BK13,Archyvas,3,FALSE)))","v":""},{"$f":"IF(IF(VLOOKUP($BK13,Archyvas,2,FALSE)=$BL$1,\"\",VLOOKUP($BK13,Archyvas,4,FALSE))=0,\"\",IF(VLOOKUP($BK13,Archyvas,2,FALSE)=$BL$1,\"\",VLOOKUP($BK13,Archyvas,4,FALSE)))","v":""},{"$f":"IF(IF(VLOOKUP($BK13,Archyvas,2,FALSE)=$BL$1,\"\",VLOOKUP($BK13,Archyvas,5,FALSE))=0,\"\",IF(VLOOKUP($BK13,Archyvas,2,FALSE)=$BL$1,\"\",VLOOKUP($BK13,Archyvas,5,FALSE)))","v":""},{"$f":"IF(IF(VLOOKUP($BK13,Archyvas,2,FALSE)=$BL$1,\"\",VLOOKUP($BK13,Archyvas,6,FALSE))=0,\"\",IF(VLOOKUP($BK13,Archyvas,2,FALSE)=$BL$1,\"\",VLOOKUP($BK13,Archyvas,6,FALSE)))","v":""},null,{"$f":"_xlfn.IFNA(IF(BS13=\"\",\"\",MAX(BR$1:BR12)+1),\"\")","v":12},"2019-02-05","Dažų pard.","Pekontie 1, 01900 Nurmijärvi",3,8,"Ruokosuonkuja 3, 04350 Tuusula"]
["2019-01-30","Butas","Soukankaari 12A - 2  02360 Espoo",null,51,"Pekontie 1, 01900 Nurmijärvi","Dažų pard.","Pekontie 1, 01900 Nurmijärvi",1,8,"Ruokosuonkuja 3, 04350 Tuusula","Namas 3","Ruokosuonkuja 3, 04350 Tuusula",1,0,"Ruokosuonkuja 3, 04350 Tuusula","Namas 3","Ruokosuonkuja 3, 04350 Tuusula",null,0,"-",null,null,null,null,null,null,null,null,null,null,null,null,null,null,null,null,null,null,null,null,null,null,null,null,null,null,null,null,null,null,null,null,null,null,null,null,{"$f":"IF(BG14=\"\",\"\",MAX(BF$1:BF13)+1)","v":""},{"$f":"IF(TEXT(Kortelė!$B$26,\"mm\")=IF(A14=\"\",\"\",TEXT(A14,\"mm\")),A14,\"\")","v":""},null,"",{"$f":"_xlfn.IFNA(IF(BL14=\"\",\"\",MAX(BJ$1:BJ13)+1),\"\")","v":6},"2019-02-03",{"$f":"IF(IF(IF(VLOOKUP($BK14,Archyvas,7,FALSE)=$BL$1,\"\",VLOOKUP($BK14,Archyvas,10,FALSE))=0,\"\",IF(VLOOKUP($BK14,Archyvas,7,FALSE)=$BL$1,\"\",VLOOKUP($BK14,Archyvas,10,FALSE)))=\"\",\"\",IF(IF(VLOOKUP($BK14,Archyvas,7,FALSE)=$BL$1,\"\",VLOOKUP($BK14,Archyvas,7,FALSE))=0,\"\",IF(VLOOKUP($BK14,Archyvas,7,FALSE)=$BL$1,\"\",VLOOKUP($BK14,Archyvas,7,FALSE))))","v":"Dažų pard."},{"$f":"IF(IF(VLOOKUP($BK14,Archyvas,7,FALSE)=$BL$1,\"\",VLOOKUP($BK14,Archyvas,8,FALSE))=0,\"\",IF(VLOOKUP($BK14,Archyvas,7,FALSE)=$BL$1,\"\",VLOOKUP($BK14,Archyvas,8,FALSE)))","v":"Pekontie 1, 01900 Nurmijärvi"},{"$f":"IF(IF(VLOOKUP($BK14,Archyvas,7,FALSE)=$BL$1,\"\",VLOOKUP($BK14,Archyvas,9,FALSE))=0,\"\",IF(VLOOKUP($BK14,Archyvas,7,FALSE)=$BL$1,\"\",VLOOKUP($BK14,Archyvas,9,FALSE)))","v":2},{"$f":"IF(IF(VLOOKUP($BK14,Archyvas,7,FALSE)=$BL$1,\"\",VLOOKUP($BK14,Archyvas,10,FALSE))=0,\"\",IF(VLOOKUP($BK14,Archyvas,7,FALSE)=$BL$1,\"\",VLOOKUP($BK14,Archyvas,10,FALSE)))","v":8},{"$f":"IF(IF(VLOOKUP($BK14,Archyvas,7,FALSE)=$BL$1,\"\",VLOOKUP($BK14,Archyvas,11,FALSE))=0,\"\",IF(VLOOKUP($BK14,Archyvas,7,FALSE)=$BL$1,\"\",VLOOKUP($BK14,Archyvas,11,FALSE)))","v":"Vanha Rajamäentie 173, 05200 Nurmijärvi"},null,{"$f":"_xlfn.IFNA(IF(BS14=\"\",\"\",MAX(BR$1:BR13)+1),\"\")","v":13},"2019-02-05","Namas 3","Ruokosuonkuja 3, 04350 Tuusula",5,15,"Tiiramäentie 9, 01800 Nurmijärvi"]
["2019-01-25","Butas","Soukankaari 12A - 2  02360 Espoo",null,51,"Pekontie 1, 01900 Nurmijärvi","Dažų pard.","Pekontie 1, 01900 Nurmijärvi",5,51,"Soukankaari 12A - 2  02360 Espoo","Butas","Soukankaari 12A - 2  02360 Espoo",null,0,"-",null,null,null,null,null,null,null,null,null,null,null,null,null,null,null,null,null,null,null,null,null,null,null,null,null,null,null,null,null,null,null,null,null,null,null,null,null,null,null,null,null,{"$f":"IF(BG15=\"\",\"\",MAX(BF$1:BF14)+1)","v":""},{"$f":"IF(TEXT(Kortelė!$B$26,\"mm\")=IF(A15=\"\",\"\",TEXT(A15,\"mm\")),A15,\"\")","v":""},null,"",{"$f":"_xlfn.IFNA(IF(BL15=\"\",\"\",MAX(BJ$1:BJ14)+1),\"\")","v":7},"2019-02-03",{"$f":"IF(IF(IF(VLOOKUP($BK15,Archyvas,12,FALSE)=$BL$1,\"\",VLOOKUP($BK15,Archyvas,15,FALSE))=0,\"\",IF(VLOOKUP($BK15,Archyvas,12,FALSE)=$BL$1,\"\",VLOOKUP($BK15,Archyvas,15,FALSE)))=\"\",\"\",IF(IF(VLOOKUP($BK15,Archyvas,12,FALSE)=$BL$1,\"\",VLOOKUP($BK15,Archyvas,12,FALSE))=0,\"\",IF(VLOOKUP($BK15,Archyvas,12,FALSE)=$BL$1,\"\",VLOOKUP($BK15,Archyvas,12,FALSE))))","v":"Motociklai"},{"$f":"IF(IF(VLOOKUP($BK15,Archyvas,12,FALSE)=$BL$1,\"\",VLOOKUP($BK15,Archyvas,13,FALSE))=0,\"\",IF(VLOOKUP($BK15,Archyvas,12,FALSE)=$BL$1,\"\",VLOOKUP($BK15,Archyvas,13,FALSE)))","v":"Vanha Rajamäentie 173, 05200 Nurmijärvi"},{"$f":"IF(IF(VLOOKUP($BK15,Archyvas,12,FALSE)=$BL$1,\"\",VLOOKUP($BK15,Archyvas,14,FALSE))=0,\"\",IF(VLOOKUP($BK15,Archyvas,12,FALSE)=$BL$1,\"\",VLOOKUP($BK15,Archyvas,14,FALSE)))","v":3},{"$f":"IF(IF(VLOOKUP($BK15,Archyvas,12,FALSE)=$BL$1,\"\",VLOOKUP($BK15,Archyvas,15,FALSE))=0,\"\",IF(VLOOKUP($BK15,Archyvas,12,FALSE)=$BL$1,\"\",VLOOKUP($BK15,Archyvas,15,FALSE)))","v":8},{"$f":"IF(IF(VLOOKUP($BK15,Archyvas,12,FALSE)=$BL$1,\"\",VLOOKUP($BK15,Archyvas,16,FALSE))=0,\"\",IF(VLOOKUP($BK15,Archyvas,12,FALSE)=$BL$1,\"\",VLOOKUP($BK15,Archyvas,16,FALSE)))","v":"Pekontie 1, 01900 Nurmijärvi"},null,{"$f":"_xlfn.IFNA(IF(BS15=\"\",\"\",MAX(BR$1:BR14)+1),\"\")","v":14},"2019-02-05","Namas 9","Tiiramäentie 9, 01800 Nurmijärvi",1,15,"Ruokosuonkuja 3, 04350 Tuusula"]
["2019-01-31","Butas","Soukankaari 12A - 2  02360 Espoo",null,45,"Järventaustantie 141, 01810 Nurmijärvi","Dažų gamykl.","Järventaustantie 141, 01810 Nurmijärvi",1,17,"Vanha Rajamäentie 173, 05200 Nurmijärvi","Motociklai","Vanha Rajamäentie 173, 05200 Nurmijärvi",1,58,"Soukankaari 12A - 2  02360 Espoo","Butas","Soukankaari 12A - 2  02360 Espoo",null,0,"-",null,null,null,null,null,null,null,null,null,null,null,null,null,null,null,null,null,null,null,null,null,null,null,null,null,null,null,null,null,null,null,null,null,null,null,null,{"$f":"IF(BG16=\"\",\"\",MAX(BF$1:BF15)+1)","v":""},{"$f":"IF(TEXT(Kortelė!$B$26,\"mm\")=IF(A16=\"\",\"\",TEXT(A16,\"mm\")),A16,\"\")","v":""},null,"",{"$f":"_xlfn.IFNA(IF(BL16=\"\",\"\",MAX(BJ$1:BJ15)+1),\"\")","v":8},"2019-02-03",{"$f":"IF(IF(IF(VLOOKUP($BK16,Archyvas,17,FALSE)=$BL$1,\"\",VLOOKUP($BK16,Archyvas,20,FALSE))=0,\"\",IF(VLOOKUP($BK16,Archyvas,17,FALSE)=$BL$1,\"\",VLOOKUP($BK16,Archyvas,20,FALSE)))=\"\",\"\",IF(IF(VLOOKUP($BK16,Archyvas,17,FALSE)=$BL$1,\"\",VLOOKUP($BK16,Archyvas,17,FALSE))=0,\"\",IF(VLOOKUP($BK16,Archyvas,17,FALSE)=$BL$1,\"\",VLOOKUP($BK16,Archyvas,17,FALSE))))","v":"Dažų pard."},{"$f":"IF(IF(VLOOKUP($BK16,Archyvas,17,FALSE)=$BL$1,\"\",VLOOKUP($BK16,Archyvas,18,FALSE))=0,\"\",IF(VLOOKUP($BK16,Archyvas,17,FALSE)=$BL$1,\"\",VLOOKUP($BK16,Archyvas,18,FALSE)))","v":"Pekontie 1, 01900 Nurmijärvi"},{"$f":"IF(IF(VLOOKUP($BK16,Archyvas,17,FALSE)=$BL$1,\"\",VLOOKUP($BK16,Archyvas,19,FALSE))=0,\"\",IF(VLOOKUP($BK16,Archyvas,17,FALSE)=$BL$1,\"\",VLOOKUP($BK16,Archyvas,19,FALSE)))","v":2},{"$f":"IF(IF(VLOOKUP($BK16,Archyvas,17,FALSE)=$BL$1,\"\",VLOOKUP($BK16,Archyvas,20,FALSE))=0,\"\",IF(VLOOKUP($BK16,Archyvas,17,FALSE)=$BL$1,\"\",VLOOKUP($BK16,Archyvas,20,FALSE)))","v":8},{"$f":"IF(IF(VLOOKUP($BK16,Archyvas,17,FALSE)=$BL$1,\"\",VLOOKUP($BK16,Archyvas,21,FALSE))=0,\"\",IF(VLOOKUP($BK16,Archyvas,17,FALSE)=$BL$1,\"\",VLOOKUP($BK16,Archyvas,21,FALSE)))","v":"Ruokosuonkuja 3, 04350 Tuusula"},null,{"$f":"_xlfn.IFNA(IF(BS16=\"\",\"\",MAX(BR$1:BR15)+1),\"\")","v":15},"2019-02-05","Namas 3","Ruokosuonkuja 3, 04350 Tuusula",2,8,"Pekontie 1, 01900 Nurmijärvi"]
[null,null,null,null,null,null,null,null,null,null,null,null,null,null,null,null,null,null,null,null,null,null,null,null,null,null,null,null,null,null,null,null,null,null,null,null,null,null,null,null,null,null,null,null,null,null,null,null,null,null,null,null,null,null,null,null,null,{"$f":"IF(BG17=\"\",\"\",MAX(BF$1:BF16)+1)","v":""},{"$f":"IF(TEXT(Kortelė!$B$26,\"mm\")=IF(A17=\"\",\"\",TEXT(A17,\"mm\")),A17,\"\")","v":""},null,"",{"$f":"_xlfn.IFNA(IF(BL17=\"\",\"\",MAX(BJ$1:BJ16)+1),\"\")","v":9},"2019-02-03",{"$f":"IF(IF(IF(VLOOKUP($BK17,Archyvas,22,FALSE)=$BL$1,\"\",VLOOKUP($BK17,Archyvas,25,FALSE))=0,\"\",IF(VLOOKUP($BK17,Archyvas,22,FALSE)=$BL$1,\"\",VLOOKUP($BK17,Archyvas,25,FALSE)))=\"\",\"\",IF(IF(VLOOKUP($BK17,Archyvas,22,FALSE)=$BL$1,\"\",VLOOKUP($BK17,Archyvas,22,FALSE))=0,\"\",IF(VLOOKUP($BK17,Archyvas,22,FALSE)=$BL$1,\"\",VLOOKUP($BK17,Archyvas,22,FALSE))))","v":"Namas 3"},{"$f":"IF(IF(VLOOKUP($BK17,Archyvas,22,FALSE)=$BL$1,\"\",VLOOKUP($BK17,Archyvas,23,FALSE))=0,\"\",IF(VLOOKUP($BK17,Archyvas,22,FALSE)=$BL$1,\"\",VLOOKUP($BK17,Archyvas,23,FALSE)))","v":"Ruokosuonkuja 3, 04350 Tuusula"},{"$f":"IF(IF(VLOOKUP($BK17,Archyvas,22,FALSE)=$BL$1,\"\",VLOOKUP($BK17,Archyvas,24,FALSE))=0,\"\",IF(VLOOKUP($BK17,Archyvas,22,FALSE)=$BL$1,\"\",VLOOKUP($BK17,Archyvas,24,FALSE)))","v":1},{"$f":"IF(IF(VLOOKUP($BK17,Archyvas,22,FALSE)=$BL$1,\"\",VLOOKUP($BK17,Archyvas,25,FALSE))=0,\"\",IF(VLOOKUP($BK17,Archyvas,22,FALSE)=$BL$1,\"\",VLOOKUP($BK17,Archyvas,25,FALSE)))","v":15},{"$f":"IF(IF(VLOOKUP($BK17,Archyvas,22,FALSE)=$BL$1,\"\",VLOOKUP($BK17,Archyvas,26,FALSE))=0,\"\",IF(VLOOKUP($BK17,Archyvas,22,FALSE)=$BL$1,\"\",VLOOKUP($BK17,Archyvas,26,FALSE)))","v":"Tiiramäentie 9, 01800 Nurmijärvi"},null,{"$f":"_xlfn.IFNA(IF(BS17=\"\",\"\",MAX(BR$1:BR16)+1),\"\")","v":16},"2019-02-05","Dažų pard.","Pekontie 1, 01900 Nurmijärvi",2,8,"Vanha Rajamäentie 173, 05200 Nurmijärvi"]
[null,null,null,null,null,null,null,null,null,null,null,null,null,null,null,null,null,null,null,null,null,null,null,null,null,null,null,null,null,null,null,null,null,null,null,null,null,null,null,null,null,null,null,null,null,null,null,null,null,null,null,null,null,null,null,null,null,{"$f":"IF(BG18=\"\",\"\",MAX(BF$1:BF17)+1)","v":""},{"$f":"IF(TEXT(Kortelė!$B$26,\"mm\")=IF(A18=\"\",\"\",TEXT(A18,\"mm\")),A18,\"\")","v":""},null,"",{"$f":"_xlfn.IFNA(IF(BL18=\"\",\"\",MAX(BJ$1:BJ17)+1),\"\")","v":10},"2019-02-03",{"$f":"IF(IF(IF(VLOOKUP($BK18,Archyvas,27,FALSE)=$BL$1,\"\",VLOOKUP($BK18,Archyvas,30,FALSE))=0,\"\",IF(VLOOKUP($BK18,Archyvas,27,FALSE)=$BL$1,\"\",VLOOKUP($BK18,Archyvas,30,FALSE)))=\"\",\"\",IF(IF(VLOOKUP($BK18,Archyvas,27,FALSE)=$BL$1,\"\",VLOOKUP($BK18,Archyvas,27,FALSE))=0,\"\",IF(VLOOKUP($BK18,Archyvas,27,FALSE)=$BL$1,\"\",VLOOKUP($BK18,Archyvas,27,FALSE))))","v":"Namas 9"},{"$f":"IF(IF(VLOOKUP($BK18,Archyvas,27,FALSE)=$BL$1,\"\",VLOOKUP($BK18,Archyvas,28,FALSE))=0,\"\",IF(VLOOKUP($BK18,Archyvas,27,FALSE)=$BL$1,\"\",VLOOKUP($BK18,Archyvas,28,FALSE)))","v":"Tiiramäentie 9, 01800 Nurmijärvi"},{"$f":"IF(IF(VLOOKUP($BK18,Archyvas,27,FALSE)=$BL$1,\"\",VLOOKUP($BK18,Archyvas,29,FALSE))=0,\"\",IF(VLOOKUP($BK18,Archyvas,27,FALSE)=$BL$1,\"\",VLOOKUP($BK18,Archyvas,29,FALSE)))","v":2},{"$f":"IF(IF(VLOOKUP($BK18,Archyvas,27,FALSE)=$BL$1,\"\",VLOOKUP($BK18,Archyvas,30,FALSE))=0,\"\",IF(VLOOKUP($BK18,Archyvas,27,FALSE)=$BL$1,\"\",VLOOKUP($BK18,Archyvas,30,FALSE)))","v":7},{"$f":"IF(IF(VLOOKUP($BK18,Archyvas,27,FALSE)=$BL$1,\"\",VLOOKUP($BK18,Archyvas,31,FALSE))=0,\"\",IF(VLOOKUP($BK18,Archyvas,27,FALSE)=$BL$1,\"\",VLOOKUP($BK18,Archyvas,31,FALSE)))","v":"Järventaustantie 141, 01810 Nurmijärvi"},null,{"$f":"_xlfn.IFNA(IF(BS18=\"\",\"\",MAX(BR$1:BR17)+1),\"\")","v":17},"2019-02-05","Motociklai","Vanha Rajamäentie 173, 05200 Nurmijärvi",2,58,"Soukankaari 12A - 2  02360 Espoo"]
[null,null,null,null,null,null,null,null,null,null,null,null,null,null,null,null,null,null,null,null,null,null,null,null,null,null,null,null,null,null,null,null,null,null,null,null,null,null,null,null,null,null,null,null,null,null,null,null,null,null,null,null,null,null,null,null,null,{"$f":"IF(BG19=\"\",\"\",MAX(BF$1:BF18)+1)","v":""},{"$f":"IF(TEXT(Kortelė!$B$26,\"mm\")=IF(A19=\"\",\"\",TEXT(A19,\"mm\")),A19,\"\")","v":""},null,"",{"$f":"_xlfn.IFNA(IF(BL19=\"\",\"\",MAX(BJ$1:BJ18)+1),\"\")","v":11},"2019-02-03",{"$f":"IF(IF(IF(VLOOKUP($BK19,Archyvas,32,FALSE)=$BL$1,\"\",VLOOKUP($BK19,Archyvas,35,FALSE))=0,\"\",IF(VLOOKUP($BK19,Archyvas,32,FALSE)=$BL$1,\"\",VLOOKUP($BK19,Archyvas,35,FALSE)))=\"\",\"\",IF(IF(VLOOKUP($BK19,Archyvas,32,FALSE)=$BL$1,\"\",VLOOKUP($BK19,Archyvas,32,FALSE))=0,\"\",IF(VLOOKUP($BK19,Archyvas,32,FALSE)=$BL$1,\"\",VLOOKUP($BK19,Archyvas,32,FALSE))))","v":"Dažų gamykl."},{"$f":"IF(IF(VLOOKUP($BK19,Archyvas,32,FALSE)=$BL$1,\"\",VLOOKUP($BK19,Archyvas,33,FALSE))=0,\"\",IF(VLOOKUP($BK19,Archyvas,32,FALSE)=$BL$1,\"\",VLOOKUP($BK19,Archyvas,33,FALSE)))","v":"Järventaustantie 141, 01810 Nurmijärvi"},{"$f":"IF(IF(VLOOKUP($BK19,Archyvas,32,FALSE)=$BL$1,\"\",VLOOKUP($BK19,Archyvas,34,FALSE))=0,\"\",IF(VLOOKUP($BK19,Archyvas,32,FALSE)=$BL$1,\"\",VLOOKUP($BK19,Archyvas,34,FALSE)))","v":4},{"$f":"IF(IF(VLOOKUP($BK19,Archyvas,32,FALSE)=$BL$1,\"\",VLOOKUP($BK19,Archyvas,35,FALSE))=0,\"\",IF(VLOOKUP($BK19,Archyvas,32,FALSE)=$BL$1,\"\",VLOOKUP($BK19,Archyvas,35,FALSE)))","v":45},{"$f":"IF(IF(VLOOKUP($BK19,Archyvas,32,FALSE)=$BL$1,\"\",VLOOKUP($BK19,Archyvas,36,FALSE))=0,\"\",IF(VLOOKUP($BK19,Archyvas,32,FALSE)=$BL$1,\"\",VLOOKUP($BK19,Archyvas,36,FALSE)))","v":"Soukankaari 12A - 2  02360 Espoo"},null,{"$f":"_xlfn.IFNA(IF(BS19=\"\",\"\",MAX(BR$1:BR18)+1),\"\")","v":""},"","","","","",""]
[null,null,null,null,null,null,null,null,null,null,null,null,null,null,null,null,null,null,null,null,null,null,null,null,null,null,null,null,null,null,null,null,null,null,null,null,null,null,null,null,null,null,null,null,null,null,null,null,null,null,null,null,null,null,null,null,null,{"$f":"IF(BG20=\"\",\"\",MAX(BF$1:BF19)+1)","v":""},{"$f":"IF(TEXT(Kortelė!$B$26,\"mm\")=IF(A20=\"\",\"\",TEXT(A20,\"mm\")),A20,\"\")","v":""},null,"",{"$f":"_xlfn.IFNA(IF(BL20=\"\",\"\",MAX(BJ$1:BJ19)+1),\"\")","v":""},"2019-02-03",{"$f":"IF(IF(IF(VLOOKUP($BK20,Archyvas,37,FALSE)=$BL$1,\"\",VLOOKUP($BK20,Archyvas,40,FALSE))=0,\"\",IF(VLOOKUP($BK20,Archyvas,37,FALSE)=$BL$1,\"\",VLOOKUP($BK20,Archyvas,40,FALSE)))=\"\",\"\",IF(IF(VLOOKUP($BK20,Archyvas,37,FALSE)=$BL$1,\"\",VLOOKUP($BK20,Archyvas,37,FALSE))=0,\"\",IF(VLOOKUP($BK20,Archyvas,37,FALSE)=$BL$1,\"\",VLOOKUP($BK20,Archyvas,37,FALSE))))","v":""},{"$f":"IF(IF(VLOOKUP($BK20,Archyvas,37,FALSE)=$BL$1,\"\",VLOOKUP($BK20,Archyvas,38,FALSE))=0,\"\",IF(VLOOKUP($BK20,Archyvas,37,FALSE)=$BL$1,\"\",VLOOKUP($BK20,Archyvas,38,FALSE)))","v":""},{"$f":"IF(IF(VLOOKUP($BK20,Archyvas,37,FALSE)=$BL$1,\"\",VLOOKUP($BK20,Archyvas,39,FALSE))=0,\"\",IF(VLOOKUP($BK20,Archyvas,37,FALSE)=$BL$1,\"\",VLOOKUP($BK20,Archyvas,39,FALSE)))","v":""},{"$f":"IF(IF(VLOOKUP($BK20,Archyvas,37,FALSE)=$BL$1,\"\",VLOOKUP($BK20,Archyvas,40,FALSE))=0,\"\",IF(VLOOKUP($BK20,Archyvas,37,FALSE)=$BL$1,\"\",VLOOKUP($BK20,Archyvas,40,FALSE)))","v":""},{"$f":"IF(IF(VLOOKUP($BK20,Archyvas,37,FALSE)=$BL$1,\"\",VLOOKUP($BK20,Archyvas,41,FALSE))=0,\"\",IF(VLOOKUP($BK20,Archyvas,37,FALSE)=$BL$1,\"\",VLOOKUP($BK20,Archyvas,41,FALSE)))","v":""},null,{"$f":"_xlfn.IFNA(IF(BS20=\"\",\"\",MAX(BR$1:BR19)+1),\"\")","v":""},"","","","","",""]
[null,null,null,null,null,null,null,null,null,null,null,null,null,null,null,null,null,null,null,null,null,null,null,null,null,null,null,null,null,null,null,null,null,null,null,null,null,null,null,null,null,null,null,null,null,null,null,null,null,null,null,null,null,null,null,null,null,{"$f":"IF(BG21=\"\",\"\",MAX(BF$1:BF20)+1)","v":""},{"$f":"IF(TEXT(Kortelė!$B$26,\"mm\")=IF(A21=\"\",\"\",TEXT(A21,\"mm\")),A21,\"\")","v":""},null,"",{"$f":"_xlfn.IFNA(IF(BL21=\"\",\"\",MAX(BJ$1:BJ20)+1),\"\")","v":""},"2019-02-03",{"$f":"IF(IF(IF(VLOOKUP($BK21,Archyvas,42,FALSE)=$BL$1,\"\",VLOOKUP($BK21,Archyvas,45,FALSE))=0,\"\",IF(VLOOKUP($BK21,Archyvas,42,FALSE)=$BL$1,\"\",VLOOKUP($BK21,Archyvas,45,FALSE)))=\"\",\"\",IF(IF(VLOOKUP($BK21,Archyvas,42,FALSE)=$BL$1,\"\",VLOOKUP($BK21,Archyvas,42,FALSE))=0,\"\",IF(VLOOKUP($BK21,Archyvas,42,FALSE)=$BL$1,\"\",VLOOKUP($BK21,Archyvas,42,FALSE))))","v":""},{"$f":"IF(IF(VLOOKUP($BK21,Archyvas,42,FALSE)=$BL$1,\"\",VLOOKUP($BK21,Archyvas,43,FALSE))=0,\"\",IF(VLOOKUP($BK21,Archyvas,42,FALSE)=$BL$1,\"\",VLOOKUP($BK21,Archyvas,43,FALSE)))","v":"-"},{"$f":"IF(IF(VLOOKUP($BK21,Archyvas,42,FALSE)=$BL$1,\"\",VLOOKUP($BK21,Archyvas,44,FALSE))=0,\"\",IF(VLOOKUP($BK21,Archyvas,42,FALSE)=$BL$1,\"\",VLOOKUP($BK21,Archyvas,44,FALSE)))","v":""},{"$f":"IF(IF(VLOOKUP($BK21,Archyvas,42,FALSE)=$BL$1,\"\",VLOOKUP($BK21,Archyvas,45,FALSE))=0,\"\",IF(VLOOKUP($BK21,Archyvas,42,FALSE)=$BL$1,\"\",VLOOKUP($BK21,Archyvas,45,FALSE)))","v":""},{"$f":"IF(IF(VLOOKUP($BK21,Archyvas,42,FALSE)=$BL$1,\"\",VLOOKUP($BK21,Archyvas,46,FALSE))=0,\"\",IF(VLOOKUP($BK21,Archyvas,42,FALSE)=$BL$1,\"\",VLOOKUP($BK21,Archyvas,46,FALSE)))","v":"-"},null,{"$f":"_xlfn.IFNA(IF(BS21=\"\",\"\",MAX(BR$1:BR20)+1),\"\")","v":""},"","","","","",""]
[null,null,null,null,null,null,null,null,null,null,null,null,null,null,null,null,null,null,null,null,null,null,null,null,null,null,null,null,null,null,null,null,null,null,null,null,null,null,null,null,null,null,null,null,null,null,null,null,null,null,null,null,null,null,null,null,null,{"$f":"IF(BG22=\"\",\"\",MAX(BF$1:BF21)+1)","v":""},{"$f":"IF(TEXT(Kortelė!$B$26,\"mm\")=IF(A22=\"\",\"\",TEXT(A22,\"mm\")),A22,\"\")","v":""},null,"",{"$f":"_xlfn.IFNA(IF(BL22=\"\",\"\",MAX(BJ$1:BJ21)+1),\"\")","v":""},"2019-02-03",{"$f":"IF(IF(IF(VLOOKUP($BK22,Archyvas,47,FALSE)=$BL$1,\"\",VLOOKUP($BK22,Archyvas,50,FALSE))=0,\"\",IF(VLOOKUP($BK22,Archyvas,47,FALSE)=$BL$1,\"\",VLOOKUP($BK22,Archyvas,50,FALSE)))=\"\",\"\",IF(IF(VLOOKUP($BK22,Archyvas,47,FALSE)=$BL$1,\"\",VLOOKUP($BK22,Archyvas,47,FALSE))=0,\"\",IF(VLOOKUP($BK22,Archyvas,47,FALSE)=$BL$1,\"\",VLOOKUP($BK22,Archyvas,47,FALSE))))","v":""},{"$f":"IF(IF(VLOOKUP($BK22,Archyvas,47,FALSE)=$BL$1,\"\",VLOOKUP($BK22,Archyvas,48,FALSE))=0,\"\",IF(VLOOKUP($BK22,Archyvas,47,FALSE)=$BL$1,\"\",VLOOKUP($BK22,Archyvas,48,FALSE)))","v":"-"},{"$f":"IF(IF(VLOOKUP($BK22,Archyvas,47,FALSE)=$BL$1,\"\",VLOOKUP($BK22,Archyvas,49,FALSE))=0,\"\",IF(VLOOKUP($BK22,Archyvas,47,FALSE)=$BL$1,\"\",VLOOKUP($BK22,Archyvas,49,FALSE)))","v":""},{"$f":"IF(IF(VLOOKUP($BK22,Archyvas,47,FALSE)=$BL$1,\"\",VLOOKUP($BK22,Archyvas,50,FALSE))=0,\"\",IF(VLOOKUP($BK22,Archyvas,47,FALSE)=$BL$1,\"\",VLOOKUP($BK22,Archyvas,50,FALSE)))","v":""},{"$f":"IF(IF(VLOOKUP($BK22,Archyvas,47,FALSE)=$BL$1,\"\",VLOOKUP($BK22,Archyvas,51,FALSE))=0,\"\",IF(VLOOKUP($BK22,Archyvas,47,FALSE)=$BL$1,\"\",VLOOKUP($BK22,Archyvas,51,FALSE)))","v":"-"},null,{"$f":"_xlfn.IFNA(IF(BS22=\"\",\"\",MAX(BR$1:BR21)+1),\"\")","v":""},"","","","","",""]
[null,null,null,null,null,null,null,null,null,null,null,null,null,null,null,null,null,null,null,null,null,null,null,null,null,null,null,null,null,null,null,null,null,null,null,null,null,null,null,null,null,null,null,null,null,null,null,null,null,null,null,null,null,null,null,null,null,{"$f":"IF(BG23=\"\",\"\",MAX(BF$1:BF22)+1)","v":""},{"$f":"IF(TEXT(Kortelė!$B$26,\"mm\")=IF(A23=\"\",\"\",TEXT(A23,\"mm\")),A23,\"\")","v":""},null,"",{"$f":"_xlfn.IFNA(IF(BL23=\"\",\"\",MAX(BJ$1:BJ22)+1),\"\")","v":""},"",null,null,null,null,null,null,{"$f":"_xlfn.IFNA(IF(BS23=\"\",\"\",MAX(BR$1:BR22)+1),\"\")","v":""},"","","","","",""]
[null,null,null,null,null,null,null,null,null,null,null,null,null,null,null,null,null,null,null,null,null,null,null,null,null,null,null,null,null,null,null,null,null,null,null,null,null,null,null,null,null,null,null,null,null,null,null,null,null,null,null,null,null,null,null,null,null,{"$f":"IF(BG24=\"\",\"\",MAX(BF$1:BF23)+1)","v":""},{"$f":"IF(TEXT(Kortelė!$B$26,\"mm\")=IF(A24=\"\",\"\",TEXT(A24,\"mm\")),A24,\"\")","v":""},null,"",{"$f":"_xlfn.IFNA(IF(BL24=\"\",\"\",MAX(BJ$1:BJ23)+1),\"\")","v":""},{"$f":"$BI$4","v":"2019-02-05"},{"$f":"IF(IF(IF(VLOOKUP($BK24,Archyvas,2,FALSE)=$BL$1,\"\",VLOOKUP($BK24,Archyvas,5,FALSE))=0,\"\",IF(VLOOKUP($BK24,Archyvas,2,FALSE)=$BL$1,\"\",VLOOKUP($BK24,Archyvas,5,FALSE)))=\"\",\"\",IF(IF(VLOOKUP($BK24,Archyvas,2,FALSE)=$BL$1,\"\",VLOOKUP($BK24,Archyvas,2,FALSE))=0,\"\",IF(VLOOKUP($BK24,Archyvas,2,FALSE)=$BL$1,\"\",VLOOKUP($BK24,Archyvas,2,FALSE))))","v":""},{"$f":"IF(IF(VLOOKUP($BK24,Archyvas,2,FALSE)=$BL$1,\"\",VLOOKUP($BK24,Archyvas,3,FALSE))=0,\"\",IF(VLOOKUP($BK24,Archyvas,2,FALSE)=$BL$1,\"\",VLOOKUP($BK24,Archyvas,3,FALSE)))","v":""},{"$f":"IF(IF(VLOOKUP($BK24,Archyvas,2,FALSE)=$BL$1,\"\",VLOOKUP($BK24,Archyvas,4,FALSE))=0,\"\",IF(VLOOKUP($BK24,Archyvas,2,FALSE)=$BL$1,\"\",VLOOKUP($BK24,Archyvas,4,FALSE)))","v":""},{"$f":"IF(IF(VLOOKUP($BK24,Archyvas,2,FALSE)=$BL$1,\"\",VLOOKUP($BK24,Archyvas,5,FALSE))=0,\"\",IF(VLOOKUP($BK24,Archyvas,2,FALSE)=$BL$1,\"\",VLOOKUP($BK24,Archyvas,5,FALSE)))","v":""},{"$f":"IF(IF(VLOOKUP($BK24,Archyvas,2,FALSE)=$BL$1,\"\",VLOOKUP($BK24,Archyvas,6,FALSE))=0,\"\",IF(VLOOKUP($BK24,Archyvas,2,FALSE)=$BL$1,\"\",VLOOKUP($BK24,Archyvas,6,FALSE)))","v":""},null,{"$f":"_xlfn.IFNA(IF(BS24=\"\",\"\",MAX(BR$1:BR23)+1),\"\")","v":""},"","","","","",""]
[null,null,null,null,null,null,null,null,null,null,null,null,null,null,null,null,null,null,null,null,null,null,null,null,null,null,null,null,null,null,null,null,null,null,null,null,null,null,null,null,null,null,null,null,null,null,null,null,null,null,null,null,null,null,null,null,null,{"$f":"IF(BG25=\"\",\"\",MAX(BF$1:BF24)+1)","v":""},{"$f":"IF(TEXT(Kortelė!$B$26,\"mm\")=IF(A25=\"\",\"\",TEXT(A25,\"mm\")),A25,\"\")","v":""},null,"",{"$f":"_xlfn.IFNA(IF(BL25=\"\",\"\",MAX(BJ$1:BJ24)+1),\"\")","v":12},"2019-02-05",{"$f":"IF(IF(IF(VLOOKUP($BK25,Archyvas,7,FALSE)=$BL$1,\"\",VLOOKUP($BK25,Archyvas,10,FALSE))=0,\"\",IF(VLOOKUP($BK25,Archyvas,7,FALSE)=$BL$1,\"\",VLOOKUP($BK25,Archyvas,10,FALSE)))=\"\",\"\",IF(IF(VLOOKUP($BK25,Archyvas,7,FALSE)=$BL$1,\"\",VLOOKUP($BK25,Archyvas,7,FALSE))=0,\"\",IF(VLOOKUP($BK25,Archyvas,7,FALSE)=$BL$1,\"\",VLOOKUP($BK25,Archyvas,7,FALSE))))","v":"Dažų pard."},{"$f":"IF(IF(VLOOKUP($BK25,Archyvas,7,FALSE)=$BL$1,\"\",VLOOKUP($BK25,Archyvas,8,FALSE))=0,\"\",IF(VLOOKUP($BK25,Archyvas,7,FALSE)=$BL$1,\"\",VLOOKUP($BK25,Archyvas,8,FALSE)))","v":"Pekontie 1, 01900 Nurmijärvi"},{"$f":"IF(IF(VLOOKUP($BK25,Archyvas,7,FALSE)=$BL$1,\"\",VLOOKUP($BK25,Archyvas,9,FALSE))=0,\"\",IF(VLOOKUP($BK25,Archyvas,7,FALSE)=$BL$1,\"\",VLOOKUP($BK25,Archyvas,9,FALSE)))","v":3},{"$f":"IF(IF(VLOOKUP($BK25,Archyvas,7,FALSE)=$BL$1,\"\",VLOOKUP($BK25,Archyvas,10,FALSE))=0,\"\",IF(VLOOKUP($BK25,Archyvas,7,FALSE)=$BL$1,\"\",VLOOKUP($BK25,Archyvas,10,FALSE)))","v":8},{"$f":"IF(IF(VLOOKUP($BK25,Archyvas,7,FALSE)=$BL$1,\"\",VLOOKUP($BK25,Archyvas,11,FALSE))=0,\"\",IF(VLOOKUP($BK25,Archyvas,7,FALSE)=$BL$1,\"\",VLOOKUP($BK25,Archyvas,11,FALSE)))","v":"Ruokosuonkuja 3, 04350 Tuusula"},null,{"$f":"_xlfn.IFNA(IF(BS25=\"\",\"\",MAX(BR$1:BR24)+1),\"\")","v":""},"","","","","",""]
[null,null,null,null,null,null,null,null,null,null,null,null,null,null,null,null,null,null,null,null,null,null,null,null,null,null,null,null,null,null,null,null,null,null,null,null,null,null,null,null,null,null,null,null,null,null,null,null,null,null,null,null,null,null,null,null,null,{"$f":"IF(BG26=\"\",\"\",MAX(BF$1:BF25)+1)","v":""},{"$f":"IF(TEXT(Kortelė!$B$26,\"mm\")=IF(A26=\"\",\"\",TEXT(A26,\"mm\")),A26,\"\")","v":""},null,"",{"$f":"_xlfn.IFNA(IF(BL26=\"\",\"\",MAX(BJ$1:BJ25)+1),\"\")","v":13},"2019-02-05",{"$f":"IF(IF(IF(VLOOKUP($BK26,Archyvas,12,FALSE)=$BL$1,\"\",VLOOKUP($BK26,Archyvas,15,FALSE))=0,\"\",IF(VLOOKUP($BK26,Archyvas,12,FALSE)=$BL$1,\"\",VLOOKUP($BK26,Archyvas,15,FALSE)))=\"\",\"\",IF(IF(VLOOKUP($BK26,Archyvas,12,FALSE)=$BL$1,\"\",VLOOKUP($BK26,Archyvas,12,FALSE))=0,\"\",IF(VLOOKUP($BK26,Archyvas,12,FALSE)=$BL$1,\"\",VLOOKUP($BK26,Archyvas,12,FALSE))))","v":"Namas 3"},{"$f":"IF(IF(VLOOKUP($BK26,Archyvas,12,FALSE)=$BL$1,\"\",VLOOKUP($BK26,Archyvas,13,FALSE))=0,\"\",IF(VLOOKUP($BK26,Archyvas,12,FALSE)=$BL$1,\"\",VLOOKUP($BK26,Archyvas,13,FALSE)))","v":"Ruokosuonkuja 3, 04350 Tuusula"},{"$f":"IF(IF(VLOOKUP($BK26,Archyvas,12,FALSE)=$BL$1,\"\",VLOOKUP($BK26,Archyvas,14,FALSE))=0,\"\",IF(VLOOKUP($BK26,Archyvas,12,FALSE)=$BL$1,\"\",VLOOKUP($BK26,Archyvas,14,FALSE)))","v":5},{"$f":"IF(IF(VLOOKUP($BK26,Archyvas,12,FALSE)=$BL$1,\"\",VLOOKUP($BK26,Archyvas,15,FALSE))=0,\"\",IF(VLOOKUP($BK26,Archyvas,12,FALSE)=$BL$1,\"\",VLOOKUP($BK26,Archyvas,15,FALSE)))","v":15},{"$f":"IF(IF(VLOOKUP($BK26,Archyvas,12,FALSE)=$BL$1,\"\",VLOOKUP($BK26,Archyvas,16,FALSE))=0,\"\",IF(VLOOKUP($BK26,Archyvas,12,FALSE)=$BL$1,\"\",VLOOKUP($BK26,Archyvas,16,FALSE)))","v":"Tiiramäentie 9, 01800 Nurmijärvi"},null,{"$f":"_xlfn.IFNA(IF(BS26=\"\",\"\",MAX(BR$1:BR25)+1),\"\")","v":""},{"$f":"IFERROR(INDEX(BK$2:BK$330,MATCH(ROW()-ROW($BJ$1),$BJ$2:$BJ$330,0)),\"\")","v":""},"","","","",""]
[null,null,null,null,null,null,null,null,null,null,null,null,null,null,null,null,null,null,null,null,null,null,null,null,null,null,null,null,null,null,null,null,null,null,null,null,null,null,null,null,null,null,null,null,null,null,null,null,null,null,null,null,null,null,null,null,null,{"$f":"IF(BG27=\"\",\"\",MAX(BF$1:BF26)+1)","v":""},{"$f":"IF(TEXT(Kortelė!$B$26,\"mm\")=IF(A27=\"\",\"\",TEXT(A27,\"mm\")),A27,\"\")","v":""},null,"",{"$f":"_xlfn.IFNA(IF(BL27=\"\",\"\",MAX(BJ$1:BJ26)+1),\"\")","v":14},"2019-02-05",{"$f":"IF(IF(IF(VLOOKUP($BK27,Archyvas,17,FALSE)=$BL$1,\"\",VLOOKUP($BK27,Archyvas,20,FALSE))=0,\"\",IF(VLOOKUP($BK27,Archyvas,17,FALSE)=$BL$1,\"\",VLOOKUP($BK27,Archyvas,20,FALSE)))=\"\",\"\",IF(IF(VLOOKUP($BK27,Archyvas,17,FALSE)=$BL$1,\"\",VLOOKUP($BK27,Archyvas,17,FALSE))=0,\"\",IF(VLOOKUP($BK27,Archyvas,17,FALSE)=$BL$1,\"\",VLOOKUP($BK27,Archyvas,17,FALSE))))","v":"Namas 9"},{"$f":"IF(IF(VLOOKUP($BK27,Archyvas,17,FALSE)=$BL$1,\"\",VLOOKUP($BK27,Archyvas,18,FALSE))=0,\"\",IF(VLOOKUP($BK27,Archyvas,17,FALSE)=$BL$1,\"\",VLOOKUP($BK27,Archyvas,18,FALSE)))","v":"Tiiramäentie 9, 01800 Nurmijärvi"},{"$f":"IF(IF(VLOOKUP($BK27,Archyvas,17,FALSE)=$BL$1,\"\",VLOOKUP($BK27,Archyvas,19,FALSE))=0,\"\",IF(VLOOKUP($BK27,Archyvas,17,FALSE)=$BL$1,\"\",VLOOKUP($BK27,Archyvas,19,FALSE)))","v":1},{"$f":"IF(IF(VLOOKUP($BK27,Archyvas,17,FALSE)=$BL$1,\"\",VLOOKUP($BK27,Archyvas,20,FALSE))=0,\"\",IF(VLOOKUP($BK27,Archyvas,17,FALSE)=$BL$1,\"\",VLOOKUP($BK27,Archyvas,20,FALSE)))","v":15},{"$f":"IF(IF(VLOOKUP($BK27,Archyvas,17,FALSE)=$BL$1,\"\",VLOOKUP($BK27,Archyvas,21,FALSE))=0,\"\",IF(VLOOKUP($BK27,Archyvas,17,FALSE)=$BL$1,\"\",VLOOKUP($BK27,Archyvas,21,FALSE)))","v":"Ruokosuonkuja 3, 04350 Tuusula"},null,{"$f":"_xlfn.IFNA(IF(BS27=\"\",\"\",MAX(BR$1:BR26)+1),\"\")","v":""},"","","","","",""]
[null,null,null,null,null,null,null,null,null,null,null,null,null,null,null,null,null,null,null,null,null,null,null,null,null,null,null,null,null,null,null,null,null,null,null,null,null,null,null,null,null,null,null,null,null,null,null,null,null,null,null,null,null,null,null,null,null,{"$f":"IF(BG28=\"\",\"\",MAX(BF$1:BF27)+1)","v":""},{"$f":"IF(TEXT(Kortelė!$B$26,\"mm\")=IF(A28=\"\",\"\",TEXT(A28,\"mm\")),A28,\"\")","v":""},null,"",{"$f":"_xlfn.IFNA(IF(BL28=\"\",\"\",MAX(BJ$1:BJ27)+1),\"\")","v":15},"2019-02-05",{"$f":"IF(IF(IF(VLOOKUP($BK28,Archyvas,22,FALSE)=$BL$1,\"\",VLOOKUP($BK28,Archyvas,25,FALSE))=0,\"\",IF(VLOOKUP($BK28,Archyvas,22,FALSE)=$BL$1,\"\",VLOOKUP($BK28,Archyvas,25,FALSE)))=\"\",\"\",IF(IF(VLOOKUP($BK28,Archyvas,22,FALSE)=$BL$1,\"\",VLOOKUP($BK28,Archyvas,22,FALSE))=0,\"\",IF(VLOOKUP($BK28,Archyvas,22,FALSE)=$BL$1,\"\",VLOOKUP($BK28,Archyvas,22,FALSE))))","v":"Namas 3"},{"$f":"IF(IF(VLOOKUP($BK28,Archyvas,22,FALSE)=$BL$1,\"\",VLOOKUP($BK28,Archyvas,23,FALSE))=0,\"\",IF(VLOOKUP($BK28,Archyvas,22,FALSE)=$BL$1,\"\",VLOOKUP($BK28,Archyvas,23,FALSE)))","v":"Ruokosuonkuja 3, 04350 Tuusula"},{"$f":"IF(IF(VLOOKUP($BK28,Archyvas,22,FALSE)=$BL$1,\"\",VLOOKUP($BK28,Archyvas,24,FALSE))=0,\"\",IF(VLOOKUP($BK28,Archyvas,22,FALSE)=$BL$1,\"\",VLOOKUP($BK28,Archyvas,24,FALSE)))","v":2},{"$f":"IF(IF(VLOOKUP($BK28,Archyvas,22,FALSE)=$BL$1,\"\",VLOOKUP($BK28,Archyvas,25,FALSE))=0,\"\",IF(VLOOKUP($BK28,Archyvas,22,FALSE)=$BL$1,\"\",VLOOKUP($BK28,Archyvas,25,FALSE)))","v":8},{"$f":"IF(IF(VLOOKUP($BK28,Archyvas,22,FALSE)=$BL$1,\"\",VLOOKUP($BK28,Archyvas,26,FALSE))=0,\"\",IF(VLOOKUP($BK28,Archyvas,22,FALSE)=$BL$1,\"\",VLOOKUP($BK28,Archyvas,26,FALSE)))","v":"Pekontie 1, 01900 Nurmijärvi"},null,{"$f":"_xlfn.IFNA(IF(BS28=\"\",\"\",MAX(BR$1:BR27)+1),\"\")","v":""},"","","","","",""]
[null,null,null,null,null,null,null,null,null,null,null,null,null,null,null,null,null,null,null,null,null,null,null,null,null,null,null,null,null,null,null,null,null,null,null,null,null,null,null,null,null,null,null,null,null,null,null,null,null,null,null,null,null,null,null,null,null,{"$f":"IF(BG29=\"\",\"\",MAX(BF$1:BF28)+1)","v":""},{"$f":"IF(TEXT(Kortelė!$B$26,\"mm\")=IF(A29=\"\",\"\",TEXT(A29,\"mm\")),A29,\"\")","v":""},null,"",{"$f":"_xlfn.IFNA(IF(BL29=\"\",\"\",MAX(BJ$1:BJ28)+1),\"\")","v":16},"2019-02-05",{"$f":"IF(IF(IF(VLOOKUP($BK29,Archyvas,27,FALSE)=$BL$1,\"\",VLOOKUP($BK29,Archyvas,30,FALSE))=0,\"\",IF(VLOOKUP($BK29,Archyvas,27,FALSE)=$BL$1,\"\",VLOOKUP($BK29,Archyvas,30,FALSE)))=\"\",\"\",IF(IF(VLOOKUP($BK29,Archyvas,27,FALSE)=$BL$1,\"\",VLOOKUP($BK29,Archyvas,27,FALSE))=0,\"\",IF(VLOOKUP($BK29,Archyvas,27,FALSE)=$BL$1,\"\",VLOOKUP($BK29,Archyvas,27,FALSE))))","v":"Dažų pard."},{"$f":"IF(IF(VLOOKUP($BK29,Archyvas,27,FALSE)=$BL$1,\"\",VLOOKUP($BK29,Archyvas,28,FALSE))=0,\"\",IF(VLOOKUP($BK29,Archyvas,27,FALSE)=$BL$1,\"\",VLOOKUP($BK29,Archyvas,28,FALSE)))","v":"Pekontie 1, 01900 Nurmijärvi"},{"$f":"IF(IF(VLOOKUP($BK29,Archyvas,27,FALSE)=$BL$1,\"\",VLOOKUP($BK29,Archyvas,29,FALSE))=0,\"\",IF(VLOOKUP($BK29,Archyvas,27,FALSE)=$BL$1,\"\",VLOOKUP($BK29,Archyvas,29,FALSE)))","v":2},{"$f":"IF(IF(VLOOKUP($BK29,Archyvas,27,FALSE)=$BL$1,\"\",VLOOKUP($BK29,Archyvas,30,FALSE))=0,\"\",IF(VLOOKUP($BK29,Archyvas,27,FALSE)=$BL$1,\"\",VLOOKUP($BK29,Archyvas,30,FALSE)))","v":8},{"$f":"IF(IF(VLOOKUP($BK29,Archyvas,27,FALSE)=$BL$1,\"\",VLOOKUP($BK29,Archyvas,31,FALSE))=0,\"\",IF(VLOOKUP($BK29,Archyvas,27,FALSE)=$BL$1,\"\",VLOOKUP($BK29,Archyvas,31,FALSE)))","v":"Vanha Rajamäentie 173, 05200 Nurmijärvi"},null,{"$f":"_xlfn.IFNA(IF(BS29=\"\",\"\",MAX(BR$1:BR28)+1),\"\")","v":""},"","","","","",""]
[null,null,null,null,null,null,null,null,null,null,null,null,null,null,null,null,null,null,null,null,null,null,null,null,null,null,null,null,null,null,null,null,null,null,null,null,null,null,null,null,null,null,null,null,null,null,null,null,null,null,null,null,null,null,null,null,null,{"$f":"IF(BG30=\"\",\"\",MAX(BF$1:BF29)+1)","v":""},{"$f":"IF(TEXT(Kortelė!$B$26,\"mm\")=IF(A30=\"\",\"\",TEXT(A30,\"mm\")),A30,\"\")","v":""},null,"",{"$f":"_xlfn.IFNA(IF(BL30=\"\",\"\",MAX(BJ$1:BJ29)+1),\"\")","v":17},"2019-02-05",{"$f":"IF(IF(IF(VLOOKUP($BK30,Archyvas,32,FALSE)=$BL$1,\"\",VLOOKUP($BK30,Archyvas,35,FALSE))=0,\"\",IF(VLOOKUP($BK30,Archyvas,32,FALSE)=$BL$1,\"\",VLOOKUP($BK30,Archyvas,35,FALSE)))=\"\",\"\",IF(IF(VLOOKUP($BK30,Archyvas,32,FALSE)=$BL$1,\"\",VLOOKUP($BK30,Archyvas,32,FALSE))=0,\"\",IF(VLOOKUP($BK30,Archyvas,32,FALSE)=$BL$1,\"\",VLOOKUP($BK30,Archyvas,32,FALSE))))","v":"Motociklai"},{"$f":"IF(IF(VLOOKUP($BK30,Archyvas,32,FALSE)=$BL$1,\"\",VLOOKUP($BK30,Archyvas,33,FALSE))=0,\"\",IF(VLOOKUP($BK30,Archyvas,32,FALSE)=$BL$1,\"\",VLOOKUP($BK30,Archyvas,33,FALSE)))","v":"Vanha Rajamäentie 173, 05200 Nurmijärvi"},{"$f":"IF(IF(VLOOKUP($BK30,Archyvas,32,FALSE)=$BL$1,\"\",VLOOKUP($BK30,Archyvas,34,FALSE))=0,\"\",IF(VLOOKUP($BK30,Archyvas,32,FALSE)=$BL$1,\"\",VLOOKUP($BK30,Archyvas,34,FALSE)))","v":2},{"$f":"IF(IF(VLOOKUP($BK30,Archyvas,32,FALSE)=$BL$1,\"\",VLOOKUP($BK30,Archyvas,35,FALSE))=0,\"\",IF(VLOOKUP($BK30,Archyvas,32,FALSE)=$BL$1,\"\",VLOOKUP($BK30,Archyvas,35,FALSE)))","v":58},{"$f":"IF(IF(VLOOKUP($BK30,Archyvas,32,FALSE)=$BL$1,\"\",VLOOKUP($BK30,Archyvas,36,FALSE))=0,\"\",IF(VLOOKUP($BK30,Archyvas,32,FALSE)=$BL$1,\"\",VLOOKUP($BK30,Archyvas,36,FALSE)))","v":"Soukankaari 12A - 2  02360 Espoo"},null,{"$f":"_xlfn.IFNA(IF(BS30=\"\",\"\",MAX(BR$1:BR29)+1),\"\")","v":""},"","","","","",""]
[null,null,null,null,null,null,null,null,null,null,null,null,null,null,null,null,null,null,null,null,null,null,null,null,null,null,null,null,null,null,null,null,null,null,null,null,null,null,null,null,null,null,null,null,null,null,null,null,null,null,null,null,null,null,null,null,null,{"$f":"IF(BG31=\"\",\"\",MAX(BF$1:BF30)+1)","v":""},{"$f":"IF(TEXT(Kortelė!$B$26,\"mm\")=IF(A31=\"\",\"\",TEXT(A31,\"mm\")),A31,\"\")","v":""},null,"",{"$f":"_xlfn.IFNA(IF(BL31=\"\",\"\",MAX(BJ$1:BJ30)+1),\"\")","v":""},"2019-02-05",{"$f":"IF(IF(IF(VLOOKUP($BK31,Archyvas,37,FALSE)=$BL$1,\"\",VLOOKUP($BK31,Archyvas,40,FALSE))=0,\"\",IF(VLOOKUP($BK31,Archyvas,37,FALSE)=$BL$1,\"\",VLOOKUP($BK31,Archyvas,40,FALSE)))=\"\",\"\",IF(IF(VLOOKUP($BK31,Archyvas,37,FALSE)=$BL$1,\"\",VLOOKUP($BK31,Archyvas,37,FALSE))=0,\"\",IF(VLOOKUP($BK31,Archyvas,37,FALSE)=$BL$1,\"\",VLOOKUP($BK31,Archyvas,37,FALSE))))","v":""},{"$f":"IF(IF(VLOOKUP($BK31,Archyvas,37,FALSE)=$BL$1,\"\",VLOOKUP($BK31,Archyvas,38,FALSE))=0,\"\",IF(VLOOKUP($BK31,Archyvas,37,FALSE)=$BL$1,\"\",VLOOKUP($BK31,Archyvas,38,FALSE)))","v":""},{"$f":"IF(IF(VLOOKUP($BK31,Archyvas,37,FALSE)=$BL$1,\"\",VLOOKUP($BK31,Archyvas,39,FALSE))=0,\"\",IF(VLOOKUP($BK31,Archyvas,37,FALSE)=$BL$1,\"\",VLOOKUP($BK31,Archyvas,39,FALSE)))","v":""},{"$f":"IF(IF(VLOOKUP($BK31,Archyvas,37,FALSE)=$BL$1,\"\",VLOOKUP($BK31,Archyvas,40,FALSE))=0,\"\",IF(VLOOKUP($BK31,Archyvas,37,FALSE)=$BL$1,\"\",VLOOKUP($BK31,Archyvas,40,FALSE)))","v":""},{"$f":"IF(IF(VLOOKUP($BK31,Archyvas,37,FALSE)=$BL$1,\"\",VLOOKUP($BK31,Archyvas,41,FALSE))=0,\"\",IF(VLOOKUP($BK31,Archyvas,37,FALSE)=$BL$1,\"\",VLOOKUP($BK31,Archyvas,41,FALSE)))","v":""},null,{"$f":"_xlfn.IFNA(IF(BS31=\"\",\"\",MAX(BR$1:BR30)+1),\"\")","v":""},"","","","","",""]
[null,null,null,null,null,null,null,null,null,null,null,null,null,null,null,null,null,null,null,null,null,null,null,null,null,null,null,null,null,null,null,null,null,null,null,null,null,null,null,null,null,null,null,null,null,null,null,null,null,null,null,null,null,null,null,null,null,{"$f":"IF(BG32=\"\",\"\",MAX(BF$1:BF31)+1)","v":""},{"$f":"IF(TEXT(Kortelė!$B$26,\"mm\")=IF(A32=\"\",\"\",TEXT(A32,\"mm\")),A32,\"\")","v":""},null,"",{"$f":"_xlfn.IFNA(IF(BL32=\"\",\"\",MAX(BJ$1:BJ31)+1),\"\")","v":""},"2019-02-05",{"$f":"IF(IF(IF(VLOOKUP($BK32,Archyvas,42,FALSE)=$BL$1,\"\",VLOOKUP($BK32,Archyvas,45,FALSE))=0,\"\",IF(VLOOKUP($BK32,Archyvas,42,FALSE)=$BL$1,\"\",VLOOKUP($BK32,Archyvas,45,FALSE)))=\"\",\"\",IF(IF(VLOOKUP($BK32,Archyvas,42,FALSE)=$BL$1,\"\",VLOOKUP($BK32,Archyvas,42,FALSE))=0,\"\",IF(VLOOKUP($BK32,Archyvas,42,FALSE)=$BL$1,\"\",VLOOKUP($BK32,Archyvas,42,FALSE))))","v":""},{"$f":"IF(IF(VLOOKUP($BK32,Archyvas,42,FALSE)=$BL$1,\"\",VLOOKUP($BK32,Archyvas,43,FALSE))=0,\"\",IF(VLOOKUP($BK32,Archyvas,42,FALSE)=$BL$1,\"\",VLOOKUP($BK32,Archyvas,43,FALSE)))","v":"-"},{"$f":"IF(IF(VLOOKUP($BK32,Archyvas,42,FALSE)=$BL$1,\"\",VLOOKUP($BK32,Archyvas,44,FALSE))=0,\"\",IF(VLOOKUP($BK32,Archyvas,42,FALSE)=$BL$1,\"\",VLOOKUP($BK32,Archyvas,44,FALSE)))","v":""},{"$f":"IF(IF(VLOOKUP($BK32,Archyvas,42,FALSE)=$BL$1,\"\",VLOOKUP($BK32,Archyvas,45,FALSE))=0,\"\",IF(VLOOKUP($BK32,Archyvas,42,FALSE)=$BL$1,\"\",VLOOKUP($BK32,Archyvas,45,FALSE)))","v":""},{"$f":"IF(IF(VLOOKUP($BK32,Archyvas,42,FALSE)=$BL$1,\"\",VLOOKUP($BK32,Archyvas,46,FALSE))=0,\"\",IF(VLOOKUP($BK32,Archyvas,42,FALSE)=$BL$1,\"\",VLOOKUP($BK32,Archyvas,46,FALSE)))","v":"-"},null,{"$f":"_xlfn.IFNA(IF(BS32=\"\",\"\",MAX(BR$1:BR31)+1),\"\")","v":""},"","","","","",""]
[null,null,null,null,null,null,null,null,null,null,null,null,null,null,null,null,null,null,null,null,null,null,null,null,null,null,null,null,null,null,null,null,null,null,null,null,null,null,null,null,null,null,null,null,null,null,null,null,null,null,null,null,null,null,null,null,null,{"$f":"IF(BG33=\"\",\"\",MAX(BF$1:BF32)+1)","v":""},{"$f":"IF(TEXT(Kortelė!$B$26,\"mm\")=IF(A33=\"\",\"\",TEXT(A33,\"mm\")),A33,\"\")","v":""},null,"",{"$f":"_xlfn.IFNA(IF(BL33=\"\",\"\",MAX(BJ$1:BJ32)+1),\"\")","v":""},"2019-02-05",{"$f":"IF(IF(IF(VLOOKUP($BK33,Archyvas,47,FALSE)=$BL$1,\"\",VLOOKUP($BK33,Archyvas,50,FALSE))=0,\"\",IF(VLOOKUP($BK33,Archyvas,47,FALSE)=$BL$1,\"\",VLOOKUP($BK33,Archyvas,50,FALSE)))=\"\",\"\",IF(IF(VLOOKUP($BK33,Archyvas,47,FALSE)=$BL$1,\"\",VLOOKUP($BK33,Archyvas,47,FALSE))=0,\"\",IF(VLOOKUP($BK33,Archyvas,47,FALSE)=$BL$1,\"\",VLOOKUP($BK33,Archyvas,47,FALSE))))","v":""},{"$f":"IF(IF(VLOOKUP($BK33,Archyvas,47,FALSE)=$BL$1,\"\",VLOOKUP($BK33,Archyvas,48,FALSE))=0,\"\",IF(VLOOKUP($BK33,Archyvas,47,FALSE)=$BL$1,\"\",VLOOKUP($BK33,Archyvas,48,FALSE)))","v":"-"},{"$f":"IF(IF(VLOOKUP($BK33,Archyvas,47,FALSE)=$BL$1,\"\",VLOOKUP($BK33,Archyvas,49,FALSE))=0,\"\",IF(VLOOKUP($BK33,Archyvas,47,FALSE)=$BL$1,\"\",VLOOKUP($BK33,Archyvas,49,FALSE)))","v":""},{"$f":"IF(IF(VLOOKUP($BK33,Archyvas,47,FALSE)=$BL$1,\"\",VLOOKUP($BK33,Archyvas,50,FALSE))=0,\"\",IF(VLOOKUP($BK33,Archyvas,47,FALSE)=$BL$1,\"\",VLOOKUP($BK33,Archyvas,50,FALSE)))","v":""},{"$f":"IF(IF(VLOOKUP($BK33,Archyvas,47,FALSE)=$BL$1,\"\",VLOOKUP($BK33,Archyvas,51,FALSE))=0,\"\",IF(VLOOKUP($BK33,Archyvas,47,FALSE)=$BL$1,\"\",VLOOKUP($BK33,Archyvas,51,FALSE)))","v":"-"},null,{"$f":"_xlfn.IFNA(IF(BS33=\"\",\"\",MAX(BR$1:BR32)+1),\"\")","v":""},"","","","","",""]
[null,null,null,null,null,null,null,null,null,null,null,null,null,null,null,null,null,null,null,null,null,null,null,null,null,null,null,null,null,null,null,null,null,null,null,null,null,null,null,null,null,null,null,null,null,null,null,null,null,null,null,null,null,null,null,null,null,{"$f":"IF(BG34=\"\",\"\",MAX(BF$1:BF33)+1)","v":""},{"$f":"IF(TEXT(Kortelė!$B$26,\"mm\")=IF(A34=\"\",\"\",TEXT(A34,\"mm\")),A34,\"\")","v":""},null,"",{"$f":"_xlfn.IFNA(IF(BL34=\"\",\"\",MAX(BJ$1:BJ33)+1),\"\")","v":""},"",null,null,null,null,null,null,{"$f":"_xlfn.IFNA(IF(BS34=\"\",\"\",MAX(BR$1:BR33)+1),\"\")","v":""},"","","","","",""]
[null,null,null,null,null,null,null,null,null,null,null,null,null,null,null,null,null,null,null,null,null,null,null,null,null,null,null,null,null,null,null,null,null,null,null,null,null,null,null,null,null,null,null,null,null,null,null,null,null,null,null,null,null,null,null,null,null,{"$f":"IF(BG35=\"\",\"\",MAX(BF$1:BF34)+1)","v":""},{"$f":"IF(TEXT(Kortelė!$B$26,\"mm\")=IF(A35=\"\",\"\",TEXT(A35,\"mm\")),A35,\"\")","v":""},null,"",{"$f":"_xlfn.IFNA(IF(BL35=\"\",\"\",MAX(BJ$1:BJ34)+1),\"\")","v":""},{"$f":"$BI$5","v":""},{"$f":"IF(IF(IF(VLOOKUP($BK35,Archyvas,2,FALSE)=$BL$1,\"\",VLOOKUP($BK35,Archyvas,5,FALSE))=0,\"\",IF(VLOOKUP($BK35,Archyvas,2,FALSE)=$BL$1,\"\",VLOOKUP($BK35,Archyvas,5,FALSE)))=\"\",\"\",IF(IF(VLOOKUP($BK35,Archyvas,2,FALSE)=$BL$1,\"\",VLOOKUP($BK35,Archyvas,2,FALSE))=0,\"\",IF(VLOOKUP($BK35,Archyvas,2,FALSE)=$BL$1,\"\",VLOOKUP($BK35,Archyvas,2,FALSE))))","v":{"$error":"#N/A"}},{"$f":"IF(IF(VLOOKUP($BK35,Archyvas,2,FALSE)=$BL$1,\"\",VLOOKUP($BK35,Archyvas,3,FALSE))=0,\"\",IF(VLOOKUP($BK35,Archyvas,2,FALSE)=$BL$1,\"\",VLOOKUP($BK35,Archyvas,3,FALSE)))","v":{"$error":"#N/A"}},{"$f":"IF(IF(VLOOKUP($BK35,Archyvas,2,FALSE)=$BL$1,\"\",VLOOKUP($BK35,Archyvas,4,FALSE))=0,\"\",IF(VLOOKUP($BK35,Archyvas,2,FALSE)=$BL$1,\"\",VLOOKUP($BK35,Archyvas,4,FALSE)))","v":{"$error":"#N/A"}},{"$f":"IF(IF(VLOOKUP($BK35,Archyvas,2,FALSE)=$BL$1,\"\",VLOOKUP($BK35,Archyvas,5,FALSE))=0,\"\",IF(VLOOKUP($BK35,Archyvas,2,FALSE)=$BL$1,\"\",VLOOKUP($BK35,Archyvas,5,FALSE)))","v":{"$error":"#N/A"}},{"$f":"IF(IF(VLOOKUP($BK35,Archyvas,2,FALSE)=$BL$1,\"\",VLOOKUP($BK35,Archyvas,6,FALSE))=0,\"\",IF(VLOOKUP($BK35,Archyvas,2,FALSE)=$BL$1,\"\",VLOOKUP($BK35,Archyvas,6,FALSE)))","v":{"$error":"#N/A"}},null,{"$f":"_xlfn.IFNA(IF(BS35=\"\",\"\",MAX(BR$1:BR34)+1),\"\")","v":""},"","","","","",""]
[null,null,null,null,null,null,null,null,null,null,null,null,null,null,null,null,null,null,null,null,null,null,null,null,null,null,null,null,null,null,null,null,null,null,null,null,null,null,null,null,null,null,null,null,null,null,null,null,null,null,null,null,null,null,null,null,null,{"$f":"IF(BG36=\"\",\"\",MAX(BF$1:BF35)+1)","v":""},{"$f":"IF(TEXT(Kortelė!$B$26,\"mm\")=IF(A36=\"\",\"\",TEXT(A36,\"mm\")),A36,\"\")","v":""},null,"",{"$f":"_xlfn.IFNA(IF(BL36=\"\",\"\",MAX(BJ$1:BJ35)+1),\"\")","v":""},"",{"$f":"IF(IF(IF(VLOOKUP($BK36,Archyvas,7,FALSE)=$BL$1,\"\",VLOOKUP($BK36,Archyvas,10,FALSE))=0,\"\",IF(VLOOKUP($BK36,Archyvas,7,FALSE)=$BL$1,\"\",VLOOKUP($BK36,Archyvas,10,FALSE)))=\"\",\"\",IF(IF(VLOOKUP($BK36,Archyvas,7,FALSE)=$BL$1,\"\",VLOOKUP($BK36,Archyvas,7,FALSE))=0,\"\",IF(VLOOKUP($BK36,Archyvas,7,FALSE)=$BL$1,\"\",VLOOKUP($BK36,Archyvas,7,FALSE))))","v":{"$error":"#N/A"}},{"$f":"IF(IF(VLOOKUP($BK36,Archyvas,7,FALSE)=$BL$1,\"\",VLOOKUP($BK36,Archyvas,8,FALSE))=0,\"\",IF(VLOOKUP($BK36,Archyvas,7,FALSE)=$BL$1,\"\",VLOOKUP($BK36,Archyvas,8,FALSE)))","v":{"$error":"#N/A"}},{"$f":"IF(IF(VLOOKUP($BK36,Archyvas,7,FALSE)=$BL$1,\"\",VLOOKUP($BK36,Archyvas,9,FALSE))=0,\"\",IF(VLOOKUP($BK36,Archyvas,7,FALSE)=$BL$1,\"\",VLOOKUP($BK36,Archyvas,9,FALSE)))","v":{"$error":"#N/A"}},{"$f":"IF(IF(VLOOKUP($BK36,Archyvas,7,FALSE)=$BL$1,\"\",VLOOKUP($BK36,Archyvas,10,FALSE))=0,\"\",IF(VLOOKUP($BK36,Archyvas,7,FALSE)=$BL$1,\"\",VLOOKUP($BK36,Archyvas,10,FALSE)))","v":{"$error":"#N/A"}},{"$f":"IF(IF(VLOOKUP($BK36,Archyvas,7,FALSE)=$BL$1,\"\",VLOOKUP($BK36,Archyvas,11,FALSE))=0,\"\",IF(VLOOKUP($BK36,Archyvas,7,FALSE)=$BL$1,\"\",VLOOKUP($BK36,Archyvas,11,FALSE)))","v":{"$error":"#N/A"}},null,{"$f":"_xlfn.IFNA(IF(BS36=\"\",\"\",MAX(BR$1:BR35)+1),\"\")","v":""},"","","","","",""]
[null,null,null,null,null,null,null,null,null,null,null,null,null,null,null,null,null,null,null,null,null,null,null,null,null,null,null,null,null,null,null,null,null,null,null,null,null,null,null,null,null,null,null,null,null,null,null,null,null,null,null,null,null,null,null,null,null,{"$f":"IF(BG37=\"\",\"\",MAX(BF$1:BF36)+1)","v":""},{"$f":"IF(TEXT(Kortelė!$B$26,\"mm\")=IF(A37=\"\",\"\",TEXT(A37,\"mm\")),A37,\"\")","v":""},null,"",{"$f":"_xlfn.IFNA(IF(BL37=\"\",\"\",MAX(BJ$1:BJ36)+1),\"\")","v":""},"",{"$f":"IF(IF(IF(VLOOKUP($BK37,Archyvas,12,FALSE)=$BL$1,\"\",VLOOKUP($BK37,Archyvas,15,FALSE))=0,\"\",IF(VLOOKUP($BK37,Archyvas,12,FALSE)=$BL$1,\"\",VLOOKUP($BK37,Archyvas,15,FALSE)))=\"\",\"\",IF(IF(VLOOKUP($BK37,Archyvas,12,FALSE)=$BL$1,\"\",VLOOKUP($BK37,Archyvas,12,FALSE))=0,\"\",IF(VLOOKUP($BK37,Archyvas,12,FALSE)=$BL$1,\"\",VLOOKUP($BK37,Archyvas,12,FALSE))))","v":{"$error":"#N/A"}},{"$f":"IF(IF(VLOOKUP($BK37,Archyvas,12,FALSE)=$BL$1,\"\",VLOOKUP($BK37,Archyvas,13,FALSE))=0,\"\",IF(VLOOKUP($BK37,Archyvas,12,FALSE)=$BL$1,\"\",VLOOKUP($BK37,Archyvas,13,FALSE)))","v":{"$error":"#N/A"}},{"$f":"IF(IF(VLOOKUP($BK37,Archyvas,12,FALSE)=$BL$1,\"\",VLOOKUP($BK37,Archyvas,14,FALSE))=0,\"\",IF(VLOOKUP($BK37,Archyvas,12,FALSE)=$BL$1,\"\",VLOOKUP($BK37,Archyvas,14,FALSE)))","v":{"$error":"#N/A"}},{"$f":"IF(IF(VLOOKUP($BK37,Archyvas,12,FALSE)=$BL$1,\"\",VLOOKUP($BK37,Archyvas,15,FALSE))=0,\"\",IF(VLOOKUP($BK37,Archyvas,12,FALSE)=$BL$1,\"\",VLOOKUP($BK37,Archyvas,15,FALSE)))","v":{"$error":"#N/A"}},{"$f":"IF(IF(VLOOKUP($BK37,Archyvas,12,FALSE)=$BL$1,\"\",VLOOKUP($BK37,Archyvas,16,FALSE))=0,\"\",IF(VLOOKUP($BK37,Archyvas,12,FALSE)=$BL$1,\"\",VLOOKUP($BK37,Archyvas,16,FALSE)))","v":{"$error":"#N/A"}},null,{"$f":"_xlfn.IFNA(IF(BS37=\"\",\"\",MAX(BR$1:BR36)+1),\"\")","v":""},"","","","","",""]
[null,null,null,null,null,null,null,null,null,null,null,null,null,null,null,null,null,null,null,null,null,null,null,null,null,null,null,null,null,null,null,null,null,null,null,null,null,null,null,null,null,null,null,null,null,null,null,null,null,null,null,null,null,null,null,null,null,{"$f":"IF(BG38=\"\",\"\",MAX(BF$1:BF37)+1)","v":""},{"$f":"IF(TEXT(Kortelė!$B$26,\"mm\")=IF(A38=\"\",\"\",TEXT(A38,\"mm\")),A38,\"\")","v":""},null,"",{"$f":"_xlfn.IFNA(IF(BL38=\"\",\"\",MAX(BJ$1:BJ37)+1),\"\")","v":""},"",{"$f":"IF(IF(IF(VLOOKUP($BK38,Archyvas,17,FALSE)=$BL$1,\"\",VLOOKUP($BK38,Archyvas,20,FALSE))=0,\"\",IF(VLOOKUP($BK38,Archyvas,17,FALSE)=$BL$1,\"\",VLOOKUP($BK38,Archyvas,20,FALSE)))=\"\",\"\",IF(IF(VLOOKUP($BK38,Archyvas,17,FALSE)=$BL$1,\"\",VLOOKUP($BK38,Archyvas,17,FALSE))=0,\"\",IF(VLOOKUP($BK38,Archyvas,17,FALSE)=$BL$1,\"\",VLOOKUP($BK38,Archyvas,17,FALSE))))","v":{"$error":"#N/A"}},{"$f":"IF(IF(VLOOKUP($BK38,Archyvas,17,FALSE)=$BL$1,\"\",VLOOKUP($BK38,Archyvas,18,FALSE))=0,\"\",IF(VLOOKUP($BK38,Archyvas,17,FALSE)=$BL$1,\"\",VLOOKUP($BK38,Archyvas,18,FALSE)))","v":{"$error":"#N/A"}},{"$f":"IF(IF(VLOOKUP($BK38,Archyvas,17,FALSE)=$BL$1,\"\",VLOOKUP($BK38,Archyvas,19,FALSE))=0,\"\",IF(VLOOKUP($BK38,Archyvas,17,FALSE)=$BL$1,\"\",VLOOKUP($BK38,Archyvas,19,FALSE)))","v":{"$error":"#N/A"}},{"$f":"IF(IF(VLOOKUP($BK38,Archyvas,17,FALSE)=$BL$1,\"\",VLOOKUP($BK38,Archyvas,20,FALSE))=0,\"\",IF(VLOOKUP($BK38,Archyvas,17,FALSE)=$BL$1,\"\",VLOOKUP($BK38,Archyvas,20,FALSE)))","v":{"$error":"#N/A"}},{"$f":"IF(IF(VLOOKUP($BK38,Archyvas,17,FALSE)=$BL$1,\"\",VLOOKUP($BK38,Archyvas,21,FALSE))=0,\"\",IF(VLOOKUP($BK38,Archyvas,17,FALSE)=$BL$1,\"\",VLOOKUP($BK38,Archyvas,21,FALSE)))","v":{"$error":"#N/A"}},null,{"$f":"_xlfn.IFNA(IF(BS38=\"\",\"\",MAX(BR$1:BR37)+1),\"\")","v":""},"","","","","",""]
[null,null,null,null,null,null,null,null,null,null,null,null,null,null,null,null,null,null,null,null,null,null,null,null,null,null,null,null,null,null,null,null,null,null,null,null,null,null,null,null,null,null,null,null,null,null,null,null,null,null,null,null,null,null,null,null,null,{"$f":"IF(BG39=\"\",\"\",MAX(BF$1:BF38)+1)","v":""},{"$f":"IF(TEXT(Kortelė!$B$26,\"mm\")=IF(A39=\"\",\"\",TEXT(A39,\"mm\")),A39,\"\")","v":""},null,"",{"$f":"_xlfn.IFNA(IF(BL39=\"\",\"\",MAX(BJ$1:BJ38)+1),\"\")","v":""},"",{"$f":"IF(IF(IF(VLOOKUP($BK39,Archyvas,22,FALSE)=$BL$1,\"\",VLOOKUP($BK39,Archyvas,25,FALSE))=0,\"\",IF(VLOOKUP($BK39,Archyvas,22,FALSE)=$BL$1,\"\",VLOOKUP($BK39,Archyvas,25,FALSE)))=\"\",\"\",IF(IF(VLOOKUP($BK39,Archyvas,22,FALSE)=$BL$1,\"\",VLOOKUP($BK39,Archyvas,22,FALSE))=0,\"\",IF(VLOOKUP($BK39,Archyvas,22,FALSE)=$BL$1,\"\",VLOOKUP($BK39,Archyvas,22,FALSE))))","v":{"$error":"#N/A"}},{"$f":"IF(IF(VLOOKUP($BK39,Archyvas,22,FALSE)=$BL$1,\"\",VLOOKUP($BK39,Archyvas,23,FALSE))=0,\"\",IF(VLOOKUP($BK39,Archyvas,22,FALSE)=$BL$1,\"\",VLOOKUP($BK39,Archyvas,23,FALSE)))","v":{"$error":"#N/A"}},{"$f":"IF(IF(VLOOKUP($BK39,Archyvas,22,FALSE)=$BL$1,\"\",VLOOKUP($BK39,Archyvas,24,FALSE))=0,\"\",IF(VLOOKUP($BK39,Archyvas,22,FALSE)=$BL$1,\"\",VLOOKUP($BK39,Archyvas,24,FALSE)))","v":{"$error":"#N/A"}},{"$f":"IF(IF(VLOOKUP($BK39,Archyvas,22,FALSE)=$BL$1,\"\",VLOOKUP($BK39,Archyvas,25,FALSE))=0,\"\",IF(VLOOKUP($BK39,Archyvas,22,FALSE)=$BL$1,\"\",VLOOKUP($BK39,Archyvas,25,FALSE)))","v":{"$error":"#N/A"}},{"$f":"IF(IF(VLOOKUP($BK39,Archyvas,22,FALSE)=$BL$1,\"\",VLOOKUP($BK39,Archyvas,26,FALSE))=0,\"\",IF(VLOOKUP($BK39,Archyvas,22,FALSE)=$BL$1,\"\",VLOOKUP($BK39,Archyvas,26,FALSE)))","v":{"$error":"#N/A"}},null,{"$f":"_xlfn.IFNA(IF(BS39=\"\",\"\",MAX(BR$1:BR38)+1),\"\")","v":""},"","","","","",""]
[null,null,null,null,null,null,null,null,null,null,null,null,null,null,null,null,null,null,null,null,null,null,null,null,null,null,null,null,null,null,null,null,null,null,null,null,null,null,null,null,null,null,null,null,null,null,null,null,null,null,null,null,null,null,null,null,null,{"$f":"IF(BG40=\"\",\"\",MAX(BF$1:BF39)+1)","v":""},{"$f":"IF(TEXT(Kortelė!$B$26,\"mm\")=IF(A40=\"\",\"\",TEXT(A40,\"mm\")),A40,\"\")","v":""},null,"",{"$f":"_xlfn.IFNA(IF(BL40=\"\",\"\",MAX(BJ$1:BJ39)+1),\"\")","v":""},"",{"$f":"IF(IF(IF(VLOOKUP($BK40,Archyvas,27,FALSE)=$BL$1,\"\",VLOOKUP($BK40,Archyvas,30,FALSE))=0,\"\",IF(VLOOKUP($BK40,Archyvas,27,FALSE)=$BL$1,\"\",VLOOKUP($BK40,Archyvas,30,FALSE)))=\"\",\"\",IF(IF(VLOOKUP($BK40,Archyvas,27,FALSE)=$BL$1,\"\",VLOOKUP($BK40,Archyvas,27,FALSE))=0,\"\",IF(VLOOKUP($BK40,Archyvas,27,FALSE)=$BL$1,\"\",VLOOKUP($BK40,Archyvas,27,FALSE))))","v":{"$error":"#N/A"}},{"$f":"IF(IF(VLOOKUP($BK40,Archyvas,27,FALSE)=$BL$1,\"\",VLOOKUP($BK40,Archyvas,28,FALSE))=0,\"\",IF(VLOOKUP($BK40,Archyvas,27,FALSE)=$BL$1,\"\",VLOOKUP($BK40,Archyvas,28,FALSE)))","v":{"$error":"#N/A"}},{"$f":"IF(IF(VLOOKUP($BK40,Archyvas,27,FALSE)=$BL$1,\"\",VLOOKUP($BK40,Archyvas,29,FALSE))=0,\"\",IF(VLOOKUP($BK40,Archyvas,27,FALSE)=$BL$1,\"\",VLOOKUP($BK40,Archyvas,29,FALSE)))","v":{"$error":"#N/A"}},{"$f":"IF(IF(VLOOKUP($BK40,Archyvas,27,FALSE)=$BL$1,\"\",VLOOKUP($BK40,Archyvas,30,FALSE))=0,\"\",IF(VLOOKUP($BK40,Archyvas,27,FALSE)=$BL$1,\"\",VLOOKUP($BK40,Archyvas,30,FALSE)))","v":{"$error":"#N/A"}},{"$f":"IF(IF(VLOOKUP($BK40,Archyvas,27,FALSE)=$BL$1,\"\",VLOOKUP($BK40,Archyvas,31,FALSE))=0,\"\",IF(VLOOKUP($BK40,Archyvas,27,FALSE)=$BL$1,\"\",VLOOKUP($BK40,Archyvas,31,FALSE)))","v":{"$error":"#N/A"}},null,{"$f":"_xlfn.IFNA(IF(BS40=\"\",\"\",MAX(BR$1:BR39)+1),\"\")","v":""},"","","","","",""]
[null,null,null,null,null,null,null,null,null,null,null,null,null,null,null,null,null,null,null,null,null,null,null,null,null,null,null,null,null,null,null,null,null,null,null,null,null,null,null,null,null,null,null,null,null,null,null,null,null,null,null,null,null,null,null,null,null,{"$f":"IF(BG41=\"\",\"\",MAX(BF$1:BF40)+1)","v":""},{"$f":"IF(TEXT(Kortelė!$B$26,\"mm\")=IF(A41=\"\",\"\",TEXT(A41,\"mm\")),A41,\"\")","v":""},null,"",{"$f":"_xlfn.IFNA(IF(BL41=\"\",\"\",MAX(BJ$1:BJ40)+1),\"\")","v":""},"",{"$f":"IF(IF(IF(VLOOKUP($BK41,Archyvas,32,FALSE)=$BL$1,\"\",VLOOKUP($BK41,Archyvas,35,FALSE))=0,\"\",IF(VLOOKUP($BK41,Archyvas,32,FALSE)=$BL$1,\"\",VLOOKUP($BK41,Archyvas,35,FALSE)))=\"\",\"\",IF(IF(VLOOKUP($BK41,Archyvas,32,FALSE)=$BL$1,\"\",VLOOKUP($BK41,Archyvas,32,FALSE))=0,\"\",IF(VLOOKUP($BK41,Archyvas,32,FALSE)=$BL$1,\"\",VLOOKUP($BK41,Archyvas,32,FALSE))))","v":{"$error":"#N/A"}},{"$f":"IF(IF(VLOOKUP($BK41,Archyvas,32,FALSE)=$BL$1,\"\",VLOOKUP($BK41,Archyvas,33,FALSE))=0,\"\",IF(VLOOKUP($BK41,Archyvas,32,FALSE)=$BL$1,\"\",VLOOKUP($BK41,Archyvas,33,FALSE)))","v":{"$error":"#N/A"}},{"$f":"IF(IF(VLOOKUP($BK41,Archyvas,32,FALSE)=$BL$1,\"\",VLOOKUP($BK41,Archyvas,34,FALSE))=0,\"\",IF(VLOOKUP($BK41,Archyvas,32,FALSE)=$BL$1,\"\",VLOOKUP($BK41,Archyvas,34,FALSE)))","v":{"$error":"#N/A"}},{"$f":"IF(IF(VLOOKUP($BK41,Archyvas,32,FALSE)=$BL$1,\"\",VLOOKUP($BK41,Archyvas,35,FALSE))=0,\"\",IF(VLOOKUP($BK41,Archyvas,32,FALSE)=$BL$1,\"\",VLOOKUP($BK41,Archyvas,35,FALSE)))","v":{"$error":"#N/A"}},{"$f":"IF(IF(VLOOKUP($BK41,Archyvas,32,FALSE)=$BL$1,\"\",VLOOKUP($BK41,Archyvas,36,FALSE))=0,\"\",IF(VLOOKUP($BK41,Archyvas,32,FALSE)=$BL$1,\"\",VLOOKUP($BK41,Archyvas,36,FALSE)))","v":{"$error":"#N/A"}},null,{"$f":"_xlfn.IFNA(IF(BS41=\"\",\"\",MAX(BR$1:BR40)+1),\"\")","v":""},"","","","","",""]
[null,null,null,null,null,null,null,null,null,null,null,null,null,null,null,null,null,null,null,null,null,null,null,null,null,null,null,null,null,null,null,null,null,null,null,null,null,null,null,null,null,null,null,null,null,null,null,null,null,null,null,null,null,null,null,null,null,{"$f":"IF(BG42=\"\",\"\",MAX(BF$1:BF41)+1)","v":""},{"$f":"IF(TEXT(Kortelė!$B$26,\"mm\")=IF(A42=\"\",\"\",TEXT(A42,\"mm\")),A42,\"\")","v":""},null,"",{"$f":"_xlfn.IFNA(IF(BL42=\"\",\"\",MAX(BJ$1:BJ41)+1),\"\")","v":""},"",{"$f":"IF(IF(IF(VLOOKUP($BK42,Archyvas,37,FALSE)=$BL$1,\"\",VLOOKUP($BK42,Archyvas,40,FALSE))=0,\"\",IF(VLOOKUP($BK42,Archyvas,37,FALSE)=$BL$1,\"\",VLOOKUP($BK42,Archyvas,40,FALSE)))=\"\",\"\",IF(IF(VLOOKUP($BK42,Archyvas,37,FALSE)=$BL$1,\"\",VLOOKUP($BK42,Archyvas,37,FALSE))=0,\"\",IF(VLOOKUP($BK42,Archyvas,37,FALSE)=$BL$1,\"\",VLOOKUP($BK42,Archyvas,37,FALSE))))","v":{"$error":"#N/A"}},{"$f":"IF(IF(VLOOKUP($BK42,Archyvas,37,FALSE)=$BL$1,\"\",VLOOKUP($BK42,Archyvas,38,FALSE))=0,\"\",IF(VLOOKUP($BK42,Archyvas,37,FALSE)=$BL$1,\"\",VLOOKUP($BK42,Archyvas,38,FALSE)))","v":{"$error":"#N/A"}},{"$f":"IF(IF(VLOOKUP($BK42,Archyvas,37,FALSE)=$BL$1,\"\",VLOOKUP($BK42,Archyvas,39,FALSE))=0,\"\",IF(VLOOKUP($BK42,Archyvas,37,FALSE)=$BL$1,\"\",VLOOKUP($BK42,Archyvas,39,FALSE)))","v":{"$error":"#N/A"}},{"$f":"IF(IF(VLOOKUP($BK42,Archyvas,37,FALSE)=$BL$1,\"\",VLOOKUP($BK42,Archyvas,40,FALSE))=0,\"\",IF(VLOOKUP($BK42,Archyvas,37,FALSE)=$BL$1,\"\",VLOOKUP($BK42,Archyvas,40,FALSE)))","v":{"$error":"#N/A"}},{"$f":"IF(IF(VLOOKUP($BK42,Archyvas,37,FALSE)=$BL$1,\"\",VLOOKUP($BK42,Archyvas,41,FALSE))=0,\"\",IF(VLOOKUP($BK42,Archyvas,37,FALSE)=$BL$1,\"\",VLOOKUP($BK42,Archyvas,41,FALSE)))","v":{"$error":"#N/A"}},null,{"$f":"_xlfn.IFNA(IF(BS42=\"\",\"\",MAX(BR$1:BR41)+1),\"\")","v":""},"","","","","",""]
[null,null,null,null,null,null,null,null,null,null,null,null,null,null,null,null,null,null,null,null,null,null,null,null,null,null,null,null,null,null,null,null,null,null,null,null,null,null,null,null,null,null,null,null,null,null,null,null,null,null,null,null,null,null,null,null,null,{"$f":"IF(BG43=\"\",\"\",MAX(BF$1:BF42)+1)","v":""},{"$f":"IF(TEXT(Kortelė!$B$26,\"mm\")=IF(A43=\"\",\"\",TEXT(A43,\"mm\")),A43,\"\")","v":""},null,"",{"$f":"_xlfn.IFNA(IF(BL43=\"\",\"\",MAX(BJ$1:BJ42)+1),\"\")","v":""},"",{"$f":"IF(IF(IF(VLOOKUP($BK43,Archyvas,42,FALSE)=$BL$1,\"\",VLOOKUP($BK43,Archyvas,45,FALSE))=0,\"\",IF(VLOOKUP($BK43,Archyvas,42,FALSE)=$BL$1,\"\",VLOOKUP($BK43,Archyvas,45,FALSE)))=\"\",\"\",IF(IF(VLOOKUP($BK43,Archyvas,42,FALSE)=$BL$1,\"\",VLOOKUP($BK43,Archyvas,42,FALSE))=0,\"\",IF(VLOOKUP($BK43,Archyvas,42,FALSE)=$BL$1,\"\",VLOOKUP($BK43,Archyvas,42,FALSE))))","v":{"$error":"#N/A"}},{"$f":"IF(IF(VLOOKUP($BK43,Archyvas,42,FALSE)=$BL$1,\"\",VLOOKUP($BK43,Archyvas,43,FALSE))=0,\"\",IF(VLOOKUP($BK43,Archyvas,42,FALSE)=$BL$1,\"\",VLOOKUP($BK43,Archyvas,43,FALSE)))","v":{"$error":"#N/A"}},{"$f":"IF(IF(VLOOKUP($BK43,Archyvas,42,FALSE)=$BL$1,\"\",VLOOKUP($BK43,Archyvas,44,FALSE))=0,\"\",IF(VLOOKUP($BK43,Archyvas,42,FALSE)=$BL$1,\"\",VLOOKUP($BK43,Archyvas,44,FALSE)))","v":{"$error":"#N/A"}},{"$f":"IF(IF(VLOOKUP($BK43,Archyvas,42,FALSE)=$BL$1,\"\",VLOOKUP($BK43,Archyvas,45,FALSE))=0,\"\",IF(VLOOKUP($BK43,Archyvas,42,FALSE)=$BL$1,\"\",VLOOKUP($BK43,Archyvas,45,FALSE)))","v":{"$error":"#N/A"}},{"$f":"IF(IF(VLOOKUP($BK43,Archyvas,42,FALSE)=$BL$1,\"\",VLOOKUP($BK43,Archyvas,46,FALSE))=0,\"\",IF(VLOOKUP($BK43,Archyvas,42,FALSE)=$BL$1,\"\",VLOOKUP($BK43,Archyvas,46,FALSE)))","v":{"$error":"#N/A"}},null,{"$f":"_xlfn.IFNA(IF(BS43=\"\",\"\",MAX(BR$1:BR42)+1),\"\")","v":""},"","","","","",""]
[null,null,null,null,null,null,null,null,null,null,null,null,null,null,null,null,null,null,null,null,null,null,null,null,null,null,null,null,null,null,null,null,null,null,null,null,null,null,null,null,null,null,null,null,null,null,null,null,null,null,null,null,null,null,null,null,null,{"$f":"IF(BG44=\"\",\"\",MAX(BF$1:BF43)+1)","v":""},{"$f":"IF(TEXT(Kortelė!$B$26,\"mm\")=IF(A44=\"\",\"\",TEXT(A44,\"mm\")),A44,\"\")","v":""},null,"",{"$f":"_xlfn.IFNA(IF(BL44=\"\",\"\",MAX(BJ$1:BJ43)+1),\"\")","v":""},"",{"$f":"IF(IF(IF(VLOOKUP($BK44,Archyvas,47,FALSE)=$BL$1,\"\",VLOOKUP($BK44,Archyvas,50,FALSE))=0,\"\",IF(VLOOKUP($BK44,Archyvas,47,FALSE)=$BL$1,\"\",VLOOKUP($BK44,Archyvas,50,FALSE)))=\"\",\"\",IF(IF(VLOOKUP($BK44,Archyvas,47,FALSE)=$BL$1,\"\",VLOOKUP($BK44,Archyvas,47,FALSE))=0,\"\",IF(VLOOKUP($BK44,Archyvas,47,FALSE)=$BL$1,\"\",VLOOKUP($BK44,Archyvas,47,FALSE))))","v":{"$error":"#N/A"}},{"$f":"IF(IF(VLOOKUP($BK44,Archyvas,47,FALSE)=$BL$1,\"\",VLOOKUP($BK44,Archyvas,48,FALSE))=0,\"\",IF(VLOOKUP($BK44,Archyvas,47,FALSE)=$BL$1,\"\",VLOOKUP($BK44,Archyvas,48,FALSE)))","v":{"$error":"#N/A"}},{"$f":"IF(IF(VLOOKUP($BK44,Archyvas,47,FALSE)=$BL$1,\"\",VLOOKUP($BK44,Archyvas,49,FALSE))=0,\"\",IF(VLOOKUP($BK44,Archyvas,47,FALSE)=$BL$1,\"\",VLOOKUP($BK44,Archyvas,49,FALSE)))","v":{"$error":"#N/A"}},{"$f":"IF(IF(VLOOKUP($BK44,Archyvas,47,FALSE)=$BL$1,\"\",VLOOKUP($BK44,Archyvas,50,FALSE))=0,\"\",IF(VLOOKUP($BK44,Archyvas,47,FALSE)=$BL$1,\"\",VLOOKUP($BK44,Archyvas,50,FALSE)))","v":{"$error":"#N/A"}},{"$f":"IF(IF(VLOOKUP($BK44,Archyvas,47,FALSE)=$BL$1,\"\",VLOOKUP($BK44,Archyvas,51,FALSE))=0,\"\",IF(VLOOKUP($BK44,Archyvas,47,FALSE)=$BL$1,\"\",VLOOKUP($BK44,Archyvas,51,FALSE)))","v":{"$error":"#N/A"}},null,{"$f":"_xlfn.IFNA(IF(BS44=\"\",\"\",MAX(BR$1:BR43)+1),\"\")","v":""},"","","","","",""]
[null,null,null,null,null,null,null,null,null,null,null,null,null,null,null,null,null,null,null,null,null,null,null,null,null,null,null,null,null,null,null,null,null,null,null,null,null,null,null,null,null,null,null,null,null,null,null,null,null,null,null,null,null,null,null,null,null,{"$f":"IF(BG45=\"\",\"\",MAX(BF$1:BF44)+1)","v":""},{"$f":"IF(TEXT(Kortelė!$B$26,\"mm\")=IF(A45=\"\",\"\",TEXT(A45,\"mm\")),A45,\"\")","v":""},null,"",{"$f":"_xlfn.IFNA(IF(BL45=\"\",\"\",MAX(BJ$1:BJ44)+1),\"\")","v":""},"",null,null,null,null,null,null,{"$f":"_xlfn.IFNA(IF(BS45=\"\",\"\",MAX(BR$1:BR44)+1),\"\")","v":""},"","","","","",""]
[null,null,null,null,null,null,null,null,null,null,null,null,null,null,null,null,null,null,null,null,null,null,null,null,null,null,null,null,null,null,null,null,null,null,null,null,null,null,null,null,null,null,null,null,null,null,null,null,null,null,null,null,null,null,null,null,null,{"$f":"IF(BG46=\"\",\"\",MAX(BF$1:BF45)+1)","v":""},{"$f":"IF(TEXT(Kortelė!$B$26,\"mm\")=IF(A46=\"\",\"\",TEXT(A46,\"mm\")),A46,\"\")","v":""},null,"",{"$f":"_xlfn.IFNA(IF(BL46=\"\",\"\",MAX(BJ$1:BJ45)+1),\"\")","v":""},{"$f":"$BI$6","v":""},{"$f":"IF(IF(IF(VLOOKUP($BK46,Archyvas,2,FALSE)=$BL$1,\"\",VLOOKUP($BK46,Archyvas,5,FALSE))=0,\"\",IF(VLOOKUP($BK46,Archyvas,2,FALSE)=$BL$1,\"\",VLOOKUP($BK46,Archyvas,5,FALSE)))=\"\",\"\",IF(IF(VLOOKUP($BK46,Archyvas,2,FALSE)=$BL$1,\"\",VLOOKUP($BK46,Archyvas,2,FALSE))=0,\"\",IF(VLOOKUP($BK46,Archyvas,2,FALSE)=$BL$1,\"\",VLOOKUP($BK46,Archyvas,2,FALSE))))","v":{"$error":"#N/A"}},{"$f":"IF(IF(VLOOKUP($BK46,Archyvas,2,FALSE)=$BL$1,\"\",VLOOKUP($BK46,Archyvas,3,FALSE))=0,\"\",IF(VLOOKUP($BK46,Archyvas,2,FALSE)=$BL$1,\"\",VLOOKUP($BK46,Archyvas,3,FALSE)))","v":{"$error":"#N/A"}},{"$f":"IF(IF(VLOOKUP($BK46,Archyvas,2,FALSE)=$BL$1,\"\",VLOOKUP($BK46,Archyvas,4,FALSE))=0,\"\",IF(VLOOKUP($BK46,Archyvas,2,FALSE)=$BL$1,\"\",VLOOKUP($BK46,Archyvas,4,FALSE)))","v":{"$error":"#N/A"}},{"$f":"IF(IF(VLOOKUP($BK46,Archyvas,2,FALSE)=$BL$1,\"\",VLOOKUP($BK46,Archyvas,5,FALSE))=0,\"\",IF(VLOOKUP($BK46,Archyvas,2,FALSE)=$BL$1,\"\",VLOOKUP($BK46,Archyvas,5,FALSE)))","v":{"$error":"#N/A"}},{"$f":"IF(IF(VLOOKUP($BK46,Archyvas,2,FALSE)=$BL$1,\"\",VLOOKUP($BK46,Archyvas,6,FALSE))=0,\"\",IF(VLOOKUP($BK46,Archyvas,2,FALSE)=$BL$1,\"\",VLOOKUP($BK46,Archyvas,6,FALSE)))","v":{"$error":"#N/A"}},null,{"$f":"_xlfn.IFNA(IF(BS46=\"\",\"\",MAX(BR$1:BR45)+1),\"\")","v":""},"","","","","",""]
[null,null,null,null,null,null,null,null,null,null,null,null,null,null,null,null,null,null,null,null,null,null,null,null,null,null,null,null,null,null,null,null,null,null,null,null,null,null,null,null,null,null,null,null,null,null,null,null,null,null,null,null,null,null,null,null,null,{"$f":"IF(BG47=\"\",\"\",MAX(BF$1:BF46)+1)","v":""},{"$f":"IF(TEXT(Kortelė!$B$26,\"mm\")=IF(A47=\"\",\"\",TEXT(A47,\"mm\")),A47,\"\")","v":""},null,"",{"$f":"_xlfn.IFNA(IF(BL47=\"\",\"\",MAX(BJ$1:BJ46)+1),\"\")","v":""},"",{"$f":"IF(IF(IF(VLOOKUP($BK47,Archyvas,7,FALSE)=$BL$1,\"\",VLOOKUP($BK47,Archyvas,10,FALSE))=0,\"\",IF(VLOOKUP($BK47,Archyvas,7,FALSE)=$BL$1,\"\",VLOOKUP($BK47,Archyvas,10,FALSE)))=\"\",\"\",IF(IF(VLOOKUP($BK47,Archyvas,7,FALSE)=$BL$1,\"\",VLOOKUP($BK47,Archyvas,7,FALSE))=0,\"\",IF(VLOOKUP($BK47,Archyvas,7,FALSE)=$BL$1,\"\",VLOOKUP($BK47,Archyvas,7,FALSE))))","v":{"$error":"#N/A"}},{"$f":"IF(IF(VLOOKUP($BK47,Archyvas,7,FALSE)=$BL$1,\"\",VLOOKUP($BK47,Archyvas,8,FALSE))=0,\"\",IF(VLOOKUP($BK47,Archyvas,7,FALSE)=$BL$1,\"\",VLOOKUP($BK47,Archyvas,8,FALSE)))","v":{"$error":"#N/A"}},{"$f":"IF(IF(VLOOKUP($BK47,Archyvas,7,FALSE)=$BL$1,\"\",VLOOKUP($BK47,Archyvas,9,FALSE))=0,\"\",IF(VLOOKUP($BK47,Archyvas,7,FALSE)=$BL$1,\"\",VLOOKUP($BK47,Archyvas,9,FALSE)))","v":{"$error":"#N/A"}},{"$f":"IF(IF(VLOOKUP($BK47,Archyvas,7,FALSE)=$BL$1,\"\",VLOOKUP($BK47,Archyvas,10,FALSE))=0,\"\",IF(VLOOKUP($BK47,Archyvas,7,FALSE)=$BL$1,\"\",VLOOKUP($BK47,Archyvas,10,FALSE)))","v":{"$error":"#N/A"}},{"$f":"IF(IF(VLOOKUP($BK47,Archyvas,7,FALSE)=$BL$1,\"\",VLOOKUP($BK47,Archyvas,11,FALSE))=0,\"\",IF(VLOOKUP($BK47,Archyvas,7,FALSE)=$BL$1,\"\",VLOOKUP($BK47,Archyvas,11,FALSE)))","v":{"$error":"#N/A"}},null,{"$f":"_xlfn.IFNA(IF(BS47=\"\",\"\",MAX(BR$1:BR46)+1),\"\")","v":""},"","","","","",""]
[null,null,null,null,null,null,null,null,null,null,null,null,null,null,null,null,null,null,null,null,null,null,null,null,null,null,null,null,null,null,null,null,null,null,null,null,null,null,null,null,null,null,null,null,null,null,null,null,null,null,null,null,null,null,null,null,null,{"$f":"IF(BG48=\"\",\"\",MAX(BF$1:BF47)+1)","v":""},{"$f":"IF(TEXT(Kortelė!$B$26,\"mm\")=IF(A48=\"\",\"\",TEXT(A48,\"mm\")),A48,\"\")","v":""},null,"",{"$f":"_xlfn.IFNA(IF(BL48=\"\",\"\",MAX(BJ$1:BJ47)+1),\"\")","v":""},"",{"$f":"IF(IF(IF(VLOOKUP($BK48,Archyvas,12,FALSE)=$BL$1,\"\",VLOOKUP($BK48,Archyvas,15,FALSE))=0,\"\",IF(VLOOKUP($BK48,Archyvas,12,FALSE)=$BL$1,\"\",VLOOKUP($BK48,Archyvas,15,FALSE)))=\"\",\"\",IF(IF(VLOOKUP($BK48,Archyvas,12,FALSE)=$BL$1,\"\",VLOOKUP($BK48,Archyvas,12,FALSE))=0,\"\",IF(VLOOKUP($BK48,Archyvas,12,FALSE)=$BL$1,\"\",VLOOKUP($BK48,Archyvas,12,FALSE))))","v":{"$error":"#N/A"}},{"$f":"IF(IF(VLOOKUP($BK48,Archyvas,12,FALSE)=$BL$1,\"\",VLOOKUP($BK48,Archyvas,13,FALSE))=0,\"\",IF(VLOOKUP($BK48,Archyvas,12,FALSE)=$BL$1,\"\",VLOOKUP($BK48,Archyvas,13,FALSE)))","v":{"$error":"#N/A"}},{"$f":"IF(IF(VLOOKUP($BK48,Archyvas,12,FALSE)=$BL$1,\"\",VLOOKUP($BK48,Archyvas,14,FALSE))=0,\"\",IF(VLOOKUP($BK48,Archyvas,12,FALSE)=$BL$1,\"\",VLOOKUP($BK48,Archyvas,14,FALSE)))","v":{"$error":"#N/A"}},{"$f":"IF(IF(VLOOKUP($BK48,Archyvas,12,FALSE)=$BL$1,\"\",VLOOKUP($BK48,Archyvas,15,FALSE))=0,\"\",IF(VLOOKUP($BK48,Archyvas,12,FALSE)=$BL$1,\"\",VLOOKUP($BK48,Archyvas,15,FALSE)))","v":{"$error":"#N/A"}},{"$f":"IF(IF(VLOOKUP($BK48,Archyvas,12,FALSE)=$BL$1,\"\",VLOOKUP($BK48,Archyvas,16,FALSE))=0,\"\",IF(VLOOKUP($BK48,Archyvas,12,FALSE)=$BL$1,\"\",VLOOKUP($BK48,Archyvas,16,FALSE)))","v":{"$error":"#N/A"}},null,{"$f":"_xlfn.IFNA(IF(BS48=\"\",\"\",MAX(BR$1:BR47)+1),\"\")","v":""},"","","","","",""]
[null,null,null,null,null,null,null,null,null,null,null,null,null,null,null,null,null,null,null,null,null,null,null,null,null,null,null,null,null,null,null,null,null,null,null,null,null,null,null,null,null,null,null,null,null,null,null,null,null,null,null,null,null,null,null,null,null,{"$f":"IF(BG49=\"\",\"\",MAX(BF$1:BF48)+1)","v":""},{"$f":"IF(TEXT(Kortelė!$B$26,\"mm\")=IF(A49=\"\",\"\",TEXT(A49,\"mm\")),A49,\"\")","v":""},null,"",{"$f":"_xlfn.IFNA(IF(BL49=\"\",\"\",MAX(BJ$1:BJ48)+1),\"\")","v":""},"",{"$f":"IF(IF(IF(VLOOKUP($BK49,Archyvas,17,FALSE)=$BL$1,\"\",VLOOKUP($BK49,Archyvas,20,FALSE))=0,\"\",IF(VLOOKUP($BK49,Archyvas,17,FALSE)=$BL$1,\"\",VLOOKUP($BK49,Archyvas,20,FALSE)))=\"\",\"\",IF(IF(VLOOKUP($BK49,Archyvas,17,FALSE)=$BL$1,\"\",VLOOKUP($BK49,Archyvas,17,FALSE))=0,\"\",IF(VLOOKUP($BK49,Archyvas,17,FALSE)=$BL$1,\"\",VLOOKUP($BK49,Archyvas,17,FALSE))))","v":{"$error":"#N/A"}},{"$f":"IF(IF(VLOOKUP($BK49,Archyvas,17,FALSE)=$BL$1,\"\",VLOOKUP($BK49,Archyvas,18,FALSE))=0,\"\",IF(VLOOKUP($BK49,Archyvas,17,FALSE)=$BL$1,\"\",VLOOKUP($BK49,Archyvas,18,FALSE)))","v":{"$error":"#N/A"}},{"$f":"IF(IF(VLOOKUP($BK49,Archyvas,17,FALSE)=$BL$1,\"\",VLOOKUP($BK49,Archyvas,19,FALSE))=0,\"\",IF(VLOOKUP($BK49,Archyvas,17,FALSE)=$BL$1,\"\",VLOOKUP($BK49,Archyvas,19,FALSE)))","v":{"$error":"#N/A"}},{"$f":"IF(IF(VLOOKUP($BK49,Archyvas,17,FALSE)=$BL$1,\"\",VLOOKUP($BK49,Archyvas,20,FALSE))=0,\"\",IF(VLOOKUP($BK49,Archyvas,17,FALSE)=$BL$1,\"\",VLOOKUP($BK49,Archyvas,20,FALSE)))","v":{"$error":"#N/A"}},{"$f":"IF(IF(VLOOKUP($BK49,Archyvas,17,FALSE)=$BL$1,\"\",VLOOKUP($BK49,Archyvas,21,FALSE))=0,\"\",IF(VLOOKUP($BK49,Archyvas,17,FALSE)=$BL$1,\"\",VLOOKUP($BK49,Archyvas,21,FALSE)))","v":{"$error":"#N/A"}},null,{"$f":"_xlfn.IFNA(IF(BS49=\"\",\"\",MAX(BR$1:BR48)+1),\"\")","v":""},"","","","","",""]
[null,null,null,null,null,null,null,null,null,null,null,null,null,null,null,null,null,null,null,null,null,null,null,null,null,null,null,null,null,null,null,null,null,null,null,null,null,null,null,null,null,null,null,null,null,null,null,null,null,null,null,null,null,null,null,null,null,{"$f":"IF(BG50=\"\",\"\",MAX(BF$1:BF49)+1)","v":""},{"$f":"IF(TEXT(Kortelė!$B$26,\"mm\")=IF(A50=\"\",\"\",TEXT(A50,\"mm\")),A50,\"\")","v":""},null,"",{"$f":"_xlfn.IFNA(IF(BL50=\"\",\"\",MAX(BJ$1:BJ49)+1),\"\")","v":""},"",{"$f":"IF(IF(IF(VLOOKUP($BK50,Archyvas,22,FALSE)=$BL$1,\"\",VLOOKUP($BK50,Archyvas,25,FALSE))=0,\"\",IF(VLOOKUP($BK50,Archyvas,22,FALSE)=$BL$1,\"\",VLOOKUP($BK50,Archyvas,25,FALSE)))=\"\",\"\",IF(IF(VLOOKUP($BK50,Archyvas,22,FALSE)=$BL$1,\"\",VLOOKUP($BK50,Archyvas,22,FALSE))=0,\"\",IF(VLOOKUP($BK50,Archyvas,22,FALSE)=$BL$1,\"\",VLOOKUP($BK50,Archyvas,22,FALSE))))","v":{"$error":"#N/A"}},{"$f":"IF(IF(VLOOKUP($BK50,Archyvas,22,FALSE)=$BL$1,\"\",VLOOKUP($BK50,Archyvas,23,FALSE))=0,\"\",IF(VLOOKUP($BK50,Archyvas,22,FALSE)=$BL$1,\"\",VLOOKUP($BK50,Archyvas,23,FALSE)))","v":{"$error":"#N/A"}},{"$f":"IF(IF(VLOOKUP($BK50,Archyvas,22,FALSE)=$BL$1,\"\",VLOOKUP($BK50,Archyvas,24,FALSE))=0,\"\",IF(VLOOKUP($BK50,Archyvas,22,FALSE)=$BL$1,\"\",VLOOKUP($BK50,Archyvas,24,FALSE)))","v":{"$error":"#N/A"}},{"$f":"IF(IF(VLOOKUP($BK50,Archyvas,22,FALSE)=$BL$1,\"\",VLOOKUP($BK50,Archyvas,25,FALSE))=0,\"\",IF(VLOOKUP($BK50,Archyvas,22,FALSE)=$BL$1,\"\",VLOOKUP($BK50,Archyvas,25,FALSE)))","v":{"$error":"#N/A"}},{"$f":"IF(IF(VLOOKUP($BK50,Archyvas,22,FALSE)=$BL$1,\"\",VLOOKUP($BK50,Archyvas,26,FALSE))=0,\"\",IF(VLOOKUP($BK50,Archyvas,22,FALSE)=$BL$1,\"\",VLOOKUP($BK50,Archyvas,26,FALSE)))","v":{"$error":"#N/A"}},null,{"$f":"_xlfn.IFNA(IF(BS50=\"\",\"\",MAX(BR$1:BR49)+1),\"\")","v":""},"","","","","",""]
[null,null,null,null,null,null,null,null,null,null,null,null,null,null,null,null,null,null,null,null,null,null,null,null,null,null,null,null,null,null,null,null,null,null,null,null,null,null,null,null,null,null,null,null,null,null,null,null,null,null,null,null,null,null,null,null,null,{"$f":"IF(BG51=\"\",\"\",MAX(BF$1:BF50)+1)","v":""},{"$f":"IF(TEXT(Kortelė!$B$26,\"mm\")=IF(A51=\"\",\"\",TEXT(A51,\"mm\")),A51,\"\")","v":""},null,"",{"$f":"_xlfn.IFNA(IF(BL51=\"\",\"\",MAX(BJ$1:BJ50)+1),\"\")","v":""},"",{"$f":"IF(IF(IF(VLOOKUP($BK51,Archyvas,27,FALSE)=$BL$1,\"\",VLOOKUP($BK51,Archyvas,30,FALSE))=0,\"\",IF(VLOOKUP($BK51,Archyvas,27,FALSE)=$BL$1,\"\",VLOOKUP($BK51,Archyvas,30,FALSE)))=\"\",\"\",IF(IF(VLOOKUP($BK51,Archyvas,27,FALSE)=$BL$1,\"\",VLOOKUP($BK51,Archyvas,27,FALSE))=0,\"\",IF(VLOOKUP($BK51,Archyvas,27,FALSE)=$BL$1,\"\",VLOOKUP($BK51,Archyvas,27,FALSE))))","v":{"$error":"#N/A"}},{"$f":"IF(IF(VLOOKUP($BK51,Archyvas,27,FALSE)=$BL$1,\"\",VLOOKUP($BK51,Archyvas,28,FALSE))=0,\"\",IF(VLOOKUP($BK51,Archyvas,27,FALSE)=$BL$1,\"\",VLOOKUP($BK51,Archyvas,28,FALSE)))","v":{"$error":"#N/A"}},{"$f":"IF(IF(VLOOKUP($BK51,Archyvas,27,FALSE)=$BL$1,\"\",VLOOKUP($BK51,Archyvas,29,FALSE))=0,\"\",IF(VLOOKUP($BK51,Archyvas,27,FALSE)=$BL$1,\"\",VLOOKUP($BK51,Archyvas,29,FALSE)))","v":{"$error":"#N/A"}},{"$f":"IF(IF(VLOOKUP($BK51,Archyvas,27,FALSE)=$BL$1,\"\",VLOOKUP($BK51,Archyvas,30,FALSE))=0,\"\",IF(VLOOKUP($BK51,Archyvas,27,FALSE)=$BL$1,\"\",VLOOKUP($BK51,Archyvas,30,FALSE)))","v":{"$error":"#N/A"}},{"$f":"IF(IF(VLOOKUP($BK51,Archyvas,27,FALSE)=$BL$1,\"\",VLOOKUP($BK51,Archyvas,31,FALSE))=0,\"\",IF(VLOOKUP($BK51,Archyvas,27,FALSE)=$BL$1,\"\",VLOOKUP($BK51,Archyvas,31,FALSE)))","v":{"$error":"#N/A"}},null,{"$f":"_xlfn.IFNA(IF(BS51=\"\",\"\",MAX(BR$1:BR50)+1),\"\")","v":""},"","","","","",""]
[null,null,null,null,null,null,null,null,null,null,null,null,null,null,null,null,null,null,null,null,null,null,null,null,null,null,null,null,null,null,null,null,null,null,null,null,null,null,null,null,null,null,null,null,null,null,null,null,null,null,null,null,null,null,null,null,null,{"$f":"IF(BG52=\"\",\"\",MAX(BF$1:BF51)+1)","v":""},{"$f":"IF(TEXT(Kortelė!$B$26,\"mm\")=IF(A52=\"\",\"\",TEXT(A52,\"mm\")),A52,\"\")","v":""},null,"",{"$f":"_xlfn.IFNA(IF(BL52=\"\",\"\",MAX(BJ$1:BJ51)+1),\"\")","v":""},"",{"$f":"IF(IF(IF(VLOOKUP($BK52,Archyvas,32,FALSE)=$BL$1,\"\",VLOOKUP($BK52,Archyvas,35,FALSE))=0,\"\",IF(VLOOKUP($BK52,Archyvas,32,FALSE)=$BL$1,\"\",VLOOKUP($BK52,Archyvas,35,FALSE)))=\"\",\"\",IF(IF(VLOOKUP($BK52,Archyvas,32,FALSE)=$BL$1,\"\",VLOOKUP($BK52,Archyvas,32,FALSE))=0,\"\",IF(VLOOKUP($BK52,Archyvas,32,FALSE)=$BL$1,\"\",VLOOKUP($BK52,Archyvas,32,FALSE))))","v":{"$error":"#N/A"}},{"$f":"IF(IF(VLOOKUP($BK52,Archyvas,32,FALSE)=$BL$1,\"\",VLOOKUP($BK52,Archyvas,33,FALSE))=0,\"\",IF(VLOOKUP($BK52,Archyvas,32,FALSE)=$BL$1,\"\",VLOOKUP($BK52,Archyvas,33,FALSE)))","v":{"$error":"#N/A"}},{"$f":"IF(IF(VLOOKUP($BK52,Archyvas,32,FALSE)=$BL$1,\"\",VLOOKUP($BK52,Archyvas,34,FALSE))=0,\"\",IF(VLOOKUP($BK52,Archyvas,32,FALSE)=$BL$1,\"\",VLOOKUP($BK52,Archyvas,34,FALSE)))","v":{"$error":"#N/A"}},{"$f":"IF(IF(VLOOKUP($BK52,Archyvas,32,FALSE)=$BL$1,\"\",VLOOKUP($BK52,Archyvas,35,FALSE))=0,\"\",IF(VLOOKUP($BK52,Archyvas,32,FALSE)=$BL$1,\"\",VLOOKUP($BK52,Archyvas,35,FALSE)))","v":{"$error":"#N/A"}},{"$f":"IF(IF(VLOOKUP($BK52,Archyvas,32,FALSE)=$BL$1,\"\",VLOOKUP($BK52,Archyvas,36,FALSE))=0,\"\",IF(VLOOKUP($BK52,Archyvas,32,FALSE)=$BL$1,\"\",VLOOKUP($BK52,Archyvas,36,FALSE)))","v":{"$error":"#N/A"}},null,{"$f":"_xlfn.IFNA(IF(BS52=\"\",\"\",MAX(BR$1:BR51)+1),\"\")","v":""},"","","","","",""]
[null,null,null,null,null,null,null,null,null,null,null,null,null,null,null,null,null,null,null,null,null,null,null,null,null,null,null,null,null,null,null,null,null,null,null,null,null,null,null,null,null,null,null,null,null,null,null,null,null,null,null,null,null,null,null,null,null,{"$f":"IF(BG53=\"\",\"\",MAX(BF$1:BF52)+1)","v":""},{"$f":"IF(TEXT(Kortelė!$B$26,\"mm\")=IF(A53=\"\",\"\",TEXT(A53,\"mm\")),A53,\"\")","v":""},null,"",{"$f":"_xlfn.IFNA(IF(BL53=\"\",\"\",MAX(BJ$1:BJ52)+1),\"\")","v":""},"",{"$f":"IF(IF(IF(VLOOKUP($BK53,Archyvas,37,FALSE)=$BL$1,\"\",VLOOKUP($BK53,Archyvas,40,FALSE))=0,\"\",IF(VLOOKUP($BK53,Archyvas,37,FALSE)=$BL$1,\"\",VLOOKUP($BK53,Archyvas,40,FALSE)))=\"\",\"\",IF(IF(VLOOKUP($BK53,Archyvas,37,FALSE)=$BL$1,\"\",VLOOKUP($BK53,Archyvas,37,FALSE))=0,\"\",IF(VLOOKUP($BK53,Archyvas,37,FALSE)=$BL$1,\"\",VLOOKUP($BK53,Archyvas,37,FALSE))))","v":{"$error":"#N/A"}},{"$f":"IF(IF(VLOOKUP($BK53,Archyvas,37,FALSE)=$BL$1,\"\",VLOOKUP($BK53,Archyvas,38,FALSE))=0,\"\",IF(VLOOKUP($BK53,Archyvas,37,FALSE)=$BL$1,\"\",VLOOKUP($BK53,Archyvas,38,FALSE)))","v":{"$error":"#N/A"}},{"$f":"IF(IF(VLOOKUP($BK53,Archyvas,37,FALSE)=$BL$1,\"\",VLOOKUP($BK53,Archyvas,39,FALSE))=0,\"\",IF(VLOOKUP($BK53,Archyvas,37,FALSE)=$BL$1,\"\",VLOOKUP($BK53,Archyvas,39,FALSE)))","v":{"$error":"#N/A"}},{"$f":"IF(IF(VLOOKUP($BK53,Archyvas,37,FALSE)=$BL$1,\"\",VLOOKUP($BK53,Archyvas,40,FALSE))=0,\"\",IF(VLOOKUP($BK53,Archyvas,37,FALSE)=$BL$1,\"\",VLOOKUP($BK53,Archyvas,40,FALSE)))","v":{"$error":"#N/A"}},{"$f":"IF(IF(VLOOKUP($BK53,Archyvas,37,FALSE)=$BL$1,\"\",VLOOKUP($BK53,Archyvas,41,FALSE))=0,\"\",IF(VLOOKUP($BK53,Archyvas,37,FALSE)=$BL$1,\"\",VLOOKUP($BK53,Archyvas,41,FALSE)))","v":{"$error":"#N/A"}},null,{"$f":"_xlfn.IFNA(IF(BS53=\"\",\"\",MAX(BR$1:BR52)+1),\"\")","v":""},"","","","","",""]
[null,null,null,null,null,null,null,null,null,null,null,null,null,null,null,null,null,null,null,null,null,null,null,null,null,null,null,null,null,null,null,null,null,null,null,null,null,null,null,null,null,null,null,null,null,null,null,null,null,null,null,null,null,null,null,null,null,{"$f":"IF(BG54=\"\",\"\",MAX(BF$1:BF53)+1)","v":""},{"$f":"IF(TEXT(Kortelė!$B$26,\"mm\")=IF(A54=\"\",\"\",TEXT(A54,\"mm\")),A54,\"\")","v":""},null,"",{"$f":"_xlfn.IFNA(IF(BL54=\"\",\"\",MAX(BJ$1:BJ53)+1),\"\")","v":""},"",{"$f":"IF(IF(IF(VLOOKUP($BK54,Archyvas,42,FALSE)=$BL$1,\"\",VLOOKUP($BK54,Archyvas,45,FALSE))=0,\"\",IF(VLOOKUP($BK54,Archyvas,42,FALSE)=$BL$1,\"\",VLOOKUP($BK54,Archyvas,45,FALSE)))=\"\",\"\",IF(IF(VLOOKUP($BK54,Archyvas,42,FALSE)=$BL$1,\"\",VLOOKUP($BK54,Archyvas,42,FALSE))=0,\"\",IF(VLOOKUP($BK54,Archyvas,42,FALSE)=$BL$1,\"\",VLOOKUP($BK54,Archyvas,42,FALSE))))","v":{"$error":"#N/A"}},{"$f":"IF(IF(VLOOKUP($BK54,Archyvas,42,FALSE)=$BL$1,\"\",VLOOKUP($BK54,Archyvas,43,FALSE))=0,\"\",IF(VLOOKUP($BK54,Archyvas,42,FALSE)=$BL$1,\"\",VLOOKUP($BK54,Archyvas,43,FALSE)))","v":{"$error":"#N/A"}},{"$f":"IF(IF(VLOOKUP($BK54,Archyvas,42,FALSE)=$BL$1,\"\",VLOOKUP($BK54,Archyvas,44,FALSE))=0,\"\",IF(VLOOKUP($BK54,Archyvas,42,FALSE)=$BL$1,\"\",VLOOKUP($BK54,Archyvas,44,FALSE)))","v":{"$error":"#N/A"}},{"$f":"IF(IF(VLOOKUP($BK54,Archyvas,42,FALSE)=$BL$1,\"\",VLOOKUP($BK54,Archyvas,45,FALSE))=0,\"\",IF(VLOOKUP($BK54,Archyvas,42,FALSE)=$BL$1,\"\",VLOOKUP($BK54,Archyvas,45,FALSE)))","v":{"$error":"#N/A"}},{"$f":"IF(IF(VLOOKUP($BK54,Archyvas,42,FALSE)=$BL$1,\"\",VLOOKUP($BK54,Archyvas,46,FALSE))=0,\"\",IF(VLOOKUP($BK54,Archyvas,42,FALSE)=$BL$1,\"\",VLOOKUP($BK54,Archyvas,46,FALSE)))","v":{"$error":"#N/A"}},null,{"$f":"_xlfn.IFNA(IF(BS54=\"\",\"\",MAX(BR$1:BR53)+1),\"\")","v":""},"","","","","",""]
[null,null,null,null,null,null,null,null,null,null,null,null,null,null,null,null,null,null,null,null,null,null,null,null,null,null,null,null,null,null,null,null,null,null,null,null,null,null,null,null,null,null,null,null,null,null,null,null,null,null,null,null,null,null,null,null,null,{"$f":"IF(BG55=\"\",\"\",MAX(BF$1:BF54)+1)","v":""},{"$f":"IF(TEXT(Kortelė!$B$26,\"mm\")=IF(A55=\"\",\"\",TEXT(A55,\"mm\")),A55,\"\")","v":""},null,"",{"$f":"_xlfn.IFNA(IF(BL55=\"\",\"\",MAX(BJ$1:BJ54)+1),\"\")","v":""},"",{"$f":"IF(IF(IF(VLOOKUP($BK55,Archyvas,47,FALSE)=$BL$1,\"\",VLOOKUP($BK55,Archyvas,50,FALSE))=0,\"\",IF(VLOOKUP($BK55,Archyvas,47,FALSE)=$BL$1,\"\",VLOOKUP($BK55,Archyvas,50,FALSE)))=\"\",\"\",IF(IF(VLOOKUP($BK55,Archyvas,47,FALSE)=$BL$1,\"\",VLOOKUP($BK55,Archyvas,47,FALSE))=0,\"\",IF(VLOOKUP($BK55,Archyvas,47,FALSE)=$BL$1,\"\",VLOOKUP($BK55,Archyvas,47,FALSE))))","v":{"$error":"#N/A"}},{"$f":"IF(IF(VLOOKUP($BK55,Archyvas,47,FALSE)=$BL$1,\"\",VLOOKUP($BK55,Archyvas,48,FALSE))=0,\"\",IF(VLOOKUP($BK55,Archyvas,47,FALSE)=$BL$1,\"\",VLOOKUP($BK55,Archyvas,48,FALSE)))","v":{"$error":"#N/A"}},{"$f":"IF(IF(VLOOKUP($BK55,Archyvas,47,FALSE)=$BL$1,\"\",VLOOKUP($BK55,Archyvas,49,FALSE))=0,\"\",IF(VLOOKUP($BK55,Archyvas,47,FALSE)=$BL$1,\"\",VLOOKUP($BK55,Archyvas,49,FALSE)))","v":{"$error":"#N/A"}},{"$f":"IF(IF(VLOOKUP($BK55,Archyvas,47,FALSE)=$BL$1,\"\",VLOOKUP($BK55,Archyvas,50,FALSE))=0,\"\",IF(VLOOKUP($BK55,Archyvas,47,FALSE)=$BL$1,\"\",VLOOKUP($BK55,Archyvas,50,FALSE)))","v":{"$error":"#N/A"}},{"$f":"IF(IF(VLOOKUP($BK55,Archyvas,47,FALSE)=$BL$1,\"\",VLOOKUP($BK55,Archyvas,51,FALSE))=0,\"\",IF(VLOOKUP($BK55,Archyvas,47,FALSE)=$BL$1,\"\",VLOOKUP($BK55,Archyvas,51,FALSE)))","v":{"$error":"#N/A"}},null,{"$f":"_xlfn.IFNA(IF(BS55=\"\",\"\",MAX(BR$1:BR54)+1),\"\")","v":""},"","","","","",""]
[null,null,null,null,null,null,null,null,null,null,null,null,null,null,null,null,null,null,null,null,null,null,null,null,null,null,null,null,null,null,null,null,null,null,null,null,null,null,null,null,null,null,null,null,null,null,null,null,null,null,null,null,null,null,null,null,null,{"$f":"IF(BG56=\"\",\"\",MAX(BF$1:BF55)+1)","v":""},{"$f":"IF(TEXT(Kortelė!$B$26,\"mm\")=IF(A56=\"\",\"\",TEXT(A56,\"mm\")),A56,\"\")","v":""},null,"",{"$f":"_xlfn.IFNA(IF(BL56=\"\",\"\",MAX(BJ$1:BJ55)+1),\"\")","v":""},"",null,null,null,null,null,null,{"$f":"_xlfn.IFNA(IF(BS56=\"\",\"\",MAX(BR$1:BR55)+1),\"\")","v":""},"","","","","",""]
[null,null,null,null,null,null,null,null,null,null,null,null,null,null,null,null,null,null,null,null,null,null,null,null,null,null,null,null,null,null,null,null,null,null,null,null,null,null,null,null,null,null,null,null,null,null,null,null,null,null,null,null,null,null,null,null,null,{"$f":"IF(BG57=\"\",\"\",MAX(BF$1:BF56)+1)","v":""},{"$f":"IF(TEXT(Kortelė!$B$26,\"mm\")=IF(A57=\"\",\"\",TEXT(A57,\"mm\")),A57,\"\")","v":""},null,"",{"$f":"_xlfn.IFNA(IF(BL57=\"\",\"\",MAX(BJ$1:BJ56)+1),\"\")","v":""},{"$f":"$BI$7","v":""},{"$f":"IF(IF(IF(VLOOKUP($BK57,Archyvas,2,FALSE)=$BL$1,\"\",VLOOKUP($BK57,Archyvas,5,FALSE))=0,\"\",IF(VLOOKUP($BK57,Archyvas,2,FALSE)=$BL$1,\"\",VLOOKUP($BK57,Archyvas,5,FALSE)))=\"\",\"\",IF(IF(VLOOKUP($BK57,Archyvas,2,FALSE)=$BL$1,\"\",VLOOKUP($BK57,Archyvas,2,FALSE))=0,\"\",IF(VLOOKUP($BK57,Archyvas,2,FALSE)=$BL$1,\"\",VLOOKUP($BK57,Archyvas,2,FALSE))))","v":{"$error":"#N/A"}},{"$f":"IF(IF(VLOOKUP($BK57,Archyvas,2,FALSE)=$BL$1,\"\",VLOOKUP($BK57,Archyvas,3,FALSE))=0,\"\",IF(VLOOKUP($BK57,Archyvas,2,FALSE)=$BL$1,\"\",VLOOKUP($BK57,Archyvas,3,FALSE)))","v":{"$error":"#N/A"}},{"$f":"IF(IF(VLOOKUP($BK57,Archyvas,2,FALSE)=$BL$1,\"\",VLOOKUP($BK57,Archyvas,4,FALSE))=0,\"\",IF(VLOOKUP($BK57,Archyvas,2,FALSE)=$BL$1,\"\",VLOOKUP($BK57,Archyvas,4,FALSE)))","v":{"$error":"#N/A"}},{"$f":"IF(IF(VLOOKUP($BK57,Archyvas,2,FALSE)=$BL$1,\"\",VLOOKUP($BK57,Archyvas,5,FALSE))=0,\"\",IF(VLOOKUP($BK57,Archyvas,2,FALSE)=$BL$1,\"\",VLOOKUP($BK57,Archyvas,5,FALSE)))","v":{"$error":"#N/A"}},{"$f":"IF(IF(VLOOKUP($BK57,Archyvas,2,FALSE)=$BL$1,\"\",VLOOKUP($BK57,Archyvas,6,FALSE))=0,\"\",IF(VLOOKUP($BK57,Archyvas,2,FALSE)=$BL$1,\"\",VLOOKUP($BK57,Archyvas,6,FALSE)))","v":{"$error":"#N/A"}},null,{"$f":"_xlfn.IFNA(IF(BS57=\"\",\"\",MAX(BR$1:BR56)+1),\"\")","v":""},"","","","","",""]
[null,null,null,null,null,null,null,null,null,null,null,null,null,null,null,null,null,null,null,null,null,null,null,null,null,null,null,null,null,null,null,null,null,null,null,null,null,null,null,null,null,null,null,null,null,null,null,null,null,null,null,null,null,null,null,null,null,{"$f":"IF(BG58=\"\",\"\",MAX(BF$1:BF57)+1)","v":""},{"$f":"IF(TEXT(Kortelė!$B$26,\"mm\")=IF(A58=\"\",\"\",TEXT(A58,\"mm\")),A58,\"\")","v":""},null,"",{"$f":"_xlfn.IFNA(IF(BL58=\"\",\"\",MAX(BJ$1:BJ57)+1),\"\")","v":""},{"$f":"BK57","v":""},{"$f":"IF(IF(IF(VLOOKUP($BK58,Archyvas,7,FALSE)=$BL$1,\"\",VLOOKUP($BK58,Archyvas,10,FALSE))=0,\"\",IF(VLOOKUP($BK58,Archyvas,7,FALSE)=$BL$1,\"\",VLOOKUP($BK58,Archyvas,10,FALSE)))=\"\",\"\",IF(IF(VLOOKUP($BK58,Archyvas,7,FALSE)=$BL$1,\"\",VLOOKUP($BK58,Archyvas,7,FALSE))=0,\"\",IF(VLOOKUP($BK58,Archyvas,7,FALSE)=$BL$1,\"\",VLOOKUP($BK58,Archyvas,7,FALSE))))","v":{"$error":"#N/A"}},{"$f":"IF(IF(VLOOKUP($BK58,Archyvas,7,FALSE)=$BL$1,\"\",VLOOKUP($BK58,Archyvas,8,FALSE))=0,\"\",IF(VLOOKUP($BK58,Archyvas,7,FALSE)=$BL$1,\"\",VLOOKUP($BK58,Archyvas,8,FALSE)))","v":{"$error":"#N/A"}},{"$f":"IF(IF(VLOOKUP($BK58,Archyvas,7,FALSE)=$BL$1,\"\",VLOOKUP($BK58,Archyvas,9,FALSE))=0,\"\",IF(VLOOKUP($BK58,Archyvas,7,FALSE)=$BL$1,\"\",VLOOKUP($BK58,Archyvas,9,FALSE)))","v":{"$error":"#N/A"}},{"$f":"IF(IF(VLOOKUP($BK58,Archyvas,7,FALSE)=$BL$1,\"\",VLOOKUP($BK58,Archyvas,10,FALSE))=0,\"\",IF(VLOOKUP($BK58,Archyvas,7,FALSE)=$BL$1,\"\",VLOOKUP($BK58,Archyvas,10,FALSE)))","v":{"$error":"#N/A"}},{"$f":"IF(IF(VLOOKUP($BK58,Archyvas,7,FALSE)=$BL$1,\"\",VLOOKUP($BK58,Archyvas,11,FALSE))=0,\"\",IF(VLOOKUP($BK58,Archyvas,7,FALSE)=$BL$1,\"\",VLOOKUP($BK58,Archyvas,11,FALSE)))","v":{"$error":"#N/A"}},null,{"$f":"_xlfn.IFNA(IF(BS58=\"\",\"\",MAX(BR$1:BR57)+1),\"\")","v":""},"","","","","",""]
[null,null,null,null,null,null,null,null,null,null,null,null,null,null,null,null,null,null,null,null,null,null,null,null,null,null,null,null,null,null,null,null,null,null,null,null,null,null,null,null,null,null,null,null,null,null,null,null,null,null,null,null,null,null,null,null,null,{"$f":"IF(BG59=\"\",\"\",MAX(BF$1:BF58)+1)","v":""},{"$f":"IF(TEXT(Kortelė!$B$26,\"mm\")=IF(A59=\"\",\"\",TEXT(A59,\"mm\")),A59,\"\")","v":""},null,"",{"$f":"_xlfn.IFNA(IF(BL59=\"\",\"\",MAX(BJ$1:BJ58)+1),\"\")","v":""},"",{"$f":"IF(IF(IF(VLOOKUP($BK59,Archyvas,12,FALSE)=$BL$1,\"\",VLOOKUP($BK59,Archyvas,15,FALSE))=0,\"\",IF(VLOOKUP($BK59,Archyvas,12,FALSE)=$BL$1,\"\",VLOOKUP($BK59,Archyvas,15,FALSE)))=\"\",\"\",IF(IF(VLOOKUP($BK59,Archyvas,12,FALSE)=$BL$1,\"\",VLOOKUP($BK59,Archyvas,12,FALSE))=0,\"\",IF(VLOOKUP($BK59,Archyvas,12,FALSE)=$BL$1,\"\",VLOOKUP($BK59,Archyvas,12,FALSE))))","v":{"$error":"#N/A"}},{"$f":"IF(IF(VLOOKUP($BK59,Archyvas,12,FALSE)=$BL$1,\"\",VLOOKUP($BK59,Archyvas,13,FALSE))=0,\"\",IF(VLOOKUP($BK59,Archyvas,12,FALSE)=$BL$1,\"\",VLOOKUP($BK59,Archyvas,13,FALSE)))","v":{"$error":"#N/A"}},{"$f":"IF(IF(VLOOKUP($BK59,Archyvas,12,FALSE)=$BL$1,\"\",VLOOKUP($BK59,Archyvas,14,FALSE))=0,\"\",IF(VLOOKUP($BK59,Archyvas,12,FALSE)=$BL$1,\"\",VLOOKUP($BK59,Archyvas,14,FALSE)))","v":{"$error":"#N/A"}},{"$f":"IF(IF(VLOOKUP($BK59,Archyvas,12,FALSE)=$BL$1,\"\",VLOOKUP($BK59,Archyvas,15,FALSE))=0,\"\",IF(VLOOKUP($BK59,Archyvas,12,FALSE)=$BL$1,\"\",VLOOKUP($BK59,Archyvas,15,FALSE)))","v":{"$error":"#N/A"}},{"$f":"IF(IF(VLOOKUP($BK59,Archyvas,12,FALSE)=$BL$1,\"\",VLOOKUP($BK59,Archyvas,16,FALSE))=0,\"\",IF(VLOOKUP($BK59,Archyvas,12,FALSE)=$BL$1,\"\",VLOOKUP($BK59,Archyvas,16,FALSE)))","v":{"$error":"#N/A"}},null,{"$f":"_xlfn.IFNA(IF(BS59=\"\",\"\",MAX(BR$1:BR58)+1),\"\")","v":""},"","","","","",""]
[null,null,null,null,null,null,null,null,null,null,null,null,null,null,null,null,null,null,null,null,null,null,null,null,null,null,null,null,null,null,null,null,null,null,null,null,null,null,null,null,null,null,null,null,null,null,null,null,null,null,null,null,null,null,null,null,null,{"$f":"IF(BG60=\"\",\"\",MAX(BF$1:BF59)+1)","v":""},{"$f":"IF(TEXT(Kortelė!$B$26,\"mm\")=IF(A60=\"\",\"\",TEXT(A60,\"mm\")),A60,\"\")","v":""},null,"",{"$f":"_xlfn.IFNA(IF(BL60=\"\",\"\",MAX(BJ$1:BJ59)+1),\"\")","v":""},"",{"$f":"IF(IF(IF(VLOOKUP($BK60,Archyvas,17,FALSE)=$BL$1,\"\",VLOOKUP($BK60,Archyvas,20,FALSE))=0,\"\",IF(VLOOKUP($BK60,Archyvas,17,FALSE)=$BL$1,\"\",VLOOKUP($BK60,Archyvas,20,FALSE)))=\"\",\"\",IF(IF(VLOOKUP($BK60,Archyvas,17,FALSE)=$BL$1,\"\",VLOOKUP($BK60,Archyvas,17,FALSE))=0,\"\",IF(VLOOKUP($BK60,Archyvas,17,FALSE)=$BL$1,\"\",VLOOKUP($BK60,Archyvas,17,FALSE))))","v":{"$error":"#N/A"}},{"$f":"IF(IF(VLOOKUP($BK60,Archyvas,17,FALSE)=$BL$1,\"\",VLOOKUP($BK60,Archyvas,18,FALSE))=0,\"\",IF(VLOOKUP($BK60,Archyvas,17,FALSE)=$BL$1,\"\",VLOOKUP($BK60,Archyvas,18,FALSE)))","v":{"$error":"#N/A"}},{"$f":"IF(IF(VLOOKUP($BK60,Archyvas,17,FALSE)=$BL$1,\"\",VLOOKUP($BK60,Archyvas,19,FALSE))=0,\"\",IF(VLOOKUP($BK60,Archyvas,17,FALSE)=$BL$1,\"\",VLOOKUP($BK60,Archyvas,19,FALSE)))","v":{"$error":"#N/A"}},{"$f":"IF(IF(VLOOKUP($BK60,Archyvas,17,FALSE)=$BL$1,\"\",VLOOKUP($BK60,Archyvas,20,FALSE))=0,\"\",IF(VLOOKUP($BK60,Archyvas,17,FALSE)=$BL$1,\"\",VLOOKUP($BK60,Archyvas,20,FALSE)))","v":{"$error":"#N/A"}},{"$f":"IF(IF(VLOOKUP($BK60,Archyvas,17,FALSE)=$BL$1,\"\",VLOOKUP($BK60,Archyvas,21,FALSE))=0,\"\",IF(VLOOKUP($BK60,Archyvas,17,FALSE)=$BL$1,\"\",VLOOKUP($BK60,Archyvas,21,FALSE)))","v":{"$error":"#N/A"}},null,{"$f":"_xlfn.IFNA(IF(BS60=\"\",\"\",MAX(BR$1:BR59)+1),\"\")","v":""},"","","","","",""]
[null,null,null,null,null,null,null,null,null,null,null,null,null,null,null,null,null,null,null,null,null,null,null,null,null,null,null,null,null,null,null,null,null,null,null,null,null,null,null,null,null,null,null,null,null,null,null,null,null,null,null,null,null,null,null,null,null,{"$f":"IF(BG61=\"\",\"\",MAX(BF$1:BF60)+1)","v":""},{"$f":"IF(TEXT(Kortelė!$B$26,\"mm\")=IF(A61=\"\",\"\",TEXT(A61,\"mm\")),A61,\"\")","v":""},null,"",{"$f":"_xlfn.IFNA(IF(BL61=\"\",\"\",MAX(BJ$1:BJ60)+1),\"\")","v":""},"",{"$f":"IF(IF(IF(VLOOKUP($BK61,Archyvas,22,FALSE)=$BL$1,\"\",VLOOKUP($BK61,Archyvas,25,FALSE))=0,\"\",IF(VLOOKUP($BK61,Archyvas,22,FALSE)=$BL$1,\"\",VLOOKUP($BK61,Archyvas,25,FALSE)))=\"\",\"\",IF(IF(VLOOKUP($BK61,Archyvas,22,FALSE)=$BL$1,\"\",VLOOKUP($BK61,Archyvas,22,FALSE))=0,\"\",IF(VLOOKUP($BK61,Archyvas,22,FALSE)=$BL$1,\"\",VLOOKUP($BK61,Archyvas,22,FALSE))))","v":{"$error":"#N/A"}},{"$f":"IF(IF(VLOOKUP($BK61,Archyvas,22,FALSE)=$BL$1,\"\",VLOOKUP($BK61,Archyvas,23,FALSE))=0,\"\",IF(VLOOKUP($BK61,Archyvas,22,FALSE)=$BL$1,\"\",VLOOKUP($BK61,Archyvas,23,FALSE)))","v":{"$error":"#N/A"}},{"$f":"IF(IF(VLOOKUP($BK61,Archyvas,22,FALSE)=$BL$1,\"\",VLOOKUP($BK61,Archyvas,24,FALSE))=0,\"\",IF(VLOOKUP($BK61,Archyvas,22,FALSE)=$BL$1,\"\",VLOOKUP($BK61,Archyvas,24,FALSE)))","v":{"$error":"#N/A"}},{"$f":"IF(IF(VLOOKUP($BK61,Archyvas,22,FALSE)=$BL$1,\"\",VLOOKUP($BK61,Archyvas,25,FALSE))=0,\"\",IF(VLOOKUP($BK61,Archyvas,22,FALSE)=$BL$1,\"\",VLOOKUP($BK61,Archyvas,25,FALSE)))","v":{"$error":"#N/A"}},{"$f":"IF(IF(VLOOKUP($BK61,Archyvas,22,FALSE)=$BL$1,\"\",VLOOKUP($BK61,Archyvas,26,FALSE))=0,\"\",IF(VLOOKUP($BK61,Archyvas,22,FALSE)=$BL$1,\"\",VLOOKUP($BK61,Archyvas,26,FALSE)))","v":{"$error":"#N/A"}},null,{"$f":"_xlfn.IFNA(IF(BS61=\"\",\"\",MAX(BR$1:BR60)+1),\"\")","v":""},"","","","","",""]
[null,null,null,null,null,null,null,null,null,null,null,null,null,null,null,null,null,null,null,null,null,null,null,null,null,null,null,null,null,null,null,null,null,null,null,null,null,null,null,null,null,null,null,null,null,null,null,null,null,null,null,null,null,null,null,null,null,{"$f":"IF(BG62=\"\",\"\",MAX(BF$1:BF61)+1)","v":""},{"$f":"IF(TEXT(Kortelė!$B$26,\"mm\")=IF(A62=\"\",\"\",TEXT(A62,\"mm\")),A62,\"\")","v":""},null,"",{"$f":"_xlfn.IFNA(IF(BL62=\"\",\"\",MAX(BJ$1:BJ61)+1),\"\")","v":""},"",{"$f":"IF(IF(IF(VLOOKUP($BK62,Archyvas,27,FALSE)=$BL$1,\"\",VLOOKUP($BK62,Archyvas,30,FALSE))=0,\"\",IF(VLOOKUP($BK62,Archyvas,27,FALSE)=$BL$1,\"\",VLOOKUP($BK62,Archyvas,30,FALSE)))=\"\",\"\",IF(IF(VLOOKUP($BK62,Archyvas,27,FALSE)=$BL$1,\"\",VLOOKUP($BK62,Archyvas,27,FALSE))=0,\"\",IF(VLOOKUP($BK62,Archyvas,27,FALSE)=$BL$1,\"\",VLOOKUP($BK62,Archyvas,27,FALSE))))","v":{"$error":"#N/A"}},{"$f":"IF(IF(VLOOKUP($BK62,Archyvas,27,FALSE)=$BL$1,\"\",VLOOKUP($BK62,Archyvas,28,FALSE))=0,\"\",IF(VLOOKUP($BK62,Archyvas,27,FALSE)=$BL$1,\"\",VLOOKUP($BK62,Archyvas,28,FALSE)))","v":{"$error":"#N/A"}},{"$f":"IF(IF(VLOOKUP($BK62,Archyvas,27,FALSE)=$BL$1,\"\",VLOOKUP($BK62,Archyvas,29,FALSE))=0,\"\",IF(VLOOKUP($BK62,Archyvas,27,FALSE)=$BL$1,\"\",VLOOKUP($BK62,Archyvas,29,FALSE)))","v":{"$error":"#N/A"}},{"$f":"IF(IF(VLOOKUP($BK62,Archyvas,27,FALSE)=$BL$1,\"\",VLOOKUP($BK62,Archyvas,30,FALSE))=0,\"\",IF(VLOOKUP($BK62,Archyvas,27,FALSE)=$BL$1,\"\",VLOOKUP($BK62,Archyvas,30,FALSE)))","v":{"$error":"#N/A"}},{"$f":"IF(IF(VLOOKUP($BK62,Archyvas,27,FALSE)=$BL$1,\"\",VLOOKUP($BK62,Archyvas,31,FALSE))=0,\"\",IF(VLOOKUP($BK62,Archyvas,27,FALSE)=$BL$1,\"\",VLOOKUP($BK62,Archyvas,31,FALSE)))","v":{"$error":"#N/A"}},null,{"$f":"_xlfn.IFNA(IF(BS62=\"\",\"\",MAX(BR$1:BR61)+1),\"\")","v":""},"","","","","",""]
[null,null,null,null,null,null,null,null,null,null,null,null,null,null,null,null,null,null,null,null,null,null,null,null,null,null,null,null,null,null,null,null,null,null,null,null,null,null,null,null,null,null,null,null,null,null,null,null,null,null,null,null,null,null,null,null,null,{"$f":"IF(BG63=\"\",\"\",MAX(BF$1:BF62)+1)","v":""},{"$f":"IF(TEXT(Kortelė!$B$26,\"mm\")=IF(A63=\"\",\"\",TEXT(A63,\"mm\")),A63,\"\")","v":""},null,"",{"$f":"_xlfn.IFNA(IF(BL63=\"\",\"\",MAX(BJ$1:BJ62)+1),\"\")","v":""},"",{"$f":"IF(IF(IF(VLOOKUP($BK63,Archyvas,32,FALSE)=$BL$1,\"\",VLOOKUP($BK63,Archyvas,35,FALSE))=0,\"\",IF(VLOOKUP($BK63,Archyvas,32,FALSE)=$BL$1,\"\",VLOOKUP($BK63,Archyvas,35,FALSE)))=\"\",\"\",IF(IF(VLOOKUP($BK63,Archyvas,32,FALSE)=$BL$1,\"\",VLOOKUP($BK63,Archyvas,32,FALSE))=0,\"\",IF(VLOOKUP($BK63,Archyvas,32,FALSE)=$BL$1,\"\",VLOOKUP($BK63,Archyvas,32,FALSE))))","v":{"$error":"#N/A"}},{"$f":"IF(IF(VLOOKUP($BK63,Archyvas,32,FALSE)=$BL$1,\"\",VLOOKUP($BK63,Archyvas,33,FALSE))=0,\"\",IF(VLOOKUP($BK63,Archyvas,32,FALSE)=$BL$1,\"\",VLOOKUP($BK63,Archyvas,33,FALSE)))","v":{"$error":"#N/A"}},{"$f":"IF(IF(VLOOKUP($BK63,Archyvas,32,FALSE)=$BL$1,\"\",VLOOKUP($BK63,Archyvas,34,FALSE))=0,\"\",IF(VLOOKUP($BK63,Archyvas,32,FALSE)=$BL$1,\"\",VLOOKUP($BK63,Archyvas,34,FALSE)))","v":{"$error":"#N/A"}},{"$f":"IF(IF(VLOOKUP($BK63,Archyvas,32,FALSE)=$BL$1,\"\",VLOOKUP($BK63,Archyvas,35,FALSE))=0,\"\",IF(VLOOKUP($BK63,Archyvas,32,FALSE)=$BL$1,\"\",VLOOKUP($BK63,Archyvas,35,FALSE)))","v":{"$error":"#N/A"}},{"$f":"IF(IF(VLOOKUP($BK63,Archyvas,32,FALSE)=$BL$1,\"\",VLOOKUP($BK63,Archyvas,36,FALSE))=0,\"\",IF(VLOOKUP($BK63,Archyvas,32,FALSE)=$BL$1,\"\",VLOOKUP($BK63,Archyvas,36,FALSE)))","v":{"$error":"#N/A"}},null,{"$f":"_xlfn.IFNA(IF(BS63=\"\",\"\",MAX(BR$1:BR62)+1),\"\")","v":""},"","","","","",""]
[null,null,null,null,null,null,null,null,null,null,null,null,null,null,null,null,null,null,null,null,null,null,null,null,null,null,null,null,null,null,null,null,null,null,null,null,null,null,null,null,null,null,null,null,null,null,null,null,null,null,null,null,null,null,null,null,null,{"$f":"IF(BG64=\"\",\"\",MAX(BF$1:BF63)+1)","v":""},{"$f":"IF(TEXT(Kortelė!$B$26,\"mm\")=IF(A64=\"\",\"\",TEXT(A64,\"mm\")),A64,\"\")","v":""},null,"",{"$f":"_xlfn.IFNA(IF(BL64=\"\",\"\",MAX(BJ$1:BJ63)+1),\"\")","v":""},"",{"$f":"IF(IF(IF(VLOOKUP($BK64,Archyvas,37,FALSE)=$BL$1,\"\",VLOOKUP($BK64,Archyvas,40,FALSE))=0,\"\",IF(VLOOKUP($BK64,Archyvas,37,FALSE)=$BL$1,\"\",VLOOKUP($BK64,Archyvas,40,FALSE)))=\"\",\"\",IF(IF(VLOOKUP($BK64,Archyvas,37,FALSE)=$BL$1,\"\",VLOOKUP($BK64,Archyvas,37,FALSE))=0,\"\",IF(VLOOKUP($BK64,Archyvas,37,FALSE)=$BL$1,\"\",VLOOKUP($BK64,Archyvas,37,FALSE))))","v":{"$error":"#N/A"}},{"$f":"IF(IF(VLOOKUP($BK64,Archyvas,37,FALSE)=$BL$1,\"\",VLOOKUP($BK64,Archyvas,38,FALSE))=0,\"\",IF(VLOOKUP($BK64,Archyvas,37,FALSE)=$BL$1,\"\",VLOOKUP($BK64,Archyvas,38,FALSE)))","v":{"$error":"#N/A"}},{"$f":"IF(IF(VLOOKUP($BK64,Archyvas,37,FALSE)=$BL$1,\"\",VLOOKUP($BK64,Archyvas,39,FALSE))=0,\"\",IF(VLOOKUP($BK64,Archyvas,37,FALSE)=$BL$1,\"\",VLOOKUP($BK64,Archyvas,39,FALSE)))","v":{"$error":"#N/A"}},{"$f":"IF(IF(VLOOKUP($BK64,Archyvas,37,FALSE)=$BL$1,\"\",VLOOKUP($BK64,Archyvas,40,FALSE))=0,\"\",IF(VLOOKUP($BK64,Archyvas,37,FALSE)=$BL$1,\"\",VLOOKUP($BK64,Archyvas,40,FALSE)))","v":{"$error":"#N/A"}},{"$f":"IF(IF(VLOOKUP($BK64,Archyvas,37,FALSE)=$BL$1,\"\",VLOOKUP($BK64,Archyvas,41,FALSE))=0,\"\",IF(VLOOKUP($BK64,Archyvas,37,FALSE)=$BL$1,\"\",VLOOKUP($BK64,Archyvas,41,FALSE)))","v":{"$error":"#N/A"}},null,{"$f":"_xlfn.IFNA(IF(BS64=\"\",\"\",MAX(BR$1:BR63)+1),\"\")","v":""},"","","","","",""]
[null,null,null,null,null,null,null,null,null,null,null,null,null,null,null,null,null,null,null,null,null,null,null,null,null,null,null,null,null,null,null,null,null,null,null,null,null,null,null,null,null,null,null,null,null,null,null,null,null,null,null,null,null,null,null,null,null,{"$f":"IF(BG65=\"\",\"\",MAX(BF$1:BF64)+1)","v":""},{"$f":"IF(TEXT(Kortelė!$B$26,\"mm\")=IF(A65=\"\",\"\",TEXT(A65,\"mm\")),A65,\"\")","v":""},null,"",{"$f":"_xlfn.IFNA(IF(BL65=\"\",\"\",MAX(BJ$1:BJ64)+1),\"\")","v":""},"",{"$f":"IF(IF(IF(VLOOKUP($BK65,Archyvas,42,FALSE)=$BL$1,\"\",VLOOKUP($BK65,Archyvas,45,FALSE))=0,\"\",IF(VLOOKUP($BK65,Archyvas,42,FALSE)=$BL$1,\"\",VLOOKUP($BK65,Archyvas,45,FALSE)))=\"\",\"\",IF(IF(VLOOKUP($BK65,Archyvas,42,FALSE)=$BL$1,\"\",VLOOKUP($BK65,Archyvas,42,FALSE))=0,\"\",IF(VLOOKUP($BK65,Archyvas,42,FALSE)=$BL$1,\"\",VLOOKUP($BK65,Archyvas,42,FALSE))))","v":{"$error":"#N/A"}},{"$f":"IF(IF(VLOOKUP($BK65,Archyvas,42,FALSE)=$BL$1,\"\",VLOOKUP($BK65,Archyvas,43,FALSE))=0,\"\",IF(VLOOKUP($BK65,Archyvas,42,FALSE)=$BL$1,\"\",VLOOKUP($BK65,Archyvas,43,FALSE)))","v":{"$error":"#N/A"}},{"$f":"IF(IF(VLOOKUP($BK65,Archyvas,42,FALSE)=$BL$1,\"\",VLOOKUP($BK65,Archyvas,44,FALSE))=0,\"\",IF(VLOOKUP($BK65,Archyvas,42,FALSE)=$BL$1,\"\",VLOOKUP($BK65,Archyvas,44,FALSE)))","v":{"$error":"#N/A"}},{"$f":"IF(IF(VLOOKUP($BK65,Archyvas,42,FALSE)=$BL$1,\"\",VLOOKUP($BK65,Archyvas,45,FALSE))=0,\"\",IF(VLOOKUP($BK65,Archyvas,42,FALSE)=$BL$1,\"\",VLOOKUP($BK65,Archyvas,45,FALSE)))","v":{"$error":"#N/A"}},{"$f":"IF(IF(VLOOKUP($BK65,Archyvas,42,FALSE)=$BL$1,\"\",VLOOKUP($BK65,Archyvas,46,FALSE))=0,\"\",IF(VLOOKUP($BK65,Archyvas,42,FALSE)=$BL$1,\"\",VLOOKUP($BK65,Archyvas,46,FALSE)))","v":{"$error":"#N/A"}},null,{"$f":"_xlfn.IFNA(IF(BS65=\"\",\"\",MAX(BR$1:BR64)+1),\"\")","v":""},"","","","","",""]
[null,null,null,null,null,null,null,null,null,null,null,null,null,null,null,null,null,null,null,null,null,null,null,null,null,null,null,null,null,null,null,null,null,null,null,null,null,null,null,null,null,null,null,null,null,null,null,null,null,null,null,null,null,null,null,null,null,{"$f":"IF(BG66=\"\",\"\",MAX(BF$1:BF65)+1)","v":""},{"$f":"IF(TEXT(Kortelė!$B$26,\"mm\")=IF(A66=\"\",\"\",TEXT(A66,\"mm\")),A66,\"\")","v":""},null,{"$f":"IFERROR(INDEX($BG$2:$BG$500,MATCH(ROW()-ROW($A$1),$BF$2:$BF$500,0)),\"\")","v":""},{"$f":"_xlfn.IFNA(IF(BL66=\"\",\"\",MAX(BJ$1:BJ65)+1),\"\")","v":""},"",{"$f":"IF(IF(IF(VLOOKUP($BK66,Archyvas,47,FALSE)=$BL$1,\"\",VLOOKUP($BK66,Archyvas,50,FALSE))=0,\"\",IF(VLOOKUP($BK66,Archyvas,47,FALSE)=$BL$1,\"\",VLOOKUP($BK66,Archyvas,50,FALSE)))=\"\",\"\",IF(IF(VLOOKUP($BK66,Archyvas,47,FALSE)=$BL$1,\"\",VLOOKUP($BK66,Archyvas,47,FALSE))=0,\"\",IF(VLOOKUP($BK66,Archyvas,47,FALSE)=$BL$1,\"\",VLOOKUP($BK66,Archyvas,47,FALSE))))","v":{"$error":"#N/A"}},{"$f":"IF(IF(VLOOKUP($BK66,Archyvas,47,FALSE)=$BL$1,\"\",VLOOKUP($BK66,Archyvas,48,FALSE))=0,\"\",IF(VLOOKUP($BK66,Archyvas,47,FALSE)=$BL$1,\"\",VLOOKUP($BK66,Archyvas,48,FALSE)))","v":{"$error":"#N/A"}},{"$f":"IF(IF(VLOOKUP($BK66,Archyvas,47,FALSE)=$BL$1,\"\",VLOOKUP($BK66,Archyvas,49,FALSE))=0,\"\",IF(VLOOKUP($BK66,Archyvas,47,FALSE)=$BL$1,\"\",VLOOKUP($BK66,Archyvas,49,FALSE)))","v":{"$error":"#N/A"}},{"$f":"IF(IF(VLOOKUP($BK66,Archyvas,47,FALSE)=$BL$1,\"\",VLOOKUP($BK66,Archyvas,50,FALSE))=0,\"\",IF(VLOOKUP($BK66,Archyvas,47,FALSE)=$BL$1,\"\",VLOOKUP($BK66,Archyvas,50,FALSE)))","v":{"$error":"#N/A"}},{"$f":"IF(IF(VLOOKUP($BK66,Archyvas,47,FALSE)=$BL$1,\"\",VLOOKUP($BK66,Archyvas,51,FALSE))=0,\"\",IF(VLOOKUP($BK66,Archyvas,47,FALSE)=$BL$1,\"\",VLOOKUP($BK66,Archyvas,51,FALSE)))","v":{"$error":"#N/A"}},null,{"$f":"_xlfn.IFNA(IF(BS66=\"\",\"\",MAX(BR$1:BR65)+1),\"\")","v":""},{"$f":"IFERROR(INDEX(BK$2:BK$330,MATCH(ROW()-ROW($BJ$1),$BJ$2:$BJ$330,0)),\"\")","v":""},{"$f":"IFERROR(INDEX(BL$2:BL$330,MATCH(ROW()-ROW($BJ$1),$BJ$2:$BJ$330,0)),\"\")","v":""},{"$f":"IFERROR(INDEX(BM$2:BM$330,MATCH(ROW()-ROW($BJ$1),$BJ$2:$BJ$330,0)),\"\")","v":""},{"$f":"IFERROR(INDEX(BN$2:BN$330,MATCH(ROW()-ROW($BJ$1),$BJ$2:$BJ$330,0)),\"\")","v":""},{"$f":"IFERROR(INDEX(BO$2:BO$330,MATCH(ROW()-ROW($BJ$1),$BJ$2:$BJ$330,0)),\"\")","v":""},{"$f":"IFERROR(INDEX(BP$2:BP$330,MATCH(ROW()-ROW($BJ$1),$BJ$2:$BJ$330,0)),\"\")","v":""}]
[null,null,null,null,null,null,null,null,null,null,null,null,null,null,null,null,null,null,null,null,null,null,null,null,null,null,null,null,null,null,null,null,null,null,null,null,null,null,null,null,null,null,null,null,null,null,null,null,null,null,null,null,null,null,null,null,null,{"$f":"IF(BG67=\"\",\"\",MAX(BF$1:BF66)+1)","v":""},{"$f":"IF(TEXT(Kortelė!$B$26,\"mm\")=IF(A67=\"\",\"\",TEXT(A67,\"mm\")),A67,\"\")","v":""},null,"",{"$f":"_xlfn.IFNA(IF(BL67=\"\",\"\",MAX(BJ$1:BJ66)+1),\"\")","v":""},{"$f":"BI66","v":""},null,null,null,null,null,null,{"$f":"_xlfn.IFNA(IF(BS67=\"\",\"\",MAX(BR$1:BR66)+1),\"\")","v":""},"","","","","",""]
[null,null,null,null,null,null,null,null,null,null,null,null,null,null,null,null,null,null,null,null,null,null,null,null,null,null,null,null,null,null,null,null,null,null,null,null,null,null,null,null,null,null,null,null,null,null,null,null,null,null,null,null,null,null,null,null,null,{"$f":"IF(BG68=\"\",\"\",MAX(BF$1:BF67)+1)","v":""},{"$f":"IF(TEXT(Kortelė!$B$26,\"mm\")=IF(A68=\"\",\"\",TEXT(A68,\"mm\")),A68,\"\")","v":""},null,"",{"$f":"_xlfn.IFNA(IF(BL68=\"\",\"\",MAX(BJ$1:BJ67)+1),\"\")","v":""},{"$f":"$BI$8","v":""},{"$f":"IF(IF(IF(VLOOKUP($BK68,Archyvas,2,FALSE)=$BL$1,\"\",VLOOKUP($BK68,Archyvas,5,FALSE))=0,\"\",IF(VLOOKUP($BK68,Archyvas,2,FALSE)=$BL$1,\"\",VLOOKUP($BK68,Archyvas,5,FALSE)))=\"\",\"\",IF(IF(VLOOKUP($BK68,Archyvas,2,FALSE)=$BL$1,\"\",VLOOKUP($BK68,Archyvas,2,FALSE))=0,\"\",IF(VLOOKUP($BK68,Archyvas,2,FALSE)=$BL$1,\"\",VLOOKUP($BK68,Archyvas,2,FALSE))))","v":{"$error":"#N/A"}},{"$f":"IF(IF(VLOOKUP($BK68,Archyvas,2,FALSE)=$BL$1,\"\",VLOOKUP($BK68,Archyvas,3,FALSE))=0,\"\",IF(VLOOKUP($BK68,Archyvas,2,FALSE)=$BL$1,\"\",VLOOKUP($BK68,Archyvas,3,FALSE)))","v":{"$error":"#N/A"}},{"$f":"IF(IF(VLOOKUP($BK68,Archyvas,2,FALSE)=$BL$1,\"\",VLOOKUP($BK68,Archyvas,4,FALSE))=0,\"\",IF(VLOOKUP($BK68,Archyvas,2,FALSE)=$BL$1,\"\",VLOOKUP($BK68,Archyvas,4,FALSE)))","v":{"$error":"#N/A"}},{"$f":"IF(IF(VLOOKUP($BK68,Archyvas,2,FALSE)=$BL$1,\"\",VLOOKUP($BK68,Archyvas,5,FALSE))=0,\"\",IF(VLOOKUP($BK68,Archyvas,2,FALSE)=$BL$1,\"\",VLOOKUP($BK68,Archyvas,5,FALSE)))","v":{"$error":"#N/A"}},{"$f":"IF(IF(VLOOKUP($BK68,Archyvas,2,FALSE)=$BL$1,\"\",VLOOKUP($BK68,Archyvas,6,FALSE))=0,\"\",IF(VLOOKUP($BK68,Archyvas,2,FALSE)=$BL$1,\"\",VLOOKUP($BK68,Archyvas,6,FALSE)))","v":{"$error":"#N/A"}},null,{"$f":"_xlfn.IFNA(IF(BS68=\"\",\"\",MAX(BR$1:BR67)+1),\"\")","v":""},"","","","","",""]
[null,null,null,null,null,null,null,null,null,null,null,null,null,null,null,null,null,null,null,null,null,null,null,null,null,null,null,null,null,null,null,null,null,null,null,null,null,null,null,null,null,null,null,null,null,null,null,null,null,null,null,null,null,null,null,null,null,{"$f":"IF(BG69=\"\",\"\",MAX(BF$1:BF68)+1)","v":""},{"$f":"IF(TEXT(Kortelė!$B$26,\"mm\")=IF(A69=\"\",\"\",TEXT(A69,\"mm\")),A69,\"\")","v":""},null,"",{"$f":"_xlfn.IFNA(IF(BL69=\"\",\"\",MAX(BJ$1:BJ68)+1),\"\")","v":""},"",{"$f":"IF(IF(IF(VLOOKUP($BK69,Archyvas,7,FALSE)=$BL$1,\"\",VLOOKUP($BK69,Archyvas,10,FALSE))=0,\"\",IF(VLOOKUP($BK69,Archyvas,7,FALSE)=$BL$1,\"\",VLOOKUP($BK69,Archyvas,10,FALSE)))=\"\",\"\",IF(IF(VLOOKUP($BK69,Archyvas,7,FALSE)=$BL$1,\"\",VLOOKUP($BK69,Archyvas,7,FALSE))=0,\"\",IF(VLOOKUP($BK69,Archyvas,7,FALSE)=$BL$1,\"\",VLOOKUP($BK69,Archyvas,7,FALSE))))","v":{"$error":"#N/A"}},{"$f":"IF(IF(VLOOKUP($BK69,Archyvas,7,FALSE)=$BL$1,\"\",VLOOKUP($BK69,Archyvas,8,FALSE))=0,\"\",IF(VLOOKUP($BK69,Archyvas,7,FALSE)=$BL$1,\"\",VLOOKUP($BK69,Archyvas,8,FALSE)))","v":{"$error":"#N/A"}},{"$f":"IF(IF(VLOOKUP($BK69,Archyvas,7,FALSE)=$BL$1,\"\",VLOOKUP($BK69,Archyvas,9,FALSE))=0,\"\",IF(VLOOKUP($BK69,Archyvas,7,FALSE)=$BL$1,\"\",VLOOKUP($BK69,Archyvas,9,FALSE)))","v":{"$error":"#N/A"}},{"$f":"IF(IF(VLOOKUP($BK69,Archyvas,7,FALSE)=$BL$1,\"\",VLOOKUP($BK69,Archyvas,10,FALSE))=0,\"\",IF(VLOOKUP($BK69,Archyvas,7,FALSE)=$BL$1,\"\",VLOOKUP($BK69,Archyvas,10,FALSE)))","v":{"$error":"#N/A"}},{"$f":"IF(IF(VLOOKUP($BK69,Archyvas,7,FALSE)=$BL$1,\"\",VLOOKUP($BK69,Archyvas,11,FALSE))=0,\"\",IF(VLOOKUP($BK69,Archyvas,7,FALSE)=$BL$1,\"\",VLOOKUP($BK69,Archyvas,11,FALSE)))","v":{"$error":"#N/A"}},null,{"$f":"_xlfn.IFNA(IF(BS69=\"\",\"\",MAX(BR$1:BR68)+1),\"\")","v":""},"","","","","",""]
[null,null,null,null,null,null,null,null,null,null,null,null,null,null,null,null,null,null,null,null,null,null,null,null,null,null,null,null,null,null,null,null,null,null,null,null,null,null,null,null,null,null,null,null,null,null,null,null,null,null,null,null,null,null,null,null,null,{"$f":"IF(BG70=\"\",\"\",MAX(BF$1:BF69)+1)","v":""},{"$f":"IF(TEXT(Kortelė!$B$26,\"mm\")=IF(A70=\"\",\"\",TEXT(A70,\"mm\")),A70,\"\")","v":""},null,"",{"$f":"_xlfn.IFNA(IF(BL70=\"\",\"\",MAX(BJ$1:BJ69)+1),\"\")","v":""},"",{"$f":"IF(IF(IF(VLOOKUP($BK70,Archyvas,12,FALSE)=$BL$1,\"\",VLOOKUP($BK70,Archyvas,15,FALSE))=0,\"\",IF(VLOOKUP($BK70,Archyvas,12,FALSE)=$BL$1,\"\",VLOOKUP($BK70,Archyvas,15,FALSE)))=\"\",\"\",IF(IF(VLOOKUP($BK70,Archyvas,12,FALSE)=$BL$1,\"\",VLOOKUP($BK70,Archyvas,12,FALSE))=0,\"\",IF(VLOOKUP($BK70,Archyvas,12,FALSE)=$BL$1,\"\",VLOOKUP($BK70,Archyvas,12,FALSE))))","v":{"$error":"#N/A"}},{"$f":"IF(IF(VLOOKUP($BK70,Archyvas,12,FALSE)=$BL$1,\"\",VLOOKUP($BK70,Archyvas,13,FALSE))=0,\"\",IF(VLOOKUP($BK70,Archyvas,12,FALSE)=$BL$1,\"\",VLOOKUP($BK70,Archyvas,13,FALSE)))","v":{"$error":"#N/A"}},{"$f":"IF(IF(VLOOKUP($BK70,Archyvas,12,FALSE)=$BL$1,\"\",VLOOKUP($BK70,Archyvas,14,FALSE))=0,\"\",IF(VLOOKUP($BK70,Archyvas,12,FALSE)=$BL$1,\"\",VLOOKUP($BK70,Archyvas,14,FALSE)))","v":{"$error":"#N/A"}},{"$f":"IF(IF(VLOOKUP($BK70,Archyvas,12,FALSE)=$BL$1,\"\",VLOOKUP($BK70,Archyvas,15,FALSE))=0,\"\",IF(VLOOKUP($BK70,Archyvas,12,FALSE)=$BL$1,\"\",VLOOKUP($BK70,Archyvas,15,FALSE)))","v":{"$error":"#N/A"}},{"$f":"IF(IF(VLOOKUP($BK70,Archyvas,12,FALSE)=$BL$1,\"\",VLOOKUP($BK70,Archyvas,16,FALSE))=0,\"\",IF(VLOOKUP($BK70,Archyvas,12,FALSE)=$BL$1,\"\",VLOOKUP($BK70,Archyvas,16,FALSE)))","v":{"$error":"#N/A"}},null,{"$f":"_xlfn.IFNA(IF(BS70=\"\",\"\",MAX(BR$1:BR69)+1),\"\")","v":""},"","","","","",""]
[null,null,null,null,null,null,null,null,null,null,null,null,null,null,null,null,null,null,null,null,null,null,null,null,null,null,null,null,null,null,null,null,null,null,null,null,null,null,null,null,null,null,null,null,null,null,null,null,null,null,null,null,null,null,null,null,null,{"$f":"IF(BG71=\"\",\"\",MAX(BF$1:BF70)+1)","v":""},{"$f":"IF(TEXT(Kortelė!$B$26,\"mm\")=IF(A71=\"\",\"\",TEXT(A71,\"mm\")),A71,\"\")","v":""},null,"",{"$f":"_xlfn.IFNA(IF(BL71=\"\",\"\",MAX(BJ$1:BJ70)+1),\"\")","v":""},"",{"$f":"IF(IF(IF(VLOOKUP($BK71,Archyvas,17,FALSE)=$BL$1,\"\",VLOOKUP($BK71,Archyvas,20,FALSE))=0,\"\",IF(VLOOKUP($BK71,Archyvas,17,FALSE)=$BL$1,\"\",VLOOKUP($BK71,Archyvas,20,FALSE)))=\"\",\"\",IF(IF(VLOOKUP($BK71,Archyvas,17,FALSE)=$BL$1,\"\",VLOOKUP($BK71,Archyvas,17,FALSE))=0,\"\",IF(VLOOKUP($BK71,Archyvas,17,FALSE)=$BL$1,\"\",VLOOKUP($BK71,Archyvas,17,FALSE))))","v":{"$error":"#N/A"}},{"$f":"IF(IF(VLOOKUP($BK71,Archyvas,17,FALSE)=$BL$1,\"\",VLOOKUP($BK71,Archyvas,18,FALSE))=0,\"\",IF(VLOOKUP($BK71,Archyvas,17,FALSE)=$BL$1,\"\",VLOOKUP($BK71,Archyvas,18,FALSE)))","v":{"$error":"#N/A"}},{"$f":"IF(IF(VLOOKUP($BK71,Archyvas,17,FALSE)=$BL$1,\"\",VLOOKUP($BK71,Archyvas,19,FALSE))=0,\"\",IF(VLOOKUP($BK71,Archyvas,17,FALSE)=$BL$1,\"\",VLOOKUP($BK71,Archyvas,19,FALSE)))","v":{"$error":"#N/A"}},{"$f":"IF(IF(VLOOKUP($BK71,Archyvas,17,FALSE)=$BL$1,\"\",VLOOKUP($BK71,Archyvas,20,FALSE))=0,\"\",IF(VLOOKUP($BK71,Archyvas,17,FALSE)=$BL$1,\"\",VLOOKUP($BK71,Archyvas,20,FALSE)))","v":{"$error":"#N/A"}},{"$f":"IF(IF(VLOOKUP($BK71,Archyvas,17,FALSE)=$BL$1,\"\",VLOOKUP($BK71,Archyvas,21,FALSE))=0,\"\",IF(VLOOKUP($BK71,Archyvas,17,FALSE)=$BL$1,\"\",VLOOKUP($BK71,Archyvas,21,FALSE)))","v":{"$error":"#N/A"}},null,{"$f":"_xlfn.IFNA(IF(BS71=\"\",\"\",MAX(BR$1:BR70)+1),\"\")","v":""},"","","","","",""]
[null,null,null,null,null,null,null,null,null,null,null,null,null,null,null,null,null,null,null,null,null,null,null,null,null,null,null,null,null,null,null,null,null,null,null,null,null,null,null,null,null,null,null,null,null,null,null,null,null,null,null,null,null,null,null,null,null,{"$f":"IF(BG72=\"\",\"\",MAX(BF$1:BF71)+1)","v":""},{"$f":"IF(TEXT(Kortelė!$B$26,\"mm\")=IF(A72=\"\",\"\",TEXT(A72,\"mm\")),A72,\"\")","v":""},null,"",{"$f":"_xlfn.IFNA(IF(BL72=\"\",\"\",MAX(BJ$1:BJ71)+1),\"\")","v":""},"",{"$f":"IF(IF(IF(VLOOKUP($BK72,Archyvas,22,FALSE)=$BL$1,\"\",VLOOKUP($BK72,Archyvas,25,FALSE))=0,\"\",IF(VLOOKUP($BK72,Archyvas,22,FALSE)=$BL$1,\"\",VLOOKUP($BK72,Archyvas,25,FALSE)))=\"\",\"\",IF(IF(VLOOKUP($BK72,Archyvas,22,FALSE)=$BL$1,\"\",VLOOKUP($BK72,Archyvas,22,FALSE))=0,\"\",IF(VLOOKUP($BK72,Archyvas,22,FALSE)=$BL$1,\"\",VLOOKUP($BK72,Archyvas,22,FALSE))))","v":{"$error":"#N/A"}},{"$f":"IF(IF(VLOOKUP($BK72,Archyvas,22,FALSE)=$BL$1,\"\",VLOOKUP($BK72,Archyvas,23,FALSE))=0,\"\",IF(VLOOKUP($BK72,Archyvas,22,FALSE)=$BL$1,\"\",VLOOKUP($BK72,Archyvas,23,FALSE)))","v":{"$error":"#N/A"}},{"$f":"IF(IF(VLOOKUP($BK72,Archyvas,22,FALSE)=$BL$1,\"\",VLOOKUP($BK72,Archyvas,24,FALSE))=0,\"\",IF(VLOOKUP($BK72,Archyvas,22,FALSE)=$BL$1,\"\",VLOOKUP($BK72,Archyvas,24,FALSE)))","v":{"$error":"#N/A"}},{"$f":"IF(IF(VLOOKUP($BK72,Archyvas,22,FALSE)=$BL$1,\"\",VLOOKUP($BK72,Archyvas,25,FALSE))=0,\"\",IF(VLOOKUP($BK72,Archyvas,22,FALSE)=$BL$1,\"\",VLOOKUP($BK72,Archyvas,25,FALSE)))","v":{"$error":"#N/A"}},{"$f":"IF(IF(VLOOKUP($BK72,Archyvas,22,FALSE)=$BL$1,\"\",VLOOKUP($BK72,Archyvas,26,FALSE))=0,\"\",IF(VLOOKUP($BK72,Archyvas,22,FALSE)=$BL$1,\"\",VLOOKUP($BK72,Archyvas,26,FALSE)))","v":{"$error":"#N/A"}},null,{"$f":"_xlfn.IFNA(IF(BS72=\"\",\"\",MAX(BR$1:BR71)+1),\"\")","v":""},"","","","","",""]
[null,null,null,null,null,null,null,null,null,null,null,null,null,null,null,null,null,null,null,null,null,null,null,null,null,null,null,null,null,null,null,null,null,null,null,null,null,null,null,null,null,null,null,null,null,null,null,null,null,null,null,null,null,null,null,null,null,{"$f":"IF(BG73=\"\",\"\",MAX(BF$1:BF72)+1)","v":""},{"$f":"IF(TEXT(Kortelė!$B$26,\"mm\")=IF(A73=\"\",\"\",TEXT(A73,\"mm\")),A73,\"\")","v":""},null,"",{"$f":"_xlfn.IFNA(IF(BL73=\"\",\"\",MAX(BJ$1:BJ72)+1),\"\")","v":""},"",{"$f":"IF(IF(IF(VLOOKUP($BK73,Archyvas,27,FALSE)=$BL$1,\"\",VLOOKUP($BK73,Archyvas,30,FALSE))=0,\"\",IF(VLOOKUP($BK73,Archyvas,27,FALSE)=$BL$1,\"\",VLOOKUP($BK73,Archyvas,30,FALSE)))=\"\",\"\",IF(IF(VLOOKUP($BK73,Archyvas,27,FALSE)=$BL$1,\"\",VLOOKUP($BK73,Archyvas,27,FALSE))=0,\"\",IF(VLOOKUP($BK73,Archyvas,27,FALSE)=$BL$1,\"\",VLOOKUP($BK73,Archyvas,27,FALSE))))","v":{"$error":"#N/A"}},{"$f":"IF(IF(VLOOKUP($BK73,Archyvas,27,FALSE)=$BL$1,\"\",VLOOKUP($BK73,Archyvas,28,FALSE))=0,\"\",IF(VLOOKUP($BK73,Archyvas,27,FALSE)=$BL$1,\"\",VLOOKUP($BK73,Archyvas,28,FALSE)))","v":{"$error":"#N/A"}},{"$f":"IF(IF(VLOOKUP($BK73,Archyvas,27,FALSE)=$BL$1,\"\",VLOOKUP($BK73,Archyvas,29,FALSE))=0,\"\",IF(VLOOKUP($BK73,Archyvas,27,FALSE)=$BL$1,\"\",VLOOKUP($BK73,Archyvas,29,FALSE)))","v":{"$error":"#N/A"}},{"$f":"IF(IF(VLOOKUP($BK73,Archyvas,27,FALSE)=$BL$1,\"\",VLOOKUP($BK73,Archyvas,30,FALSE))=0,\"\",IF(VLOOKUP($BK73,Archyvas,27,FALSE)=$BL$1,\"\",VLOOKUP($BK73,Archyvas,30,FALSE)))","v":{"$error":"#N/A"}},{"$f":"IF(IF(VLOOKUP($BK73,Archyvas,27,FALSE)=$BL$1,\"\",VLOOKUP($BK73,Archyvas,31,FALSE))=0,\"\",IF(VLOOKUP($BK73,Archyvas,27,FALSE)=$BL$1,\"\",VLOOKUP($BK73,Archyvas,31,FALSE)))","v":{"$error":"#N/A"}},null,{"$f":"_xlfn.IFNA(IF(BS73=\"\",\"\",MAX(BR$1:BR72)+1),\"\")","v":""},"","","","","",""]
[null,null,null,null,null,null,null,null,null,null,null,null,null,null,null,null,null,null,null,null,null,null,null,null,null,null,null,null,null,null,null,null,null,null,null,null,null,null,null,null,null,null,null,null,null,null,null,null,null,null,null,null,null,null,null,null,null,{"$f":"IF(BG74=\"\",\"\",MAX(BF$1:BF73)+1)","v":""},{"$f":"IF(TEXT(Kortelė!$B$26,\"mm\")=IF(A74=\"\",\"\",TEXT(A74,\"mm\")),A74,\"\")","v":""},null,"",{"$f":"_xlfn.IFNA(IF(BL74=\"\",\"\",MAX(BJ$1:BJ73)+1),\"\")","v":""},"",{"$f":"IF(IF(IF(VLOOKUP($BK74,Archyvas,32,FALSE)=$BL$1,\"\",VLOOKUP($BK74,Archyvas,35,FALSE))=0,\"\",IF(VLOOKUP($BK74,Archyvas,32,FALSE)=$BL$1,\"\",VLOOKUP($BK74,Archyvas,35,FALSE)))=\"\",\"\",IF(IF(VLOOKUP($BK74,Archyvas,32,FALSE)=$BL$1,\"\",VLOOKUP($BK74,Archyvas,32,FALSE))=0,\"\",IF(VLOOKUP($BK74,Archyvas,32,FALSE)=$BL$1,\"\",VLOOKUP($BK74,Archyvas,32,FALSE))))","v":{"$error":"#N/A"}},{"$f":"IF(IF(VLOOKUP($BK74,Archyvas,32,FALSE)=$BL$1,\"\",VLOOKUP($BK74,Archyvas,33,FALSE))=0,\"\",IF(VLOOKUP($BK74,Archyvas,32,FALSE)=$BL$1,\"\",VLOOKUP($BK74,Archyvas,33,FALSE)))","v":{"$error":"#N/A"}},{"$f":"IF(IF(VLOOKUP($BK74,Archyvas,32,FALSE)=$BL$1,\"\",VLOOKUP($BK74,Archyvas,34,FALSE))=0,\"\",IF(VLOOKUP($BK74,Archyvas,32,FALSE)=$BL$1,\"\",VLOOKUP($BK74,Archyvas,34,FALSE)))","v":{"$error":"#N/A"}},{"$f":"IF(IF(VLOOKUP($BK74,Archyvas,32,FALSE)=$BL$1,\"\",VLOOKUP($BK74,Archyvas,35,FALSE))=0,\"\",IF(VLOOKUP($BK74,Archyvas,32,FALSE)=$BL$1,\"\",VLOOKUP($BK74,Archyvas,35,FALSE)))","v":{"$error":"#N/A"}},{"$f":"IF(IF(VLOOKUP($BK74,Archyvas,32,FALSE)=$BL$1,\"\",VLOOKUP($BK74,Archyvas,36,FALSE))=0,\"\",IF(VLOOKUP($BK74,Archyvas,32,FALSE)=$BL$1,\"\",VLOOKUP($BK74,Archyvas,36,FALSE)))","v":{"$error":"#N/A"}},null,{"$f":"_xlfn.IFNA(IF(BS74=\"\",\"\",MAX(BR$1:BR73)+1),\"\")","v":""},"","","","","",""]
[null,null,null,null,null,null,null,null,null,null,null,null,null,null,null,null,null,null,null,null,null,null,null,null,null,null,null,null,null,null,null,null,null,null,null,null,null,null,null,null,null,null,null,null,null,null,null,null,null,null,null,null,null,null,null,null,null,{"$f":"IF(BG75=\"\",\"\",MAX(BF$1:BF74)+1)","v":""},{"$f":"IF(TEXT(Kortelė!$B$26,\"mm\")=IF(A75=\"\",\"\",TEXT(A75,\"mm\")),A75,\"\")","v":""},null,"",{"$f":"_xlfn.IFNA(IF(BL75=\"\",\"\",MAX(BJ$1:BJ74)+1),\"\")","v":""},"",{"$f":"IF(IF(IF(VLOOKUP($BK75,Archyvas,37,FALSE)=$BL$1,\"\",VLOOKUP($BK75,Archyvas,40,FALSE))=0,\"\",IF(VLOOKUP($BK75,Archyvas,37,FALSE)=$BL$1,\"\",VLOOKUP($BK75,Archyvas,40,FALSE)))=\"\",\"\",IF(IF(VLOOKUP($BK75,Archyvas,37,FALSE)=$BL$1,\"\",VLOOKUP($BK75,Archyvas,37,FALSE))=0,\"\",IF(VLOOKUP($BK75,Archyvas,37,FALSE)=$BL$1,\"\",VLOOKUP($BK75,Archyvas,37,FALSE))))","v":{"$error":"#N/A"}},{"$f":"IF(IF(VLOOKUP($BK75,Archyvas,37,FALSE)=$BL$1,\"\",VLOOKUP($BK75,Archyvas,38,FALSE))=0,\"\",IF(VLOOKUP($BK75,Archyvas,37,FALSE)=$BL$1,\"\",VLOOKUP($BK75,Archyvas,38,FALSE)))","v":{"$error":"#N/A"}},{"$f":"IF(IF(VLOOKUP($BK75,Archyvas,37,FALSE)=$BL$1,\"\",VLOOKUP($BK75,Archyvas,39,FALSE))=0,\"\",IF(VLOOKUP($BK75,Archyvas,37,FALSE)=$BL$1,\"\",VLOOKUP($BK75,Archyvas,39,FALSE)))","v":{"$error":"#N/A"}},{"$f":"IF(IF(VLOOKUP($BK75,Archyvas,37,FALSE)=$BL$1,\"\",VLOOKUP($BK75,Archyvas,40,FALSE))=0,\"\",IF(VLOOKUP($BK75,Archyvas,37,FALSE)=$BL$1,\"\",VLOOKUP($BK75,Archyvas,40,FALSE)))","v":{"$error":"#N/A"}},{"$f":"IF(IF(VLOOKUP($BK75,Archyvas,37,FALSE)=$BL$1,\"\",VLOOKUP($BK75,Archyvas,41,FALSE))=0,\"\",IF(VLOOKUP($BK75,Archyvas,37,FALSE)=$BL$1,\"\",VLOOKUP($BK75,Archyvas,41,FALSE)))","v":{"$error":"#N/A"}},null,{"$f":"_xlfn.IFNA(IF(BS75=\"\",\"\",MAX(BR$1:BR74)+1),\"\")","v":""},"","","","","",""]
[null,null,null,null,null,null,null,null,null,null,null,null,null,null,null,null,null,null,null,null,null,null,null,null,null,null,null,null,null,null,null,null,null,null,null,null,null,null,null,null,null,null,null,null,null,null,null,null,null,null,null,null,null,null,null,null,null,{"$f":"IF(BG76=\"\",\"\",MAX(BF$1:BF75)+1)","v":""},{"$f":"IF(TEXT(Kortelė!$B$26,\"mm\")=IF(A76=\"\",\"\",TEXT(A76,\"mm\")),A76,\"\")","v":""},null,"",{"$f":"_xlfn.IFNA(IF(BL76=\"\",\"\",MAX(BJ$1:BJ75)+1),\"\")","v":""},"",{"$f":"IF(IF(IF(VLOOKUP($BK76,Archyvas,42,FALSE)=$BL$1,\"\",VLOOKUP($BK76,Archyvas,45,FALSE))=0,\"\",IF(VLOOKUP($BK76,Archyvas,42,FALSE)=$BL$1,\"\",VLOOKUP($BK76,Archyvas,45,FALSE)))=\"\",\"\",IF(IF(VLOOKUP($BK76,Archyvas,42,FALSE)=$BL$1,\"\",VLOOKUP($BK76,Archyvas,42,FALSE))=0,\"\",IF(VLOOKUP($BK76,Archyvas,42,FALSE)=$BL$1,\"\",VLOOKUP($BK76,Archyvas,42,FALSE))))","v":{"$error":"#N/A"}},{"$f":"IF(IF(VLOOKUP($BK76,Archyvas,42,FALSE)=$BL$1,\"\",VLOOKUP($BK76,Archyvas,43,FALSE))=0,\"\",IF(VLOOKUP($BK76,Archyvas,42,FALSE)=$BL$1,\"\",VLOOKUP($BK76,Archyvas,43,FALSE)))","v":{"$error":"#N/A"}},{"$f":"IF(IF(VLOOKUP($BK76,Archyvas,42,FALSE)=$BL$1,\"\",VLOOKUP($BK76,Archyvas,44,FALSE))=0,\"\",IF(VLOOKUP($BK76,Archyvas,42,FALSE)=$BL$1,\"\",VLOOKUP($BK76,Archyvas,44,FALSE)))","v":{"$error":"#N/A"}},{"$f":"IF(IF(VLOOKUP($BK76,Archyvas,42,FALSE)=$BL$1,\"\",VLOOKUP($BK76,Archyvas,45,FALSE))=0,\"\",IF(VLOOKUP($BK76,Archyvas,42,FALSE)=$BL$1,\"\",VLOOKUP($BK76,Archyvas,45,FALSE)))","v":{"$error":"#N/A"}},{"$f":"IF(IF(VLOOKUP($BK76,Archyvas,42,FALSE)=$BL$1,\"\",VLOOKUP($BK76,Archyvas,46,FALSE))=0,\"\",IF(VLOOKUP($BK76,Archyvas,42,FALSE)=$BL$1,\"\",VLOOKUP($BK76,Archyvas,46,FALSE)))","v":{"$error":"#N/A"}},null,{"$f":"_xlfn.IFNA(IF(BS76=\"\",\"\",MAX(BR$1:BR75)+1),\"\")","v":""},"","","","","",""]
[null,null,null,null,null,null,null,null,null,null,null,null,null,null,null,null,null,null,null,null,null,null,null,null,null,null,null,null,null,null,null,null,null,null,null,null,null,null,null,null,null,null,null,null,null,null,null,null,null,null,null,null,null,null,null,null,null,{"$f":"IF(BG77=\"\",\"\",MAX(BF$1:BF76)+1)","v":""},{"$f":"IF(TEXT(Kortelė!$B$26,\"mm\")=IF(A77=\"\",\"\",TEXT(A77,\"mm\")),A77,\"\")","v":""},null,"",{"$f":"_xlfn.IFNA(IF(BL77=\"\",\"\",MAX(BJ$1:BJ76)+1),\"\")","v":""},"",{"$f":"IF(IF(IF(VLOOKUP($BK77,Archyvas,47,FALSE)=$BL$1,\"\",VLOOKUP($BK77,Archyvas,50,FALSE))=0,\"\",IF(VLOOKUP($BK77,Archyvas,47,FALSE)=$BL$1,\"\",VLOOKUP($BK77,Archyvas,50,FALSE)))=\"\",\"\",IF(IF(VLOOKUP($BK77,Archyvas,47,FALSE)=$BL$1,\"\",VLOOKUP($BK77,Archyvas,47,FALSE))=0,\"\",IF(VLOOKUP($BK77,Archyvas,47,FALSE)=$BL$1,\"\",VLOOKUP($BK77,Archyvas,47,FALSE))))","v":{"$error":"#N/A"}},{"$f":"IF(IF(VLOOKUP($BK77,Archyvas,47,FALSE)=$BL$1,\"\",VLOOKUP($BK77,Archyvas,48,FALSE))=0,\"\",IF(VLOOKUP($BK77,Archyvas,47,FALSE)=$BL$1,\"\",VLOOKUP($BK77,Archyvas,48,FALSE)))","v":{"$error":"#N/A"}},{"$f":"IF(IF(VLOOKUP($BK77,Archyvas,47,FALSE)=$BL$1,\"\",VLOOKUP($BK77,Archyvas,49,FALSE))=0,\"\",IF(VLOOKUP($BK77,Archyvas,47,FALSE)=$BL$1,\"\",VLOOKUP($BK77,Archyvas,49,FALSE)))","v":{"$error":"#N/A"}},{"$f":"IF(IF(VLOOKUP($BK77,Archyvas,47,FALSE)=$BL$1,\"\",VLOOKUP($BK77,Archyvas,50,FALSE))=0,\"\",IF(VLOOKUP($BK77,Archyvas,47,FALSE)=$BL$1,\"\",VLOOKUP($BK77,Archyvas,50,FALSE)))","v":{"$error":"#N/A"}},{"$f":"IF(IF(VLOOKUP($BK77,Archyvas,47,FALSE)=$BL$1,\"\",VLOOKUP($BK77,Archyvas,51,FALSE))=0,\"\",IF(VLOOKUP($BK77,Archyvas,47,FALSE)=$BL$1,\"\",VLOOKUP($BK77,Archyvas,51,FALSE)))","v":{"$error":"#N/A"}},null,{"$f":"_xlfn.IFNA(IF(BS77=\"\",\"\",MAX(BR$1:BR76)+1),\"\")","v":""},"","","","","",""]
[null,null,null,null,null,null,null,null,null,null,null,null,null,null,null,null,null,null,null,null,null,null,null,null,null,null,null,null,null,null,null,null,null,null,null,null,null,null,null,null,null,null,null,null,null,null,null,null,null,null,null,null,null,null,null,null,null,{"$f":"IF(BG78=\"\",\"\",MAX(BF$1:BF77)+1)","v":""},{"$f":"IF(TEXT(Kortelė!$B$26,\"mm\")=IF(A78=\"\",\"\",TEXT(A78,\"mm\")),A78,\"\")","v":""},null,"",{"$f":"_xlfn.IFNA(IF(BL78=\"\",\"\",MAX(BJ$1:BJ77)+1),\"\")","v":""},"",null,null,null,null,null,null,{"$f":"_xlfn.IFNA(IF(BS78=\"\",\"\",MAX(BR$1:BR77)+1),\"\")","v":""},"","","","","",""]
[null,null,null,null,null,null,null,null,null,null,null,null,null,null,null,null,null,null,null,null,null,null,null,null,null,null,null,null,null,null,null,null,null,null,null,null,null,null,null,null,null,null,null,null,null,null,null,null,null,null,null,null,null,null,null,null,null,{"$f":"IF(BG79=\"\",\"\",MAX(BF$1:BF78)+1)","v":""},{"$f":"IF(TEXT(Kortelė!$B$26,\"mm\")=IF(A79=\"\",\"\",TEXT(A79,\"mm\")),A79,\"\")","v":""},null,"",{"$f":"_xlfn.IFNA(IF(BL79=\"\",\"\",MAX(BJ$1:BJ78)+1),\"\")","v":""},{"$f":"$BI$9","v":""},{"$f":"IF(IF(IF(VLOOKUP($BK79,Archyvas,2,FALSE)=$BL$1,\"\",VLOOKUP($BK79,Archyvas,5,FALSE))=0,\"\",IF(VLOOKUP($BK79,Archyvas,2,FALSE)=$BL$1,\"\",VLOOKUP($BK79,Archyvas,5,FALSE)))=\"\",\"\",IF(IF(VLOOKUP($BK79,Archyvas,2,FALSE)=$BL$1,\"\",VLOOKUP($BK79,Archyvas,2,FALSE))=0,\"\",IF(VLOOKUP($BK79,Archyvas,2,FALSE)=$BL$1,\"\",VLOOKUP($BK79,Archyvas,2,FALSE))))","v":{"$error":"#N/A"}},{"$f":"IF(IF(VLOOKUP($BK79,Archyvas,2,FALSE)=$BL$1,\"\",VLOOKUP($BK79,Archyvas,3,FALSE))=0,\"\",IF(VLOOKUP($BK79,Archyvas,2,FALSE)=$BL$1,\"\",VLOOKUP($BK79,Archyvas,3,FALSE)))","v":{"$error":"#N/A"}},{"$f":"IF(IF(VLOOKUP($BK79,Archyvas,2,FALSE)=$BL$1,\"\",VLOOKUP($BK79,Archyvas,4,FALSE))=0,\"\",IF(VLOOKUP($BK79,Archyvas,2,FALSE)=$BL$1,\"\",VLOOKUP($BK79,Archyvas,4,FALSE)))","v":{"$error":"#N/A"}},{"$f":"IF(IF(VLOOKUP($BK79,Archyvas,2,FALSE)=$BL$1,\"\",VLOOKUP($BK79,Archyvas,5,FALSE))=0,\"\",IF(VLOOKUP($BK79,Archyvas,2,FALSE)=$BL$1,\"\",VLOOKUP($BK79,Archyvas,5,FALSE)))","v":{"$error":"#N/A"}},{"$f":"IF(IF(VLOOKUP($BK79,Archyvas,2,FALSE)=$BL$1,\"\",VLOOKUP($BK79,Archyvas,6,FALSE))=0,\"\",IF(VLOOKUP($BK79,Archyvas,2,FALSE)=$BL$1,\"\",VLOOKUP($BK79,Archyvas,6,FALSE)))","v":{"$error":"#N/A"}},null,{"$f":"_xlfn.IFNA(IF(BS79=\"\",\"\",MAX(BR$1:BR78)+1),\"\")","v":""},"","","","","",""]
[null,null,null,null,null,null,null,null,null,null,null,null,null,null,null,null,null,null,null,null,null,null,null,null,null,null,null,null,null,null,null,null,null,null,null,null,null,null,null,null,null,null,null,null,null,null,null,null,null,null,null,null,null,null,null,null,null,{"$f":"IF(BG80=\"\",\"\",MAX(BF$1:BF79)+1)","v":""},{"$f":"IF(TEXT(Kortelė!$B$26,\"mm\")=IF(A80=\"\",\"\",TEXT(A80,\"mm\")),A80,\"\")","v":""},null,"",{"$f":"_xlfn.IFNA(IF(BL80=\"\",\"\",MAX(BJ$1:BJ79)+1),\"\")","v":""},{"$f":"BK79","v":""},{"$f":"IF(IF(IF(VLOOKUP($BK80,Archyvas,7,FALSE)=$BL$1,\"\",VLOOKUP($BK80,Archyvas,10,FALSE))=0,\"\",IF(VLOOKUP($BK80,Archyvas,7,FALSE)=$BL$1,\"\",VLOOKUP($BK80,Archyvas,10,FALSE)))=\"\",\"\",IF(IF(VLOOKUP($BK80,Archyvas,7,FALSE)=$BL$1,\"\",VLOOKUP($BK80,Archyvas,7,FALSE))=0,\"\",IF(VLOOKUP($BK80,Archyvas,7,FALSE)=$BL$1,\"\",VLOOKUP($BK80,Archyvas,7,FALSE))))","v":{"$error":"#N/A"}},{"$f":"IF(IF(VLOOKUP($BK80,Archyvas,7,FALSE)=$BL$1,\"\",VLOOKUP($BK80,Archyvas,8,FALSE))=0,\"\",IF(VLOOKUP($BK80,Archyvas,7,FALSE)=$BL$1,\"\",VLOOKUP($BK80,Archyvas,8,FALSE)))","v":{"$error":"#N/A"}},{"$f":"IF(IF(VLOOKUP($BK80,Archyvas,7,FALSE)=$BL$1,\"\",VLOOKUP($BK80,Archyvas,9,FALSE))=0,\"\",IF(VLOOKUP($BK80,Archyvas,7,FALSE)=$BL$1,\"\",VLOOKUP($BK80,Archyvas,9,FALSE)))","v":{"$error":"#N/A"}},{"$f":"IF(IF(VLOOKUP($BK80,Archyvas,7,FALSE)=$BL$1,\"\",VLOOKUP($BK80,Archyvas,10,FALSE))=0,\"\",IF(VLOOKUP($BK80,Archyvas,7,FALSE)=$BL$1,\"\",VLOOKUP($BK80,Archyvas,10,FALSE)))","v":{"$error":"#N/A"}},{"$f":"IF(IF(VLOOKUP($BK80,Archyvas,7,FALSE)=$BL$1,\"\",VLOOKUP($BK80,Archyvas,11,FALSE))=0,\"\",IF(VLOOKUP($BK80,Archyvas,7,FALSE)=$BL$1,\"\",VLOOKUP($BK80,Archyvas,11,FALSE)))","v":{"$error":"#N/A"}},null,{"$f":"_xlfn.IFNA(IF(BS80=\"\",\"\",MAX(BR$1:BR79)+1),\"\")","v":""},"","","","","",""]
[null,null,null,null,null,null,null,null,null,null,null,null,null,null,null,null,null,null,null,null,null,null,null,null,null,null,null,null,null,null,null,null,null,null,null,null,null,null,null,null,null,null,null,null,null,null,null,null,null,null,null,null,null,null,null,null,null,{"$f":"IF(BG81=\"\",\"\",MAX(BF$1:BF80)+1)","v":""},{"$f":"IF(TEXT(Kortelė!$B$26,\"mm\")=IF(A81=\"\",\"\",TEXT(A81,\"mm\")),A81,\"\")","v":""},null,"",{"$f":"_xlfn.IFNA(IF(BL81=\"\",\"\",MAX(BJ$1:BJ80)+1),\"\")","v":""},{"$f":"BK80","v":""},{"$f":"IF(IF(IF(VLOOKUP($BK81,Archyvas,12,FALSE)=$BL$1,\"\",VLOOKUP($BK81,Archyvas,15,FALSE))=0,\"\",IF(VLOOKUP($BK81,Archyvas,12,FALSE)=$BL$1,\"\",VLOOKUP($BK81,Archyvas,15,FALSE)))=\"\",\"\",IF(IF(VLOOKUP($BK81,Archyvas,12,FALSE)=$BL$1,\"\",VLOOKUP($BK81,Archyvas,12,FALSE))=0,\"\",IF(VLOOKUP($BK81,Archyvas,12,FALSE)=$BL$1,\"\",VLOOKUP($BK81,Archyvas,12,FALSE))))","v":{"$error":"#N/A"}},{"$f":"IF(IF(VLOOKUP($BK81,Archyvas,12,FALSE)=$BL$1,\"\",VLOOKUP($BK81,Archyvas,13,FALSE))=0,\"\",IF(VLOOKUP($BK81,Archyvas,12,FALSE)=$BL$1,\"\",VLOOKUP($BK81,Archyvas,13,FALSE)))","v":{"$error":"#N/A"}},{"$f":"IF(IF(VLOOKUP($BK81,Archyvas,12,FALSE)=$BL$1,\"\",VLOOKUP($BK81,Archyvas,14,FALSE))=0,\"\",IF(VLOOKUP($BK81,Archyvas,12,FALSE)=$BL$1,\"\",VLOOKUP($BK81,Archyvas,14,FALSE)))","v":{"$error":"#N/A"}},{"$f":"IF(IF(VLOOKUP($BK81,Archyvas,12,FALSE)=$BL$1,\"\",VLOOKUP($BK81,Archyvas,15,FALSE))=0,\"\",IF(VLOOKUP($BK81,Archyvas,12,FALSE)=$BL$1,\"\",VLOOKUP($BK81,Archyvas,15,FALSE)))","v":{"$error":"#N/A"}},{"$f":"IF(IF(VLOOKUP($BK81,Archyvas,12,FALSE)=$BL$1,\"\",VLOOKUP($BK81,Archyvas,16,FALSE))=0,\"\",IF(VLOOKUP($BK81,Archyvas,12,FALSE)=$BL$1,\"\",VLOOKUP($BK81,Archyvas,16,FALSE)))","v":{"$error":"#N/A"}},null,{"$f":"_xlfn.IFNA(IF(BS81=\"\",\"\",MAX(BR$1:BR80)+1),\"\")","v":""},"","","","","",""]
[null,null,null,null,null,null,null,null,null,null,null,null,null,null,null,null,null,null,null,null,null,null,null,null,null,null,null,null,null,null,null,null,null,null,null,null,null,null,null,null,null,null,null,null,null,null,null,null,null,null,null,null,null,null,null,null,null,{"$f":"IF(BG82=\"\",\"\",MAX(BF$1:BF81)+1)","v":""},{"$f":"IF(TEXT(Kortelė!$B$26,\"mm\")=IF(A82=\"\",\"\",TEXT(A82,\"mm\")),A82,\"\")","v":""},null,"",{"$f":"_xlfn.IFNA(IF(BL82=\"\",\"\",MAX(BJ$1:BJ81)+1),\"\")","v":""},"",{"$f":"IF(IF(IF(VLOOKUP($BK82,Archyvas,17,FALSE)=$BL$1,\"\",VLOOKUP($BK82,Archyvas,20,FALSE))=0,\"\",IF(VLOOKUP($BK82,Archyvas,17,FALSE)=$BL$1,\"\",VLOOKUP($BK82,Archyvas,20,FALSE)))=\"\",\"\",IF(IF(VLOOKUP($BK82,Archyvas,17,FALSE)=$BL$1,\"\",VLOOKUP($BK82,Archyvas,17,FALSE))=0,\"\",IF(VLOOKUP($BK82,Archyvas,17,FALSE)=$BL$1,\"\",VLOOKUP($BK82,Archyvas,17,FALSE))))","v":{"$error":"#N/A"}},{"$f":"IF(IF(VLOOKUP($BK82,Archyvas,17,FALSE)=$BL$1,\"\",VLOOKUP($BK82,Archyvas,18,FALSE))=0,\"\",IF(VLOOKUP($BK82,Archyvas,17,FALSE)=$BL$1,\"\",VLOOKUP($BK82,Archyvas,18,FALSE)))","v":{"$error":"#N/A"}},{"$f":"IF(IF(VLOOKUP($BK82,Archyvas,17,FALSE)=$BL$1,\"\",VLOOKUP($BK82,Archyvas,19,FALSE))=0,\"\",IF(VLOOKUP($BK82,Archyvas,17,FALSE)=$BL$1,\"\",VLOOKUP($BK82,Archyvas,19,FALSE)))","v":{"$error":"#N/A"}},{"$f":"IF(IF(VLOOKUP($BK82,Archyvas,17,FALSE)=$BL$1,\"\",VLOOKUP($BK82,Archyvas,20,FALSE))=0,\"\",IF(VLOOKUP($BK82,Archyvas,17,FALSE)=$BL$1,\"\",VLOOKUP($BK82,Archyvas,20,FALSE)))","v":{"$error":"#N/A"}},{"$f":"IF(IF(VLOOKUP($BK82,Archyvas,17,FALSE)=$BL$1,\"\",VLOOKUP($BK82,Archyvas,21,FALSE))=0,\"\",IF(VLOOKUP($BK82,Archyvas,17,FALSE)=$BL$1,\"\",VLOOKUP($BK82,Archyvas,21,FALSE)))","v":{"$error":"#N/A"}},null,{"$f":"_xlfn.IFNA(IF(BS82=\"\",\"\",MAX(BR$1:BR81)+1),\"\")","v":""},"","","","","",""]
[null,null,null,null,null,null,null,null,null,null,null,null,null,null,null,null,null,null,null,null,null,null,null,null,null,null,null,null,null,null,null,null,null,null,null,null,null,null,null,null,null,null,null,null,null,null,null,null,null,null,null,null,null,null,null,null,null,{"$f":"IF(BG83=\"\",\"\",MAX(BF$1:BF82)+1)","v":""},{"$f":"IF(TEXT(Kortelė!$B$26,\"mm\")=IF(A83=\"\",\"\",TEXT(A83,\"mm\")),A83,\"\")","v":""},null,"",{"$f":"_xlfn.IFNA(IF(BL83=\"\",\"\",MAX(BJ$1:BJ82)+1),\"\")","v":""},"",{"$f":"IF(IF(IF(VLOOKUP($BK83,Archyvas,22,FALSE)=$BL$1,\"\",VLOOKUP($BK83,Archyvas,25,FALSE))=0,\"\",IF(VLOOKUP($BK83,Archyvas,22,FALSE)=$BL$1,\"\",VLOOKUP($BK83,Archyvas,25,FALSE)))=\"\",\"\",IF(IF(VLOOKUP($BK83,Archyvas,22,FALSE)=$BL$1,\"\",VLOOKUP($BK83,Archyvas,22,FALSE))=0,\"\",IF(VLOOKUP($BK83,Archyvas,22,FALSE)=$BL$1,\"\",VLOOKUP($BK83,Archyvas,22,FALSE))))","v":{"$error":"#N/A"}},{"$f":"IF(IF(VLOOKUP($BK83,Archyvas,22,FALSE)=$BL$1,\"\",VLOOKUP($BK83,Archyvas,23,FALSE))=0,\"\",IF(VLOOKUP($BK83,Archyvas,22,FALSE)=$BL$1,\"\",VLOOKUP($BK83,Archyvas,23,FALSE)))","v":{"$error":"#N/A"}},{"$f":"IF(IF(VLOOKUP($BK83,Archyvas,22,FALSE)=$BL$1,\"\",VLOOKUP($BK83,Archyvas,24,FALSE))=0,\"\",IF(VLOOKUP($BK83,Archyvas,22,FALSE)=$BL$1,\"\",VLOOKUP($BK83,Archyvas,24,FALSE)))","v":{"$error":"#N/A"}},{"$f":"IF(IF(VLOOKUP($BK83,Archyvas,22,FALSE)=$BL$1,\"\",VLOOKUP($BK83,Archyvas,25,FALSE))=0,\"\",IF(VLOOKUP($BK83,Archyvas,22,FALSE)=$BL$1,\"\",VLOOKUP($BK83,Archyvas,25,FALSE)))","v":{"$error":"#N/A"}},{"$f":"IF(IF(VLOOKUP($BK83,Archyvas,22,FALSE)=$BL$1,\"\",VLOOKUP($BK83,Archyvas,26,FALSE))=0,\"\",IF(VLOOKUP($BK83,Archyvas,22,FALSE)=$BL$1,\"\",VLOOKUP($BK83,Archyvas,26,FALSE)))","v":{"$error":"#N/A"}},null,{"$f":"_xlfn.IFNA(IF(BS83=\"\",\"\",MAX(BR$1:BR82)+1),\"\")","v":""},"","","","","",""]
[null,null,null,null,null,null,null,null,null,null,null,null,null,null,null,null,null,null,null,null,null,null,null,null,null,null,null,null,null,null,null,null,null,null,null,null,null,null,null,null,null,null,null,null,null,null,null,null,null,null,null,null,null,null,null,null,null,{"$f":"IF(BG84=\"\",\"\",MAX(BF$1:BF83)+1)","v":""},{"$f":"IF(TEXT(Kortelė!$B$26,\"mm\")=IF(A84=\"\",\"\",TEXT(A84,\"mm\")),A84,\"\")","v":""},null,"",{"$f":"_xlfn.IFNA(IF(BL84=\"\",\"\",MAX(BJ$1:BJ83)+1),\"\")","v":""},"",{"$f":"IF(IF(IF(VLOOKUP($BK84,Archyvas,27,FALSE)=$BL$1,\"\",VLOOKUP($BK84,Archyvas,30,FALSE))=0,\"\",IF(VLOOKUP($BK84,Archyvas,27,FALSE)=$BL$1,\"\",VLOOKUP($BK84,Archyvas,30,FALSE)))=\"\",\"\",IF(IF(VLOOKUP($BK84,Archyvas,27,FALSE)=$BL$1,\"\",VLOOKUP($BK84,Archyvas,27,FALSE))=0,\"\",IF(VLOOKUP($BK84,Archyvas,27,FALSE)=$BL$1,\"\",VLOOKUP($BK84,Archyvas,27,FALSE))))","v":{"$error":"#N/A"}},{"$f":"IF(IF(VLOOKUP($BK84,Archyvas,27,FALSE)=$BL$1,\"\",VLOOKUP($BK84,Archyvas,28,FALSE))=0,\"\",IF(VLOOKUP($BK84,Archyvas,27,FALSE)=$BL$1,\"\",VLOOKUP($BK84,Archyvas,28,FALSE)))","v":{"$error":"#N/A"}},{"$f":"IF(IF(VLOOKUP($BK84,Archyvas,27,FALSE)=$BL$1,\"\",VLOOKUP($BK84,Archyvas,29,FALSE))=0,\"\",IF(VLOOKUP($BK84,Archyvas,27,FALSE)=$BL$1,\"\",VLOOKUP($BK84,Archyvas,29,FALSE)))","v":{"$error":"#N/A"}},{"$f":"IF(IF(VLOOKUP($BK84,Archyvas,27,FALSE)=$BL$1,\"\",VLOOKUP($BK84,Archyvas,30,FALSE))=0,\"\",IF(VLOOKUP($BK84,Archyvas,27,FALSE)=$BL$1,\"\",VLOOKUP($BK84,Archyvas,30,FALSE)))","v":{"$error":"#N/A"}},{"$f":"IF(IF(VLOOKUP($BK84,Archyvas,27,FALSE)=$BL$1,\"\",VLOOKUP($BK84,Archyvas,31,FALSE))=0,\"\",IF(VLOOKUP($BK84,Archyvas,27,FALSE)=$BL$1,\"\",VLOOKUP($BK84,Archyvas,31,FALSE)))","v":{"$error":"#N/A"}},null,{"$f":"_xlfn.IFNA(IF(BS84=\"\",\"\",MAX(BR$1:BR83)+1),\"\")","v":""},"","","","","",""]
[null,null,null,null,null,null,null,null,null,null,null,null,null,null,null,null,null,null,null,null,null,null,null,null,null,null,null,null,null,null,null,null,null,null,null,null,null,null,null,null,null,null,null,null,null,null,null,null,null,null,null,null,null,null,null,null,null,{"$f":"IF(BG85=\"\",\"\",MAX(BF$1:BF84)+1)","v":""},{"$f":"IF(TEXT(Kortelė!$B$26,\"mm\")=IF(A85=\"\",\"\",TEXT(A85,\"mm\")),A85,\"\")","v":""},null,"",{"$f":"_xlfn.IFNA(IF(BL85=\"\",\"\",MAX(BJ$1:BJ84)+1),\"\")","v":""},"",{"$f":"IF(IF(IF(VLOOKUP($BK85,Archyvas,32,FALSE)=$BL$1,\"\",VLOOKUP($BK85,Archyvas,35,FALSE))=0,\"\",IF(VLOOKUP($BK85,Archyvas,32,FALSE)=$BL$1,\"\",VLOOKUP($BK85,Archyvas,35,FALSE)))=\"\",\"\",IF(IF(VLOOKUP($BK85,Archyvas,32,FALSE)=$BL$1,\"\",VLOOKUP($BK85,Archyvas,32,FALSE))=0,\"\",IF(VLOOKUP($BK85,Archyvas,32,FALSE)=$BL$1,\"\",VLOOKUP($BK85,Archyvas,32,FALSE))))","v":{"$error":"#N/A"}},{"$f":"IF(IF(VLOOKUP($BK85,Archyvas,32,FALSE)=$BL$1,\"\",VLOOKUP($BK85,Archyvas,33,FALSE))=0,\"\",IF(VLOOKUP($BK85,Archyvas,32,FALSE)=$BL$1,\"\",VLOOKUP($BK85,Archyvas,33,FALSE)))","v":{"$error":"#N/A"}},{"$f":"IF(IF(VLOOKUP($BK85,Archyvas,32,FALSE)=$BL$1,\"\",VLOOKUP($BK85,Archyvas,34,FALSE))=0,\"\",IF(VLOOKUP($BK85,Archyvas,32,FALSE)=$BL$1,\"\",VLOOKUP($BK85,Archyvas,34,FALSE)))","v":{"$error":"#N/A"}},{"$f":"IF(IF(VLOOKUP($BK85,Archyvas,32,FALSE)=$BL$1,\"\",VLOOKUP($BK85,Archyvas,35,FALSE))=0,\"\",IF(VLOOKUP($BK85,Archyvas,32,FALSE)=$BL$1,\"\",VLOOKUP($BK85,Archyvas,35,FALSE)))","v":{"$error":"#N/A"}},{"$f":"IF(IF(VLOOKUP($BK85,Archyvas,32,FALSE)=$BL$1,\"\",VLOOKUP($BK85,Archyvas,36,FALSE))=0,\"\",IF(VLOOKUP($BK85,Archyvas,32,FALSE)=$BL$1,\"\",VLOOKUP($BK85,Archyvas,36,FALSE)))","v":{"$error":"#N/A"}},null,{"$f":"_xlfn.IFNA(IF(BS85=\"\",\"\",MAX(BR$1:BR84)+1),\"\")","v":""},"","","","","",""]
[null,null,null,null,null,null,null,null,null,null,null,null,null,null,null,null,null,null,null,null,null,null,null,null,null,null,null,null,null,null,null,null,null,null,null,null,null,null,null,null,null,null,null,null,null,null,null,null,null,null,null,null,null,null,null,null,null,{"$f":"IF(BG86=\"\",\"\",MAX(BF$1:BF85)+1)","v":""},{"$f":"IF(TEXT(Kortelė!$B$26,\"mm\")=IF(A86=\"\",\"\",TEXT(A86,\"mm\")),A86,\"\")","v":""},null,"",{"$f":"_xlfn.IFNA(IF(BL86=\"\",\"\",MAX(BJ$1:BJ85)+1),\"\")","v":""},"",{"$f":"IF(IF(IF(VLOOKUP($BK86,Archyvas,37,FALSE)=$BL$1,\"\",VLOOKUP($BK86,Archyvas,40,FALSE))=0,\"\",IF(VLOOKUP($BK86,Archyvas,37,FALSE)=$BL$1,\"\",VLOOKUP($BK86,Archyvas,40,FALSE)))=\"\",\"\",IF(IF(VLOOKUP($BK86,Archyvas,37,FALSE)=$BL$1,\"\",VLOOKUP($BK86,Archyvas,37,FALSE))=0,\"\",IF(VLOOKUP($BK86,Archyvas,37,FALSE)=$BL$1,\"\",VLOOKUP($BK86,Archyvas,37,FALSE))))","v":{"$error":"#N/A"}},{"$f":"IF(IF(VLOOKUP($BK86,Archyvas,37,FALSE)=$BL$1,\"\",VLOOKUP($BK86,Archyvas,38,FALSE))=0,\"\",IF(VLOOKUP($BK86,Archyvas,37,FALSE)=$BL$1,\"\",VLOOKUP($BK86,Archyvas,38,FALSE)))","v":{"$error":"#N/A"}},{"$f":"IF(IF(VLOOKUP($BK86,Archyvas,37,FALSE)=$BL$1,\"\",VLOOKUP($BK86,Archyvas,39,FALSE))=0,\"\",IF(VLOOKUP($BK86,Archyvas,37,FALSE)=$BL$1,\"\",VLOOKUP($BK86,Archyvas,39,FALSE)))","v":{"$error":"#N/A"}},{"$f":"IF(IF(VLOOKUP($BK86,Archyvas,37,FALSE)=$BL$1,\"\",VLOOKUP($BK86,Archyvas,40,FALSE))=0,\"\",IF(VLOOKUP($BK86,Archyvas,37,FALSE)=$BL$1,\"\",VLOOKUP($BK86,Archyvas,40,FALSE)))","v":{"$error":"#N/A"}},{"$f":"IF(IF(VLOOKUP($BK86,Archyvas,37,FALSE)=$BL$1,\"\",VLOOKUP($BK86,Archyvas,41,FALSE))=0,\"\",IF(VLOOKUP($BK86,Archyvas,37,FALSE)=$BL$1,\"\",VLOOKUP($BK86,Archyvas,41,FALSE)))","v":{"$error":"#N/A"}},null,{"$f":"_xlfn.IFNA(IF(BS86=\"\",\"\",MAX(BR$1:BR85)+1),\"\")","v":""},"","","","","",""]
[null,null,null,null,null,null,null,null,null,null,null,null,null,null,null,null,null,null,null,null,null,null,null,null,null,null,null,null,null,null,null,null,null,null,null,null,null,null,null,null,null,null,null,null,null,null,null,null,null,null,null,null,null,null,null,null,null,{"$f":"IF(BG87=\"\",\"\",MAX(BF$1:BF86)+1)","v":""},{"$f":"IF(TEXT(Kortelė!$B$26,\"mm\")=IF(A87=\"\",\"\",TEXT(A87,\"mm\")),A87,\"\")","v":""},null,"",{"$f":"_xlfn.IFNA(IF(BL87=\"\",\"\",MAX(BJ$1:BJ86)+1),\"\")","v":""},"",{"$f":"IF(IF(IF(VLOOKUP($BK87,Archyvas,42,FALSE)=$BL$1,\"\",VLOOKUP($BK87,Archyvas,45,FALSE))=0,\"\",IF(VLOOKUP($BK87,Archyvas,42,FALSE)=$BL$1,\"\",VLOOKUP($BK87,Archyvas,45,FALSE)))=\"\",\"\",IF(IF(VLOOKUP($BK87,Archyvas,42,FALSE)=$BL$1,\"\",VLOOKUP($BK87,Archyvas,42,FALSE))=0,\"\",IF(VLOOKUP($BK87,Archyvas,42,FALSE)=$BL$1,\"\",VLOOKUP($BK87,Archyvas,42,FALSE))))","v":{"$error":"#N/A"}},{"$f":"IF(IF(VLOOKUP($BK87,Archyvas,42,FALSE)=$BL$1,\"\",VLOOKUP($BK87,Archyvas,43,FALSE))=0,\"\",IF(VLOOKUP($BK87,Archyvas,42,FALSE)=$BL$1,\"\",VLOOKUP($BK87,Archyvas,43,FALSE)))","v":{"$error":"#N/A"}},{"$f":"IF(IF(VLOOKUP($BK87,Archyvas,42,FALSE)=$BL$1,\"\",VLOOKUP($BK87,Archyvas,44,FALSE))=0,\"\",IF(VLOOKUP($BK87,Archyvas,42,FALSE)=$BL$1,\"\",VLOOKUP($BK87,Archyvas,44,FALSE)))","v":{"$error":"#N/A"}},{"$f":"IF(IF(VLOOKUP($BK87,Archyvas,42,FALSE)=$BL$1,\"\",VLOOKUP($BK87,Archyvas,45,FALSE))=0,\"\",IF(VLOOKUP($BK87,Archyvas,42,FALSE)=$BL$1,\"\",VLOOKUP($BK87,Archyvas,45,FALSE)))","v":{"$error":"#N/A"}},{"$f":"IF(IF(VLOOKUP($BK87,Archyvas,42,FALSE)=$BL$1,\"\",VLOOKUP($BK87,Archyvas,46,FALSE))=0,\"\",IF(VLOOKUP($BK87,Archyvas,42,FALSE)=$BL$1,\"\",VLOOKUP($BK87,Archyvas,46,FALSE)))","v":{"$error":"#N/A"}},null,{"$f":"_xlfn.IFNA(IF(BS87=\"\",\"\",MAX(BR$1:BR86)+1),\"\")","v":""},"","","","","",""]
[null,null,null,null,null,null,null,null,null,null,null,null,null,null,null,null,null,null,null,null,null,null,null,null,null,null,null,null,null,null,null,null,null,null,null,null,null,null,null,null,null,null,null,null,null,null,null,null,null,null,null,null,null,null,null,null,null,{"$f":"IF(BG88=\"\",\"\",MAX(BF$1:BF87)+1)","v":""},{"$f":"IF(TEXT(Kortelė!$B$26,\"mm\")=IF(A88=\"\",\"\",TEXT(A88,\"mm\")),A88,\"\")","v":""},null,"",{"$f":"_xlfn.IFNA(IF(BL88=\"\",\"\",MAX(BJ$1:BJ87)+1),\"\")","v":""},"",{"$f":"IF(IF(IF(VLOOKUP($BK88,Archyvas,47,FALSE)=$BL$1,\"\",VLOOKUP($BK88,Archyvas,50,FALSE))=0,\"\",IF(VLOOKUP($BK88,Archyvas,47,FALSE)=$BL$1,\"\",VLOOKUP($BK88,Archyvas,50,FALSE)))=\"\",\"\",IF(IF(VLOOKUP($BK88,Archyvas,47,FALSE)=$BL$1,\"\",VLOOKUP($BK88,Archyvas,47,FALSE))=0,\"\",IF(VLOOKUP($BK88,Archyvas,47,FALSE)=$BL$1,\"\",VLOOKUP($BK88,Archyvas,47,FALSE))))","v":{"$error":"#N/A"}},{"$f":"IF(IF(VLOOKUP($BK88,Archyvas,47,FALSE)=$BL$1,\"\",VLOOKUP($BK88,Archyvas,48,FALSE))=0,\"\",IF(VLOOKUP($BK88,Archyvas,47,FALSE)=$BL$1,\"\",VLOOKUP($BK88,Archyvas,48,FALSE)))","v":{"$error":"#N/A"}},{"$f":"IF(IF(VLOOKUP($BK88,Archyvas,47,FALSE)=$BL$1,\"\",VLOOKUP($BK88,Archyvas,49,FALSE))=0,\"\",IF(VLOOKUP($BK88,Archyvas,47,FALSE)=$BL$1,\"\",VLOOKUP($BK88,Archyvas,49,FALSE)))","v":{"$error":"#N/A"}},{"$f":"IF(IF(VLOOKUP($BK88,Archyvas,47,FALSE)=$BL$1,\"\",VLOOKUP($BK88,Archyvas,50,FALSE))=0,\"\",IF(VLOOKUP($BK88,Archyvas,47,FALSE)=$BL$1,\"\",VLOOKUP($BK88,Archyvas,50,FALSE)))","v":{"$error":"#N/A"}},{"$f":"IF(IF(VLOOKUP($BK88,Archyvas,47,FALSE)=$BL$1,\"\",VLOOKUP($BK88,Archyvas,51,FALSE))=0,\"\",IF(VLOOKUP($BK88,Archyvas,47,FALSE)=$BL$1,\"\",VLOOKUP($BK88,Archyvas,51,FALSE)))","v":{"$error":"#N/A"}},null,{"$f":"_xlfn.IFNA(IF(BS88=\"\",\"\",MAX(BR$1:BR87)+1),\"\")","v":""},"","","","","",""]
[null,null,null,null,null,null,null,null,null,null,null,null,null,null,null,null,null,null,null,null,null,null,null,null,null,null,null,null,null,null,null,null,null,null,null,null,null,null,null,null,null,null,null,null,null,null,null,null,null,null,null,null,null,null,null,null,null,{"$f":"IF(BG89=\"\",\"\",MAX(BF$1:BF88)+1)","v":""},{"$f":"IF(TEXT(Kortelė!$B$26,\"mm\")=IF(A89=\"\",\"\",TEXT(A89,\"mm\")),A89,\"\")","v":""},null,"",{"$f":"_xlfn.IFNA(IF(BL89=\"\",\"\",MAX(BJ$1:BJ88)+1),\"\")","v":""},{"$f":"BI88","v":""},null,null,null,null,null,null,{"$f":"_xlfn.IFNA(IF(BS89=\"\",\"\",MAX(BR$1:BR88)+1),\"\")","v":""},"","","","","",""]
[null,null,null,null,null,null,null,null,null,null,null,null,null,null,null,null,null,null,null,null,null,null,null,null,null,null,null,null,null,null,null,null,null,null,null,null,null,null,null,null,null,null,null,null,null,null,null,null,null,null,null,null,null,null,null,null,null,{"$f":"IF(BG90=\"\",\"\",MAX(BF$1:BF89)+1)","v":""},{"$f":"IF(TEXT(Kortelė!$B$26,\"mm\")=IF(A90=\"\",\"\",TEXT(A90,\"mm\")),A90,\"\")","v":""},null,"",{"$f":"_xlfn.IFNA(IF(BL90=\"\",\"\",MAX(BJ$1:BJ89)+1),\"\")","v":""},{"$f":"$BI$10","v":""},{"$f":"IF(IF(IF(VLOOKUP($BK90,Archyvas,2,FALSE)=$BL$1,\"\",VLOOKUP($BK90,Archyvas,5,FALSE))=0,\"\",IF(VLOOKUP($BK90,Archyvas,2,FALSE)=$BL$1,\"\",VLOOKUP($BK90,Archyvas,5,FALSE)))=\"\",\"\",IF(IF(VLOOKUP($BK90,Archyvas,2,FALSE)=$BL$1,\"\",VLOOKUP($BK90,Archyvas,2,FALSE))=0,\"\",IF(VLOOKUP($BK90,Archyvas,2,FALSE)=$BL$1,\"\",VLOOKUP($BK90,Archyvas,2,FALSE))))","v":{"$error":"#N/A"}},{"$f":"IF(IF(VLOOKUP($BK90,Archyvas,2,FALSE)=$BL$1,\"\",VLOOKUP($BK90,Archyvas,3,FALSE))=0,\"\",IF(VLOOKUP($BK90,Archyvas,2,FALSE)=$BL$1,\"\",VLOOKUP($BK90,Archyvas,3,FALSE)))","v":{"$error":"#N/A"}},{"$f":"IF(IF(VLOOKUP($BK90,Archyvas,2,FALSE)=$BL$1,\"\",VLOOKUP($BK90,Archyvas,4,FALSE))=0,\"\",IF(VLOOKUP($BK90,Archyvas,2,FALSE)=$BL$1,\"\",VLOOKUP($BK90,Archyvas,4,FALSE)))","v":{"$error":"#N/A"}},{"$f":"IF(IF(VLOOKUP($BK90,Archyvas,2,FALSE)=$BL$1,\"\",VLOOKUP($BK90,Archyvas,5,FALSE))=0,\"\",IF(VLOOKUP($BK90,Archyvas,2,FALSE)=$BL$1,\"\",VLOOKUP($BK90,Archyvas,5,FALSE)))","v":{"$error":"#N/A"}},{"$f":"IF(IF(VLOOKUP($BK90,Archyvas,2,FALSE)=$BL$1,\"\",VLOOKUP($BK90,Archyvas,6,FALSE))=0,\"\",IF(VLOOKUP($BK90,Archyvas,2,FALSE)=$BL$1,\"\",VLOOKUP($BK90,Archyvas,6,FALSE)))","v":{"$error":"#N/A"}},null,{"$f":"_xlfn.IFNA(IF(BS90=\"\",\"\",MAX(BR$1:BR89)+1),\"\")","v":""},"","","","","",""]
[null,null,null,null,null,null,null,null,null,null,null,null,null,null,null,null,null,null,null,null,null,null,null,null,null,null,null,null,null,null,null,null,null,null,null,null,null,null,null,null,null,null,null,null,null,null,null,null,null,null,null,null,null,null,null,null,null,{"$f":"IF(BG91=\"\",\"\",MAX(BF$1:BF90)+1)","v":""},{"$f":"IF(TEXT(Kortelė!$B$26,\"mm\")=IF(A91=\"\",\"\",TEXT(A91,\"mm\")),A91,\"\")","v":""},null,"",{"$f":"_xlfn.IFNA(IF(BL91=\"\",\"\",MAX(BJ$1:BJ90)+1),\"\")","v":""},{"$f":"BK90","v":""},{"$f":"IF(IF(IF(VLOOKUP($BK91,Archyvas,7,FALSE)=$BL$1,\"\",VLOOKUP($BK91,Archyvas,10,FALSE))=0,\"\",IF(VLOOKUP($BK91,Archyvas,7,FALSE)=$BL$1,\"\",VLOOKUP($BK91,Archyvas,10,FALSE)))=\"\",\"\",IF(IF(VLOOKUP($BK91,Archyvas,7,FALSE)=$BL$1,\"\",VLOOKUP($BK91,Archyvas,7,FALSE))=0,\"\",IF(VLOOKUP($BK91,Archyvas,7,FALSE)=$BL$1,\"\",VLOOKUP($BK91,Archyvas,7,FALSE))))","v":{"$error":"#N/A"}},{"$f":"IF(IF(VLOOKUP($BK91,Archyvas,7,FALSE)=$BL$1,\"\",VLOOKUP($BK91,Archyvas,8,FALSE))=0,\"\",IF(VLOOKUP($BK91,Archyvas,7,FALSE)=$BL$1,\"\",VLOOKUP($BK91,Archyvas,8,FALSE)))","v":{"$error":"#N/A"}},{"$f":"IF(IF(VLOOKUP($BK91,Archyvas,7,FALSE)=$BL$1,\"\",VLOOKUP($BK91,Archyvas,9,FALSE))=0,\"\",IF(VLOOKUP($BK91,Archyvas,7,FALSE)=$BL$1,\"\",VLOOKUP($BK91,Archyvas,9,FALSE)))","v":{"$error":"#N/A"}},{"$f":"IF(IF(VLOOKUP($BK91,Archyvas,7,FALSE)=$BL$1,\"\",VLOOKUP($BK91,Archyvas,10,FALSE))=0,\"\",IF(VLOOKUP($BK91,Archyvas,7,FALSE)=$BL$1,\"\",VLOOKUP($BK91,Archyvas,10,FALSE)))","v":{"$error":"#N/A"}},{"$f":"IF(IF(VLOOKUP($BK91,Archyvas,7,FALSE)=$BL$1,\"\",VLOOKUP($BK91,Archyvas,11,FALSE))=0,\"\",IF(VLOOKUP($BK91,Archyvas,7,FALSE)=$BL$1,\"\",VLOOKUP($BK91,Archyvas,11,FALSE)))","v":{"$error":"#N/A"}},null,{"$f":"_xlfn.IFNA(IF(BS91=\"\",\"\",MAX(BR$1:BR90)+1),\"\")","v":""},"","","","","",""]
[null,null,null,null,null,null,null,null,null,null,null,null,null,null,null,null,null,null,null,null,null,null,null,null,null,null,null,null,null,null,null,null,null,null,null,null,null,null,null,null,null,null,null,null,null,null,null,null,null,null,null,null,null,null,null,null,null,{"$f":"IF(BG92=\"\",\"\",MAX(BF$1:BF91)+1)","v":""},{"$f":"IF(TEXT(Kortelė!$B$26,\"mm\")=IF(A92=\"\",\"\",TEXT(A92,\"mm\")),A92,\"\")","v":""},null,"",{"$f":"_xlfn.IFNA(IF(BL92=\"\",\"\",MAX(BJ$1:BJ91)+1),\"\")","v":""},{"$f":"BK91","v":""},{"$f":"IF(IF(IF(VLOOKUP($BK92,Archyvas,12,FALSE)=$BL$1,\"\",VLOOKUP($BK92,Archyvas,15,FALSE))=0,\"\",IF(VLOOKUP($BK92,Archyvas,12,FALSE)=$BL$1,\"\",VLOOKUP($BK92,Archyvas,15,FALSE)))=\"\",\"\",IF(IF(VLOOKUP($BK92,Archyvas,12,FALSE)=$BL$1,\"\",VLOOKUP($BK92,Archyvas,12,FALSE))=0,\"\",IF(VLOOKUP($BK92,Archyvas,12,FALSE)=$BL$1,\"\",VLOOKUP($BK92,Archyvas,12,FALSE))))","v":{"$error":"#N/A"}},{"$f":"IF(IF(VLOOKUP($BK92,Archyvas,12,FALSE)=$BL$1,\"\",VLOOKUP($BK92,Archyvas,13,FALSE))=0,\"\",IF(VLOOKUP($BK92,Archyvas,12,FALSE)=$BL$1,\"\",VLOOKUP($BK92,Archyvas,13,FALSE)))","v":{"$error":"#N/A"}},{"$f":"IF(IF(VLOOKUP($BK92,Archyvas,12,FALSE)=$BL$1,\"\",VLOOKUP($BK92,Archyvas,14,FALSE))=0,\"\",IF(VLOOKUP($BK92,Archyvas,12,FALSE)=$BL$1,\"\",VLOOKUP($BK92,Archyvas,14,FALSE)))","v":{"$error":"#N/A"}},{"$f":"IF(IF(VLOOKUP($BK92,Archyvas,12,FALSE)=$BL$1,\"\",VLOOKUP($BK92,Archyvas,15,FALSE))=0,\"\",IF(VLOOKUP($BK92,Archyvas,12,FALSE)=$BL$1,\"\",VLOOKUP($BK92,Archyvas,15,FALSE)))","v":{"$error":"#N/A"}},{"$f":"IF(IF(VLOOKUP($BK92,Archyvas,12,FALSE)=$BL$1,\"\",VLOOKUP($BK92,Archyvas,16,FALSE))=0,\"\",IF(VLOOKUP($BK92,Archyvas,12,FALSE)=$BL$1,\"\",VLOOKUP($BK92,Archyvas,16,FALSE)))","v":{"$error":"#N/A"}},null,{"$f":"_xlfn.IFNA(IF(BS92=\"\",\"\",MAX(BR$1:BR91)+1),\"\")","v":""},"","","","","",""]
[null,null,null,null,null,null,null,null,null,null,null,null,null,null,null,null,null,null,null,null,null,null,null,null,null,null,null,null,null,null,null,null,null,null,null,null,null,null,null,null,null,null,null,null,null,null,null,null,null,null,null,null,null,null,null,null,null,{"$f":"IF(BG93=\"\",\"\",MAX(BF$1:BF92)+1)","v":""},{"$f":"IF(TEXT(Kortelė!$B$26,\"mm\")=IF(A93=\"\",\"\",TEXT(A93,\"mm\")),A93,\"\")","v":""},null,"",{"$f":"_xlfn.IFNA(IF(BL93=\"\",\"\",MAX(BJ$1:BJ92)+1),\"\")","v":""},"",{"$f":"IF(IF(IF(VLOOKUP($BK93,Archyvas,17,FALSE)=$BL$1,\"\",VLOOKUP($BK93,Archyvas,20,FALSE))=0,\"\",IF(VLOOKUP($BK93,Archyvas,17,FALSE)=$BL$1,\"\",VLOOKUP($BK93,Archyvas,20,FALSE)))=\"\",\"\",IF(IF(VLOOKUP($BK93,Archyvas,17,FALSE)=$BL$1,\"\",VLOOKUP($BK93,Archyvas,17,FALSE))=0,\"\",IF(VLOOKUP($BK93,Archyvas,17,FALSE)=$BL$1,\"\",VLOOKUP($BK93,Archyvas,17,FALSE))))","v":{"$error":"#N/A"}},{"$f":"IF(IF(VLOOKUP($BK93,Archyvas,17,FALSE)=$BL$1,\"\",VLOOKUP($BK93,Archyvas,18,FALSE))=0,\"\",IF(VLOOKUP($BK93,Archyvas,17,FALSE)=$BL$1,\"\",VLOOKUP($BK93,Archyvas,18,FALSE)))","v":{"$error":"#N/A"}},{"$f":"IF(IF(VLOOKUP($BK93,Archyvas,17,FALSE)=$BL$1,\"\",VLOOKUP($BK93,Archyvas,19,FALSE))=0,\"\",IF(VLOOKUP($BK93,Archyvas,17,FALSE)=$BL$1,\"\",VLOOKUP($BK93,Archyvas,19,FALSE)))","v":{"$error":"#N/A"}},{"$f":"IF(IF(VLOOKUP($BK93,Archyvas,17,FALSE)=$BL$1,\"\",VLOOKUP($BK93,Archyvas,20,FALSE))=0,\"\",IF(VLOOKUP($BK93,Archyvas,17,FALSE)=$BL$1,\"\",VLOOKUP($BK93,Archyvas,20,FALSE)))","v":{"$error":"#N/A"}},{"$f":"IF(IF(VLOOKUP($BK93,Archyvas,17,FALSE)=$BL$1,\"\",VLOOKUP($BK93,Archyvas,21,FALSE))=0,\"\",IF(VLOOKUP($BK93,Archyvas,17,FALSE)=$BL$1,\"\",VLOOKUP($BK93,Archyvas,21,FALSE)))","v":{"$error":"#N/A"}},null,{"$f":"_xlfn.IFNA(IF(BS93=\"\",\"\",MAX(BR$1:BR92)+1),\"\")","v":""},"","","","","",""]
[null,null,null,null,null,null,null,null,null,null,null,null,null,null,null,null,null,null,null,null,null,null,null,null,null,null,null,null,null,null,null,null,null,null,null,null,null,null,null,null,null,null,null,null,null,null,null,null,null,null,null,null,null,null,null,null,null,{"$f":"IF(BG94=\"\",\"\",MAX(BF$1:BF93)+1)","v":""},{"$f":"IF(TEXT(Kortelė!$B$26,\"mm\")=IF(A94=\"\",\"\",TEXT(A94,\"mm\")),A94,\"\")","v":""},null,"",{"$f":"_xlfn.IFNA(IF(BL94=\"\",\"\",MAX(BJ$1:BJ93)+1),\"\")","v":""},"",{"$f":"IF(IF(IF(VLOOKUP($BK94,Archyvas,22,FALSE)=$BL$1,\"\",VLOOKUP($BK94,Archyvas,25,FALSE))=0,\"\",IF(VLOOKUP($BK94,Archyvas,22,FALSE)=$BL$1,\"\",VLOOKUP($BK94,Archyvas,25,FALSE)))=\"\",\"\",IF(IF(VLOOKUP($BK94,Archyvas,22,FALSE)=$BL$1,\"\",VLOOKUP($BK94,Archyvas,22,FALSE))=0,\"\",IF(VLOOKUP($BK94,Archyvas,22,FALSE)=$BL$1,\"\",VLOOKUP($BK94,Archyvas,22,FALSE))))","v":{"$error":"#N/A"}},{"$f":"IF(IF(VLOOKUP($BK94,Archyvas,22,FALSE)=$BL$1,\"\",VLOOKUP($BK94,Archyvas,23,FALSE))=0,\"\",IF(VLOOKUP($BK94,Archyvas,22,FALSE)=$BL$1,\"\",VLOOKUP($BK94,Archyvas,23,FALSE)))","v":{"$error":"#N/A"}},{"$f":"IF(IF(VLOOKUP($BK94,Archyvas,22,FALSE)=$BL$1,\"\",VLOOKUP($BK94,Archyvas,24,FALSE))=0,\"\",IF(VLOOKUP($BK94,Archyvas,22,FALSE)=$BL$1,\"\",VLOOKUP($BK94,Archyvas,24,FALSE)))","v":{"$error":"#N/A"}},{"$f":"IF(IF(VLOOKUP($BK94,Archyvas,22,FALSE)=$BL$1,\"\",VLOOKUP($BK94,Archyvas,25,FALSE))=0,\"\",IF(VLOOKUP($BK94,Archyvas,22,FALSE)=$BL$1,\"\",VLOOKUP($BK94,Archyvas,25,FALSE)))","v":{"$error":"#N/A"}},{"$f":"IF(IF(VLOOKUP($BK94,Archyvas,22,FALSE)=$BL$1,\"\",VLOOKUP($BK94,Archyvas,26,FALSE))=0,\"\",IF(VLOOKUP($BK94,Archyvas,22,FALSE)=$BL$1,\"\",VLOOKUP($BK94,Archyvas,26,FALSE)))","v":{"$error":"#N/A"}},null,{"$f":"_xlfn.IFNA(IF(BS94=\"\",\"\",MAX(BR$1:BR93)+1),\"\")","v":""},"","","","","",""]
[null,null,null,null,null,null,null,null,null,null,null,null,null,null,null,null,null,null,null,null,null,null,null,null,null,null,null,null,null,null,null,null,null,null,null,null,null,null,null,null,null,null,null,null,null,null,null,null,null,null,null,null,null,null,null,null,null,{"$f":"IF(BG95=\"\",\"\",MAX(BF$1:BF94)+1)","v":""},{"$f":"IF(TEXT(Kortelė!$B$26,\"mm\")=IF(A95=\"\",\"\",TEXT(A95,\"mm\")),A95,\"\")","v":""},null,"",{"$f":"_xlfn.IFNA(IF(BL95=\"\",\"\",MAX(BJ$1:BJ94)+1),\"\")","v":""},"",{"$f":"IF(IF(IF(VLOOKUP($BK95,Archyvas,27,FALSE)=$BL$1,\"\",VLOOKUP($BK95,Archyvas,30,FALSE))=0,\"\",IF(VLOOKUP($BK95,Archyvas,27,FALSE)=$BL$1,\"\",VLOOKUP($BK95,Archyvas,30,FALSE)))=\"\",\"\",IF(IF(VLOOKUP($BK95,Archyvas,27,FALSE)=$BL$1,\"\",VLOOKUP($BK95,Archyvas,27,FALSE))=0,\"\",IF(VLOOKUP($BK95,Archyvas,27,FALSE)=$BL$1,\"\",VLOOKUP($BK95,Archyvas,27,FALSE))))","v":{"$error":"#N/A"}},{"$f":"IF(IF(VLOOKUP($BK95,Archyvas,27,FALSE)=$BL$1,\"\",VLOOKUP($BK95,Archyvas,28,FALSE))=0,\"\",IF(VLOOKUP($BK95,Archyvas,27,FALSE)=$BL$1,\"\",VLOOKUP($BK95,Archyvas,28,FALSE)))","v":{"$error":"#N/A"}},{"$f":"IF(IF(VLOOKUP($BK95,Archyvas,27,FALSE)=$BL$1,\"\",VLOOKUP($BK95,Archyvas,29,FALSE))=0,\"\",IF(VLOOKUP($BK95,Archyvas,27,FALSE)=$BL$1,\"\",VLOOKUP($BK95,Archyvas,29,FALSE)))","v":{"$error":"#N/A"}},{"$f":"IF(IF(VLOOKUP($BK95,Archyvas,27,FALSE)=$BL$1,\"\",VLOOKUP($BK95,Archyvas,30,FALSE))=0,\"\",IF(VLOOKUP($BK95,Archyvas,27,FALSE)=$BL$1,\"\",VLOOKUP($BK95,Archyvas,30,FALSE)))","v":{"$error":"#N/A"}},{"$f":"IF(IF(VLOOKUP($BK95,Archyvas,27,FALSE)=$BL$1,\"\",VLOOKUP($BK95,Archyvas,31,FALSE))=0,\"\",IF(VLOOKUP($BK95,Archyvas,27,FALSE)=$BL$1,\"\",VLOOKUP($BK95,Archyvas,31,FALSE)))","v":{"$error":"#N/A"}},null,{"$f":"_xlfn.IFNA(IF(BS95=\"\",\"\",MAX(BR$1:BR94)+1),\"\")","v":""},"","","","","",""]
[null,null,null,null,null,null,null,null,null,null,null,null,null,null,null,null,null,null,null,null,null,null,null,null,null,null,null,null,null,null,null,null,null,null,null,null,null,null,null,null,null,null,null,null,null,null,null,null,null,null,null,null,null,null,null,null,null,{"$f":"IF(BG96=\"\",\"\",MAX(BF$1:BF95)+1)","v":""},{"$f":"IF(TEXT(Kortelė!$B$26,\"mm\")=IF(A96=\"\",\"\",TEXT(A96,\"mm\")),A96,\"\")","v":""},null,"",{"$f":"_xlfn.IFNA(IF(BL96=\"\",\"\",MAX(BJ$1:BJ95)+1),\"\")","v":""},"",{"$f":"IF(IF(IF(VLOOKUP($BK96,Archyvas,32,FALSE)=$BL$1,\"\",VLOOKUP($BK96,Archyvas,35,FALSE))=0,\"\",IF(VLOOKUP($BK96,Archyvas,32,FALSE)=$BL$1,\"\",VLOOKUP($BK96,Archyvas,35,FALSE)))=\"\",\"\",IF(IF(VLOOKUP($BK96,Archyvas,32,FALSE)=$BL$1,\"\",VLOOKUP($BK96,Archyvas,32,FALSE))=0,\"\",IF(VLOOKUP($BK96,Archyvas,32,FALSE)=$BL$1,\"\",VLOOKUP($BK96,Archyvas,32,FALSE))))","v":{"$error":"#N/A"}},{"$f":"IF(IF(VLOOKUP($BK96,Archyvas,32,FALSE)=$BL$1,\"\",VLOOKUP($BK96,Archyvas,33,FALSE))=0,\"\",IF(VLOOKUP($BK96,Archyvas,32,FALSE)=$BL$1,\"\",VLOOKUP($BK96,Archyvas,33,FALSE)))","v":{"$error":"#N/A"}},{"$f":"IF(IF(VLOOKUP($BK96,Archyvas,32,FALSE)=$BL$1,\"\",VLOOKUP($BK96,Archyvas,34,FALSE))=0,\"\",IF(VLOOKUP($BK96,Archyvas,32,FALSE)=$BL$1,\"\",VLOOKUP($BK96,Archyvas,34,FALSE)))","v":{"$error":"#N/A"}},{"$f":"IF(IF(VLOOKUP($BK96,Archyvas,32,FALSE)=$BL$1,\"\",VLOOKUP($BK96,Archyvas,35,FALSE))=0,\"\",IF(VLOOKUP($BK96,Archyvas,32,FALSE)=$BL$1,\"\",VLOOKUP($BK96,Archyvas,35,FALSE)))","v":{"$error":"#N/A"}},{"$f":"IF(IF(VLOOKUP($BK96,Archyvas,32,FALSE)=$BL$1,\"\",VLOOKUP($BK96,Archyvas,36,FALSE))=0,\"\",IF(VLOOKUP($BK96,Archyvas,32,FALSE)=$BL$1,\"\",VLOOKUP($BK96,Archyvas,36,FALSE)))","v":{"$error":"#N/A"}},null,{"$f":"_xlfn.IFNA(IF(BS96=\"\",\"\",MAX(BR$1:BR95)+1),\"\")","v":""},"","","","","",""]
[null,null,null,null,null,null,null,null,null,null,null,null,null,null,null,null,null,null,null,null,null,null,null,null,null,null,null,null,null,null,null,null,null,null,null,null,null,null,null,null,null,null,null,null,null,null,null,null,null,null,null,null,null,null,null,null,null,{"$f":"IF(BG97=\"\",\"\",MAX(BF$1:BF96)+1)","v":""},{"$f":"IF(TEXT(Kortelė!$B$26,\"mm\")=IF(A97=\"\",\"\",TEXT(A97,\"mm\")),A97,\"\")","v":""},null,"",{"$f":"_xlfn.IFNA(IF(BL97=\"\",\"\",MAX(BJ$1:BJ96)+1),\"\")","v":""},"",{"$f":"IF(IF(IF(VLOOKUP($BK97,Archyvas,37,FALSE)=$BL$1,\"\",VLOOKUP($BK97,Archyvas,40,FALSE))=0,\"\",IF(VLOOKUP($BK97,Archyvas,37,FALSE)=$BL$1,\"\",VLOOKUP($BK97,Archyvas,40,FALSE)))=\"\",\"\",IF(IF(VLOOKUP($BK97,Archyvas,37,FALSE)=$BL$1,\"\",VLOOKUP($BK97,Archyvas,37,FALSE))=0,\"\",IF(VLOOKUP($BK97,Archyvas,37,FALSE)=$BL$1,\"\",VLOOKUP($BK97,Archyvas,37,FALSE))))","v":{"$error":"#N/A"}},{"$f":"IF(IF(VLOOKUP($BK97,Archyvas,37,FALSE)=$BL$1,\"\",VLOOKUP($BK97,Archyvas,38,FALSE))=0,\"\",IF(VLOOKUP($BK97,Archyvas,37,FALSE)=$BL$1,\"\",VLOOKUP($BK97,Archyvas,38,FALSE)))","v":{"$error":"#N/A"}},{"$f":"IF(IF(VLOOKUP($BK97,Archyvas,37,FALSE)=$BL$1,\"\",VLOOKUP($BK97,Archyvas,39,FALSE))=0,\"\",IF(VLOOKUP($BK97,Archyvas,37,FALSE)=$BL$1,\"\",VLOOKUP($BK97,Archyvas,39,FALSE)))","v":{"$error":"#N/A"}},{"$f":"IF(IF(VLOOKUP($BK97,Archyvas,37,FALSE)=$BL$1,\"\",VLOOKUP($BK97,Archyvas,40,FALSE))=0,\"\",IF(VLOOKUP($BK97,Archyvas,37,FALSE)=$BL$1,\"\",VLOOKUP($BK97,Archyvas,40,FALSE)))","v":{"$error":"#N/A"}},{"$f":"IF(IF(VLOOKUP($BK97,Archyvas,37,FALSE)=$BL$1,\"\",VLOOKUP($BK97,Archyvas,41,FALSE))=0,\"\",IF(VLOOKUP($BK97,Archyvas,37,FALSE)=$BL$1,\"\",VLOOKUP($BK97,Archyvas,41,FALSE)))","v":{"$error":"#N/A"}},null,{"$f":"_xlfn.IFNA(IF(BS97=\"\",\"\",MAX(BR$1:BR96)+1),\"\")","v":""},"","","","","",""]
[null,null,null,null,null,null,null,null,null,null,null,null,null,null,null,null,null,null,null,null,null,null,null,null,null,null,null,null,null,null,null,null,null,null,null,null,null,null,null,null,null,null,null,null,null,null,null,null,null,null,null,null,null,null,null,null,null,{"$f":"IF(BG98=\"\",\"\",MAX(BF$1:BF97)+1)","v":""},{"$f":"IF(TEXT(Kortelė!$B$26,\"mm\")=IF(A98=\"\",\"\",TEXT(A98,\"mm\")),A98,\"\")","v":""},null,"",{"$f":"_xlfn.IFNA(IF(BL98=\"\",\"\",MAX(BJ$1:BJ97)+1),\"\")","v":""},"",{"$f":"IF(IF(IF(VLOOKUP($BK98,Archyvas,42,FALSE)=$BL$1,\"\",VLOOKUP($BK98,Archyvas,45,FALSE))=0,\"\",IF(VLOOKUP($BK98,Archyvas,42,FALSE)=$BL$1,\"\",VLOOKUP($BK98,Archyvas,45,FALSE)))=\"\",\"\",IF(IF(VLOOKUP($BK98,Archyvas,42,FALSE)=$BL$1,\"\",VLOOKUP($BK98,Archyvas,42,FALSE))=0,\"\",IF(VLOOKUP($BK98,Archyvas,42,FALSE)=$BL$1,\"\",VLOOKUP($BK98,Archyvas,42,FALSE))))","v":{"$error":"#N/A"}},{"$f":"IF(IF(VLOOKUP($BK98,Archyvas,42,FALSE)=$BL$1,\"\",VLOOKUP($BK98,Archyvas,43,FALSE))=0,\"\",IF(VLOOKUP($BK98,Archyvas,42,FALSE)=$BL$1,\"\",VLOOKUP($BK98,Archyvas,43,FALSE)))","v":{"$error":"#N/A"}},{"$f":"IF(IF(VLOOKUP($BK98,Archyvas,42,FALSE)=$BL$1,\"\",VLOOKUP($BK98,Archyvas,44,FALSE))=0,\"\",IF(VLOOKUP($BK98,Archyvas,42,FALSE)=$BL$1,\"\",VLOOKUP($BK98,Archyvas,44,FALSE)))","v":{"$error":"#N/A"}},{"$f":"IF(IF(VLOOKUP($BK98,Archyvas,42,FALSE)=$BL$1,\"\",VLOOKUP($BK98,Archyvas,45,FALSE))=0,\"\",IF(VLOOKUP($BK98,Archyvas,42,FALSE)=$BL$1,\"\",VLOOKUP($BK98,Archyvas,45,FALSE)))","v":{"$error":"#N/A"}},{"$f":"IF(IF(VLOOKUP($BK98,Archyvas,42,FALSE)=$BL$1,\"\",VLOOKUP($BK98,Archyvas,46,FALSE))=0,\"\",IF(VLOOKUP($BK98,Archyvas,42,FALSE)=$BL$1,\"\",VLOOKUP($BK98,Archyvas,46,FALSE)))","v":{"$error":"#N/A"}},null,{"$f":"_xlfn.IFNA(IF(BS98=\"\",\"\",MAX(BR$1:BR97)+1),\"\")","v":""},"","","","","",""]
[null,null,null,null,null,null,null,null,null,null,null,null,null,null,null,null,null,null,null,null,null,null,null,null,null,null,null,null,null,null,null,null,null,null,null,null,null,null,null,null,null,null,null,null,null,null,null,null,null,null,null,null,null,null,null,null,null,{"$f":"IF(BG99=\"\",\"\",MAX(BF$1:BF98)+1)","v":""},{"$f":"IF(TEXT(Kortelė!$B$26,\"mm\")=IF(A99=\"\",\"\",TEXT(A99,\"mm\")),A99,\"\")","v":""},null,"",{"$f":"_xlfn.IFNA(IF(BL99=\"\",\"\",MAX(BJ$1:BJ98)+1),\"\")","v":""},"",{"$f":"IF(IF(IF(VLOOKUP($BK99,Archyvas,47,FALSE)=$BL$1,\"\",VLOOKUP($BK99,Archyvas,50,FALSE))=0,\"\",IF(VLOOKUP($BK99,Archyvas,47,FALSE)=$BL$1,\"\",VLOOKUP($BK99,Archyvas,50,FALSE)))=\"\",\"\",IF(IF(VLOOKUP($BK99,Archyvas,47,FALSE)=$BL$1,\"\",VLOOKUP($BK99,Archyvas,47,FALSE))=0,\"\",IF(VLOOKUP($BK99,Archyvas,47,FALSE)=$BL$1,\"\",VLOOKUP($BK99,Archyvas,47,FALSE))))","v":{"$error":"#N/A"}},{"$f":"IF(IF(VLOOKUP($BK99,Archyvas,47,FALSE)=$BL$1,\"\",VLOOKUP($BK99,Archyvas,48,FALSE))=0,\"\",IF(VLOOKUP($BK99,Archyvas,47,FALSE)=$BL$1,\"\",VLOOKUP($BK99,Archyvas,48,FALSE)))","v":{"$error":"#N/A"}},{"$f":"IF(IF(VLOOKUP($BK99,Archyvas,47,FALSE)=$BL$1,\"\",VLOOKUP($BK99,Archyvas,49,FALSE))=0,\"\",IF(VLOOKUP($BK99,Archyvas,47,FALSE)=$BL$1,\"\",VLOOKUP($BK99,Archyvas,49,FALSE)))","v":{"$error":"#N/A"}},{"$f":"IF(IF(VLOOKUP($BK99,Archyvas,47,FALSE)=$BL$1,\"\",VLOOKUP($BK99,Archyvas,50,FALSE))=0,\"\",IF(VLOOKUP($BK99,Archyvas,47,FALSE)=$BL$1,\"\",VLOOKUP($BK99,Archyvas,50,FALSE)))","v":{"$error":"#N/A"}},{"$f":"IF(IF(VLOOKUP($BK99,Archyvas,47,FALSE)=$BL$1,\"\",VLOOKUP($BK99,Archyvas,51,FALSE))=0,\"\",IF(VLOOKUP($BK99,Archyvas,47,FALSE)=$BL$1,\"\",VLOOKUP($BK99,Archyvas,51,FALSE)))","v":{"$error":"#N/A"}},null,{"$f":"_xlfn.IFNA(IF(BS99=\"\",\"\",MAX(BR$1:BR98)+1),\"\")","v":""},"","","","","",""]
[null,null,null,null,null,null,null,null,null,null,null,null,null,null,null,null,null,null,null,null,null,null,null,null,null,null,null,null,null,null,null,null,null,null,null,null,null,null,null,null,null,null,null,null,null,null,null,null,null,null,null,null,null,null,null,null,null,{"$f":"IF(BG100=\"\",\"\",MAX(BF$1:BF99)+1)","v":""},{"$f":"IF(TEXT(Kortelė!$B$26,\"mm\")=IF(A100=\"\",\"\",TEXT(A100,\"mm\")),A100,\"\")","v":""},null,"",{"$f":"_xlfn.IFNA(IF(BL100=\"\",\"\",MAX(BJ$1:BJ99)+1),\"\")","v":""},"",null,null,null,null,null,null,{"$f":"_xlfn.IFNA(IF(BS100=\"\",\"\",MAX(BR$1:BR99)+1),\"\")","v":""},"","","","","",""]
[null,null,null,null,null,null,null,null,null,null,null,null,null,null,null,null,null,null,null,null,null,null,null,null,null,null,null,null,null,null,null,null,null,null,null,null,null,null,null,null,null,null,null,null,null,null,null,null,null,null,null,null,null,null,null,null,null,{"$f":"IF(BG101=\"\",\"\",MAX(BF$1:BF100)+1)","v":""},{"$f":"IF(TEXT(Kortelė!$B$26,\"mm\")=IF(A101=\"\",\"\",TEXT(A101,\"mm\")),A101,\"\")","v":""},null,"",{"$f":"_xlfn.IFNA(IF(BL101=\"\",\"\",MAX(BJ$1:BJ100)+1),\"\")","v":""},{"$f":"$BI$11","v":""},{"$f":"IF(IF(IF(VLOOKUP($BK101,Archyvas,2,FALSE)=$BL$1,\"\",VLOOKUP($BK101,Archyvas,5,FALSE))=0,\"\",IF(VLOOKUP($BK101,Archyvas,2,FALSE)=$BL$1,\"\",VLOOKUP($BK101,Archyvas,5,FALSE)))=\"\",\"\",IF(IF(VLOOKUP($BK101,Archyvas,2,FALSE)=$BL$1,\"\",VLOOKUP($BK101,Archyvas,2,FALSE))=0,\"\",IF(VLOOKUP($BK101,Archyvas,2,FALSE)=$BL$1,\"\",VLOOKUP($BK101,Archyvas,2,FALSE))))","v":{"$error":"#N/A"}},{"$f":"IF(IF(VLOOKUP($BK101,Archyvas,2,FALSE)=$BL$1,\"\",VLOOKUP($BK101,Archyvas,3,FALSE))=0,\"\",IF(VLOOKUP($BK101,Archyvas,2,FALSE)=$BL$1,\"\",VLOOKUP($BK101,Archyvas,3,FALSE)))","v":{"$error":"#N/A"}},{"$f":"IF(IF(VLOOKUP($BK101,Archyvas,2,FALSE)=$BL$1,\"\",VLOOKUP($BK101,Archyvas,4,FALSE))=0,\"\",IF(VLOOKUP($BK101,Archyvas,2,FALSE)=$BL$1,\"\",VLOOKUP($BK101,Archyvas,4,FALSE)))","v":{"$error":"#N/A"}},{"$f":"IF(IF(VLOOKUP($BK101,Archyvas,2,FALSE)=$BL$1,\"\",VLOOKUP($BK101,Archyvas,5,FALSE))=0,\"\",IF(VLOOKUP($BK101,Archyvas,2,FALSE)=$BL$1,\"\",VLOOKUP($BK101,Archyvas,5,FALSE)))","v":{"$error":"#N/A"}},{"$f":"IF(IF(VLOOKUP($BK101,Archyvas,2,FALSE)=$BL$1,\"\",VLOOKUP($BK101,Archyvas,6,FALSE))=0,\"\",IF(VLOOKUP($BK101,Archyvas,2,FALSE)=$BL$1,\"\",VLOOKUP($BK101,Archyvas,6,FALSE)))","v":{"$error":"#N/A"}},null,{"$f":"_xlfn.IFNA(IF(BS101=\"\",\"\",MAX(BR$1:BR100)+1),\"\")","v":""},"","","","","",""]
[null,null,null,null,null,null,null,null,null,null,null,null,null,null,null,null,null,null,null,null,null,null,null,null,null,null,null,null,null,null,null,null,null,null,null,null,null,null,null,null,null,null,null,null,null,null,null,null,null,null,null,null,null,null,null,null,null,{"$f":"IF(BG102=\"\",\"\",MAX(BF$1:BF101)+1)","v":""},{"$f":"IF(TEXT(Kortelė!$B$26,\"mm\")=IF(A102=\"\",\"\",TEXT(A102,\"mm\")),A102,\"\")","v":""},null,"",{"$f":"_xlfn.IFNA(IF(BL102=\"\",\"\",MAX(BJ$1:BJ101)+1),\"\")","v":""},{"$f":"BK101","v":""},{"$f":"IF(IF(IF(VLOOKUP($BK102,Archyvas,7,FALSE)=$BL$1,\"\",VLOOKUP($BK102,Archyvas,10,FALSE))=0,\"\",IF(VLOOKUP($BK102,Archyvas,7,FALSE)=$BL$1,\"\",VLOOKUP($BK102,Archyvas,10,FALSE)))=\"\",\"\",IF(IF(VLOOKUP($BK102,Archyvas,7,FALSE)=$BL$1,\"\",VLOOKUP($BK102,Archyvas,7,FALSE))=0,\"\",IF(VLOOKUP($BK102,Archyvas,7,FALSE)=$BL$1,\"\",VLOOKUP($BK102,Archyvas,7,FALSE))))","v":{"$error":"#N/A"}},{"$f":"IF(IF(VLOOKUP($BK102,Archyvas,7,FALSE)=$BL$1,\"\",VLOOKUP($BK102,Archyvas,8,FALSE))=0,\"\",IF(VLOOKUP($BK102,Archyvas,7,FALSE)=$BL$1,\"\",VLOOKUP($BK102,Archyvas,8,FALSE)))","v":{"$error":"#N/A"}},{"$f":"IF(IF(VLOOKUP($BK102,Archyvas,7,FALSE)=$BL$1,\"\",VLOOKUP($BK102,Archyvas,9,FALSE))=0,\"\",IF(VLOOKUP($BK102,Archyvas,7,FALSE)=$BL$1,\"\",VLOOKUP($BK102,Archyvas,9,FALSE)))","v":{"$error":"#N/A"}},{"$f":"IF(IF(VLOOKUP($BK102,Archyvas,7,FALSE)=$BL$1,\"\",VLOOKUP($BK102,Archyvas,10,FALSE))=0,\"\",IF(VLOOKUP($BK102,Archyvas,7,FALSE)=$BL$1,\"\",VLOOKUP($BK102,Archyvas,10,FALSE)))","v":{"$error":"#N/A"}},{"$f":"IF(IF(VLOOKUP($BK102,Archyvas,7,FALSE)=$BL$1,\"\",VLOOKUP($BK102,Archyvas,11,FALSE))=0,\"\",IF(VLOOKUP($BK102,Archyvas,7,FALSE)=$BL$1,\"\",VLOOKUP($BK102,Archyvas,11,FALSE)))","v":{"$error":"#N/A"}},null,{"$f":"_xlfn.IFNA(IF(BS102=\"\",\"\",MAX(BR$1:BR101)+1),\"\")","v":""},"","","","","",""]
[null,null,null,null,null,null,null,null,null,null,null,null,null,null,null,null,null,null,null,null,null,null,null,null,null,null,null,null,null,null,null,null,null,null,null,null,null,null,null,null,null,null,null,null,null,null,null,null,null,null,null,null,null,null,null,null,null,{"$f":"IF(BG103=\"\",\"\",MAX(BF$1:BF102)+1)","v":""},{"$f":"IF(TEXT(Kortelė!$B$26,\"mm\")=IF(A103=\"\",\"\",TEXT(A103,\"mm\")),A103,\"\")","v":""},null,"",{"$f":"_xlfn.IFNA(IF(BL103=\"\",\"\",MAX(BJ$1:BJ102)+1),\"\")","v":""},"",{"$f":"IF(IF(IF(VLOOKUP($BK103,Archyvas,12,FALSE)=$BL$1,\"\",VLOOKUP($BK103,Archyvas,15,FALSE))=0,\"\",IF(VLOOKUP($BK103,Archyvas,12,FALSE)=$BL$1,\"\",VLOOKUP($BK103,Archyvas,15,FALSE)))=\"\",\"\",IF(IF(VLOOKUP($BK103,Archyvas,12,FALSE)=$BL$1,\"\",VLOOKUP($BK103,Archyvas,12,FALSE))=0,\"\",IF(VLOOKUP($BK103,Archyvas,12,FALSE)=$BL$1,\"\",VLOOKUP($BK103,Archyvas,12,FALSE))))","v":{"$error":"#N/A"}},{"$f":"IF(IF(VLOOKUP($BK103,Archyvas,12,FALSE)=$BL$1,\"\",VLOOKUP($BK103,Archyvas,13,FALSE))=0,\"\",IF(VLOOKUP($BK103,Archyvas,12,FALSE)=$BL$1,\"\",VLOOKUP($BK103,Archyvas,13,FALSE)))","v":{"$error":"#N/A"}},{"$f":"IF(IF(VLOOKUP($BK103,Archyvas,12,FALSE)=$BL$1,\"\",VLOOKUP($BK103,Archyvas,14,FALSE))=0,\"\",IF(VLOOKUP($BK103,Archyvas,12,FALSE)=$BL$1,\"\",VLOOKUP($BK103,Archyvas,14,FALSE)))","v":{"$error":"#N/A"}},{"$f":"IF(IF(VLOOKUP($BK103,Archyvas,12,FALSE)=$BL$1,\"\",VLOOKUP($BK103,Archyvas,15,FALSE))=0,\"\",IF(VLOOKUP($BK103,Archyvas,12,FALSE)=$BL$1,\"\",VLOOKUP($BK103,Archyvas,15,FALSE)))","v":{"$error":"#N/A"}},{"$f":"IF(IF(VLOOKUP($BK103,Archyvas,12,FALSE)=$BL$1,\"\",VLOOKUP($BK103,Archyvas,16,FALSE))=0,\"\",IF(VLOOKUP($BK103,Archyvas,12,FALSE)=$BL$1,\"\",VLOOKUP($BK103,Archyvas,16,FALSE)))","v":{"$error":"#N/A"}},null,{"$f":"_xlfn.IFNA(IF(BS103=\"\",\"\",MAX(BR$1:BR102)+1),\"\")","v":""},"","","","","",""]
[null,null,null,null,null,null,null,null,null,null,null,null,null,null,null,null,null,null,null,null,null,null,null,null,null,null,null,null,null,null,null,null,null,null,null,null,null,null,null,null,null,null,null,null,null,null,null,null,null,null,null,null,null,null,null,null,null,{"$f":"IF(BG104=\"\",\"\",MAX(BF$1:BF103)+1)","v":""},{"$f":"IF(TEXT(Kortelė!$B$26,\"mm\")=IF(A104=\"\",\"\",TEXT(A104,\"mm\")),A104,\"\")","v":""},null,"",{"$f":"_xlfn.IFNA(IF(BL104=\"\",\"\",MAX(BJ$1:BJ103)+1),\"\")","v":""},"",{"$f":"IF(IF(IF(VLOOKUP($BK104,Archyvas,17,FALSE)=$BL$1,\"\",VLOOKUP($BK104,Archyvas,20,FALSE))=0,\"\",IF(VLOOKUP($BK104,Archyvas,17,FALSE)=$BL$1,\"\",VLOOKUP($BK104,Archyvas,20,FALSE)))=\"\",\"\",IF(IF(VLOOKUP($BK104,Archyvas,17,FALSE)=$BL$1,\"\",VLOOKUP($BK104,Archyvas,17,FALSE))=0,\"\",IF(VLOOKUP($BK104,Archyvas,17,FALSE)=$BL$1,\"\",VLOOKUP($BK104,Archyvas,17,FALSE))))","v":{"$error":"#N/A"}},{"$f":"IF(IF(VLOOKUP($BK104,Archyvas,17,FALSE)=$BL$1,\"\",VLOOKUP($BK104,Archyvas,18,FALSE))=0,\"\",IF(VLOOKUP($BK104,Archyvas,17,FALSE)=$BL$1,\"\",VLOOKUP($BK104,Archyvas,18,FALSE)))","v":{"$error":"#N/A"}},{"$f":"IF(IF(VLOOKUP($BK104,Archyvas,17,FALSE)=$BL$1,\"\",VLOOKUP($BK104,Archyvas,19,FALSE))=0,\"\",IF(VLOOKUP($BK104,Archyvas,17,FALSE)=$BL$1,\"\",VLOOKUP($BK104,Archyvas,19,FALSE)))","v":{"$error":"#N/A"}},{"$f":"IF(IF(VLOOKUP($BK104,Archyvas,17,FALSE)=$BL$1,\"\",VLOOKUP($BK104,Archyvas,20,FALSE))=0,\"\",IF(VLOOKUP($BK104,Archyvas,17,FALSE)=$BL$1,\"\",VLOOKUP($BK104,Archyvas,20,FALSE)))","v":{"$error":"#N/A"}},{"$f":"IF(IF(VLOOKUP($BK104,Archyvas,17,FALSE)=$BL$1,\"\",VLOOKUP($BK104,Archyvas,21,FALSE))=0,\"\",IF(VLOOKUP($BK104,Archyvas,17,FALSE)=$BL$1,\"\",VLOOKUP($BK104,Archyvas,21,FALSE)))","v":{"$error":"#N/A"}},null,{"$f":"_xlfn.IFNA(IF(BS104=\"\",\"\",MAX(BR$1:BR103)+1),\"\")","v":""},"","","","","",""]
[null,null,null,null,null,null,null,null,null,null,null,null,null,null,null,null,null,null,null,null,null,null,null,null,null,null,null,null,null,null,null,null,null,null,null,null,null,null,null,null,null,null,null,null,null,null,null,null,null,null,null,null,null,null,null,null,null,{"$f":"IF(BG105=\"\",\"\",MAX(BF$1:BF104)+1)","v":""},{"$f":"IF(TEXT(Kortelė!$B$26,\"mm\")=IF(A105=\"\",\"\",TEXT(A105,\"mm\")),A105,\"\")","v":""},null,"",{"$f":"_xlfn.IFNA(IF(BL105=\"\",\"\",MAX(BJ$1:BJ104)+1),\"\")","v":""},"",{"$f":"IF(IF(IF(VLOOKUP($BK105,Archyvas,22,FALSE)=$BL$1,\"\",VLOOKUP($BK105,Archyvas,25,FALSE))=0,\"\",IF(VLOOKUP($BK105,Archyvas,22,FALSE)=$BL$1,\"\",VLOOKUP($BK105,Archyvas,25,FALSE)))=\"\",\"\",IF(IF(VLOOKUP($BK105,Archyvas,22,FALSE)=$BL$1,\"\",VLOOKUP($BK105,Archyvas,22,FALSE))=0,\"\",IF(VLOOKUP($BK105,Archyvas,22,FALSE)=$BL$1,\"\",VLOOKUP($BK105,Archyvas,22,FALSE))))","v":{"$error":"#N/A"}},{"$f":"IF(IF(VLOOKUP($BK105,Archyvas,22,FALSE)=$BL$1,\"\",VLOOKUP($BK105,Archyvas,23,FALSE))=0,\"\",IF(VLOOKUP($BK105,Archyvas,22,FALSE)=$BL$1,\"\",VLOOKUP($BK105,Archyvas,23,FALSE)))","v":{"$error":"#N/A"}},{"$f":"IF(IF(VLOOKUP($BK105,Archyvas,22,FALSE)=$BL$1,\"\",VLOOKUP($BK105,Archyvas,24,FALSE))=0,\"\",IF(VLOOKUP($BK105,Archyvas,22,FALSE)=$BL$1,\"\",VLOOKUP($BK105,Archyvas,24,FALSE)))","v":{"$error":"#N/A"}},{"$f":"IF(IF(VLOOKUP($BK105,Archyvas,22,FALSE)=$BL$1,\"\",VLOOKUP($BK105,Archyvas,25,FALSE))=0,\"\",IF(VLOOKUP($BK105,Archyvas,22,FALSE)=$BL$1,\"\",VLOOKUP($BK105,Archyvas,25,FALSE)))","v":{"$error":"#N/A"}},{"$f":"IF(IF(VLOOKUP($BK105,Archyvas,22,FALSE)=$BL$1,\"\",VLOOKUP($BK105,Archyvas,26,FALSE))=0,\"\",IF(VLOOKUP($BK105,Archyvas,22,FALSE)=$BL$1,\"\",VLOOKUP($BK105,Archyvas,26,FALSE)))","v":{"$error":"#N/A"}},null,{"$f":"_xlfn.IFNA(IF(BS105=\"\",\"\",MAX(BR$1:BR104)+1),\"\")","v":""},"","","","","",""]
[null,null,null,null,null,null,null,null,null,null,null,null,null,null,null,null,null,null,null,null,null,null,null,null,null,null,null,null,null,null,null,null,null,null,null,null,null,null,null,null,null,null,null,null,null,null,null,null,null,null,null,null,null,null,null,null,null,{"$f":"IF(BG106=\"\",\"\",MAX(BF$1:BF105)+1)","v":""},{"$f":"IF(TEXT(Kortelė!$B$26,\"mm\")=IF(A106=\"\",\"\",TEXT(A106,\"mm\")),A106,\"\")","v":""},null,"",{"$f":"_xlfn.IFNA(IF(BL106=\"\",\"\",MAX(BJ$1:BJ105)+1),\"\")","v":""},"",{"$f":"IF(IF(IF(VLOOKUP($BK106,Archyvas,27,FALSE)=$BL$1,\"\",VLOOKUP($BK106,Archyvas,30,FALSE))=0,\"\",IF(VLOOKUP($BK106,Archyvas,27,FALSE)=$BL$1,\"\",VLOOKUP($BK106,Archyvas,30,FALSE)))=\"\",\"\",IF(IF(VLOOKUP($BK106,Archyvas,27,FALSE)=$BL$1,\"\",VLOOKUP($BK106,Archyvas,27,FALSE))=0,\"\",IF(VLOOKUP($BK106,Archyvas,27,FALSE)=$BL$1,\"\",VLOOKUP($BK106,Archyvas,27,FALSE))))","v":{"$error":"#N/A"}},{"$f":"IF(IF(VLOOKUP($BK106,Archyvas,27,FALSE)=$BL$1,\"\",VLOOKUP($BK106,Archyvas,28,FALSE))=0,\"\",IF(VLOOKUP($BK106,Archyvas,27,FALSE)=$BL$1,\"\",VLOOKUP($BK106,Archyvas,28,FALSE)))","v":{"$error":"#N/A"}},{"$f":"IF(IF(VLOOKUP($BK106,Archyvas,27,FALSE)=$BL$1,\"\",VLOOKUP($BK106,Archyvas,29,FALSE))=0,\"\",IF(VLOOKUP($BK106,Archyvas,27,FALSE)=$BL$1,\"\",VLOOKUP($BK106,Archyvas,29,FALSE)))","v":{"$error":"#N/A"}},{"$f":"IF(IF(VLOOKUP($BK106,Archyvas,27,FALSE)=$BL$1,\"\",VLOOKUP($BK106,Archyvas,30,FALSE))=0,\"\",IF(VLOOKUP($BK106,Archyvas,27,FALSE)=$BL$1,\"\",VLOOKUP($BK106,Archyvas,30,FALSE)))","v":{"$error":"#N/A"}},{"$f":"IF(IF(VLOOKUP($BK106,Archyvas,27,FALSE)=$BL$1,\"\",VLOOKUP($BK106,Archyvas,31,FALSE))=0,\"\",IF(VLOOKUP($BK106,Archyvas,27,FALSE)=$BL$1,\"\",VLOOKUP($BK106,Archyvas,31,FALSE)))","v":{"$error":"#N/A"}},null,{"$f":"_xlfn.IFNA(IF(BS106=\"\",\"\",MAX(BR$1:BR105)+1),\"\")","v":""},"","","","","",""]
[null,null,null,null,null,null,null,null,null,null,null,null,null,null,null,null,null,null,null,null,null,null,null,null,null,null,null,null,null,null,null,null,null,null,null,null,null,null,null,null,null,null,null,null,null,null,null,null,null,null,null,null,null,null,null,null,null,{"$f":"IF(BG107=\"\",\"\",MAX(BF$1:BF106)+1)","v":""},{"$f":"IF(TEXT(Kortelė!$B$26,\"mm\")=IF(A107=\"\",\"\",TEXT(A107,\"mm\")),A107,\"\")","v":""},null,"",{"$f":"_xlfn.IFNA(IF(BL107=\"\",\"\",MAX(BJ$1:BJ106)+1),\"\")","v":""},"",{"$f":"IF(IF(IF(VLOOKUP($BK107,Archyvas,32,FALSE)=$BL$1,\"\",VLOOKUP($BK107,Archyvas,35,FALSE))=0,\"\",IF(VLOOKUP($BK107,Archyvas,32,FALSE)=$BL$1,\"\",VLOOKUP($BK107,Archyvas,35,FALSE)))=\"\",\"\",IF(IF(VLOOKUP($BK107,Archyvas,32,FALSE)=$BL$1,\"\",VLOOKUP($BK107,Archyvas,32,FALSE))=0,\"\",IF(VLOOKUP($BK107,Archyvas,32,FALSE)=$BL$1,\"\",VLOOKUP($BK107,Archyvas,32,FALSE))))","v":{"$error":"#N/A"}},{"$f":"IF(IF(VLOOKUP($BK107,Archyvas,32,FALSE)=$BL$1,\"\",VLOOKUP($BK107,Archyvas,33,FALSE))=0,\"\",IF(VLOOKUP($BK107,Archyvas,32,FALSE)=$BL$1,\"\",VLOOKUP($BK107,Archyvas,33,FALSE)))","v":{"$error":"#N/A"}},{"$f":"IF(IF(VLOOKUP($BK107,Archyvas,32,FALSE)=$BL$1,\"\",VLOOKUP($BK107,Archyvas,34,FALSE))=0,\"\",IF(VLOOKUP($BK107,Archyvas,32,FALSE)=$BL$1,\"\",VLOOKUP($BK107,Archyvas,34,FALSE)))","v":{"$error":"#N/A"}},{"$f":"IF(IF(VLOOKUP($BK107,Archyvas,32,FALSE)=$BL$1,\"\",VLOOKUP($BK107,Archyvas,35,FALSE))=0,\"\",IF(VLOOKUP($BK107,Archyvas,32,FALSE)=$BL$1,\"\",VLOOKUP($BK107,Archyvas,35,FALSE)))","v":{"$error":"#N/A"}},{"$f":"IF(IF(VLOOKUP($BK107,Archyvas,32,FALSE)=$BL$1,\"\",VLOOKUP($BK107,Archyvas,36,FALSE))=0,\"\",IF(VLOOKUP($BK107,Archyvas,32,FALSE)=$BL$1,\"\",VLOOKUP($BK107,Archyvas,36,FALSE)))","v":{"$error":"#N/A"}},null,{"$f":"_xlfn.IFNA(IF(BS107=\"\",\"\",MAX(BR$1:BR106)+1),\"\")","v":""},"","","","","",""]
[null,null,null,null,null,null,null,null,null,null,null,null,null,null,null,null,null,null,null,null,null,null,null,null,null,null,null,null,null,null,null,null,null,null,null,null,null,null,null,null,null,null,null,null,null,null,null,null,null,null,null,null,null,null,null,null,null,{"$f":"IF(BG108=\"\",\"\",MAX(BF$1:BF107)+1)","v":""},{"$f":"IF(TEXT(Kortelė!$B$26,\"mm\")=IF(A108=\"\",\"\",TEXT(A108,\"mm\")),A108,\"\")","v":""},null,"",{"$f":"_xlfn.IFNA(IF(BL108=\"\",\"\",MAX(BJ$1:BJ107)+1),\"\")","v":""},"",{"$f":"IF(IF(IF(VLOOKUP($BK108,Archyvas,37,FALSE)=$BL$1,\"\",VLOOKUP($BK108,Archyvas,40,FALSE))=0,\"\",IF(VLOOKUP($BK108,Archyvas,37,FALSE)=$BL$1,\"\",VLOOKUP($BK108,Archyvas,40,FALSE)))=\"\",\"\",IF(IF(VLOOKUP($BK108,Archyvas,37,FALSE)=$BL$1,\"\",VLOOKUP($BK108,Archyvas,37,FALSE))=0,\"\",IF(VLOOKUP($BK108,Archyvas,37,FALSE)=$BL$1,\"\",VLOOKUP($BK108,Archyvas,37,FALSE))))","v":{"$error":"#N/A"}},{"$f":"IF(IF(VLOOKUP($BK108,Archyvas,37,FALSE)=$BL$1,\"\",VLOOKUP($BK108,Archyvas,38,FALSE))=0,\"\",IF(VLOOKUP($BK108,Archyvas,37,FALSE)=$BL$1,\"\",VLOOKUP($BK108,Archyvas,38,FALSE)))","v":{"$error":"#N/A"}},{"$f":"IF(IF(VLOOKUP($BK108,Archyvas,37,FALSE)=$BL$1,\"\",VLOOKUP($BK108,Archyvas,39,FALSE))=0,\"\",IF(VLOOKUP($BK108,Archyvas,37,FALSE)=$BL$1,\"\",VLOOKUP($BK108,Archyvas,39,FALSE)))","v":{"$error":"#N/A"}},{"$f":"IF(IF(VLOOKUP($BK108,Archyvas,37,FALSE)=$BL$1,\"\",VLOOKUP($BK108,Archyvas,40,FALSE))=0,\"\",IF(VLOOKUP($BK108,Archyvas,37,FALSE)=$BL$1,\"\",VLOOKUP($BK108,Archyvas,40,FALSE)))","v":{"$error":"#N/A"}},{"$f":"IF(IF(VLOOKUP($BK108,Archyvas,37,FALSE)=$BL$1,\"\",VLOOKUP($BK108,Archyvas,41,FALSE))=0,\"\",IF(VLOOKUP($BK108,Archyvas,37,FALSE)=$BL$1,\"\",VLOOKUP($BK108,Archyvas,41,FALSE)))","v":{"$error":"#N/A"}},null,{"$f":"_xlfn.IFNA(IF(BS108=\"\",\"\",MAX(BR$1:BR107)+1),\"\")","v":""},"","","","","",""]
[null,null,null,null,null,null,null,null,null,null,null,null,null,null,null,null,null,null,null,null,null,null,null,null,null,null,null,null,null,null,null,null,null,null,null,null,null,null,null,null,null,null,null,null,null,null,null,null,null,null,null,null,null,null,null,null,null,{"$f":"IF(BG109=\"\",\"\",MAX(BF$1:BF108)+1)","v":""},{"$f":"IF(TEXT(Kortelė!$B$26,\"mm\")=IF(A109=\"\",\"\",TEXT(A109,\"mm\")),A109,\"\")","v":""},null,"",{"$f":"_xlfn.IFNA(IF(BL109=\"\",\"\",MAX(BJ$1:BJ108)+1),\"\")","v":""},"",{"$f":"IF(IF(IF(VLOOKUP($BK109,Archyvas,42,FALSE)=$BL$1,\"\",VLOOKUP($BK109,Archyvas,45,FALSE))=0,\"\",IF(VLOOKUP($BK109,Archyvas,42,FALSE)=$BL$1,\"\",VLOOKUP($BK109,Archyvas,45,FALSE)))=\"\",\"\",IF(IF(VLOOKUP($BK109,Archyvas,42,FALSE)=$BL$1,\"\",VLOOKUP($BK109,Archyvas,42,FALSE))=0,\"\",IF(VLOOKUP($BK109,Archyvas,42,FALSE)=$BL$1,\"\",VLOOKUP($BK109,Archyvas,42,FALSE))))","v":{"$error":"#N/A"}},{"$f":"IF(IF(VLOOKUP($BK109,Archyvas,42,FALSE)=$BL$1,\"\",VLOOKUP($BK109,Archyvas,43,FALSE))=0,\"\",IF(VLOOKUP($BK109,Archyvas,42,FALSE)=$BL$1,\"\",VLOOKUP($BK109,Archyvas,43,FALSE)))","v":{"$error":"#N/A"}},{"$f":"IF(IF(VLOOKUP($BK109,Archyvas,42,FALSE)=$BL$1,\"\",VLOOKUP($BK109,Archyvas,44,FALSE))=0,\"\",IF(VLOOKUP($BK109,Archyvas,42,FALSE)=$BL$1,\"\",VLOOKUP($BK109,Archyvas,44,FALSE)))","v":{"$error":"#N/A"}},{"$f":"IF(IF(VLOOKUP($BK109,Archyvas,42,FALSE)=$BL$1,\"\",VLOOKUP($BK109,Archyvas,45,FALSE))=0,\"\",IF(VLOOKUP($BK109,Archyvas,42,FALSE)=$BL$1,\"\",VLOOKUP($BK109,Archyvas,45,FALSE)))","v":{"$error":"#N/A"}},{"$f":"IF(IF(VLOOKUP($BK109,Archyvas,42,FALSE)=$BL$1,\"\",VLOOKUP($BK109,Archyvas,46,FALSE))=0,\"\",IF(VLOOKUP($BK109,Archyvas,42,FALSE)=$BL$1,\"\",VLOOKUP($BK109,Archyvas,46,FALSE)))","v":{"$error":"#N/A"}},null,{"$f":"_xlfn.IFNA(IF(BS109=\"\",\"\",MAX(BR$1:BR108)+1),\"\")","v":""},"","","","","",""]
[null,null,null,null,null,null,null,null,null,null,null,null,null,null,null,null,null,null,null,null,null,null,null,null,null,null,null,null,null,null,null,null,null,null,null,null,null,null,null,null,null,null,null,null,null,null,null,null,null,null,null,null,null,null,null,null,null,{"$f":"IF(BG110=\"\",\"\",MAX(BF$1:BF109)+1)","v":""},{"$f":"IF(TEXT(Kortelė!$B$26,\"mm\")=IF(A110=\"\",\"\",TEXT(A110,\"mm\")),A110,\"\")","v":""},null,"",{"$f":"_xlfn.IFNA(IF(BL110=\"\",\"\",MAX(BJ$1:BJ109)+1),\"\")","v":""},"",{"$f":"IF(IF(IF(VLOOKUP($BK110,Archyvas,47,FALSE)=$BL$1,\"\",VLOOKUP($BK110,Archyvas,50,FALSE))=0,\"\",IF(VLOOKUP($BK110,Archyvas,47,FALSE)=$BL$1,\"\",VLOOKUP($BK110,Archyvas,50,FALSE)))=\"\",\"\",IF(IF(VLOOKUP($BK110,Archyvas,47,FALSE)=$BL$1,\"\",VLOOKUP($BK110,Archyvas,47,FALSE))=0,\"\",IF(VLOOKUP($BK110,Archyvas,47,FALSE)=$BL$1,\"\",VLOOKUP($BK110,Archyvas,47,FALSE))))","v":{"$error":"#N/A"}},{"$f":"IF(IF(VLOOKUP($BK110,Archyvas,47,FALSE)=$BL$1,\"\",VLOOKUP($BK110,Archyvas,48,FALSE))=0,\"\",IF(VLOOKUP($BK110,Archyvas,47,FALSE)=$BL$1,\"\",VLOOKUP($BK110,Archyvas,48,FALSE)))","v":{"$error":"#N/A"}},{"$f":"IF(IF(VLOOKUP($BK110,Archyvas,47,FALSE)=$BL$1,\"\",VLOOKUP($BK110,Archyvas,49,FALSE))=0,\"\",IF(VLOOKUP($BK110,Archyvas,47,FALSE)=$BL$1,\"\",VLOOKUP($BK110,Archyvas,49,FALSE)))","v":{"$error":"#N/A"}},{"$f":"IF(IF(VLOOKUP($BK110,Archyvas,47,FALSE)=$BL$1,\"\",VLOOKUP($BK110,Archyvas,50,FALSE))=0,\"\",IF(VLOOKUP($BK110,Archyvas,47,FALSE)=$BL$1,\"\",VLOOKUP($BK110,Archyvas,50,FALSE)))","v":{"$error":"#N/A"}},{"$f":"IF(IF(VLOOKUP($BK110,Archyvas,47,FALSE)=$BL$1,\"\",VLOOKUP($BK110,Archyvas,51,FALSE))=0,\"\",IF(VLOOKUP($BK110,Archyvas,47,FALSE)=$BL$1,\"\",VLOOKUP($BK110,Archyvas,51,FALSE)))","v":{"$error":"#N/A"}},null,{"$f":"_xlfn.IFNA(IF(BS110=\"\",\"\",MAX(BR$1:BR109)+1),\"\")","v":""},"","","","","",""]
[null,null,null,null,null,null,null,null,null,null,null,null,null,null,null,null,null,null,null,null,null,null,null,null,null,null,null,null,null,null,null,null,null,null,null,null,null,null,null,null,null,null,null,null,null,null,null,null,null,null,null,null,null,null,null,null,null,{"$f":"IF(BG111=\"\",\"\",MAX(BF$1:BF110)+1)","v":""},{"$f":"IF(TEXT(Kortelė!$B$26,\"mm\")=IF(A111=\"\",\"\",TEXT(A111,\"mm\")),A111,\"\")","v":""},null,"",{"$f":"_xlfn.IFNA(IF(BL111=\"\",\"\",MAX(BJ$1:BJ110)+1),\"\")","v":""},"",null,null,null,null,null,null,{"$f":"_xlfn.IFNA(IF(BS111=\"\",\"\",MAX(BR$1:BR110)+1),\"\")","v":""},"","","","","",""]
[null,null,null,null,null,null,null,null,null,null,null,null,null,null,null,null,null,null,null,null,null,null,null,null,null,null,null,null,null,null,null,null,null,null,null,null,null,null,null,null,null,null,null,null,null,null,null,null,null,null,null,null,null,null,null,null,null,{"$f":"IF(BG112=\"\",\"\",MAX(BF$1:BF111)+1)","v":""},{"$f":"IF(TEXT(Kortelė!$B$26,\"mm\")=IF(A112=\"\",\"\",TEXT(A112,\"mm\")),A112,\"\")","v":""},null,"",{"$f":"_xlfn.IFNA(IF(BL112=\"\",\"\",MAX(BJ$1:BJ111)+1),\"\")","v":""},{"$f":"$BI$12","v":""},{"$f":"IF(IF(IF(VLOOKUP($BK112,Archyvas,2,FALSE)=$BL$1,\"\",VLOOKUP($BK112,Archyvas,5,FALSE))=0,\"\",IF(VLOOKUP($BK112,Archyvas,2,FALSE)=$BL$1,\"\",VLOOKUP($BK112,Archyvas,5,FALSE)))=\"\",\"\",IF(IF(VLOOKUP($BK112,Archyvas,2,FALSE)=$BL$1,\"\",VLOOKUP($BK112,Archyvas,2,FALSE))=0,\"\",IF(VLOOKUP($BK112,Archyvas,2,FALSE)=$BL$1,\"\",VLOOKUP($BK112,Archyvas,2,FALSE))))","v":{"$error":"#N/A"}},{"$f":"IF(IF(VLOOKUP($BK112,Archyvas,2,FALSE)=$BL$1,\"\",VLOOKUP($BK112,Archyvas,3,FALSE))=0,\"\",IF(VLOOKUP($BK112,Archyvas,2,FALSE)=$BL$1,\"\",VLOOKUP($BK112,Archyvas,3,FALSE)))","v":{"$error":"#N/A"}},{"$f":"IF(IF(VLOOKUP($BK112,Archyvas,2,FALSE)=$BL$1,\"\",VLOOKUP($BK112,Archyvas,4,FALSE))=0,\"\",IF(VLOOKUP($BK112,Archyvas,2,FALSE)=$BL$1,\"\",VLOOKUP($BK112,Archyvas,4,FALSE)))","v":{"$error":"#N/A"}},{"$f":"IF(IF(VLOOKUP($BK112,Archyvas,2,FALSE)=$BL$1,\"\",VLOOKUP($BK112,Archyvas,5,FALSE))=0,\"\",IF(VLOOKUP($BK112,Archyvas,2,FALSE)=$BL$1,\"\",VLOOKUP($BK112,Archyvas,5,FALSE)))","v":{"$error":"#N/A"}},{"$f":"IF(IF(VLOOKUP($BK112,Archyvas,2,FALSE)=$BL$1,\"\",VLOOKUP($BK112,Archyvas,6,FALSE))=0,\"\",IF(VLOOKUP($BK112,Archyvas,2,FALSE)=$BL$1,\"\",VLOOKUP($BK112,Archyvas,6,FALSE)))","v":{"$error":"#N/A"}},null,{"$f":"_xlfn.IFNA(IF(BS112=\"\",\"\",MAX(BR$1:BR111)+1),\"\")","v":""},"","","","","",""]
[null,null,null,null,null,null,null,null,null,null,null,null,null,null,null,null,null,null,null,null,null,null,null,null,null,null,null,null,null,null,null,null,null,null,null,null,null,null,null,null,null,null,null,null,null,null,null,null,null,null,null,null,null,null,null,null,null,{"$f":"IF(BG113=\"\",\"\",MAX(BF$1:BF112)+1)","v":""},{"$f":"IF(TEXT(Kortelė!$B$26,\"mm\")=IF(A113=\"\",\"\",TEXT(A113,\"mm\")),A113,\"\")","v":""},null,"",{"$f":"_xlfn.IFNA(IF(BL113=\"\",\"\",MAX(BJ$1:BJ112)+1),\"\")","v":""},"",{"$f":"IF(IF(IF(VLOOKUP($BK113,Archyvas,7,FALSE)=$BL$1,\"\",VLOOKUP($BK113,Archyvas,10,FALSE))=0,\"\",IF(VLOOKUP($BK113,Archyvas,7,FALSE)=$BL$1,\"\",VLOOKUP($BK113,Archyvas,10,FALSE)))=\"\",\"\",IF(IF(VLOOKUP($BK113,Archyvas,7,FALSE)=$BL$1,\"\",VLOOKUP($BK113,Archyvas,7,FALSE))=0,\"\",IF(VLOOKUP($BK113,Archyvas,7,FALSE)=$BL$1,\"\",VLOOKUP($BK113,Archyvas,7,FALSE))))","v":{"$error":"#N/A"}},{"$f":"IF(IF(VLOOKUP($BK113,Archyvas,7,FALSE)=$BL$1,\"\",VLOOKUP($BK113,Archyvas,8,FALSE))=0,\"\",IF(VLOOKUP($BK113,Archyvas,7,FALSE)=$BL$1,\"\",VLOOKUP($BK113,Archyvas,8,FALSE)))","v":{"$error":"#N/A"}},{"$f":"IF(IF(VLOOKUP($BK113,Archyvas,7,FALSE)=$BL$1,\"\",VLOOKUP($BK113,Archyvas,9,FALSE))=0,\"\",IF(VLOOKUP($BK113,Archyvas,7,FALSE)=$BL$1,\"\",VLOOKUP($BK113,Archyvas,9,FALSE)))","v":{"$error":"#N/A"}},{"$f":"IF(IF(VLOOKUP($BK113,Archyvas,7,FALSE)=$BL$1,\"\",VLOOKUP($BK113,Archyvas,10,FALSE))=0,\"\",IF(VLOOKUP($BK113,Archyvas,7,FALSE)=$BL$1,\"\",VLOOKUP($BK113,Archyvas,10,FALSE)))","v":{"$error":"#N/A"}},{"$f":"IF(IF(VLOOKUP($BK113,Archyvas,7,FALSE)=$BL$1,\"\",VLOOKUP($BK113,Archyvas,11,FALSE))=0,\"\",IF(VLOOKUP($BK113,Archyvas,7,FALSE)=$BL$1,\"\",VLOOKUP($BK113,Archyvas,11,FALSE)))","v":{"$error":"#N/A"}},null,{"$f":"_xlfn.IFNA(IF(BS113=\"\",\"\",MAX(BR$1:BR112)+1),\"\")","v":""},"","","","","",""]
[null,null,null,null,null,null,null,null,null,null,null,null,null,null,null,null,null,null,null,null,null,null,null,null,null,null,null,null,null,null,null,null,null,null,null,null,null,null,null,null,null,null,null,null,null,null,null,null,null,null,null,null,null,null,null,null,null,{"$f":"IF(BG114=\"\",\"\",MAX(BF$1:BF113)+1)","v":""},{"$f":"IF(TEXT(Kortelė!$B$26,\"mm\")=IF(A114=\"\",\"\",TEXT(A114,\"mm\")),A114,\"\")","v":""},null,"",{"$f":"_xlfn.IFNA(IF(BL114=\"\",\"\",MAX(BJ$1:BJ113)+1),\"\")","v":""},"",{"$f":"IF(IF(IF(VLOOKUP($BK114,Archyvas,12,FALSE)=$BL$1,\"\",VLOOKUP($BK114,Archyvas,15,FALSE))=0,\"\",IF(VLOOKUP($BK114,Archyvas,12,FALSE)=$BL$1,\"\",VLOOKUP($BK114,Archyvas,15,FALSE)))=\"\",\"\",IF(IF(VLOOKUP($BK114,Archyvas,12,FALSE)=$BL$1,\"\",VLOOKUP($BK114,Archyvas,12,FALSE))=0,\"\",IF(VLOOKUP($BK114,Archyvas,12,FALSE)=$BL$1,\"\",VLOOKUP($BK114,Archyvas,12,FALSE))))","v":{"$error":"#N/A"}},{"$f":"IF(IF(VLOOKUP($BK114,Archyvas,12,FALSE)=$BL$1,\"\",VLOOKUP($BK114,Archyvas,13,FALSE))=0,\"\",IF(VLOOKUP($BK114,Archyvas,12,FALSE)=$BL$1,\"\",VLOOKUP($BK114,Archyvas,13,FALSE)))","v":{"$error":"#N/A"}},{"$f":"IF(IF(VLOOKUP($BK114,Archyvas,12,FALSE)=$BL$1,\"\",VLOOKUP($BK114,Archyvas,14,FALSE))=0,\"\",IF(VLOOKUP($BK114,Archyvas,12,FALSE)=$BL$1,\"\",VLOOKUP($BK114,Archyvas,14,FALSE)))","v":{"$error":"#N/A"}},{"$f":"IF(IF(VLOOKUP($BK114,Archyvas,12,FALSE)=$BL$1,\"\",VLOOKUP($BK114,Archyvas,15,FALSE))=0,\"\",IF(VLOOKUP($BK114,Archyvas,12,FALSE)=$BL$1,\"\",VLOOKUP($BK114,Archyvas,15,FALSE)))","v":{"$error":"#N/A"}},{"$f":"IF(IF(VLOOKUP($BK114,Archyvas,12,FALSE)=$BL$1,\"\",VLOOKUP($BK114,Archyvas,16,FALSE))=0,\"\",IF(VLOOKUP($BK114,Archyvas,12,FALSE)=$BL$1,\"\",VLOOKUP($BK114,Archyvas,16,FALSE)))","v":{"$error":"#N/A"}},null,{"$f":"_xlfn.IFNA(IF(BS114=\"\",\"\",MAX(BR$1:BR113)+1),\"\")","v":""},"","","","","",""]
[null,null,null,null,null,null,null,null,null,null,null,null,null,null,null,null,null,null,null,null,null,null,null,null,null,null,null,null,null,null,null,null,null,null,null,null,null,null,null,null,null,null,null,null,null,null,null,null,null,null,null,null,null,null,null,null,null,{"$f":"IF(BG115=\"\",\"\",MAX(BF$1:BF114)+1)","v":""},{"$f":"IF(TEXT(Kortelė!$B$26,\"mm\")=IF(A115=\"\",\"\",TEXT(A115,\"mm\")),A115,\"\")","v":""},null,"",{"$f":"_xlfn.IFNA(IF(BL115=\"\",\"\",MAX(BJ$1:BJ114)+1),\"\")","v":""},"",{"$f":"IF(IF(IF(VLOOKUP($BK115,Archyvas,17,FALSE)=$BL$1,\"\",VLOOKUP($BK115,Archyvas,20,FALSE))=0,\"\",IF(VLOOKUP($BK115,Archyvas,17,FALSE)=$BL$1,\"\",VLOOKUP($BK115,Archyvas,20,FALSE)))=\"\",\"\",IF(IF(VLOOKUP($BK115,Archyvas,17,FALSE)=$BL$1,\"\",VLOOKUP($BK115,Archyvas,17,FALSE))=0,\"\",IF(VLOOKUP($BK115,Archyvas,17,FALSE)=$BL$1,\"\",VLOOKUP($BK115,Archyvas,17,FALSE))))","v":{"$error":"#N/A"}},{"$f":"IF(IF(VLOOKUP($BK115,Archyvas,17,FALSE)=$BL$1,\"\",VLOOKUP($BK115,Archyvas,18,FALSE))=0,\"\",IF(VLOOKUP($BK115,Archyvas,17,FALSE)=$BL$1,\"\",VLOOKUP($BK115,Archyvas,18,FALSE)))","v":{"$error":"#N/A"}},{"$f":"IF(IF(VLOOKUP($BK115,Archyvas,17,FALSE)=$BL$1,\"\",VLOOKUP($BK115,Archyvas,19,FALSE))=0,\"\",IF(VLOOKUP($BK115,Archyvas,17,FALSE)=$BL$1,\"\",VLOOKUP($BK115,Archyvas,19,FALSE)))","v":{"$error":"#N/A"}},{"$f":"IF(IF(VLOOKUP($BK115,Archyvas,17,FALSE)=$BL$1,\"\",VLOOKUP($BK115,Archyvas,20,FALSE))=0,\"\",IF(VLOOKUP($BK115,Archyvas,17,FALSE)=$BL$1,\"\",VLOOKUP($BK115,Archyvas,20,FALSE)))","v":{"$error":"#N/A"}},{"$f":"IF(IF(VLOOKUP($BK115,Archyvas,17,FALSE)=$BL$1,\"\",VLOOKUP($BK115,Archyvas,21,FALSE))=0,\"\",IF(VLOOKUP($BK115,Archyvas,17,FALSE)=$BL$1,\"\",VLOOKUP($BK115,Archyvas,21,FALSE)))","v":{"$error":"#N/A"}},null,{"$f":"_xlfn.IFNA(IF(BS115=\"\",\"\",MAX(BR$1:BR114)+1),\"\")","v":""},"","","","","",""]
[null,null,null,null,null,null,null,null,null,null,null,null,null,null,null,null,null,null,null,null,null,null,null,null,null,null,null,null,null,null,null,null,null,null,null,null,null,null,null,null,null,null,null,null,null,null,null,null,null,null,null,null,null,null,null,null,null,{"$f":"IF(BG116=\"\",\"\",MAX(BF$1:BF115)+1)","v":""},{"$f":"IF(TEXT(Kortelė!$B$26,\"mm\")=IF(A116=\"\",\"\",TEXT(A116,\"mm\")),A116,\"\")","v":""},null,"",{"$f":"_xlfn.IFNA(IF(BL116=\"\",\"\",MAX(BJ$1:BJ115)+1),\"\")","v":""},"",{"$f":"IF(IF(IF(VLOOKUP($BK116,Archyvas,22,FALSE)=$BL$1,\"\",VLOOKUP($BK116,Archyvas,25,FALSE))=0,\"\",IF(VLOOKUP($BK116,Archyvas,22,FALSE)=$BL$1,\"\",VLOOKUP($BK116,Archyvas,25,FALSE)))=\"\",\"\",IF(IF(VLOOKUP($BK116,Archyvas,22,FALSE)=$BL$1,\"\",VLOOKUP($BK116,Archyvas,22,FALSE))=0,\"\",IF(VLOOKUP($BK116,Archyvas,22,FALSE)=$BL$1,\"\",VLOOKUP($BK116,Archyvas,22,FALSE))))","v":{"$error":"#N/A"}},{"$f":"IF(IF(VLOOKUP($BK116,Archyvas,22,FALSE)=$BL$1,\"\",VLOOKUP($BK116,Archyvas,23,FALSE))=0,\"\",IF(VLOOKUP($BK116,Archyvas,22,FALSE)=$BL$1,\"\",VLOOKUP($BK116,Archyvas,23,FALSE)))","v":{"$error":"#N/A"}},{"$f":"IF(IF(VLOOKUP($BK116,Archyvas,22,FALSE)=$BL$1,\"\",VLOOKUP($BK116,Archyvas,24,FALSE))=0,\"\",IF(VLOOKUP($BK116,Archyvas,22,FALSE)=$BL$1,\"\",VLOOKUP($BK116,Archyvas,24,FALSE)))","v":{"$error":"#N/A"}},{"$f":"IF(IF(VLOOKUP($BK116,Archyvas,22,FALSE)=$BL$1,\"\",VLOOKUP($BK116,Archyvas,25,FALSE))=0,\"\",IF(VLOOKUP($BK116,Archyvas,22,FALSE)=$BL$1,\"\",VLOOKUP($BK116,Archyvas,25,FALSE)))","v":{"$error":"#N/A"}},{"$f":"IF(IF(VLOOKUP($BK116,Archyvas,22,FALSE)=$BL$1,\"\",VLOOKUP($BK116,Archyvas,26,FALSE))=0,\"\",IF(VLOOKUP($BK116,Archyvas,22,FALSE)=$BL$1,\"\",VLOOKUP($BK116,Archyvas,26,FALSE)))","v":{"$error":"#N/A"}},null,{"$f":"_xlfn.IFNA(IF(BS116=\"\",\"\",MAX(BR$1:BR115)+1),\"\")","v":""},"","","","","",""]
[null,null,null,null,null,null,null,null,null,null,null,null,null,null,null,null,null,null,null,null,null,null,null,null,null,null,null,null,null,null,null,null,null,null,null,null,null,null,null,null,null,null,null,null,null,null,null,null,null,null,null,null,null,null,null,null,null,{"$f":"IF(BG117=\"\",\"\",MAX(BF$1:BF116)+1)","v":""},{"$f":"IF(TEXT(Kortelė!$B$26,\"mm\")=IF(A117=\"\",\"\",TEXT(A117,\"mm\")),A117,\"\")","v":""},null,"",{"$f":"_xlfn.IFNA(IF(BL117=\"\",\"\",MAX(BJ$1:BJ116)+1),\"\")","v":""},"",{"$f":"IF(IF(IF(VLOOKUP($BK117,Archyvas,27,FALSE)=$BL$1,\"\",VLOOKUP($BK117,Archyvas,30,FALSE))=0,\"\",IF(VLOOKUP($BK117,Archyvas,27,FALSE)=$BL$1,\"\",VLOOKUP($BK117,Archyvas,30,FALSE)))=\"\",\"\",IF(IF(VLOOKUP($BK117,Archyvas,27,FALSE)=$BL$1,\"\",VLOOKUP($BK117,Archyvas,27,FALSE))=0,\"\",IF(VLOOKUP($BK117,Archyvas,27,FALSE)=$BL$1,\"\",VLOOKUP($BK117,Archyvas,27,FALSE))))","v":{"$error":"#N/A"}},{"$f":"IF(IF(VLOOKUP($BK117,Archyvas,27,FALSE)=$BL$1,\"\",VLOOKUP($BK117,Archyvas,28,FALSE))=0,\"\",IF(VLOOKUP($BK117,Archyvas,27,FALSE)=$BL$1,\"\",VLOOKUP($BK117,Archyvas,28,FALSE)))","v":{"$error":"#N/A"}},{"$f":"IF(IF(VLOOKUP($BK117,Archyvas,27,FALSE)=$BL$1,\"\",VLOOKUP($BK117,Archyvas,29,FALSE))=0,\"\",IF(VLOOKUP($BK117,Archyvas,27,FALSE)=$BL$1,\"\",VLOOKUP($BK117,Archyvas,29,FALSE)))","v":{"$error":"#N/A"}},{"$f":"IF(IF(VLOOKUP($BK117,Archyvas,27,FALSE)=$BL$1,\"\",VLOOKUP($BK117,Archyvas,30,FALSE))=0,\"\",IF(VLOOKUP($BK117,Archyvas,27,FALSE)=$BL$1,\"\",VLOOKUP($BK117,Archyvas,30,FALSE)))","v":{"$error":"#N/A"}},{"$f":"IF(IF(VLOOKUP($BK117,Archyvas,27,FALSE)=$BL$1,\"\",VLOOKUP($BK117,Archyvas,31,FALSE))=0,\"\",IF(VLOOKUP($BK117,Archyvas,27,FALSE)=$BL$1,\"\",VLOOKUP($BK117,Archyvas,31,FALSE)))","v":{"$error":"#N/A"}},null,{"$f":"_xlfn.IFNA(IF(BS117=\"\",\"\",MAX(BR$1:BR116)+1),\"\")","v":""},"","","","","",""]
[null,null,null,null,null,null,null,null,null,null,null,null,null,null,null,null,null,null,null,null,null,null,null,null,null,null,null,null,null,null,null,null,null,null,null,null,null,null,null,null,null,null,null,null,null,null,null,null,null,null,null,null,null,null,null,null,null,{"$f":"IF(BG118=\"\",\"\",MAX(BF$1:BF117)+1)","v":""},{"$f":"IF(TEXT(Kortelė!$B$26,\"mm\")=IF(A118=\"\",\"\",TEXT(A118,\"mm\")),A118,\"\")","v":""},null,"",{"$f":"_xlfn.IFNA(IF(BL118=\"\",\"\",MAX(BJ$1:BJ117)+1),\"\")","v":""},"",{"$f":"IF(IF(IF(VLOOKUP($BK118,Archyvas,32,FALSE)=$BL$1,\"\",VLOOKUP($BK118,Archyvas,35,FALSE))=0,\"\",IF(VLOOKUP($BK118,Archyvas,32,FALSE)=$BL$1,\"\",VLOOKUP($BK118,Archyvas,35,FALSE)))=\"\",\"\",IF(IF(VLOOKUP($BK118,Archyvas,32,FALSE)=$BL$1,\"\",VLOOKUP($BK118,Archyvas,32,FALSE))=0,\"\",IF(VLOOKUP($BK118,Archyvas,32,FALSE)=$BL$1,\"\",VLOOKUP($BK118,Archyvas,32,FALSE))))","v":{"$error":"#N/A"}},{"$f":"IF(IF(VLOOKUP($BK118,Archyvas,32,FALSE)=$BL$1,\"\",VLOOKUP($BK118,Archyvas,33,FALSE))=0,\"\",IF(VLOOKUP($BK118,Archyvas,32,FALSE)=$BL$1,\"\",VLOOKUP($BK118,Archyvas,33,FALSE)))","v":{"$error":"#N/A"}},{"$f":"IF(IF(VLOOKUP($BK118,Archyvas,32,FALSE)=$BL$1,\"\",VLOOKUP($BK118,Archyvas,34,FALSE))=0,\"\",IF(VLOOKUP($BK118,Archyvas,32,FALSE)=$BL$1,\"\",VLOOKUP($BK118,Archyvas,34,FALSE)))","v":{"$error":"#N/A"}},{"$f":"IF(IF(VLOOKUP($BK118,Archyvas,32,FALSE)=$BL$1,\"\",VLOOKUP($BK118,Archyvas,35,FALSE))=0,\"\",IF(VLOOKUP($BK118,Archyvas,32,FALSE)=$BL$1,\"\",VLOOKUP($BK118,Archyvas,35,FALSE)))","v":{"$error":"#N/A"}},{"$f":"IF(IF(VLOOKUP($BK118,Archyvas,32,FALSE)=$BL$1,\"\",VLOOKUP($BK118,Archyvas,36,FALSE))=0,\"\",IF(VLOOKUP($BK118,Archyvas,32,FALSE)=$BL$1,\"\",VLOOKUP($BK118,Archyvas,36,FALSE)))","v":{"$error":"#N/A"}},null,{"$f":"_xlfn.IFNA(IF(BS118=\"\",\"\",MAX(BR$1:BR117)+1),\"\")","v":""},"","","","","",""]
[null,null,null,null,null,null,null,null,null,null,null,null,null,null,null,null,null,null,null,null,null,null,null,null,null,null,null,null,null,null,null,null,null,null,null,null,null,null,null,null,null,null,null,null,null,null,null,null,null,null,null,null,null,null,null,null,null,{"$f":"IF(BG119=\"\",\"\",MAX(BF$1:BF118)+1)","v":""},{"$f":"IF(TEXT(Kortelė!$B$26,\"mm\")=IF(A119=\"\",\"\",TEXT(A119,\"mm\")),A119,\"\")","v":""},null,"",{"$f":"_xlfn.IFNA(IF(BL119=\"\",\"\",MAX(BJ$1:BJ118)+1),\"\")","v":""},"",{"$f":"IF(IF(IF(VLOOKUP($BK119,Archyvas,37,FALSE)=$BL$1,\"\",VLOOKUP($BK119,Archyvas,40,FALSE))=0,\"\",IF(VLOOKUP($BK119,Archyvas,37,FALSE)=$BL$1,\"\",VLOOKUP($BK119,Archyvas,40,FALSE)))=\"\",\"\",IF(IF(VLOOKUP($BK119,Archyvas,37,FALSE)=$BL$1,\"\",VLOOKUP($BK119,Archyvas,37,FALSE))=0,\"\",IF(VLOOKUP($BK119,Archyvas,37,FALSE)=$BL$1,\"\",VLOOKUP($BK119,Archyvas,37,FALSE))))","v":{"$error":"#N/A"}},{"$f":"IF(IF(VLOOKUP($BK119,Archyvas,37,FALSE)=$BL$1,\"\",VLOOKUP($BK119,Archyvas,38,FALSE))=0,\"\",IF(VLOOKUP($BK119,Archyvas,37,FALSE)=$BL$1,\"\",VLOOKUP($BK119,Archyvas,38,FALSE)))","v":{"$error":"#N/A"}},{"$f":"IF(IF(VLOOKUP($BK119,Archyvas,37,FALSE)=$BL$1,\"\",VLOOKUP($BK119,Archyvas,39,FALSE))=0,\"\",IF(VLOOKUP($BK119,Archyvas,37,FALSE)=$BL$1,\"\",VLOOKUP($BK119,Archyvas,39,FALSE)))","v":{"$error":"#N/A"}},{"$f":"IF(IF(VLOOKUP($BK119,Archyvas,37,FALSE)=$BL$1,\"\",VLOOKUP($BK119,Archyvas,40,FALSE))=0,\"\",IF(VLOOKUP($BK119,Archyvas,37,FALSE)=$BL$1,\"\",VLOOKUP($BK119,Archyvas,40,FALSE)))","v":{"$error":"#N/A"}},{"$f":"IF(IF(VLOOKUP($BK119,Archyvas,37,FALSE)=$BL$1,\"\",VLOOKUP($BK119,Archyvas,41,FALSE))=0,\"\",IF(VLOOKUP($BK119,Archyvas,37,FALSE)=$BL$1,\"\",VLOOKUP($BK119,Archyvas,41,FALSE)))","v":{"$error":"#N/A"}},null,{"$f":"_xlfn.IFNA(IF(BS119=\"\",\"\",MAX(BR$1:BR118)+1),\"\")","v":""},"","","","","",""]
[null,null,null,null,null,null,null,null,null,null,null,null,null,null,null,null,null,null,null,null,null,null,null,null,null,null,null,null,null,null,null,null,null,null,null,null,null,null,null,null,null,null,null,null,null,null,null,null,null,null,null,null,null,null,null,null,null,{"$f":"IF(BG120=\"\",\"\",MAX(BF$1:BF119)+1)","v":""},{"$f":"IF(TEXT(Kortelė!$B$26,\"mm\")=IF(A120=\"\",\"\",TEXT(A120,\"mm\")),A120,\"\")","v":""},null,"",{"$f":"_xlfn.IFNA(IF(BL120=\"\",\"\",MAX(BJ$1:BJ119)+1),\"\")","v":""},"",{"$f":"IF(IF(IF(VLOOKUP($BK120,Archyvas,42,FALSE)=$BL$1,\"\",VLOOKUP($BK120,Archyvas,45,FALSE))=0,\"\",IF(VLOOKUP($BK120,Archyvas,42,FALSE)=$BL$1,\"\",VLOOKUP($BK120,Archyvas,45,FALSE)))=\"\",\"\",IF(IF(VLOOKUP($BK120,Archyvas,42,FALSE)=$BL$1,\"\",VLOOKUP($BK120,Archyvas,42,FALSE))=0,\"\",IF(VLOOKUP($BK120,Archyvas,42,FALSE)=$BL$1,\"\",VLOOKUP($BK120,Archyvas,42,FALSE))))","v":{"$error":"#N/A"}},{"$f":"IF(IF(VLOOKUP($BK120,Archyvas,42,FALSE)=$BL$1,\"\",VLOOKUP($BK120,Archyvas,43,FALSE))=0,\"\",IF(VLOOKUP($BK120,Archyvas,42,FALSE)=$BL$1,\"\",VLOOKUP($BK120,Archyvas,43,FALSE)))","v":{"$error":"#N/A"}},{"$f":"IF(IF(VLOOKUP($BK120,Archyvas,42,FALSE)=$BL$1,\"\",VLOOKUP($BK120,Archyvas,44,FALSE))=0,\"\",IF(VLOOKUP($BK120,Archyvas,42,FALSE)=$BL$1,\"\",VLOOKUP($BK120,Archyvas,44,FALSE)))","v":{"$error":"#N/A"}},{"$f":"IF(IF(VLOOKUP($BK120,Archyvas,42,FALSE)=$BL$1,\"\",VLOOKUP($BK120,Archyvas,45,FALSE))=0,\"\",IF(VLOOKUP($BK120,Archyvas,42,FALSE)=$BL$1,\"\",VLOOKUP($BK120,Archyvas,45,FALSE)))","v":{"$error":"#N/A"}},{"$f":"IF(IF(VLOOKUP($BK120,Archyvas,42,FALSE)=$BL$1,\"\",VLOOKUP($BK120,Archyvas,46,FALSE))=0,\"\",IF(VLOOKUP($BK120,Archyvas,42,FALSE)=$BL$1,\"\",VLOOKUP($BK120,Archyvas,46,FALSE)))","v":{"$error":"#N/A"}},null,{"$f":"_xlfn.IFNA(IF(BS120=\"\",\"\",MAX(BR$1:BR119)+1),\"\")","v":""},"","","","","",""]
[null,null,null,null,null,null,null,null,null,null,null,null,null,null,null,null,null,null,null,null,null,null,null,null,null,null,null,null,null,null,null,null,null,null,null,null,null,null,null,null,null,null,null,null,null,null,null,null,null,null,null,null,null,null,null,null,null,{"$f":"IF(BG121=\"\",\"\",MAX(BF$1:BF120)+1)","v":""},{"$f":"IF(TEXT(Kortelė!$B$26,\"mm\")=IF(A121=\"\",\"\",TEXT(A121,\"mm\")),A121,\"\")","v":""},null,"",{"$f":"_xlfn.IFNA(IF(BL121=\"\",\"\",MAX(BJ$1:BJ120)+1),\"\")","v":""},"",{"$f":"IF(IF(IF(VLOOKUP($BK121,Archyvas,47,FALSE)=$BL$1,\"\",VLOOKUP($BK121,Archyvas,50,FALSE))=0,\"\",IF(VLOOKUP($BK121,Archyvas,47,FALSE)=$BL$1,\"\",VLOOKUP($BK121,Archyvas,50,FALSE)))=\"\",\"\",IF(IF(VLOOKUP($BK121,Archyvas,47,FALSE)=$BL$1,\"\",VLOOKUP($BK121,Archyvas,47,FALSE))=0,\"\",IF(VLOOKUP($BK121,Archyvas,47,FALSE)=$BL$1,\"\",VLOOKUP($BK121,Archyvas,47,FALSE))))","v":{"$error":"#N/A"}},{"$f":"IF(IF(VLOOKUP($BK121,Archyvas,47,FALSE)=$BL$1,\"\",VLOOKUP($BK121,Archyvas,48,FALSE))=0,\"\",IF(VLOOKUP($BK121,Archyvas,47,FALSE)=$BL$1,\"\",VLOOKUP($BK121,Archyvas,48,FALSE)))","v":{"$error":"#N/A"}},{"$f":"IF(IF(VLOOKUP($BK121,Archyvas,47,FALSE)=$BL$1,\"\",VLOOKUP($BK121,Archyvas,49,FALSE))=0,\"\",IF(VLOOKUP($BK121,Archyvas,47,FALSE)=$BL$1,\"\",VLOOKUP($BK121,Archyvas,49,FALSE)))","v":{"$error":"#N/A"}},{"$f":"IF(IF(VLOOKUP($BK121,Archyvas,47,FALSE)=$BL$1,\"\",VLOOKUP($BK121,Archyvas,50,FALSE))=0,\"\",IF(VLOOKUP($BK121,Archyvas,47,FALSE)=$BL$1,\"\",VLOOKUP($BK121,Archyvas,50,FALSE)))","v":{"$error":"#N/A"}},{"$f":"IF(IF(VLOOKUP($BK121,Archyvas,47,FALSE)=$BL$1,\"\",VLOOKUP($BK121,Archyvas,51,FALSE))=0,\"\",IF(VLOOKUP($BK121,Archyvas,47,FALSE)=$BL$1,\"\",VLOOKUP($BK121,Archyvas,51,FALSE)))","v":{"$error":"#N/A"}},null,{"$f":"_xlfn.IFNA(IF(BS121=\"\",\"\",MAX(BR$1:BR120)+1),\"\")","v":""},"","","","","",""]
[null,null,null,null,null,null,null,null,null,null,null,null,null,null,null,null,null,null,null,null,null,null,null,null,null,null,null,null,null,null,null,null,null,null,null,null,null,null,null,null,null,null,null,null,null,null,null,null,null,null,null,null,null,null,null,null,null,{"$f":"IF(BG122=\"\",\"\",MAX(BF$1:BF121)+1)","v":""},{"$f":"IF(TEXT(Kortelė!$B$26,\"mm\")=IF(A122=\"\",\"\",TEXT(A122,\"mm\")),A122,\"\")","v":""},null,"",{"$f":"_xlfn.IFNA(IF(BL122=\"\",\"\",MAX(BJ$1:BJ121)+1),\"\")","v":""},"",null,null,null,null,null,null,{"$f":"_xlfn.IFNA(IF(BS122=\"\",\"\",MAX(BR$1:BR121)+1),\"\")","v":""},"","","","","",""]
[null,null,null,null,null,null,null,null,null,null,null,null,null,null,null,null,null,null,null,null,null,null,null,null,null,null,null,null,null,null,null,null,null,null,null,null,null,null,null,null,null,null,null,null,null,null,null,null,null,null,null,null,null,null,null,null,null,{"$f":"IF(BG123=\"\",\"\",MAX(BF$1:BF122)+1)","v":""},{"$f":"IF(TEXT(Kortelė!$B$26,\"mm\")=IF(A123=\"\",\"\",TEXT(A123,\"mm\")),A123,\"\")","v":""},null,"",{"$f":"_xlfn.IFNA(IF(BL123=\"\",\"\",MAX(BJ$1:BJ122)+1),\"\")","v":""},{"$f":"$BI$13","v":""},{"$f":"IF(IF(IF(VLOOKUP($BK123,Archyvas,2,FALSE)=$BL$1,\"\",VLOOKUP($BK123,Archyvas,5,FALSE))=0,\"\",IF(VLOOKUP($BK123,Archyvas,2,FALSE)=$BL$1,\"\",VLOOKUP($BK123,Archyvas,5,FALSE)))=\"\",\"\",IF(IF(VLOOKUP($BK123,Archyvas,2,FALSE)=$BL$1,\"\",VLOOKUP($BK123,Archyvas,2,FALSE))=0,\"\",IF(VLOOKUP($BK123,Archyvas,2,FALSE)=$BL$1,\"\",VLOOKUP($BK123,Archyvas,2,FALSE))))","v":{"$error":"#N/A"}},{"$f":"IF(IF(VLOOKUP($BK123,Archyvas,2,FALSE)=$BL$1,\"\",VLOOKUP($BK123,Archyvas,3,FALSE))=0,\"\",IF(VLOOKUP($BK123,Archyvas,2,FALSE)=$BL$1,\"\",VLOOKUP($BK123,Archyvas,3,FALSE)))","v":{"$error":"#N/A"}},{"$f":"IF(IF(VLOOKUP($BK123,Archyvas,2,FALSE)=$BL$1,\"\",VLOOKUP($BK123,Archyvas,4,FALSE))=0,\"\",IF(VLOOKUP($BK123,Archyvas,2,FALSE)=$BL$1,\"\",VLOOKUP($BK123,Archyvas,4,FALSE)))","v":{"$error":"#N/A"}},{"$f":"IF(IF(VLOOKUP($BK123,Archyvas,2,FALSE)=$BL$1,\"\",VLOOKUP($BK123,Archyvas,5,FALSE))=0,\"\",IF(VLOOKUP($BK123,Archyvas,2,FALSE)=$BL$1,\"\",VLOOKUP($BK123,Archyvas,5,FALSE)))","v":{"$error":"#N/A"}},{"$f":"IF(IF(VLOOKUP($BK123,Archyvas,2,FALSE)=$BL$1,\"\",VLOOKUP($BK123,Archyvas,6,FALSE))=0,\"\",IF(VLOOKUP($BK123,Archyvas,2,FALSE)=$BL$1,\"\",VLOOKUP($BK123,Archyvas,6,FALSE)))","v":{"$error":"#N/A"}},null,{"$f":"_xlfn.IFNA(IF(BS123=\"\",\"\",MAX(BR$1:BR122)+1),\"\")","v":""},"","","","","",""]
[null,null,null,null,null,null,null,null,null,null,null,null,null,null,null,null,null,null,null,null,null,null,null,null,null,null,null,null,null,null,null,null,null,null,null,null,null,null,null,null,null,null,null,null,null,null,null,null,null,null,null,null,null,null,null,null,null,{"$f":"IF(BG124=\"\",\"\",MAX(BF$1:BF123)+1)","v":""},{"$f":"IF(TEXT(Kortelė!$B$26,\"mm\")=IF(A124=\"\",\"\",TEXT(A124,\"mm\")),A124,\"\")","v":""},null,"",{"$f":"_xlfn.IFNA(IF(BL124=\"\",\"\",MAX(BJ$1:BJ123)+1),\"\")","v":""},{"$f":"BK123","v":""},{"$f":"IF(IF(IF(VLOOKUP($BK124,Archyvas,7,FALSE)=$BL$1,\"\",VLOOKUP($BK124,Archyvas,10,FALSE))=0,\"\",IF(VLOOKUP($BK124,Archyvas,7,FALSE)=$BL$1,\"\",VLOOKUP($BK124,Archyvas,10,FALSE)))=\"\",\"\",IF(IF(VLOOKUP($BK124,Archyvas,7,FALSE)=$BL$1,\"\",VLOOKUP($BK124,Archyvas,7,FALSE))=0,\"\",IF(VLOOKUP($BK124,Archyvas,7,FALSE)=$BL$1,\"\",VLOOKUP($BK124,Archyvas,7,FALSE))))","v":{"$error":"#N/A"}},{"$f":"IF(IF(VLOOKUP($BK124,Archyvas,7,FALSE)=$BL$1,\"\",VLOOKUP($BK124,Archyvas,8,FALSE))=0,\"\",IF(VLOOKUP($BK124,Archyvas,7,FALSE)=$BL$1,\"\",VLOOKUP($BK124,Archyvas,8,FALSE)))","v":{"$error":"#N/A"}},{"$f":"IF(IF(VLOOKUP($BK124,Archyvas,7,FALSE)=$BL$1,\"\",VLOOKUP($BK124,Archyvas,9,FALSE))=0,\"\",IF(VLOOKUP($BK124,Archyvas,7,FALSE)=$BL$1,\"\",VLOOKUP($BK124,Archyvas,9,FALSE)))","v":{"$error":"#N/A"}},{"$f":"IF(IF(VLOOKUP($BK124,Archyvas,7,FALSE)=$BL$1,\"\",VLOOKUP($BK124,Archyvas,10,FALSE))=0,\"\",IF(VLOOKUP($BK124,Archyvas,7,FALSE)=$BL$1,\"\",VLOOKUP($BK124,Archyvas,10,FALSE)))","v":{"$error":"#N/A"}},{"$f":"IF(IF(VLOOKUP($BK124,Archyvas,7,FALSE)=$BL$1,\"\",VLOOKUP($BK124,Archyvas,11,FALSE))=0,\"\",IF(VLOOKUP($BK124,Archyvas,7,FALSE)=$BL$1,\"\",VLOOKUP($BK124,Archyvas,11,FALSE)))","v":{"$error":"#N/A"}},null,{"$f":"_xlfn.IFNA(IF(BS124=\"\",\"\",MAX(BR$1:BR123)+1),\"\")","v":""},"","","","","",""]
[null,null,null,null,null,null,null,null,null,null,null,null,null,null,null,null,null,null,null,null,null,null,null,null,null,null,null,null,null,null,null,null,null,null,null,null,null,null,null,null,null,null,null,null,null,null,null,null,null,null,null,null,null,null,null,null,null,{"$f":"IF(BG125=\"\",\"\",MAX(BF$1:BF124)+1)","v":""},{"$f":"IF(TEXT(Kortelė!$B$26,\"mm\")=IF(A125=\"\",\"\",TEXT(A125,\"mm\")),A125,\"\")","v":""},null,"",{"$f":"_xlfn.IFNA(IF(BL125=\"\",\"\",MAX(BJ$1:BJ124)+1),\"\")","v":""},{"$f":"BK124","v":""},{"$f":"IF(IF(IF(VLOOKUP($BK125,Archyvas,12,FALSE)=$BL$1,\"\",VLOOKUP($BK125,Archyvas,15,FALSE))=0,\"\",IF(VLOOKUP($BK125,Archyvas,12,FALSE)=$BL$1,\"\",VLOOKUP($BK125,Archyvas,15,FALSE)))=\"\",\"\",IF(IF(VLOOKUP($BK125,Archyvas,12,FALSE)=$BL$1,\"\",VLOOKUP($BK125,Archyvas,12,FALSE))=0,\"\",IF(VLOOKUP($BK125,Archyvas,12,FALSE)=$BL$1,\"\",VLOOKUP($BK125,Archyvas,12,FALSE))))","v":{"$error":"#N/A"}},{"$f":"IF(IF(VLOOKUP($BK125,Archyvas,12,FALSE)=$BL$1,\"\",VLOOKUP($BK125,Archyvas,13,FALSE))=0,\"\",IF(VLOOKUP($BK125,Archyvas,12,FALSE)=$BL$1,\"\",VLOOKUP($BK125,Archyvas,13,FALSE)))","v":{"$error":"#N/A"}},{"$f":"IF(IF(VLOOKUP($BK125,Archyvas,12,FALSE)=$BL$1,\"\",VLOOKUP($BK125,Archyvas,14,FALSE))=0,\"\",IF(VLOOKUP($BK125,Archyvas,12,FALSE)=$BL$1,\"\",VLOOKUP($BK125,Archyvas,14,FALSE)))","v":{"$error":"#N/A"}},{"$f":"IF(IF(VLOOKUP($BK125,Archyvas,12,FALSE)=$BL$1,\"\",VLOOKUP($BK125,Archyvas,15,FALSE))=0,\"\",IF(VLOOKUP($BK125,Archyvas,12,FALSE)=$BL$1,\"\",VLOOKUP($BK125,Archyvas,15,FALSE)))","v":{"$error":"#N/A"}},{"$f":"IF(IF(VLOOKUP($BK125,Archyvas,12,FALSE)=$BL$1,\"\",VLOOKUP($BK125,Archyvas,16,FALSE))=0,\"\",IF(VLOOKUP($BK125,Archyvas,12,FALSE)=$BL$1,\"\",VLOOKUP($BK125,Archyvas,16,FALSE)))","v":{"$error":"#N/A"}},null,{"$f":"_xlfn.IFNA(IF(BS125=\"\",\"\",MAX(BR$1:BR124)+1),\"\")","v":""},"","","","","",""]
[null,null,null,null,null,null,null,null,null,null,null,null,null,null,null,null,null,null,null,null,null,null,null,null,null,null,null,null,null,null,null,null,null,null,null,null,null,null,null,null,null,null,null,null,null,null,null,null,null,null,null,null,null,null,null,null,null,{"$f":"IF(BG126=\"\",\"\",MAX(BF$1:BF125)+1)","v":""},{"$f":"IF(TEXT(Kortelė!$B$26,\"mm\")=IF(A126=\"\",\"\",TEXT(A126,\"mm\")),A126,\"\")","v":""},null,"",{"$f":"_xlfn.IFNA(IF(BL126=\"\",\"\",MAX(BJ$1:BJ125)+1),\"\")","v":""},"",{"$f":"IF(IF(IF(VLOOKUP($BK126,Archyvas,17,FALSE)=$BL$1,\"\",VLOOKUP($BK126,Archyvas,20,FALSE))=0,\"\",IF(VLOOKUP($BK126,Archyvas,17,FALSE)=$BL$1,\"\",VLOOKUP($BK126,Archyvas,20,FALSE)))=\"\",\"\",IF(IF(VLOOKUP($BK126,Archyvas,17,FALSE)=$BL$1,\"\",VLOOKUP($BK126,Archyvas,17,FALSE))=0,\"\",IF(VLOOKUP($BK126,Archyvas,17,FALSE)=$BL$1,\"\",VLOOKUP($BK126,Archyvas,17,FALSE))))","v":{"$error":"#N/A"}},{"$f":"IF(IF(VLOOKUP($BK126,Archyvas,17,FALSE)=$BL$1,\"\",VLOOKUP($BK126,Archyvas,18,FALSE))=0,\"\",IF(VLOOKUP($BK126,Archyvas,17,FALSE)=$BL$1,\"\",VLOOKUP($BK126,Archyvas,18,FALSE)))","v":{"$error":"#N/A"}},{"$f":"IF(IF(VLOOKUP($BK126,Archyvas,17,FALSE)=$BL$1,\"\",VLOOKUP($BK126,Archyvas,19,FALSE))=0,\"\",IF(VLOOKUP($BK126,Archyvas,17,FALSE)=$BL$1,\"\",VLOOKUP($BK126,Archyvas,19,FALSE)))","v":{"$error":"#N/A"}},{"$f":"IF(IF(VLOOKUP($BK126,Archyvas,17,FALSE)=$BL$1,\"\",VLOOKUP($BK126,Archyvas,20,FALSE))=0,\"\",IF(VLOOKUP($BK126,Archyvas,17,FALSE)=$BL$1,\"\",VLOOKUP($BK126,Archyvas,20,FALSE)))","v":{"$error":"#N/A"}},{"$f":"IF(IF(VLOOKUP($BK126,Archyvas,17,FALSE)=$BL$1,\"\",VLOOKUP($BK126,Archyvas,21,FALSE))=0,\"\",IF(VLOOKUP($BK126,Archyvas,17,FALSE)=$BL$1,\"\",VLOOKUP($BK126,Archyvas,21,FALSE)))","v":{"$error":"#N/A"}},null,{"$f":"_xlfn.IFNA(IF(BS126=\"\",\"\",MAX(BR$1:BR125)+1),\"\")","v":""},"","","","","",""]
[null,null,null,null,null,null,null,null,null,null,null,null,null,null,null,null,null,null,null,null,null,null,null,null,null,null,null,null,null,null,null,null,null,null,null,null,null,null,null,null,null,null,null,null,null,null,null,null,null,null,null,null,null,null,null,null,null,{"$f":"IF(BG127=\"\",\"\",MAX(BF$1:BF126)+1)","v":""},{"$f":"IF(TEXT(Kortelė!$B$26,\"mm\")=IF(A127=\"\",\"\",TEXT(A127,\"mm\")),A127,\"\")","v":""},null,"",{"$f":"_xlfn.IFNA(IF(BL127=\"\",\"\",MAX(BJ$1:BJ126)+1),\"\")","v":""},"",{"$f":"IF(IF(IF(VLOOKUP($BK127,Archyvas,22,FALSE)=$BL$1,\"\",VLOOKUP($BK127,Archyvas,25,FALSE))=0,\"\",IF(VLOOKUP($BK127,Archyvas,22,FALSE)=$BL$1,\"\",VLOOKUP($BK127,Archyvas,25,FALSE)))=\"\",\"\",IF(IF(VLOOKUP($BK127,Archyvas,22,FALSE)=$BL$1,\"\",VLOOKUP($BK127,Archyvas,22,FALSE))=0,\"\",IF(VLOOKUP($BK127,Archyvas,22,FALSE)=$BL$1,\"\",VLOOKUP($BK127,Archyvas,22,FALSE))))","v":{"$error":"#N/A"}},{"$f":"IF(IF(VLOOKUP($BK127,Archyvas,22,FALSE)=$BL$1,\"\",VLOOKUP($BK127,Archyvas,23,FALSE))=0,\"\",IF(VLOOKUP($BK127,Archyvas,22,FALSE)=$BL$1,\"\",VLOOKUP($BK127,Archyvas,23,FALSE)))","v":{"$error":"#N/A"}},{"$f":"IF(IF(VLOOKUP($BK127,Archyvas,22,FALSE)=$BL$1,\"\",VLOOKUP($BK127,Archyvas,24,FALSE))=0,\"\",IF(VLOOKUP($BK127,Archyvas,22,FALSE)=$BL$1,\"\",VLOOKUP($BK127,Archyvas,24,FALSE)))","v":{"$error":"#N/A"}},{"$f":"IF(IF(VLOOKUP($BK127,Archyvas,22,FALSE)=$BL$1,\"\",VLOOKUP($BK127,Archyvas,25,FALSE))=0,\"\",IF(VLOOKUP($BK127,Archyvas,22,FALSE)=$BL$1,\"\",VLOOKUP($BK127,Archyvas,25,FALSE)))","v":{"$error":"#N/A"}},{"$f":"IF(IF(VLOOKUP($BK127,Archyvas,22,FALSE)=$BL$1,\"\",VLOOKUP($BK127,Archyvas,26,FALSE))=0,\"\",IF(VLOOKUP($BK127,Archyvas,22,FALSE)=$BL$1,\"\",VLOOKUP($BK127,Archyvas,26,FALSE)))","v":{"$error":"#N/A"}},null,{"$f":"_xlfn.IFNA(IF(BS127=\"\",\"\",MAX(BR$1:BR126)+1),\"\")","v":""},"","","","","",""]
[null,null,null,null,null,null,null,null,null,null,null,null,null,null,null,null,null,null,null,null,null,null,null,null,null,null,null,null,null,null,null,null,null,null,null,null,null,null,null,null,null,null,null,null,null,null,null,null,null,null,null,null,null,null,null,null,null,{"$f":"IF(BG128=\"\",\"\",MAX(BF$1:BF127)+1)","v":""},{"$f":"IF(TEXT(Kortelė!$B$26,\"mm\")=IF(A128=\"\",\"\",TEXT(A128,\"mm\")),A128,\"\")","v":""},null,"",{"$f":"_xlfn.IFNA(IF(BL128=\"\",\"\",MAX(BJ$1:BJ127)+1),\"\")","v":""},"",{"$f":"IF(IF(IF(VLOOKUP($BK128,Archyvas,27,FALSE)=$BL$1,\"\",VLOOKUP($BK128,Archyvas,30,FALSE))=0,\"\",IF(VLOOKUP($BK128,Archyvas,27,FALSE)=$BL$1,\"\",VLOOKUP($BK128,Archyvas,30,FALSE)))=\"\",\"\",IF(IF(VLOOKUP($BK128,Archyvas,27,FALSE)=$BL$1,\"\",VLOOKUP($BK128,Archyvas,27,FALSE))=0,\"\",IF(VLOOKUP($BK128,Archyvas,27,FALSE)=$BL$1,\"\",VLOOKUP($BK128,Archyvas,27,FALSE))))","v":{"$error":"#N/A"}},{"$f":"IF(IF(VLOOKUP($BK128,Archyvas,27,FALSE)=$BL$1,\"\",VLOOKUP($BK128,Archyvas,28,FALSE))=0,\"\",IF(VLOOKUP($BK128,Archyvas,27,FALSE)=$BL$1,\"\",VLOOKUP($BK128,Archyvas,28,FALSE)))","v":{"$error":"#N/A"}},{"$f":"IF(IF(VLOOKUP($BK128,Archyvas,27,FALSE)=$BL$1,\"\",VLOOKUP($BK128,Archyvas,29,FALSE))=0,\"\",IF(VLOOKUP($BK128,Archyvas,27,FALSE)=$BL$1,\"\",VLOOKUP($BK128,Archyvas,29,FALSE)))","v":{"$error":"#N/A"}},{"$f":"IF(IF(VLOOKUP($BK128,Archyvas,27,FALSE)=$BL$1,\"\",VLOOKUP($BK128,Archyvas,30,FALSE))=0,\"\",IF(VLOOKUP($BK128,Archyvas,27,FALSE)=$BL$1,\"\",VLOOKUP($BK128,Archyvas,30,FALSE)))","v":{"$error":"#N/A"}},{"$f":"IF(IF(VLOOKUP($BK128,Archyvas,27,FALSE)=$BL$1,\"\",VLOOKUP($BK128,Archyvas,31,FALSE))=0,\"\",IF(VLOOKUP($BK128,Archyvas,27,FALSE)=$BL$1,\"\",VLOOKUP($BK128,Archyvas,31,FALSE)))","v":{"$error":"#N/A"}},null,{"$f":"_xlfn.IFNA(IF(BS128=\"\",\"\",MAX(BR$1:BR127)+1),\"\")","v":""},"","","","","",""]
[null,null,null,null,null,null,null,null,null,null,null,null,null,null,null,null,null,null,null,null,null,null,null,null,null,null,null,null,null,null,null,null,null,null,null,null,null,null,null,null,null,null,null,null,null,null,null,null,null,null,null,null,null,null,null,null,null,{"$f":"IF(BG129=\"\",\"\",MAX(BF$1:BF128)+1)","v":""},{"$f":"IF(TEXT(Kortelė!$B$26,\"mm\")=IF(A129=\"\",\"\",TEXT(A129,\"mm\")),A129,\"\")","v":""},null,"",{"$f":"_xlfn.IFNA(IF(BL129=\"\",\"\",MAX(BJ$1:BJ128)+1),\"\")","v":""},"",{"$f":"IF(IF(IF(VLOOKUP($BK129,Archyvas,32,FALSE)=$BL$1,\"\",VLOOKUP($BK129,Archyvas,35,FALSE))=0,\"\",IF(VLOOKUP($BK129,Archyvas,32,FALSE)=$BL$1,\"\",VLOOKUP($BK129,Archyvas,35,FALSE)))=\"\",\"\",IF(IF(VLOOKUP($BK129,Archyvas,32,FALSE)=$BL$1,\"\",VLOOKUP($BK129,Archyvas,32,FALSE))=0,\"\",IF(VLOOKUP($BK129,Archyvas,32,FALSE)=$BL$1,\"\",VLOOKUP($BK129,Archyvas,32,FALSE))))","v":{"$error":"#N/A"}},{"$f":"IF(IF(VLOOKUP($BK129,Archyvas,32,FALSE)=$BL$1,\"\",VLOOKUP($BK129,Archyvas,33,FALSE))=0,\"\",IF(VLOOKUP($BK129,Archyvas,32,FALSE)=$BL$1,\"\",VLOOKUP($BK129,Archyvas,33,FALSE)))","v":{"$error":"#N/A"}},{"$f":"IF(IF(VLOOKUP($BK129,Archyvas,32,FALSE)=$BL$1,\"\",VLOOKUP($BK129,Archyvas,34,FALSE))=0,\"\",IF(VLOOKUP($BK129,Archyvas,32,FALSE)=$BL$1,\"\",VLOOKUP($BK129,Archyvas,34,FALSE)))","v":{"$error":"#N/A"}},{"$f":"IF(IF(VLOOKUP($BK129,Archyvas,32,FALSE)=$BL$1,\"\",VLOOKUP($BK129,Archyvas,35,FALSE))=0,\"\",IF(VLOOKUP($BK129,Archyvas,32,FALSE)=$BL$1,\"\",VLOOKUP($BK129,Archyvas,35,FALSE)))","v":{"$error":"#N/A"}},{"$f":"IF(IF(VLOOKUP($BK129,Archyvas,32,FALSE)=$BL$1,\"\",VLOOKUP($BK129,Archyvas,36,FALSE))=0,\"\",IF(VLOOKUP($BK129,Archyvas,32,FALSE)=$BL$1,\"\",VLOOKUP($BK129,Archyvas,36,FALSE)))","v":{"$error":"#N/A"}},null,{"$f":"_xlfn.IFNA(IF(BS129=\"\",\"\",MAX(BR$1:BR128)+1),\"\")","v":""},"","","","","",""]
[null,null,null,null,null,null,null,null,null,null,null,null,null,null,null,null,null,null,null,null,null,null,null,null,null,null,null,null,null,null,null,null,null,null,null,null,null,null,null,null,null,null,null,null,null,null,null,null,null,null,null,null,null,null,null,null,null,{"$f":"IF(BG130=\"\",\"\",MAX(BF$1:BF129)+1)","v":""},{"$f":"IF(TEXT(Kortelė!$B$26,\"mm\")=IF(A130=\"\",\"\",TEXT(A130,\"mm\")),A130,\"\")","v":""},null,{"$f":"IFERROR(INDEX($BG$2:$BG$500,MATCH(ROW()-ROW($A$1),$BF$2:$BF$500,0)),\"\")","v":""},{"$f":"_xlfn.IFNA(IF(BL130=\"\",\"\",MAX(BJ$1:BJ129)+1),\"\")","v":""},"",{"$f":"IF(IF(IF(VLOOKUP($BK130,Archyvas,37,FALSE)=$BL$1,\"\",VLOOKUP($BK130,Archyvas,40,FALSE))=0,\"\",IF(VLOOKUP($BK130,Archyvas,37,FALSE)=$BL$1,\"\",VLOOKUP($BK130,Archyvas,40,FALSE)))=\"\",\"\",IF(IF(VLOOKUP($BK130,Archyvas,37,FALSE)=$BL$1,\"\",VLOOKUP($BK130,Archyvas,37,FALSE))=0,\"\",IF(VLOOKUP($BK130,Archyvas,37,FALSE)=$BL$1,\"\",VLOOKUP($BK130,Archyvas,37,FALSE))))","v":{"$error":"#N/A"}},{"$f":"IF(IF(VLOOKUP($BK130,Archyvas,37,FALSE)=$BL$1,\"\",VLOOKUP($BK130,Archyvas,38,FALSE))=0,\"\",IF(VLOOKUP($BK130,Archyvas,37,FALSE)=$BL$1,\"\",VLOOKUP($BK130,Archyvas,38,FALSE)))","v":{"$error":"#N/A"}},{"$f":"IF(IF(VLOOKUP($BK130,Archyvas,37,FALSE)=$BL$1,\"\",VLOOKUP($BK130,Archyvas,39,FALSE))=0,\"\",IF(VLOOKUP($BK130,Archyvas,37,FALSE)=$BL$1,\"\",VLOOKUP($BK130,Archyvas,39,FALSE)))","v":{"$error":"#N/A"}},{"$f":"IF(IF(VLOOKUP($BK130,Archyvas,37,FALSE)=$BL$1,\"\",VLOOKUP($BK130,Archyvas,40,FALSE))=0,\"\",IF(VLOOKUP($BK130,Archyvas,37,FALSE)=$BL$1,\"\",VLOOKUP($BK130,Archyvas,40,FALSE)))","v":{"$error":"#N/A"}},{"$f":"IF(IF(VLOOKUP($BK130,Archyvas,37,FALSE)=$BL$1,\"\",VLOOKUP($BK130,Archyvas,41,FALSE))=0,\"\",IF(VLOOKUP($BK130,Archyvas,37,FALSE)=$BL$1,\"\",VLOOKUP($BK130,Archyvas,41,FALSE)))","v":{"$error":"#N/A"}},null,{"$f":"_xlfn.IFNA(IF(BS130=\"\",\"\",MAX(BR$1:BR129)+1),\"\")","v":""},{"$f":"IFERROR(INDEX(BK$2:BK$330,MATCH(ROW()-ROW($BJ$1),$BJ$2:$BJ$330,0)),\"\")","v":""},{"$f":"IFERROR(INDEX(BL$2:BL$330,MATCH(ROW()-ROW($BJ$1),$BJ$2:$BJ$330,0)),\"\")","v":""},{"$f":"IFERROR(INDEX(BM$2:BM$330,MATCH(ROW()-ROW($BJ$1),$BJ$2:$BJ$330,0)),\"\")","v":""},{"$f":"IFERROR(INDEX(BN$2:BN$330,MATCH(ROW()-ROW($BJ$1),$BJ$2:$BJ$330,0)),\"\")","v":""},{"$f":"IFERROR(INDEX(BO$2:BO$330,MATCH(ROW()-ROW($BJ$1),$BJ$2:$BJ$330,0)),\"\")","v":""},{"$f":"IFERROR(INDEX(BP$2:BP$330,MATCH(ROW()-ROW($BJ$1),$BJ$2:$BJ$330,0)),\"\")","v":""}]
[null,null,null,null,null,null,null,null,null,null,null,null,null,null,null,null,null,null,null,null,null,null,null,null,null,null,null,null,null,null,null,null,null,null,null,null,null,null,null,null,null,null,null,null,null,null,null,null,null,null,null,null,null,null,null,null,null,{"$f":"IF(BG131=\"\",\"\",MAX(BF$1:BF130)+1)","v":""},{"$f":"IF(TEXT(Kortelė!$B$26,\"mm\")=IF(A131=\"\",\"\",TEXT(A131,\"mm\")),A131,\"\")","v":""},null,"",{"$f":"_xlfn.IFNA(IF(BL131=\"\",\"\",MAX(BJ$1:BJ130)+1),\"\")","v":""},"",{"$f":"IF(IF(IF(VLOOKUP($BK131,Archyvas,42,FALSE)=$BL$1,\"\",VLOOKUP($BK131,Archyvas,45,FALSE))=0,\"\",IF(VLOOKUP($BK131,Archyvas,42,FALSE)=$BL$1,\"\",VLOOKUP($BK131,Archyvas,45,FALSE)))=\"\",\"\",IF(IF(VLOOKUP($BK131,Archyvas,42,FALSE)=$BL$1,\"\",VLOOKUP($BK131,Archyvas,42,FALSE))=0,\"\",IF(VLOOKUP($BK131,Archyvas,42,FALSE)=$BL$1,\"\",VLOOKUP($BK131,Archyvas,42,FALSE))))","v":{"$error":"#N/A"}},{"$f":"IF(IF(VLOOKUP($BK131,Archyvas,42,FALSE)=$BL$1,\"\",VLOOKUP($BK131,Archyvas,43,FALSE))=0,\"\",IF(VLOOKUP($BK131,Archyvas,42,FALSE)=$BL$1,\"\",VLOOKUP($BK131,Archyvas,43,FALSE)))","v":{"$error":"#N/A"}},{"$f":"IF(IF(VLOOKUP($BK131,Archyvas,42,FALSE)=$BL$1,\"\",VLOOKUP($BK131,Archyvas,44,FALSE))=0,\"\",IF(VLOOKUP($BK131,Archyvas,42,FALSE)=$BL$1,\"\",VLOOKUP($BK131,Archyvas,44,FALSE)))","v":{"$error":"#N/A"}},{"$f":"IF(IF(VLOOKUP($BK131,Archyvas,42,FALSE)=$BL$1,\"\",VLOOKUP($BK131,Archyvas,45,FALSE))=0,\"\",IF(VLOOKUP($BK131,Archyvas,42,FALSE)=$BL$1,\"\",VLOOKUP($BK131,Archyvas,45,FALSE)))","v":{"$error":"#N/A"}},{"$f":"IF(IF(VLOOKUP($BK131,Archyvas,42,FALSE)=$BL$1,\"\",VLOOKUP($BK131,Archyvas,46,FALSE))=0,\"\",IF(VLOOKUP($BK131,Archyvas,42,FALSE)=$BL$1,\"\",VLOOKUP($BK131,Archyvas,46,FALSE)))","v":{"$error":"#N/A"}},null,{"$f":"_xlfn.IFNA(IF(BS131=\"\",\"\",MAX(BR$1:BR130)+1),\"\")","v":""},"","","","","",""]
[null,null,null,null,null,null,null,null,null,null,null,null,null,null,null,null,null,null,null,null,null,null,null,null,null,null,null,null,null,null,null,null,null,null,null,null,null,null,null,null,null,null,null,null,null,null,null,null,null,null,null,null,null,null,null,null,null,{"$f":"IF(BG132=\"\",\"\",MAX(BF$1:BF131)+1)","v":""},{"$f":"IF(TEXT(Kortelė!$B$26,\"mm\")=IF(A132=\"\",\"\",TEXT(A132,\"mm\")),A132,\"\")","v":""},null,"",{"$f":"_xlfn.IFNA(IF(BL132=\"\",\"\",MAX(BJ$1:BJ131)+1),\"\")","v":""},"",{"$f":"IF(IF(IF(VLOOKUP($BK132,Archyvas,47,FALSE)=$BL$1,\"\",VLOOKUP($BK132,Archyvas,50,FALSE))=0,\"\",IF(VLOOKUP($BK132,Archyvas,47,FALSE)=$BL$1,\"\",VLOOKUP($BK132,Archyvas,50,FALSE)))=\"\",\"\",IF(IF(VLOOKUP($BK132,Archyvas,47,FALSE)=$BL$1,\"\",VLOOKUP($BK132,Archyvas,47,FALSE))=0,\"\",IF(VLOOKUP($BK132,Archyvas,47,FALSE)=$BL$1,\"\",VLOOKUP($BK132,Archyvas,47,FALSE))))","v":{"$error":"#N/A"}},{"$f":"IF(IF(VLOOKUP($BK132,Archyvas,47,FALSE)=$BL$1,\"\",VLOOKUP($BK132,Archyvas,48,FALSE))=0,\"\",IF(VLOOKUP($BK132,Archyvas,47,FALSE)=$BL$1,\"\",VLOOKUP($BK132,Archyvas,48,FALSE)))","v":{"$error":"#N/A"}},{"$f":"IF(IF(VLOOKUP($BK132,Archyvas,47,FALSE)=$BL$1,\"\",VLOOKUP($BK132,Archyvas,49,FALSE))=0,\"\",IF(VLOOKUP($BK132,Archyvas,47,FALSE)=$BL$1,\"\",VLOOKUP($BK132,Archyvas,49,FALSE)))","v":{"$error":"#N/A"}},{"$f":"IF(IF(VLOOKUP($BK132,Archyvas,47,FALSE)=$BL$1,\"\",VLOOKUP($BK132,Archyvas,50,FALSE))=0,\"\",IF(VLOOKUP($BK132,Archyvas,47,FALSE)=$BL$1,\"\",VLOOKUP($BK132,Archyvas,50,FALSE)))","v":{"$error":"#N/A"}},{"$f":"IF(IF(VLOOKUP($BK132,Archyvas,47,FALSE)=$BL$1,\"\",VLOOKUP($BK132,Archyvas,51,FALSE))=0,\"\",IF(VLOOKUP($BK132,Archyvas,47,FALSE)=$BL$1,\"\",VLOOKUP($BK132,Archyvas,51,FALSE)))","v":{"$error":"#N/A"}},null,{"$f":"_xlfn.IFNA(IF(BS132=\"\",\"\",MAX(BR$1:BR131)+1),\"\")","v":""},"","","","","",""]
[null,null,null,null,null,null,null,null,null,null,null,null,null,null,null,null,null,null,null,null,null,null,null,null,null,null,null,null,null,null,null,null,null,null,null,null,null,null,null,null,null,null,null,null,null,null,null,null,null,null,null,null,null,null,null,null,null,{"$f":"IF(BG133=\"\",\"\",MAX(BF$1:BF132)+1)","v":""},{"$f":"IF(TEXT(Kortelė!$B$26,\"mm\")=IF(A133=\"\",\"\",TEXT(A133,\"mm\")),A133,\"\")","v":""},null,"",{"$f":"_xlfn.IFNA(IF(BL133=\"\",\"\",MAX(BJ$1:BJ132)+1),\"\")","v":""},"",null,null,null,null,null,null,{"$f":"_xlfn.IFNA(IF(BS133=\"\",\"\",MAX(BR$1:BR132)+1),\"\")","v":""},"","","","","",""]
[null,null,null,null,null,null,null,null,null,null,null,null,null,null,null,null,null,null,null,null,null,null,null,null,null,null,null,null,null,null,null,null,null,null,null,null,null,null,null,null,null,null,null,null,null,null,null,null,null,null,null,null,null,null,null,null,null,{"$f":"IF(BG134=\"\",\"\",MAX(BF$1:BF133)+1)","v":""},{"$f":"IF(TEXT(Kortelė!$B$26,\"mm\")=IF(A134=\"\",\"\",TEXT(A134,\"mm\")),A134,\"\")","v":""},null,"",{"$f":"_xlfn.IFNA(IF(BL134=\"\",\"\",MAX(BJ$1:BJ133)+1),\"\")","v":""},{"$f":"$BI$14","v":""},{"$f":"IF(IF(IF(VLOOKUP($BK134,Archyvas,2,FALSE)=$BL$1,\"\",VLOOKUP($BK134,Archyvas,5,FALSE))=0,\"\",IF(VLOOKUP($BK134,Archyvas,2,FALSE)=$BL$1,\"\",VLOOKUP($BK134,Archyvas,5,FALSE)))=\"\",\"\",IF(IF(VLOOKUP($BK134,Archyvas,2,FALSE)=$BL$1,\"\",VLOOKUP($BK134,Archyvas,2,FALSE))=0,\"\",IF(VLOOKUP($BK134,Archyvas,2,FALSE)=$BL$1,\"\",VLOOKUP($BK134,Archyvas,2,FALSE))))","v":{"$error":"#N/A"}},{"$f":"IF(IF(VLOOKUP($BK134,Archyvas,2,FALSE)=$BL$1,\"\",VLOOKUP($BK134,Archyvas,3,FALSE))=0,\"\",IF(VLOOKUP($BK134,Archyvas,2,FALSE)=$BL$1,\"\",VLOOKUP($BK134,Archyvas,3,FALSE)))","v":{"$error":"#N/A"}},{"$f":"IF(IF(VLOOKUP($BK134,Archyvas,2,FALSE)=$BL$1,\"\",VLOOKUP($BK134,Archyvas,4,FALSE))=0,\"\",IF(VLOOKUP($BK134,Archyvas,2,FALSE)=$BL$1,\"\",VLOOKUP($BK134,Archyvas,4,FALSE)))","v":{"$error":"#N/A"}},{"$f":"IF(IF(VLOOKUP($BK134,Archyvas,2,FALSE)=$BL$1,\"\",VLOOKUP($BK134,Archyvas,5,FALSE))=0,\"\",IF(VLOOKUP($BK134,Archyvas,2,FALSE)=$BL$1,\"\",VLOOKUP($BK134,Archyvas,5,FALSE)))","v":{"$error":"#N/A"}},{"$f":"IF(IF(VLOOKUP($BK134,Archyvas,2,FALSE)=$BL$1,\"\",VLOOKUP($BK134,Archyvas,6,FALSE))=0,\"\",IF(VLOOKUP($BK134,Archyvas,2,FALSE)=$BL$1,\"\",VLOOKUP($BK134,Archyvas,6,FALSE)))","v":{"$error":"#N/A"}},null,{"$f":"_xlfn.IFNA(IF(BS134=\"\",\"\",MAX(BR$1:BR133)+1),\"\")","v":""},"","","","","",""]
[null,null,null,null,null,null,null,null,null,null,null,null,null,null,null,null,null,null,null,null,null,null,null,null,null,null,null,null,null,null,null,null,null,null,null,null,null,null,null,null,null,null,null,null,null,null,null,null,null,null,null,null,null,null,null,null,null,{"$f":"IF(BG135=\"\",\"\",MAX(BF$1:BF134)+1)","v":""},{"$f":"IF(TEXT(Kortelė!$B$26,\"mm\")=IF(A135=\"\",\"\",TEXT(A135,\"mm\")),A135,\"\")","v":""},null,"",{"$f":"_xlfn.IFNA(IF(BL135=\"\",\"\",MAX(BJ$1:BJ134)+1),\"\")","v":""},{"$f":"BK134","v":""},{"$f":"IF(IF(IF(VLOOKUP($BK135,Archyvas,7,FALSE)=$BL$1,\"\",VLOOKUP($BK135,Archyvas,10,FALSE))=0,\"\",IF(VLOOKUP($BK135,Archyvas,7,FALSE)=$BL$1,\"\",VLOOKUP($BK135,Archyvas,10,FALSE)))=\"\",\"\",IF(IF(VLOOKUP($BK135,Archyvas,7,FALSE)=$BL$1,\"\",VLOOKUP($BK135,Archyvas,7,FALSE))=0,\"\",IF(VLOOKUP($BK135,Archyvas,7,FALSE)=$BL$1,\"\",VLOOKUP($BK135,Archyvas,7,FALSE))))","v":{"$error":"#N/A"}},{"$f":"IF(IF(VLOOKUP($BK135,Archyvas,7,FALSE)=$BL$1,\"\",VLOOKUP($BK135,Archyvas,8,FALSE))=0,\"\",IF(VLOOKUP($BK135,Archyvas,7,FALSE)=$BL$1,\"\",VLOOKUP($BK135,Archyvas,8,FALSE)))","v":{"$error":"#N/A"}},{"$f":"IF(IF(VLOOKUP($BK135,Archyvas,7,FALSE)=$BL$1,\"\",VLOOKUP($BK135,Archyvas,9,FALSE))=0,\"\",IF(VLOOKUP($BK135,Archyvas,7,FALSE)=$BL$1,\"\",VLOOKUP($BK135,Archyvas,9,FALSE)))","v":{"$error":"#N/A"}},{"$f":"IF(IF(VLOOKUP($BK135,Archyvas,7,FALSE)=$BL$1,\"\",VLOOKUP($BK135,Archyvas,10,FALSE))=0,\"\",IF(VLOOKUP($BK135,Archyvas,7,FALSE)=$BL$1,\"\",VLOOKUP($BK135,Archyvas,10,FALSE)))","v":{"$error":"#N/A"}},{"$f":"IF(IF(VLOOKUP($BK135,Archyvas,7,FALSE)=$BL$1,\"\",VLOOKUP($BK135,Archyvas,11,FALSE))=0,\"\",IF(VLOOKUP($BK135,Archyvas,7,FALSE)=$BL$1,\"\",VLOOKUP($BK135,Archyvas,11,FALSE)))","v":{"$error":"#N/A"}},null,{"$f":"_xlfn.IFNA(IF(BS135=\"\",\"\",MAX(BR$1:BR134)+1),\"\")","v":""},"","","","","",""]
[null,null,null,null,null,null,null,null,null,null,null,null,null,null,null,null,null,null,null,null,null,null,null,null,null,null,null,null,null,null,null,null,null,null,null,null,null,null,null,null,null,null,null,null,null,null,null,null,null,null,null,null,null,null,null,null,null,{"$f":"IF(BG136=\"\",\"\",MAX(BF$1:BF135)+1)","v":""},{"$f":"IF(TEXT(Kortelė!$B$26,\"mm\")=IF(A136=\"\",\"\",TEXT(A136,\"mm\")),A136,\"\")","v":""},null,"",{"$f":"_xlfn.IFNA(IF(BL136=\"\",\"\",MAX(BJ$1:BJ135)+1),\"\")","v":""},{"$f":"BK135","v":""},{"$f":"IF(IF(IF(VLOOKUP($BK136,Archyvas,12,FALSE)=$BL$1,\"\",VLOOKUP($BK136,Archyvas,15,FALSE))=0,\"\",IF(VLOOKUP($BK136,Archyvas,12,FALSE)=$BL$1,\"\",VLOOKUP($BK136,Archyvas,15,FALSE)))=\"\",\"\",IF(IF(VLOOKUP($BK136,Archyvas,12,FALSE)=$BL$1,\"\",VLOOKUP($BK136,Archyvas,12,FALSE))=0,\"\",IF(VLOOKUP($BK136,Archyvas,12,FALSE)=$BL$1,\"\",VLOOKUP($BK136,Archyvas,12,FALSE))))","v":{"$error":"#N/A"}},{"$f":"IF(IF(VLOOKUP($BK136,Archyvas,12,FALSE)=$BL$1,\"\",VLOOKUP($BK136,Archyvas,13,FALSE))=0,\"\",IF(VLOOKUP($BK136,Archyvas,12,FALSE)=$BL$1,\"\",VLOOKUP($BK136,Archyvas,13,FALSE)))","v":{"$error":"#N/A"}},{"$f":"IF(IF(VLOOKUP($BK136,Archyvas,12,FALSE)=$BL$1,\"\",VLOOKUP($BK136,Archyvas,14,FALSE))=0,\"\",IF(VLOOKUP($BK136,Archyvas,12,FALSE)=$BL$1,\"\",VLOOKUP($BK136,Archyvas,14,FALSE)))","v":{"$error":"#N/A"}},{"$f":"IF(IF(VLOOKUP($BK136,Archyvas,12,FALSE)=$BL$1,\"\",VLOOKUP($BK136,Archyvas,15,FALSE))=0,\"\",IF(VLOOKUP($BK136,Archyvas,12,FALSE)=$BL$1,\"\",VLOOKUP($BK136,Archyvas,15,FALSE)))","v":{"$error":"#N/A"}},{"$f":"IF(IF(VLOOKUP($BK136,Archyvas,12,FALSE)=$BL$1,\"\",VLOOKUP($BK136,Archyvas,16,FALSE))=0,\"\",IF(VLOOKUP($BK136,Archyvas,12,FALSE)=$BL$1,\"\",VLOOKUP($BK136,Archyvas,16,FALSE)))","v":{"$error":"#N/A"}},null,{"$f":"_xlfn.IFNA(IF(BS136=\"\",\"\",MAX(BR$1:BR135)+1),\"\")","v":""},"","","","","",""]
[null,null,null,null,null,null,null,null,null,null,null,null,null,null,null,null,null,null,null,null,null,null,null,null,null,null,null,null,null,null,null,null,null,null,null,null,null,null,null,null,null,null,null,null,null,null,null,null,null,null,null,null,null,null,null,null,null,{"$f":"IF(BG137=\"\",\"\",MAX(BF$1:BF136)+1)","v":""},{"$f":"IF(TEXT(Kortelė!$B$26,\"mm\")=IF(A137=\"\",\"\",TEXT(A137,\"mm\")),A137,\"\")","v":""},null,"",{"$f":"_xlfn.IFNA(IF(BL137=\"\",\"\",MAX(BJ$1:BJ136)+1),\"\")","v":""},"",{"$f":"IF(IF(IF(VLOOKUP($BK137,Archyvas,17,FALSE)=$BL$1,\"\",VLOOKUP($BK137,Archyvas,20,FALSE))=0,\"\",IF(VLOOKUP($BK137,Archyvas,17,FALSE)=$BL$1,\"\",VLOOKUP($BK137,Archyvas,20,FALSE)))=\"\",\"\",IF(IF(VLOOKUP($BK137,Archyvas,17,FALSE)=$BL$1,\"\",VLOOKUP($BK137,Archyvas,17,FALSE))=0,\"\",IF(VLOOKUP($BK137,Archyvas,17,FALSE)=$BL$1,\"\",VLOOKUP($BK137,Archyvas,17,FALSE))))","v":{"$error":"#N/A"}},{"$f":"IF(IF(VLOOKUP($BK137,Archyvas,17,FALSE)=$BL$1,\"\",VLOOKUP($BK137,Archyvas,18,FALSE))=0,\"\",IF(VLOOKUP($BK137,Archyvas,17,FALSE)=$BL$1,\"\",VLOOKUP($BK137,Archyvas,18,FALSE)))","v":{"$error":"#N/A"}},{"$f":"IF(IF(VLOOKUP($BK137,Archyvas,17,FALSE)=$BL$1,\"\",VLOOKUP($BK137,Archyvas,19,FALSE))=0,\"\",IF(VLOOKUP($BK137,Archyvas,17,FALSE)=$BL$1,\"\",VLOOKUP($BK137,Archyvas,19,FALSE)))","v":{"$error":"#N/A"}},{"$f":"IF(IF(VLOOKUP($BK137,Archyvas,17,FALSE)=$BL$1,\"\",VLOOKUP($BK137,Archyvas,20,FALSE))=0,\"\",IF(VLOOKUP($BK137,Archyvas,17,FALSE)=$BL$1,\"\",VLOOKUP($BK137,Archyvas,20,FALSE)))","v":{"$error":"#N/A"}},{"$f":"IF(IF(VLOOKUP($BK137,Archyvas,17,FALSE)=$BL$1,\"\",VLOOKUP($BK137,Archyvas,21,FALSE))=0,\"\",IF(VLOOKUP($BK137,Archyvas,17,FALSE)=$BL$1,\"\",VLOOKUP($BK137,Archyvas,21,FALSE)))","v":{"$error":"#N/A"}},null,{"$f":"_xlfn.IFNA(IF(BS137=\"\",\"\",MAX(BR$1:BR136)+1),\"\")","v":""},"","","","","",""]
[null,null,null,null,null,null,null,null,null,null,null,null,null,null,null,null,null,null,null,null,null,null,null,null,null,null,null,null,null,null,null,null,null,null,null,null,null,null,null,null,null,null,null,null,null,null,null,null,null,null,null,null,null,null,null,null,null,{"$f":"IF(BG138=\"\",\"\",MAX(BF$1:BF137)+1)","v":""},{"$f":"IF(TEXT(Kortelė!$B$26,\"mm\")=IF(A138=\"\",\"\",TEXT(A138,\"mm\")),A138,\"\")","v":""},null,"",{"$f":"_xlfn.IFNA(IF(BL138=\"\",\"\",MAX(BJ$1:BJ137)+1),\"\")","v":""},"",{"$f":"IF(IF(IF(VLOOKUP($BK138,Archyvas,22,FALSE)=$BL$1,\"\",VLOOKUP($BK138,Archyvas,25,FALSE))=0,\"\",IF(VLOOKUP($BK138,Archyvas,22,FALSE)=$BL$1,\"\",VLOOKUP($BK138,Archyvas,25,FALSE)))=\"\",\"\",IF(IF(VLOOKUP($BK138,Archyvas,22,FALSE)=$BL$1,\"\",VLOOKUP($BK138,Archyvas,22,FALSE))=0,\"\",IF(VLOOKUP($BK138,Archyvas,22,FALSE)=$BL$1,\"\",VLOOKUP($BK138,Archyvas,22,FALSE))))","v":{"$error":"#N/A"}},{"$f":"IF(IF(VLOOKUP($BK138,Archyvas,22,FALSE)=$BL$1,\"\",VLOOKUP($BK138,Archyvas,23,FALSE))=0,\"\",IF(VLOOKUP($BK138,Archyvas,22,FALSE)=$BL$1,\"\",VLOOKUP($BK138,Archyvas,23,FALSE)))","v":{"$error":"#N/A"}},{"$f":"IF(IF(VLOOKUP($BK138,Archyvas,22,FALSE)=$BL$1,\"\",VLOOKUP($BK138,Archyvas,24,FALSE))=0,\"\",IF(VLOOKUP($BK138,Archyvas,22,FALSE)=$BL$1,\"\",VLOOKUP($BK138,Archyvas,24,FALSE)))","v":{"$error":"#N/A"}},{"$f":"IF(IF(VLOOKUP($BK138,Archyvas,22,FALSE)=$BL$1,\"\",VLOOKUP($BK138,Archyvas,25,FALSE))=0,\"\",IF(VLOOKUP($BK138,Archyvas,22,FALSE)=$BL$1,\"\",VLOOKUP($BK138,Archyvas,25,FALSE)))","v":{"$error":"#N/A"}},{"$f":"IF(IF(VLOOKUP($BK138,Archyvas,22,FALSE)=$BL$1,\"\",VLOOKUP($BK138,Archyvas,26,FALSE))=0,\"\",IF(VLOOKUP($BK138,Archyvas,22,FALSE)=$BL$1,\"\",VLOOKUP($BK138,Archyvas,26,FALSE)))","v":{"$error":"#N/A"}},null,{"$f":"_xlfn.IFNA(IF(BS138=\"\",\"\",MAX(BR$1:BR137)+1),\"\")","v":""},"","","","","",""]
[null,null,null,null,null,null,null,null,null,null,null,null,null,null,null,null,null,null,null,null,null,null,null,null,null,null,null,null,null,null,null,null,null,null,null,null,null,null,null,null,null,null,null,null,null,null,null,null,null,null,null,null,null,null,null,null,null,{"$f":"IF(BG139=\"\",\"\",MAX(BF$1:BF138)+1)","v":""},{"$f":"IF(TEXT(Kortelė!$B$26,\"mm\")=IF(A139=\"\",\"\",TEXT(A139,\"mm\")),A139,\"\")","v":""},null,"",{"$f":"_xlfn.IFNA(IF(BL139=\"\",\"\",MAX(BJ$1:BJ138)+1),\"\")","v":""},"",{"$f":"IF(IF(IF(VLOOKUP($BK139,Archyvas,27,FALSE)=$BL$1,\"\",VLOOKUP($BK139,Archyvas,30,FALSE))=0,\"\",IF(VLOOKUP($BK139,Archyvas,27,FALSE)=$BL$1,\"\",VLOOKUP($BK139,Archyvas,30,FALSE)))=\"\",\"\",IF(IF(VLOOKUP($BK139,Archyvas,27,FALSE)=$BL$1,\"\",VLOOKUP($BK139,Archyvas,27,FALSE))=0,\"\",IF(VLOOKUP($BK139,Archyvas,27,FALSE)=$BL$1,\"\",VLOOKUP($BK139,Archyvas,27,FALSE))))","v":{"$error":"#N/A"}},{"$f":"IF(IF(VLOOKUP($BK139,Archyvas,27,FALSE)=$BL$1,\"\",VLOOKUP($BK139,Archyvas,28,FALSE))=0,\"\",IF(VLOOKUP($BK139,Archyvas,27,FALSE)=$BL$1,\"\",VLOOKUP($BK139,Archyvas,28,FALSE)))","v":{"$error":"#N/A"}},{"$f":"IF(IF(VLOOKUP($BK139,Archyvas,27,FALSE)=$BL$1,\"\",VLOOKUP($BK139,Archyvas,29,FALSE))=0,\"\",IF(VLOOKUP($BK139,Archyvas,27,FALSE)=$BL$1,\"\",VLOOKUP($BK139,Archyvas,29,FALSE)))","v":{"$error":"#N/A"}},{"$f":"IF(IF(VLOOKUP($BK139,Archyvas,27,FALSE)=$BL$1,\"\",VLOOKUP($BK139,Archyvas,30,FALSE))=0,\"\",IF(VLOOKUP($BK139,Archyvas,27,FALSE)=$BL$1,\"\",VLOOKUP($BK139,Archyvas,30,FALSE)))","v":{"$error":"#N/A"}},{"$f":"IF(IF(VLOOKUP($BK139,Archyvas,27,FALSE)=$BL$1,\"\",VLOOKUP($BK139,Archyvas,31,FALSE))=0,\"\",IF(VLOOKUP($BK139,Archyvas,27,FALSE)=$BL$1,\"\",VLOOKUP($BK139,Archyvas,31,FALSE)))","v":{"$error":"#N/A"}},null,{"$f":"_xlfn.IFNA(IF(BS139=\"\",\"\",MAX(BR$1:BR138)+1),\"\")","v":""},"","","","","",""]
[null,null,null,null,null,null,null,null,null,null,null,null,null,null,null,null,null,null,null,null,null,null,null,null,null,null,null,null,null,null,null,null,null,null,null,null,null,null,null,null,null,null,null,null,null,null,null,null,null,null,null,null,null,null,null,null,null,{"$f":"IF(BG140=\"\",\"\",MAX(BF$1:BF139)+1)","v":""},{"$f":"IF(TEXT(Kortelė!$B$26,\"mm\")=IF(A140=\"\",\"\",TEXT(A140,\"mm\")),A140,\"\")","v":""},null,"",{"$f":"_xlfn.IFNA(IF(BL140=\"\",\"\",MAX(BJ$1:BJ139)+1),\"\")","v":""},"",{"$f":"IF(IF(IF(VLOOKUP($BK140,Archyvas,32,FALSE)=$BL$1,\"\",VLOOKUP($BK140,Archyvas,35,FALSE))=0,\"\",IF(VLOOKUP($BK140,Archyvas,32,FALSE)=$BL$1,\"\",VLOOKUP($BK140,Archyvas,35,FALSE)))=\"\",\"\",IF(IF(VLOOKUP($BK140,Archyvas,32,FALSE)=$BL$1,\"\",VLOOKUP($BK140,Archyvas,32,FALSE))=0,\"\",IF(VLOOKUP($BK140,Archyvas,32,FALSE)=$BL$1,\"\",VLOOKUP($BK140,Archyvas,32,FALSE))))","v":{"$error":"#N/A"}},{"$f":"IF(IF(VLOOKUP($BK140,Archyvas,32,FALSE)=$BL$1,\"\",VLOOKUP($BK140,Archyvas,33,FALSE))=0,\"\",IF(VLOOKUP($BK140,Archyvas,32,FALSE)=$BL$1,\"\",VLOOKUP($BK140,Archyvas,33,FALSE)))","v":{"$error":"#N/A"}},{"$f":"IF(IF(VLOOKUP($BK140,Archyvas,32,FALSE)=$BL$1,\"\",VLOOKUP($BK140,Archyvas,34,FALSE))=0,\"\",IF(VLOOKUP($BK140,Archyvas,32,FALSE)=$BL$1,\"\",VLOOKUP($BK140,Archyvas,34,FALSE)))","v":{"$error":"#N/A"}},{"$f":"IF(IF(VLOOKUP($BK140,Archyvas,32,FALSE)=$BL$1,\"\",VLOOKUP($BK140,Archyvas,35,FALSE))=0,\"\",IF(VLOOKUP($BK140,Archyvas,32,FALSE)=$BL$1,\"\",VLOOKUP($BK140,Archyvas,35,FALSE)))","v":{"$error":"#N/A"}},{"$f":"IF(IF(VLOOKUP($BK140,Archyvas,32,FALSE)=$BL$1,\"\",VLOOKUP($BK140,Archyvas,36,FALSE))=0,\"\",IF(VLOOKUP($BK140,Archyvas,32,FALSE)=$BL$1,\"\",VLOOKUP($BK140,Archyvas,36,FALSE)))","v":{"$error":"#N/A"}},null,{"$f":"_xlfn.IFNA(IF(BS140=\"\",\"\",MAX(BR$1:BR139)+1),\"\")","v":""},"","","","","",""]
[null,null,null,null,null,null,null,null,null,null,null,null,null,null,null,null,null,null,null,null,null,null,null,null,null,null,null,null,null,null,null,null,null,null,null,null,null,null,null,null,null,null,null,null,null,null,null,null,null,null,null,null,null,null,null,null,null,{"$f":"IF(BG141=\"\",\"\",MAX(BF$1:BF140)+1)","v":""},{"$f":"IF(TEXT(Kortelė!$B$26,\"mm\")=IF(A141=\"\",\"\",TEXT(A141,\"mm\")),A141,\"\")","v":""},null,"",{"$f":"_xlfn.IFNA(IF(BL141=\"\",\"\",MAX(BJ$1:BJ140)+1),\"\")","v":""},"",{"$f":"IF(IF(IF(VLOOKUP($BK141,Archyvas,37,FALSE)=$BL$1,\"\",VLOOKUP($BK141,Archyvas,40,FALSE))=0,\"\",IF(VLOOKUP($BK141,Archyvas,37,FALSE)=$BL$1,\"\",VLOOKUP($BK141,Archyvas,40,FALSE)))=\"\",\"\",IF(IF(VLOOKUP($BK141,Archyvas,37,FALSE)=$BL$1,\"\",VLOOKUP($BK141,Archyvas,37,FALSE))=0,\"\",IF(VLOOKUP($BK141,Archyvas,37,FALSE)=$BL$1,\"\",VLOOKUP($BK141,Archyvas,37,FALSE))))","v":{"$error":"#N/A"}},{"$f":"IF(IF(VLOOKUP($BK141,Archyvas,37,FALSE)=$BL$1,\"\",VLOOKUP($BK141,Archyvas,38,FALSE))=0,\"\",IF(VLOOKUP($BK141,Archyvas,37,FALSE)=$BL$1,\"\",VLOOKUP($BK141,Archyvas,38,FALSE)))","v":{"$error":"#N/A"}},{"$f":"IF(IF(VLOOKUP($BK141,Archyvas,37,FALSE)=$BL$1,\"\",VLOOKUP($BK141,Archyvas,39,FALSE))=0,\"\",IF(VLOOKUP($BK141,Archyvas,37,FALSE)=$BL$1,\"\",VLOOKUP($BK141,Archyvas,39,FALSE)))","v":{"$error":"#N/A"}},{"$f":"IF(IF(VLOOKUP($BK141,Archyvas,37,FALSE)=$BL$1,\"\",VLOOKUP($BK141,Archyvas,40,FALSE))=0,\"\",IF(VLOOKUP($BK141,Archyvas,37,FALSE)=$BL$1,\"\",VLOOKUP($BK141,Archyvas,40,FALSE)))","v":{"$error":"#N/A"}},{"$f":"IF(IF(VLOOKUP($BK141,Archyvas,37,FALSE)=$BL$1,\"\",VLOOKUP($BK141,Archyvas,41,FALSE))=0,\"\",IF(VLOOKUP($BK141,Archyvas,37,FALSE)=$BL$1,\"\",VLOOKUP($BK141,Archyvas,41,FALSE)))","v":{"$error":"#N/A"}},null,{"$f":"_xlfn.IFNA(IF(BS141=\"\",\"\",MAX(BR$1:BR140)+1),\"\")","v":""},"","","","","",""]
[null,null,null,null,null,null,null,null,null,null,null,null,null,null,null,null,null,null,null,null,null,null,null,null,null,null,null,null,null,null,null,null,null,null,null,null,null,null,null,null,null,null,null,null,null,null,null,null,null,null,null,null,null,null,null,null,null,{"$f":"IF(BG142=\"\",\"\",MAX(BF$1:BF141)+1)","v":""},{"$f":"IF(TEXT(Kortelė!$B$26,\"mm\")=IF(A142=\"\",\"\",TEXT(A142,\"mm\")),A142,\"\")","v":""},null,"",{"$f":"_xlfn.IFNA(IF(BL142=\"\",\"\",MAX(BJ$1:BJ141)+1),\"\")","v":""},"",{"$f":"IF(IF(IF(VLOOKUP($BK142,Archyvas,42,FALSE)=$BL$1,\"\",VLOOKUP($BK142,Archyvas,45,FALSE))=0,\"\",IF(VLOOKUP($BK142,Archyvas,42,FALSE)=$BL$1,\"\",VLOOKUP($BK142,Archyvas,45,FALSE)))=\"\",\"\",IF(IF(VLOOKUP($BK142,Archyvas,42,FALSE)=$BL$1,\"\",VLOOKUP($BK142,Archyvas,42,FALSE))=0,\"\",IF(VLOOKUP($BK142,Archyvas,42,FALSE)=$BL$1,\"\",VLOOKUP($BK142,Archyvas,42,FALSE))))","v":{"$error":"#N/A"}},{"$f":"IF(IF(VLOOKUP($BK142,Archyvas,42,FALSE)=$BL$1,\"\",VLOOKUP($BK142,Archyvas,43,FALSE))=0,\"\",IF(VLOOKUP($BK142,Archyvas,42,FALSE)=$BL$1,\"\",VLOOKUP($BK142,Archyvas,43,FALSE)))","v":{"$error":"#N/A"}},{"$f":"IF(IF(VLOOKUP($BK142,Archyvas,42,FALSE)=$BL$1,\"\",VLOOKUP($BK142,Archyvas,44,FALSE))=0,\"\",IF(VLOOKUP($BK142,Archyvas,42,FALSE)=$BL$1,\"\",VLOOKUP($BK142,Archyvas,44,FALSE)))","v":{"$error":"#N/A"}},{"$f":"IF(IF(VLOOKUP($BK142,Archyvas,42,FALSE)=$BL$1,\"\",VLOOKUP($BK142,Archyvas,45,FALSE))=0,\"\",IF(VLOOKUP($BK142,Archyvas,42,FALSE)=$BL$1,\"\",VLOOKUP($BK142,Archyvas,45,FALSE)))","v":{"$error":"#N/A"}},{"$f":"IF(IF(VLOOKUP($BK142,Archyvas,42,FALSE)=$BL$1,\"\",VLOOKUP($BK142,Archyvas,46,FALSE))=0,\"\",IF(VLOOKUP($BK142,Archyvas,42,FALSE)=$BL$1,\"\",VLOOKUP($BK142,Archyvas,46,FALSE)))","v":{"$error":"#N/A"}},null,{"$f":"_xlfn.IFNA(IF(BS142=\"\",\"\",MAX(BR$1:BR141)+1),\"\")","v":""},"","","","","",""]
[null,null,null,null,null,null,null,null,null,null,null,null,null,null,null,null,null,null,null,null,null,null,null,null,null,null,null,null,null,null,null,null,null,null,null,null,null,null,null,null,null,null,null,null,null,null,null,null,null,null,null,null,null,null,null,null,null,{"$f":"IF(BG143=\"\",\"\",MAX(BF$1:BF142)+1)","v":""},{"$f":"IF(TEXT(Kortelė!$B$26,\"mm\")=IF(A143=\"\",\"\",TEXT(A143,\"mm\")),A143,\"\")","v":""},null,"",{"$f":"_xlfn.IFNA(IF(BL143=\"\",\"\",MAX(BJ$1:BJ142)+1),\"\")","v":""},"",{"$f":"IF(IF(IF(VLOOKUP($BK143,Archyvas,47,FALSE)=$BL$1,\"\",VLOOKUP($BK143,Archyvas,50,FALSE))=0,\"\",IF(VLOOKUP($BK143,Archyvas,47,FALSE)=$BL$1,\"\",VLOOKUP($BK143,Archyvas,50,FALSE)))=\"\",\"\",IF(IF(VLOOKUP($BK143,Archyvas,47,FALSE)=$BL$1,\"\",VLOOKUP($BK143,Archyvas,47,FALSE))=0,\"\",IF(VLOOKUP($BK143,Archyvas,47,FALSE)=$BL$1,\"\",VLOOKUP($BK143,Archyvas,47,FALSE))))","v":{"$error":"#N/A"}},{"$f":"IF(IF(VLOOKUP($BK143,Archyvas,47,FALSE)=$BL$1,\"\",VLOOKUP($BK143,Archyvas,48,FALSE))=0,\"\",IF(VLOOKUP($BK143,Archyvas,47,FALSE)=$BL$1,\"\",VLOOKUP($BK143,Archyvas,48,FALSE)))","v":{"$error":"#N/A"}},{"$f":"IF(IF(VLOOKUP($BK143,Archyvas,47,FALSE)=$BL$1,\"\",VLOOKUP($BK143,Archyvas,49,FALSE))=0,\"\",IF(VLOOKUP($BK143,Archyvas,47,FALSE)=$BL$1,\"\",VLOOKUP($BK143,Archyvas,49,FALSE)))","v":{"$error":"#N/A"}},{"$f":"IF(IF(VLOOKUP($BK143,Archyvas,47,FALSE)=$BL$1,\"\",VLOOKUP($BK143,Archyvas,50,FALSE))=0,\"\",IF(VLOOKUP($BK143,Archyvas,47,FALSE)=$BL$1,\"\",VLOOKUP($BK143,Archyvas,50,FALSE)))","v":{"$error":"#N/A"}},{"$f":"IF(IF(VLOOKUP($BK143,Archyvas,47,FALSE)=$BL$1,\"\",VLOOKUP($BK143,Archyvas,51,FALSE))=0,\"\",IF(VLOOKUP($BK143,Archyvas,47,FALSE)=$BL$1,\"\",VLOOKUP($BK143,Archyvas,51,FALSE)))","v":{"$error":"#N/A"}},null,{"$f":"_xlfn.IFNA(IF(BS143=\"\",\"\",MAX(BR$1:BR142)+1),\"\")","v":""},"","","","","",""]
[null,null,null,null,null,null,null,null,null,null,null,null,null,null,null,null,null,null,null,null,null,null,null,null,null,null,null,null,null,null,null,null,null,null,null,null,null,null,null,null,null,null,null,null,null,null,null,null,null,null,null,null,null,null,null,null,null,{"$f":"IF(BG144=\"\",\"\",MAX(BF$1:BF143)+1)","v":""},{"$f":"IF(TEXT(Kortelė!$B$26,\"mm\")=IF(A144=\"\",\"\",TEXT(A144,\"mm\")),A144,\"\")","v":""},null,"",{"$f":"_xlfn.IFNA(IF(BL144=\"\",\"\",MAX(BJ$1:BJ143)+1),\"\")","v":""},null,null,null,null,null,null,null,{"$f":"_xlfn.IFNA(IF(BS144=\"\",\"\",MAX(BR$1:BR143)+1),\"\")","v":""},"","","","","",""]
[null,null,null,null,null,null,null,null,null,null,null,null,null,null,null,null,null,null,null,null,null,null,null,null,null,null,null,null,null,null,null,null,null,null,null,null,null,null,null,null,null,null,null,null,null,null,null,null,null,null,null,null,null,null,null,null,null,{"$f":"IF(BG145=\"\",\"\",MAX(BF$1:BF144)+1)","v":""},{"$f":"IF(TEXT(Kortelė!$B$26,\"mm\")=IF(A145=\"\",\"\",TEXT(A145,\"mm\")),A145,\"\")","v":""},null,"",{"$f":"_xlfn.IFNA(IF(BL145=\"\",\"\",MAX(BJ$1:BJ144)+1),\"\")","v":""},{"$f":"$BI$15","v":""},{"$f":"IF(IF(IF(VLOOKUP($BK145,Archyvas,2,FALSE)=$BL$1,\"\",VLOOKUP($BK145,Archyvas,5,FALSE))=0,\"\",IF(VLOOKUP($BK145,Archyvas,2,FALSE)=$BL$1,\"\",VLOOKUP($BK145,Archyvas,5,FALSE)))=\"\",\"\",IF(IF(VLOOKUP($BK145,Archyvas,2,FALSE)=$BL$1,\"\",VLOOKUP($BK145,Archyvas,2,FALSE))=0,\"\",IF(VLOOKUP($BK145,Archyvas,2,FALSE)=$BL$1,\"\",VLOOKUP($BK145,Archyvas,2,FALSE))))","v":{"$error":"#N/A"}},{"$f":"IF(IF(VLOOKUP($BK145,Archyvas,2,FALSE)=$BL$1,\"\",VLOOKUP($BK145,Archyvas,3,FALSE))=0,\"\",IF(VLOOKUP($BK145,Archyvas,2,FALSE)=$BL$1,\"\",VLOOKUP($BK145,Archyvas,3,FALSE)))","v":{"$error":"#N/A"}},{"$f":"IF(IF(VLOOKUP($BK145,Archyvas,2,FALSE)=$BL$1,\"\",VLOOKUP($BK145,Archyvas,4,FALSE))=0,\"\",IF(VLOOKUP($BK145,Archyvas,2,FALSE)=$BL$1,\"\",VLOOKUP($BK145,Archyvas,4,FALSE)))","v":{"$error":"#N/A"}},{"$f":"IF(IF(VLOOKUP($BK145,Archyvas,2,FALSE)=$BL$1,\"\",VLOOKUP($BK145,Archyvas,5,FALSE))=0,\"\",IF(VLOOKUP($BK145,Archyvas,2,FALSE)=$BL$1,\"\",VLOOKUP($BK145,Archyvas,5,FALSE)))","v":{"$error":"#N/A"}},{"$f":"IF(IF(VLOOKUP($BK145,Archyvas,2,FALSE)=$BL$1,\"\",VLOOKUP($BK145,Archyvas,6,FALSE))=0,\"\",IF(VLOOKUP($BK145,Archyvas,2,FALSE)=$BL$1,\"\",VLOOKUP($BK145,Archyvas,6,FALSE)))","v":{"$error":"#N/A"}},null,{"$f":"_xlfn.IFNA(IF(BS145=\"\",\"\",MAX(BR$1:BR144)+1),\"\")","v":""},"","","","","",""]
[null,null,null,null,null,null,null,null,null,null,null,null,null,null,null,null,null,null,null,null,null,null,null,null,null,null,null,null,null,null,null,null,null,null,null,null,null,null,null,null,null,null,null,null,null,null,null,null,null,null,null,null,null,null,null,null,null,{"$f":"IF(BG146=\"\",\"\",MAX(BF$1:BF145)+1)","v":""},{"$f":"IF(TEXT(Kortelė!$B$26,\"mm\")=IF(A146=\"\",\"\",TEXT(A146,\"mm\")),A146,\"\")","v":""},null,"",{"$f":"_xlfn.IFNA(IF(BL146=\"\",\"\",MAX(BJ$1:BJ145)+1),\"\")","v":""},{"$f":"BK145","v":""},{"$f":"IF(IF(IF(VLOOKUP($BK146,Archyvas,7,FALSE)=$BL$1,\"\",VLOOKUP($BK146,Archyvas,10,FALSE))=0,\"\",IF(VLOOKUP($BK146,Archyvas,7,FALSE)=$BL$1,\"\",VLOOKUP($BK146,Archyvas,10,FALSE)))=\"\",\"\",IF(IF(VLOOKUP($BK146,Archyvas,7,FALSE)=$BL$1,\"\",VLOOKUP($BK146,Archyvas,7,FALSE))=0,\"\",IF(VLOOKUP($BK146,Archyvas,7,FALSE)=$BL$1,\"\",VLOOKUP($BK146,Archyvas,7,FALSE))))","v":{"$error":"#N/A"}},{"$f":"IF(IF(VLOOKUP($BK146,Archyvas,7,FALSE)=$BL$1,\"\",VLOOKUP($BK146,Archyvas,8,FALSE))=0,\"\",IF(VLOOKUP($BK146,Archyvas,7,FALSE)=$BL$1,\"\",VLOOKUP($BK146,Archyvas,8,FALSE)))","v":{"$error":"#N/A"}},{"$f":"IF(IF(VLOOKUP($BK146,Archyvas,7,FALSE)=$BL$1,\"\",VLOOKUP($BK146,Archyvas,9,FALSE))=0,\"\",IF(VLOOKUP($BK146,Archyvas,7,FALSE)=$BL$1,\"\",VLOOKUP($BK146,Archyvas,9,FALSE)))","v":{"$error":"#N/A"}},{"$f":"IF(IF(VLOOKUP($BK146,Archyvas,7,FALSE)=$BL$1,\"\",VLOOKUP($BK146,Archyvas,10,FALSE))=0,\"\",IF(VLOOKUP($BK146,Archyvas,7,FALSE)=$BL$1,\"\",VLOOKUP($BK146,Archyvas,10,FALSE)))","v":{"$error":"#N/A"}},{"$f":"IF(IF(VLOOKUP($BK146,Archyvas,7,FALSE)=$BL$1,\"\",VLOOKUP($BK146,Archyvas,11,FALSE))=0,\"\",IF(VLOOKUP($BK146,Archyvas,7,FALSE)=$BL$1,\"\",VLOOKUP($BK146,Archyvas,11,FALSE)))","v":{"$error":"#N/A"}},null,{"$f":"_xlfn.IFNA(IF(BS146=\"\",\"\",MAX(BR$1:BR145)+1),\"\")","v":""},"","","","","",""]
[null,null,null,null,null,null,null,null,null,null,null,null,null,null,null,null,null,null,null,null,null,null,null,null,null,null,null,null,null,null,null,null,null,null,null,null,null,null,null,null,null,null,null,null,null,null,null,null,null,null,null,null,null,null,null,null,null,{"$f":"IF(BG147=\"\",\"\",MAX(BF$1:BF146)+1)","v":""},{"$f":"IF(TEXT(Kortelė!$B$26,\"mm\")=IF(A147=\"\",\"\",TEXT(A147,\"mm\")),A147,\"\")","v":""},null,"",{"$f":"_xlfn.IFNA(IF(BL147=\"\",\"\",MAX(BJ$1:BJ146)+1),\"\")","v":""},"",{"$f":"IF(IF(IF(VLOOKUP($BK147,Archyvas,12,FALSE)=$BL$1,\"\",VLOOKUP($BK147,Archyvas,15,FALSE))=0,\"\",IF(VLOOKUP($BK147,Archyvas,12,FALSE)=$BL$1,\"\",VLOOKUP($BK147,Archyvas,15,FALSE)))=\"\",\"\",IF(IF(VLOOKUP($BK147,Archyvas,12,FALSE)=$BL$1,\"\",VLOOKUP($BK147,Archyvas,12,FALSE))=0,\"\",IF(VLOOKUP($BK147,Archyvas,12,FALSE)=$BL$1,\"\",VLOOKUP($BK147,Archyvas,12,FALSE))))","v":{"$error":"#N/A"}},{"$f":"IF(IF(VLOOKUP($BK147,Archyvas,12,FALSE)=$BL$1,\"\",VLOOKUP($BK147,Archyvas,13,FALSE))=0,\"\",IF(VLOOKUP($BK147,Archyvas,12,FALSE)=$BL$1,\"\",VLOOKUP($BK147,Archyvas,13,FALSE)))","v":{"$error":"#N/A"}},{"$f":"IF(IF(VLOOKUP($BK147,Archyvas,12,FALSE)=$BL$1,\"\",VLOOKUP($BK147,Archyvas,14,FALSE))=0,\"\",IF(VLOOKUP($BK147,Archyvas,12,FALSE)=$BL$1,\"\",VLOOKUP($BK147,Archyvas,14,FALSE)))","v":{"$error":"#N/A"}},{"$f":"IF(IF(VLOOKUP($BK147,Archyvas,12,FALSE)=$BL$1,\"\",VLOOKUP($BK147,Archyvas,15,FALSE))=0,\"\",IF(VLOOKUP($BK147,Archyvas,12,FALSE)=$BL$1,\"\",VLOOKUP($BK147,Archyvas,15,FALSE)))","v":{"$error":"#N/A"}},{"$f":"IF(IF(VLOOKUP($BK147,Archyvas,12,FALSE)=$BL$1,\"\",VLOOKUP($BK147,Archyvas,16,FALSE))=0,\"\",IF(VLOOKUP($BK147,Archyvas,12,FALSE)=$BL$1,\"\",VLOOKUP($BK147,Archyvas,16,FALSE)))","v":{"$error":"#N/A"}},null,{"$f":"_xlfn.IFNA(IF(BS147=\"\",\"\",MAX(BR$1:BR146)+1),\"\")","v":""},"","","","","",""]
[null,null,null,null,null,null,null,null,null,null,null,null,null,null,null,null,null,null,null,null,null,null,null,null,null,null,null,null,null,null,null,null,null,null,null,null,null,null,null,null,null,null,null,null,null,null,null,null,null,null,null,null,null,null,null,null,null,{"$f":"IF(BG148=\"\",\"\",MAX(BF$1:BF147)+1)","v":""},{"$f":"IF(TEXT(Kortelė!$B$26,\"mm\")=IF(A148=\"\",\"\",TEXT(A148,\"mm\")),A148,\"\")","v":""},null,"",{"$f":"_xlfn.IFNA(IF(BL148=\"\",\"\",MAX(BJ$1:BJ147)+1),\"\")","v":""},"",{"$f":"IF(IF(IF(VLOOKUP($BK148,Archyvas,17,FALSE)=$BL$1,\"\",VLOOKUP($BK148,Archyvas,20,FALSE))=0,\"\",IF(VLOOKUP($BK148,Archyvas,17,FALSE)=$BL$1,\"\",VLOOKUP($BK148,Archyvas,20,FALSE)))=\"\",\"\",IF(IF(VLOOKUP($BK148,Archyvas,17,FALSE)=$BL$1,\"\",VLOOKUP($BK148,Archyvas,17,FALSE))=0,\"\",IF(VLOOKUP($BK148,Archyvas,17,FALSE)=$BL$1,\"\",VLOOKUP($BK148,Archyvas,17,FALSE))))","v":{"$error":"#N/A"}},{"$f":"IF(IF(VLOOKUP($BK148,Archyvas,17,FALSE)=$BL$1,\"\",VLOOKUP($BK148,Archyvas,18,FALSE))=0,\"\",IF(VLOOKUP($BK148,Archyvas,17,FALSE)=$BL$1,\"\",VLOOKUP($BK148,Archyvas,18,FALSE)))","v":{"$error":"#N/A"}},{"$f":"IF(IF(VLOOKUP($BK148,Archyvas,17,FALSE)=$BL$1,\"\",VLOOKUP($BK148,Archyvas,19,FALSE))=0,\"\",IF(VLOOKUP($BK148,Archyvas,17,FALSE)=$BL$1,\"\",VLOOKUP($BK148,Archyvas,19,FALSE)))","v":{"$error":"#N/A"}},{"$f":"IF(IF(VLOOKUP($BK148,Archyvas,17,FALSE)=$BL$1,\"\",VLOOKUP($BK148,Archyvas,20,FALSE))=0,\"\",IF(VLOOKUP($BK148,Archyvas,17,FALSE)=$BL$1,\"\",VLOOKUP($BK148,Archyvas,20,FALSE)))","v":{"$error":"#N/A"}},{"$f":"IF(IF(VLOOKUP($BK148,Archyvas,17,FALSE)=$BL$1,\"\",VLOOKUP($BK148,Archyvas,21,FALSE))=0,\"\",IF(VLOOKUP($BK148,Archyvas,17,FALSE)=$BL$1,\"\",VLOOKUP($BK148,Archyvas,21,FALSE)))","v":{"$error":"#N/A"}},null,{"$f":"_xlfn.IFNA(IF(BS148=\"\",\"\",MAX(BR$1:BR147)+1),\"\")","v":""},"","","","","",""]
[null,null,null,null,null,null,null,null,null,null,null,null,null,null,null,null,null,null,null,null,null,null,null,null,null,null,null,null,null,null,null,null,null,null,null,null,null,null,null,null,null,null,null,null,null,null,null,null,null,null,null,null,null,null,null,null,null,{"$f":"IF(BG149=\"\",\"\",MAX(BF$1:BF148)+1)","v":""},{"$f":"IF(TEXT(Kortelė!$B$26,\"mm\")=IF(A149=\"\",\"\",TEXT(A149,\"mm\")),A149,\"\")","v":""},null,"",{"$f":"_xlfn.IFNA(IF(BL149=\"\",\"\",MAX(BJ$1:BJ148)+1),\"\")","v":""},"",{"$f":"IF(IF(IF(VLOOKUP($BK149,Archyvas,22,FALSE)=$BL$1,\"\",VLOOKUP($BK149,Archyvas,25,FALSE))=0,\"\",IF(VLOOKUP($BK149,Archyvas,22,FALSE)=$BL$1,\"\",VLOOKUP($BK149,Archyvas,25,FALSE)))=\"\",\"\",IF(IF(VLOOKUP($BK149,Archyvas,22,FALSE)=$BL$1,\"\",VLOOKUP($BK149,Archyvas,22,FALSE))=0,\"\",IF(VLOOKUP($BK149,Archyvas,22,FALSE)=$BL$1,\"\",VLOOKUP($BK149,Archyvas,22,FALSE))))","v":{"$error":"#N/A"}},{"$f":"IF(IF(VLOOKUP($BK149,Archyvas,22,FALSE)=$BL$1,\"\",VLOOKUP($BK149,Archyvas,23,FALSE))=0,\"\",IF(VLOOKUP($BK149,Archyvas,22,FALSE)=$BL$1,\"\",VLOOKUP($BK149,Archyvas,23,FALSE)))","v":{"$error":"#N/A"}},{"$f":"IF(IF(VLOOKUP($BK149,Archyvas,22,FALSE)=$BL$1,\"\",VLOOKUP($BK149,Archyvas,24,FALSE))=0,\"\",IF(VLOOKUP($BK149,Archyvas,22,FALSE)=$BL$1,\"\",VLOOKUP($BK149,Archyvas,24,FALSE)))","v":{"$error":"#N/A"}},{"$f":"IF(IF(VLOOKUP($BK149,Archyvas,22,FALSE)=$BL$1,\"\",VLOOKUP($BK149,Archyvas,25,FALSE))=0,\"\",IF(VLOOKUP($BK149,Archyvas,22,FALSE)=$BL$1,\"\",VLOOKUP($BK149,Archyvas,25,FALSE)))","v":{"$error":"#N/A"}},{"$f":"IF(IF(VLOOKUP($BK149,Archyvas,22,FALSE)=$BL$1,\"\",VLOOKUP($BK149,Archyvas,26,FALSE))=0,\"\",IF(VLOOKUP($BK149,Archyvas,22,FALSE)=$BL$1,\"\",VLOOKUP($BK149,Archyvas,26,FALSE)))","v":{"$error":"#N/A"}},null,{"$f":"_xlfn.IFNA(IF(BS149=\"\",\"\",MAX(BR$1:BR148)+1),\"\")","v":""},"","","","","",""]
[null,null,null,null,null,null,null,null,null,null,null,null,null,null,null,null,null,null,null,null,null,null,null,null,null,null,null,null,null,null,null,null,null,null,null,null,null,null,null,null,null,null,null,null,null,null,null,null,null,null,null,null,null,null,null,null,null,{"$f":"IF(BG150=\"\",\"\",MAX(BF$1:BF149)+1)","v":""},{"$f":"IF(TEXT(Kortelė!$B$26,\"mm\")=IF(A150=\"\",\"\",TEXT(A150,\"mm\")),A150,\"\")","v":""},null,"",{"$f":"_xlfn.IFNA(IF(BL150=\"\",\"\",MAX(BJ$1:BJ149)+1),\"\")","v":""},"",{"$f":"IF(IF(IF(VLOOKUP($BK150,Archyvas,27,FALSE)=$BL$1,\"\",VLOOKUP($BK150,Archyvas,30,FALSE))=0,\"\",IF(VLOOKUP($BK150,Archyvas,27,FALSE)=$BL$1,\"\",VLOOKUP($BK150,Archyvas,30,FALSE)))=\"\",\"\",IF(IF(VLOOKUP($BK150,Archyvas,27,FALSE)=$BL$1,\"\",VLOOKUP($BK150,Archyvas,27,FALSE))=0,\"\",IF(VLOOKUP($BK150,Archyvas,27,FALSE)=$BL$1,\"\",VLOOKUP($BK150,Archyvas,27,FALSE))))","v":{"$error":"#N/A"}},{"$f":"IF(IF(VLOOKUP($BK150,Archyvas,27,FALSE)=$BL$1,\"\",VLOOKUP($BK150,Archyvas,28,FALSE))=0,\"\",IF(VLOOKUP($BK150,Archyvas,27,FALSE)=$BL$1,\"\",VLOOKUP($BK150,Archyvas,28,FALSE)))","v":{"$error":"#N/A"}},{"$f":"IF(IF(VLOOKUP($BK150,Archyvas,27,FALSE)=$BL$1,\"\",VLOOKUP($BK150,Archyvas,29,FALSE))=0,\"\",IF(VLOOKUP($BK150,Archyvas,27,FALSE)=$BL$1,\"\",VLOOKUP($BK150,Archyvas,29,FALSE)))","v":{"$error":"#N/A"}},{"$f":"IF(IF(VLOOKUP($BK150,Archyvas,27,FALSE)=$BL$1,\"\",VLOOKUP($BK150,Archyvas,30,FALSE))=0,\"\",IF(VLOOKUP($BK150,Archyvas,27,FALSE)=$BL$1,\"\",VLOOKUP($BK150,Archyvas,30,FALSE)))","v":{"$error":"#N/A"}},{"$f":"IF(IF(VLOOKUP($BK150,Archyvas,27,FALSE)=$BL$1,\"\",VLOOKUP($BK150,Archyvas,31,FALSE))=0,\"\",IF(VLOOKUP($BK150,Archyvas,27,FALSE)=$BL$1,\"\",VLOOKUP($BK150,Archyvas,31,FALSE)))","v":{"$error":"#N/A"}},null,{"$f":"_xlfn.IFNA(IF(BS150=\"\",\"\",MAX(BR$1:BR149)+1),\"\")","v":""},"","","","","",""]
[null,null,null,null,null,null,null,null,null,null,null,null,null,null,null,null,null,null,null,null,null,null,null,null,null,null,null,null,null,null,null,null,null,null,null,null,null,null,null,null,null,null,null,null,null,null,null,null,null,null,null,null,null,null,null,null,null,{"$f":"IF(BG151=\"\",\"\",MAX(BF$1:BF150)+1)","v":""},{"$f":"IF(TEXT(Kortelė!$B$26,\"mm\")=IF(A151=\"\",\"\",TEXT(A151,\"mm\")),A151,\"\")","v":""},null,"",{"$f":"_xlfn.IFNA(IF(BL151=\"\",\"\",MAX(BJ$1:BJ150)+1),\"\")","v":""},"",{"$f":"IF(IF(IF(VLOOKUP($BK151,Archyvas,32,FALSE)=$BL$1,\"\",VLOOKUP($BK151,Archyvas,35,FALSE))=0,\"\",IF(VLOOKUP($BK151,Archyvas,32,FALSE)=$BL$1,\"\",VLOOKUP($BK151,Archyvas,35,FALSE)))=\"\",\"\",IF(IF(VLOOKUP($BK151,Archyvas,32,FALSE)=$BL$1,\"\",VLOOKUP($BK151,Archyvas,32,FALSE))=0,\"\",IF(VLOOKUP($BK151,Archyvas,32,FALSE)=$BL$1,\"\",VLOOKUP($BK151,Archyvas,32,FALSE))))","v":{"$error":"#N/A"}},{"$f":"IF(IF(VLOOKUP($BK151,Archyvas,32,FALSE)=$BL$1,\"\",VLOOKUP($BK151,Archyvas,33,FALSE))=0,\"\",IF(VLOOKUP($BK151,Archyvas,32,FALSE)=$BL$1,\"\",VLOOKUP($BK151,Archyvas,33,FALSE)))","v":{"$error":"#N/A"}},{"$f":"IF(IF(VLOOKUP($BK151,Archyvas,32,FALSE)=$BL$1,\"\",VLOOKUP($BK151,Archyvas,34,FALSE))=0,\"\",IF(VLOOKUP($BK151,Archyvas,32,FALSE)=$BL$1,\"\",VLOOKUP($BK151,Archyvas,34,FALSE)))","v":{"$error":"#N/A"}},{"$f":"IF(IF(VLOOKUP($BK151,Archyvas,32,FALSE)=$BL$1,\"\",VLOOKUP($BK151,Archyvas,35,FALSE))=0,\"\",IF(VLOOKUP($BK151,Archyvas,32,FALSE)=$BL$1,\"\",VLOOKUP($BK151,Archyvas,35,FALSE)))","v":{"$error":"#N/A"}},{"$f":"IF(IF(VLOOKUP($BK151,Archyvas,32,FALSE)=$BL$1,\"\",VLOOKUP($BK151,Archyvas,36,FALSE))=0,\"\",IF(VLOOKUP($BK151,Archyvas,32,FALSE)=$BL$1,\"\",VLOOKUP($BK151,Archyvas,36,FALSE)))","v":{"$error":"#N/A"}},null,{"$f":"_xlfn.IFNA(IF(BS151=\"\",\"\",MAX(BR$1:BR150)+1),\"\")","v":""},"","","","","",""]
[null,null,null,null,null,null,null,null,null,null,null,null,null,null,null,null,null,null,null,null,null,null,null,null,null,null,null,null,null,null,null,null,null,null,null,null,null,null,null,null,null,null,null,null,null,null,null,null,null,null,null,null,null,null,null,null,null,{"$f":"IF(BG152=\"\",\"\",MAX(BF$1:BF151)+1)","v":""},{"$f":"IF(TEXT(Kortelė!$B$26,\"mm\")=IF(A152=\"\",\"\",TEXT(A152,\"mm\")),A152,\"\")","v":""},null,"",{"$f":"_xlfn.IFNA(IF(BL152=\"\",\"\",MAX(BJ$1:BJ151)+1),\"\")","v":""},"",{"$f":"IF(IF(IF(VLOOKUP($BK152,Archyvas,37,FALSE)=$BL$1,\"\",VLOOKUP($BK152,Archyvas,40,FALSE))=0,\"\",IF(VLOOKUP($BK152,Archyvas,37,FALSE)=$BL$1,\"\",VLOOKUP($BK152,Archyvas,40,FALSE)))=\"\",\"\",IF(IF(VLOOKUP($BK152,Archyvas,37,FALSE)=$BL$1,\"\",VLOOKUP($BK152,Archyvas,37,FALSE))=0,\"\",IF(VLOOKUP($BK152,Archyvas,37,FALSE)=$BL$1,\"\",VLOOKUP($BK152,Archyvas,37,FALSE))))","v":{"$error":"#N/A"}},{"$f":"IF(IF(VLOOKUP($BK152,Archyvas,37,FALSE)=$BL$1,\"\",VLOOKUP($BK152,Archyvas,38,FALSE))=0,\"\",IF(VLOOKUP($BK152,Archyvas,37,FALSE)=$BL$1,\"\",VLOOKUP($BK152,Archyvas,38,FALSE)))","v":{"$error":"#N/A"}},{"$f":"IF(IF(VLOOKUP($BK152,Archyvas,37,FALSE)=$BL$1,\"\",VLOOKUP($BK152,Archyvas,39,FALSE))=0,\"\",IF(VLOOKUP($BK152,Archyvas,37,FALSE)=$BL$1,\"\",VLOOKUP($BK152,Archyvas,39,FALSE)))","v":{"$error":"#N/A"}},{"$f":"IF(IF(VLOOKUP($BK152,Archyvas,37,FALSE)=$BL$1,\"\",VLOOKUP($BK152,Archyvas,40,FALSE))=0,\"\",IF(VLOOKUP($BK152,Archyvas,37,FALSE)=$BL$1,\"\",VLOOKUP($BK152,Archyvas,40,FALSE)))","v":{"$error":"#N/A"}},{"$f":"IF(IF(VLOOKUP($BK152,Archyvas,37,FALSE)=$BL$1,\"\",VLOOKUP($BK152,Archyvas,41,FALSE))=0,\"\",IF(VLOOKUP($BK152,Archyvas,37,FALSE)=$BL$1,\"\",VLOOKUP($BK152,Archyvas,41,FALSE)))","v":{"$error":"#N/A"}},null,{"$f":"_xlfn.IFNA(IF(BS152=\"\",\"\",MAX(BR$1:BR151)+1),\"\")","v":""},"","","","","",""]
[null,null,null,null,null,null,null,null,null,null,null,null,null,null,null,null,null,null,null,null,null,null,null,null,null,null,null,null,null,null,null,null,null,null,null,null,null,null,null,null,null,null,null,null,null,null,null,null,null,null,null,null,null,null,null,null,null,{"$f":"IF(BG153=\"\",\"\",MAX(BF$1:BF152)+1)","v":""},{"$f":"IF(TEXT(Kortelė!$B$26,\"mm\")=IF(A153=\"\",\"\",TEXT(A153,\"mm\")),A153,\"\")","v":""},null,"",{"$f":"_xlfn.IFNA(IF(BL153=\"\",\"\",MAX(BJ$1:BJ152)+1),\"\")","v":""},"",{"$f":"IF(IF(IF(VLOOKUP($BK153,Archyvas,42,FALSE)=$BL$1,\"\",VLOOKUP($BK153,Archyvas,45,FALSE))=0,\"\",IF(VLOOKUP($BK153,Archyvas,42,FALSE)=$BL$1,\"\",VLOOKUP($BK153,Archyvas,45,FALSE)))=\"\",\"\",IF(IF(VLOOKUP($BK153,Archyvas,42,FALSE)=$BL$1,\"\",VLOOKUP($BK153,Archyvas,42,FALSE))=0,\"\",IF(VLOOKUP($BK153,Archyvas,42,FALSE)=$BL$1,\"\",VLOOKUP($BK153,Archyvas,42,FALSE))))","v":{"$error":"#N/A"}},{"$f":"IF(IF(VLOOKUP($BK153,Archyvas,42,FALSE)=$BL$1,\"\",VLOOKUP($BK153,Archyvas,43,FALSE))=0,\"\",IF(VLOOKUP($BK153,Archyvas,42,FALSE)=$BL$1,\"\",VLOOKUP($BK153,Archyvas,43,FALSE)))","v":{"$error":"#N/A"}},{"$f":"IF(IF(VLOOKUP($BK153,Archyvas,42,FALSE)=$BL$1,\"\",VLOOKUP($BK153,Archyvas,44,FALSE))=0,\"\",IF(VLOOKUP($BK153,Archyvas,42,FALSE)=$BL$1,\"\",VLOOKUP($BK153,Archyvas,44,FALSE)))","v":{"$error":"#N/A"}},{"$f":"IF(IF(VLOOKUP($BK153,Archyvas,42,FALSE)=$BL$1,\"\",VLOOKUP($BK153,Archyvas,45,FALSE))=0,\"\",IF(VLOOKUP($BK153,Archyvas,42,FALSE)=$BL$1,\"\",VLOOKUP($BK153,Archyvas,45,FALSE)))","v":{"$error":"#N/A"}},{"$f":"IF(IF(VLOOKUP($BK153,Archyvas,42,FALSE)=$BL$1,\"\",VLOOKUP($BK153,Archyvas,46,FALSE))=0,\"\",IF(VLOOKUP($BK153,Archyvas,42,FALSE)=$BL$1,\"\",VLOOKUP($BK153,Archyvas,46,FALSE)))","v":{"$error":"#N/A"}},null,{"$f":"_xlfn.IFNA(IF(BS153=\"\",\"\",MAX(BR$1:BR152)+1),\"\")","v":""},"","","","","",""]
[null,null,null,null,null,null,null,null,null,null,null,null,null,null,null,null,null,null,null,null,null,null,null,null,null,null,null,null,null,null,null,null,null,null,null,null,null,null,null,null,null,null,null,null,null,null,null,null,null,null,null,null,null,null,null,null,null,{"$f":"IF(BG154=\"\",\"\",MAX(BF$1:BF153)+1)","v":""},{"$f":"IF(TEXT(Kortelė!$B$26,\"mm\")=IF(A154=\"\",\"\",TEXT(A154,\"mm\")),A154,\"\")","v":""},null,"",{"$f":"_xlfn.IFNA(IF(BL154=\"\",\"\",MAX(BJ$1:BJ153)+1),\"\")","v":""},"",{"$f":"IF(IF(IF(VLOOKUP($BK154,Archyvas,47,FALSE)=$BL$1,\"\",VLOOKUP($BK154,Archyvas,50,FALSE))=0,\"\",IF(VLOOKUP($BK154,Archyvas,47,FALSE)=$BL$1,\"\",VLOOKUP($BK154,Archyvas,50,FALSE)))=\"\",\"\",IF(IF(VLOOKUP($BK154,Archyvas,47,FALSE)=$BL$1,\"\",VLOOKUP($BK154,Archyvas,47,FALSE))=0,\"\",IF(VLOOKUP($BK154,Archyvas,47,FALSE)=$BL$1,\"\",VLOOKUP($BK154,Archyvas,47,FALSE))))","v":{"$error":"#N/A"}},{"$f":"IF(IF(VLOOKUP($BK154,Archyvas,47,FALSE)=$BL$1,\"\",VLOOKUP($BK154,Archyvas,48,FALSE))=0,\"\",IF(VLOOKUP($BK154,Archyvas,47,FALSE)=$BL$1,\"\",VLOOKUP($BK154,Archyvas,48,FALSE)))","v":{"$error":"#N/A"}},{"$f":"IF(IF(VLOOKUP($BK154,Archyvas,47,FALSE)=$BL$1,\"\",VLOOKUP($BK154,Archyvas,49,FALSE))=0,\"\",IF(VLOOKUP($BK154,Archyvas,47,FALSE)=$BL$1,\"\",VLOOKUP($BK154,Archyvas,49,FALSE)))","v":{"$error":"#N/A"}},{"$f":"IF(IF(VLOOKUP($BK154,Archyvas,47,FALSE)=$BL$1,\"\",VLOOKUP($BK154,Archyvas,50,FALSE))=0,\"\",IF(VLOOKUP($BK154,Archyvas,47,FALSE)=$BL$1,\"\",VLOOKUP($BK154,Archyvas,50,FALSE)))","v":{"$error":"#N/A"}},{"$f":"IF(IF(VLOOKUP($BK154,Archyvas,47,FALSE)=$BL$1,\"\",VLOOKUP($BK154,Archyvas,51,FALSE))=0,\"\",IF(VLOOKUP($BK154,Archyvas,47,FALSE)=$BL$1,\"\",VLOOKUP($BK154,Archyvas,51,FALSE)))","v":{"$error":"#N/A"}},null,{"$f":"_xlfn.IFNA(IF(BS154=\"\",\"\",MAX(BR$1:BR153)+1),\"\")","v":""},"","","","","",""]
[null,null,null,null,null,null,null,null,null,null,null,null,null,null,null,null,null,null,null,null,null,null,null,null,null,null,null,null,null,null,null,null,null,null,null,null,null,null,null,null,null,null,null,null,null,null,null,null,null,null,null,null,null,null,null,null,null,{"$f":"IF(BG155=\"\",\"\",MAX(BF$1:BF154)+1)","v":""},{"$f":"IF(TEXT(Kortelė!$B$26,\"mm\")=IF(A155=\"\",\"\",TEXT(A155,\"mm\")),A155,\"\")","v":""},null,"",{"$f":"_xlfn.IFNA(IF(BL155=\"\",\"\",MAX(BJ$1:BJ154)+1),\"\")","v":""},{"$f":"BI154","v":""},null,null,null,null,null,null,{"$f":"_xlfn.IFNA(IF(BS155=\"\",\"\",MAX(BR$1:BR154)+1),\"\")","v":""},"","","","","",""]
[null,null,null,null,null,null,null,null,null,null,null,null,null,null,null,null,null,null,null,null,null,null,null,null,null,null,null,null,null,null,null,null,null,null,null,null,null,null,null,null,null,null,null,null,null,null,null,null,null,null,null,null,null,null,null,null,null,{"$f":"IF(BG156=\"\",\"\",MAX(BF$1:BF155)+1)","v":""},{"$f":"IF(TEXT(Kortelė!$B$26,\"mm\")=IF(A156=\"\",\"\",TEXT(A156,\"mm\")),A156,\"\")","v":""},null,"",{"$f":"_xlfn.IFNA(IF(BL156=\"\",\"\",MAX(BJ$1:BJ155)+1),\"\")","v":""},{"$f":"$BI$16","v":""},{"$f":"IF(IF(IF(VLOOKUP($BK156,Archyvas,2,FALSE)=$BL$1,\"\",VLOOKUP($BK156,Archyvas,5,FALSE))=0,\"\",IF(VLOOKUP($BK156,Archyvas,2,FALSE)=$BL$1,\"\",VLOOKUP($BK156,Archyvas,5,FALSE)))=\"\",\"\",IF(IF(VLOOKUP($BK156,Archyvas,2,FALSE)=$BL$1,\"\",VLOOKUP($BK156,Archyvas,2,FALSE))=0,\"\",IF(VLOOKUP($BK156,Archyvas,2,FALSE)=$BL$1,\"\",VLOOKUP($BK156,Archyvas,2,FALSE))))","v":{"$error":"#N/A"}},{"$f":"IF(IF(VLOOKUP($BK156,Archyvas,2,FALSE)=$BL$1,\"\",VLOOKUP($BK156,Archyvas,3,FALSE))=0,\"\",IF(VLOOKUP($BK156,Archyvas,2,FALSE)=$BL$1,\"\",VLOOKUP($BK156,Archyvas,3,FALSE)))","v":{"$error":"#N/A"}},{"$f":"IF(IF(VLOOKUP($BK156,Archyvas,2,FALSE)=$BL$1,\"\",VLOOKUP($BK156,Archyvas,4,FALSE))=0,\"\",IF(VLOOKUP($BK156,Archyvas,2,FALSE)=$BL$1,\"\",VLOOKUP($BK156,Archyvas,4,FALSE)))","v":{"$error":"#N/A"}},{"$f":"IF(IF(VLOOKUP($BK156,Archyvas,2,FALSE)=$BL$1,\"\",VLOOKUP($BK156,Archyvas,5,FALSE))=0,\"\",IF(VLOOKUP($BK156,Archyvas,2,FALSE)=$BL$1,\"\",VLOOKUP($BK156,Archyvas,5,FALSE)))","v":{"$error":"#N/A"}},{"$f":"IF(IF(VLOOKUP($BK156,Archyvas,2,FALSE)=$BL$1,\"\",VLOOKUP($BK156,Archyvas,6,FALSE))=0,\"\",IF(VLOOKUP($BK156,Archyvas,2,FALSE)=$BL$1,\"\",VLOOKUP($BK156,Archyvas,6,FALSE)))","v":{"$error":"#N/A"}},null,{"$f":"_xlfn.IFNA(IF(BS156=\"\",\"\",MAX(BR$1:BR155)+1),\"\")","v":""},"","","","","",""]
[null,null,null,null,null,null,null,null,null,null,null,null,null,null,null,null,null,null,null,null,null,null,null,null,null,null,null,null,null,null,null,null,null,null,null,null,null,null,null,null,null,null,null,null,null,null,null,null,null,null,null,null,null,null,null,null,null,{"$f":"IF(BG157=\"\",\"\",MAX(BF$1:BF156)+1)","v":""},{"$f":"IF(TEXT(Kortelė!$B$26,\"mm\")=IF(A157=\"\",\"\",TEXT(A157,\"mm\")),A157,\"\")","v":""},null,"",{"$f":"_xlfn.IFNA(IF(BL157=\"\",\"\",MAX(BJ$1:BJ156)+1),\"\")","v":""},{"$f":"BK156","v":""},{"$f":"IF(IF(IF(VLOOKUP($BK157,Archyvas,7,FALSE)=$BL$1,\"\",VLOOKUP($BK157,Archyvas,10,FALSE))=0,\"\",IF(VLOOKUP($BK157,Archyvas,7,FALSE)=$BL$1,\"\",VLOOKUP($BK157,Archyvas,10,FALSE)))=\"\",\"\",IF(IF(VLOOKUP($BK157,Archyvas,7,FALSE)=$BL$1,\"\",VLOOKUP($BK157,Archyvas,7,FALSE))=0,\"\",IF(VLOOKUP($BK157,Archyvas,7,FALSE)=$BL$1,\"\",VLOOKUP($BK157,Archyvas,7,FALSE))))","v":{"$error":"#N/A"}},{"$f":"IF(IF(VLOOKUP($BK157,Archyvas,7,FALSE)=$BL$1,\"\",VLOOKUP($BK157,Archyvas,8,FALSE))=0,\"\",IF(VLOOKUP($BK157,Archyvas,7,FALSE)=$BL$1,\"\",VLOOKUP($BK157,Archyvas,8,FALSE)))","v":{"$error":"#N/A"}},{"$f":"IF(IF(VLOOKUP($BK157,Archyvas,7,FALSE)=$BL$1,\"\",VLOOKUP($BK157,Archyvas,9,FALSE))=0,\"\",IF(VLOOKUP($BK157,Archyvas,7,FALSE)=$BL$1,\"\",VLOOKUP($BK157,Archyvas,9,FALSE)))","v":{"$error":"#N/A"}},{"$f":"IF(IF(VLOOKUP($BK157,Archyvas,7,FALSE)=$BL$1,\"\",VLOOKUP($BK157,Archyvas,10,FALSE))=0,\"\",IF(VLOOKUP($BK157,Archyvas,7,FALSE)=$BL$1,\"\",VLOOKUP($BK157,Archyvas,10,FALSE)))","v":{"$error":"#N/A"}},{"$f":"IF(IF(VLOOKUP($BK157,Archyvas,7,FALSE)=$BL$1,\"\",VLOOKUP($BK157,Archyvas,11,FALSE))=0,\"\",IF(VLOOKUP($BK157,Archyvas,7,FALSE)=$BL$1,\"\",VLOOKUP($BK157,Archyvas,11,FALSE)))","v":{"$error":"#N/A"}},null,{"$f":"_xlfn.IFNA(IF(BS157=\"\",\"\",MAX(BR$1:BR156)+1),\"\")","v":""},"","","","","",""]
[null,null,null,null,null,null,null,null,null,null,null,null,null,null,null,null,null,null,null,null,null,null,null,null,null,null,null,null,null,null,null,null,null,null,null,null,null,null,null,null,null,null,null,null,null,null,null,null,null,null,null,null,null,null,null,null,null,{"$f":"IF(BG158=\"\",\"\",MAX(BF$1:BF157)+1)","v":""},{"$f":"IF(TEXT(Kortelė!$B$26,\"mm\")=IF(A158=\"\",\"\",TEXT(A158,\"mm\")),A158,\"\")","v":""},null,"",{"$f":"_xlfn.IFNA(IF(BL158=\"\",\"\",MAX(BJ$1:BJ157)+1),\"\")","v":""},"",{"$f":"IF(IF(IF(VLOOKUP($BK158,Archyvas,12,FALSE)=$BL$1,\"\",VLOOKUP($BK158,Archyvas,15,FALSE))=0,\"\",IF(VLOOKUP($BK158,Archyvas,12,FALSE)=$BL$1,\"\",VLOOKUP($BK158,Archyvas,15,FALSE)))=\"\",\"\",IF(IF(VLOOKUP($BK158,Archyvas,12,FALSE)=$BL$1,\"\",VLOOKUP($BK158,Archyvas,12,FALSE))=0,\"\",IF(VLOOKUP($BK158,Archyvas,12,FALSE)=$BL$1,\"\",VLOOKUP($BK158,Archyvas,12,FALSE))))","v":{"$error":"#N/A"}},{"$f":"IF(IF(VLOOKUP($BK158,Archyvas,12,FALSE)=$BL$1,\"\",VLOOKUP($BK158,Archyvas,13,FALSE))=0,\"\",IF(VLOOKUP($BK158,Archyvas,12,FALSE)=$BL$1,\"\",VLOOKUP($BK158,Archyvas,13,FALSE)))","v":{"$error":"#N/A"}},{"$f":"IF(IF(VLOOKUP($BK158,Archyvas,12,FALSE)=$BL$1,\"\",VLOOKUP($BK158,Archyvas,14,FALSE))=0,\"\",IF(VLOOKUP($BK158,Archyvas,12,FALSE)=$BL$1,\"\",VLOOKUP($BK158,Archyvas,14,FALSE)))","v":{"$error":"#N/A"}},{"$f":"IF(IF(VLOOKUP($BK158,Archyvas,12,FALSE)=$BL$1,\"\",VLOOKUP($BK158,Archyvas,15,FALSE))=0,\"\",IF(VLOOKUP($BK158,Archyvas,12,FALSE)=$BL$1,\"\",VLOOKUP($BK158,Archyvas,15,FALSE)))","v":{"$error":"#N/A"}},{"$f":"IF(IF(VLOOKUP($BK158,Archyvas,12,FALSE)=$BL$1,\"\",VLOOKUP($BK158,Archyvas,16,FALSE))=0,\"\",IF(VLOOKUP($BK158,Archyvas,12,FALSE)=$BL$1,\"\",VLOOKUP($BK158,Archyvas,16,FALSE)))","v":{"$error":"#N/A"}},null,{"$f":"_xlfn.IFNA(IF(BS158=\"\",\"\",MAX(BR$1:BR157)+1),\"\")","v":""},"","","","","",""]
[null,null,null,null,null,null,null,null,null,null,null,null,null,null,null,null,null,null,null,null,null,null,null,null,null,null,null,null,null,null,null,null,null,null,null,null,null,null,null,null,null,null,null,null,null,null,null,null,null,null,null,null,null,null,null,null,null,{"$f":"IF(BG159=\"\",\"\",MAX(BF$1:BF158)+1)","v":""},{"$f":"IF(TEXT(Kortelė!$B$26,\"mm\")=IF(A159=\"\",\"\",TEXT(A159,\"mm\")),A159,\"\")","v":""},null,"",{"$f":"_xlfn.IFNA(IF(BL159=\"\",\"\",MAX(BJ$1:BJ158)+1),\"\")","v":""},"",{"$f":"IF(IF(IF(VLOOKUP($BK159,Archyvas,17,FALSE)=$BL$1,\"\",VLOOKUP($BK159,Archyvas,20,FALSE))=0,\"\",IF(VLOOKUP($BK159,Archyvas,17,FALSE)=$BL$1,\"\",VLOOKUP($BK159,Archyvas,20,FALSE)))=\"\",\"\",IF(IF(VLOOKUP($BK159,Archyvas,17,FALSE)=$BL$1,\"\",VLOOKUP($BK159,Archyvas,17,FALSE))=0,\"\",IF(VLOOKUP($BK159,Archyvas,17,FALSE)=$BL$1,\"\",VLOOKUP($BK159,Archyvas,17,FALSE))))","v":{"$error":"#N/A"}},{"$f":"IF(IF(VLOOKUP($BK159,Archyvas,17,FALSE)=$BL$1,\"\",VLOOKUP($BK159,Archyvas,18,FALSE))=0,\"\",IF(VLOOKUP($BK159,Archyvas,17,FALSE)=$BL$1,\"\",VLOOKUP($BK159,Archyvas,18,FALSE)))","v":{"$error":"#N/A"}},{"$f":"IF(IF(VLOOKUP($BK159,Archyvas,17,FALSE)=$BL$1,\"\",VLOOKUP($BK159,Archyvas,19,FALSE))=0,\"\",IF(VLOOKUP($BK159,Archyvas,17,FALSE)=$BL$1,\"\",VLOOKUP($BK159,Archyvas,19,FALSE)))","v":{"$error":"#N/A"}},{"$f":"IF(IF(VLOOKUP($BK159,Archyvas,17,FALSE)=$BL$1,\"\",VLOOKUP($BK159,Archyvas,20,FALSE))=0,\"\",IF(VLOOKUP($BK159,Archyvas,17,FALSE)=$BL$1,\"\",VLOOKUP($BK159,Archyvas,20,FALSE)))","v":{"$error":"#N/A"}},{"$f":"IF(IF(VLOOKUP($BK159,Archyvas,17,FALSE)=$BL$1,\"\",VLOOKUP($BK159,Archyvas,21,FALSE))=0,\"\",IF(VLOOKUP($BK159,Archyvas,17,FALSE)=$BL$1,\"\",VLOOKUP($BK159,Archyvas,21,FALSE)))","v":{"$error":"#N/A"}},null,{"$f":"_xlfn.IFNA(IF(BS159=\"\",\"\",MAX(BR$1:BR158)+1),\"\")","v":""},"","","","","",""]
[null,null,null,null,null,null,null,null,null,null,null,null,null,null,null,null,null,null,null,null,null,null,null,null,null,null,null,null,null,null,null,null,null,null,null,null,null,null,null,null,null,null,null,null,null,null,null,null,null,null,null,null,null,null,null,null,null,{"$f":"IF(BG160=\"\",\"\",MAX(BF$1:BF159)+1)","v":""},{"$f":"IF(TEXT(Kortelė!$B$26,\"mm\")=IF(A160=\"\",\"\",TEXT(A160,\"mm\")),A160,\"\")","v":""},null,"",{"$f":"_xlfn.IFNA(IF(BL160=\"\",\"\",MAX(BJ$1:BJ159)+1),\"\")","v":""},"",{"$f":"IF(IF(IF(VLOOKUP($BK160,Archyvas,22,FALSE)=$BL$1,\"\",VLOOKUP($BK160,Archyvas,25,FALSE))=0,\"\",IF(VLOOKUP($BK160,Archyvas,22,FALSE)=$BL$1,\"\",VLOOKUP($BK160,Archyvas,25,FALSE)))=\"\",\"\",IF(IF(VLOOKUP($BK160,Archyvas,22,FALSE)=$BL$1,\"\",VLOOKUP($BK160,Archyvas,22,FALSE))=0,\"\",IF(VLOOKUP($BK160,Archyvas,22,FALSE)=$BL$1,\"\",VLOOKUP($BK160,Archyvas,22,FALSE))))","v":{"$error":"#N/A"}},{"$f":"IF(IF(VLOOKUP($BK160,Archyvas,22,FALSE)=$BL$1,\"\",VLOOKUP($BK160,Archyvas,23,FALSE))=0,\"\",IF(VLOOKUP($BK160,Archyvas,22,FALSE)=$BL$1,\"\",VLOOKUP($BK160,Archyvas,23,FALSE)))","v":{"$error":"#N/A"}},{"$f":"IF(IF(VLOOKUP($BK160,Archyvas,22,FALSE)=$BL$1,\"\",VLOOKUP($BK160,Archyvas,24,FALSE))=0,\"\",IF(VLOOKUP($BK160,Archyvas,22,FALSE)=$BL$1,\"\",VLOOKUP($BK160,Archyvas,24,FALSE)))","v":{"$error":"#N/A"}},{"$f":"IF(IF(VLOOKUP($BK160,Archyvas,22,FALSE)=$BL$1,\"\",VLOOKUP($BK160,Archyvas,25,FALSE))=0,\"\",IF(VLOOKUP($BK160,Archyvas,22,FALSE)=$BL$1,\"\",VLOOKUP($BK160,Archyvas,25,FALSE)))","v":{"$error":"#N/A"}},{"$f":"IF(IF(VLOOKUP($BK160,Archyvas,22,FALSE)=$BL$1,\"\",VLOOKUP($BK160,Archyvas,26,FALSE))=0,\"\",IF(VLOOKUP($BK160,Archyvas,22,FALSE)=$BL$1,\"\",VLOOKUP($BK160,Archyvas,26,FALSE)))","v":{"$error":"#N/A"}},null,{"$f":"_xlfn.IFNA(IF(BS160=\"\",\"\",MAX(BR$1:BR159)+1),\"\")","v":""},"","","","","",""]
[null,null,null,null,null,null,null,null,null,null,null,null,null,null,null,null,null,null,null,null,null,null,null,null,null,null,null,null,null,null,null,null,null,null,null,null,null,null,null,null,null,null,null,null,null,null,null,null,null,null,null,null,null,null,null,null,null,{"$f":"IF(BG161=\"\",\"\",MAX(BF$1:BF160)+1)","v":""},{"$f":"IF(TEXT(Kortelė!$B$26,\"mm\")=IF(A161=\"\",\"\",TEXT(A161,\"mm\")),A161,\"\")","v":""},null,"",{"$f":"_xlfn.IFNA(IF(BL161=\"\",\"\",MAX(BJ$1:BJ160)+1),\"\")","v":""},"",{"$f":"IF(IF(IF(VLOOKUP($BK161,Archyvas,27,FALSE)=$BL$1,\"\",VLOOKUP($BK161,Archyvas,30,FALSE))=0,\"\",IF(VLOOKUP($BK161,Archyvas,27,FALSE)=$BL$1,\"\",VLOOKUP($BK161,Archyvas,30,FALSE)))=\"\",\"\",IF(IF(VLOOKUP($BK161,Archyvas,27,FALSE)=$BL$1,\"\",VLOOKUP($BK161,Archyvas,27,FALSE))=0,\"\",IF(VLOOKUP($BK161,Archyvas,27,FALSE)=$BL$1,\"\",VLOOKUP($BK161,Archyvas,27,FALSE))))","v":{"$error":"#N/A"}},{"$f":"IF(IF(VLOOKUP($BK161,Archyvas,27,FALSE)=$BL$1,\"\",VLOOKUP($BK161,Archyvas,28,FALSE))=0,\"\",IF(VLOOKUP($BK161,Archyvas,27,FALSE)=$BL$1,\"\",VLOOKUP($BK161,Archyvas,28,FALSE)))","v":{"$error":"#N/A"}},{"$f":"IF(IF(VLOOKUP($BK161,Archyvas,27,FALSE)=$BL$1,\"\",VLOOKUP($BK161,Archyvas,29,FALSE))=0,\"\",IF(VLOOKUP($BK161,Archyvas,27,FALSE)=$BL$1,\"\",VLOOKUP($BK161,Archyvas,29,FALSE)))","v":{"$error":"#N/A"}},{"$f":"IF(IF(VLOOKUP($BK161,Archyvas,27,FALSE)=$BL$1,\"\",VLOOKUP($BK161,Archyvas,30,FALSE))=0,\"\",IF(VLOOKUP($BK161,Archyvas,27,FALSE)=$BL$1,\"\",VLOOKUP($BK161,Archyvas,30,FALSE)))","v":{"$error":"#N/A"}},{"$f":"IF(IF(VLOOKUP($BK161,Archyvas,27,FALSE)=$BL$1,\"\",VLOOKUP($BK161,Archyvas,31,FALSE))=0,\"\",IF(VLOOKUP($BK161,Archyvas,27,FALSE)=$BL$1,\"\",VLOOKUP($BK161,Archyvas,31,FALSE)))","v":{"$error":"#N/A"}},null,{"$f":"_xlfn.IFNA(IF(BS161=\"\",\"\",MAX(BR$1:BR160)+1),\"\")","v":""},"","","","","",""]
[null,null,null,null,null,null,null,null,null,null,null,null,null,null,null,null,null,null,null,null,null,null,null,null,null,null,null,null,null,null,null,null,null,null,null,null,null,null,null,null,null,null,null,null,null,null,null,null,null,null,null,null,null,null,null,null,null,{"$f":"IF(BG162=\"\",\"\",MAX(BF$1:BF161)+1)","v":""},{"$f":"IF(TEXT(Kortelė!$B$26,\"mm\")=IF(A162=\"\",\"\",TEXT(A162,\"mm\")),A162,\"\")","v":""},null,"",{"$f":"_xlfn.IFNA(IF(BL162=\"\",\"\",MAX(BJ$1:BJ161)+1),\"\")","v":""},"",{"$f":"IF(IF(IF(VLOOKUP($BK162,Archyvas,32,FALSE)=$BL$1,\"\",VLOOKUP($BK162,Archyvas,35,FALSE))=0,\"\",IF(VLOOKUP($BK162,Archyvas,32,FALSE)=$BL$1,\"\",VLOOKUP($BK162,Archyvas,35,FALSE)))=\"\",\"\",IF(IF(VLOOKUP($BK162,Archyvas,32,FALSE)=$BL$1,\"\",VLOOKUP($BK162,Archyvas,32,FALSE))=0,\"\",IF(VLOOKUP($BK162,Archyvas,32,FALSE)=$BL$1,\"\",VLOOKUP($BK162,Archyvas,32,FALSE))))","v":{"$error":"#N/A"}},{"$f":"IF(IF(VLOOKUP($BK162,Archyvas,32,FALSE)=$BL$1,\"\",VLOOKUP($BK162,Archyvas,33,FALSE))=0,\"\",IF(VLOOKUP($BK162,Archyvas,32,FALSE)=$BL$1,\"\",VLOOKUP($BK162,Archyvas,33,FALSE)))","v":{"$error":"#N/A"}},{"$f":"IF(IF(VLOOKUP($BK162,Archyvas,32,FALSE)=$BL$1,\"\",VLOOKUP($BK162,Archyvas,34,FALSE))=0,\"\",IF(VLOOKUP($BK162,Archyvas,32,FALSE)=$BL$1,\"\",VLOOKUP($BK162,Archyvas,34,FALSE)))","v":{"$error":"#N/A"}},{"$f":"IF(IF(VLOOKUP($BK162,Archyvas,32,FALSE)=$BL$1,\"\",VLOOKUP($BK162,Archyvas,35,FALSE))=0,\"\",IF(VLOOKUP($BK162,Archyvas,32,FALSE)=$BL$1,\"\",VLOOKUP($BK162,Archyvas,35,FALSE)))","v":{"$error":"#N/A"}},{"$f":"IF(IF(VLOOKUP($BK162,Archyvas,32,FALSE)=$BL$1,\"\",VLOOKUP($BK162,Archyvas,36,FALSE))=0,\"\",IF(VLOOKUP($BK162,Archyvas,32,FALSE)=$BL$1,\"\",VLOOKUP($BK162,Archyvas,36,FALSE)))","v":{"$error":"#N/A"}},null,{"$f":"_xlfn.IFNA(IF(BS162=\"\",\"\",MAX(BR$1:BR161)+1),\"\")","v":""},"","","","","",""]
[null,null,null,null,null,null,null,null,null,null,null,null,null,null,null,null,null,null,null,null,null,null,null,null,null,null,null,null,null,null,null,null,null,null,null,null,null,null,null,null,null,null,null,null,null,null,null,null,null,null,null,null,null,null,null,null,null,{"$f":"IF(BG163=\"\",\"\",MAX(BF$1:BF162)+1)","v":""},{"$f":"IF(TEXT(Kortelė!$B$26,\"mm\")=IF(A163=\"\",\"\",TEXT(A163,\"mm\")),A163,\"\")","v":""},null,"",{"$f":"_xlfn.IFNA(IF(BL163=\"\",\"\",MAX(BJ$1:BJ162)+1),\"\")","v":""},"",{"$f":"IF(IF(IF(VLOOKUP($BK163,Archyvas,37,FALSE)=$BL$1,\"\",VLOOKUP($BK163,Archyvas,40,FALSE))=0,\"\",IF(VLOOKUP($BK163,Archyvas,37,FALSE)=$BL$1,\"\",VLOOKUP($BK163,Archyvas,40,FALSE)))=\"\",\"\",IF(IF(VLOOKUP($BK163,Archyvas,37,FALSE)=$BL$1,\"\",VLOOKUP($BK163,Archyvas,37,FALSE))=0,\"\",IF(VLOOKUP($BK163,Archyvas,37,FALSE)=$BL$1,\"\",VLOOKUP($BK163,Archyvas,37,FALSE))))","v":{"$error":"#N/A"}},{"$f":"IF(IF(VLOOKUP($BK163,Archyvas,37,FALSE)=$BL$1,\"\",VLOOKUP($BK163,Archyvas,38,FALSE))=0,\"\",IF(VLOOKUP($BK163,Archyvas,37,FALSE)=$BL$1,\"\",VLOOKUP($BK163,Archyvas,38,FALSE)))","v":{"$error":"#N/A"}},{"$f":"IF(IF(VLOOKUP($BK163,Archyvas,37,FALSE)=$BL$1,\"\",VLOOKUP($BK163,Archyvas,39,FALSE))=0,\"\",IF(VLOOKUP($BK163,Archyvas,37,FALSE)=$BL$1,\"\",VLOOKUP($BK163,Archyvas,39,FALSE)))","v":{"$error":"#N/A"}},{"$f":"IF(IF(VLOOKUP($BK163,Archyvas,37,FALSE)=$BL$1,\"\",VLOOKUP($BK163,Archyvas,40,FALSE))=0,\"\",IF(VLOOKUP($BK163,Archyvas,37,FALSE)=$BL$1,\"\",VLOOKUP($BK163,Archyvas,40,FALSE)))","v":{"$error":"#N/A"}},{"$f":"IF(IF(VLOOKUP($BK163,Archyvas,37,FALSE)=$BL$1,\"\",VLOOKUP($BK163,Archyvas,41,FALSE))=0,\"\",IF(VLOOKUP($BK163,Archyvas,37,FALSE)=$BL$1,\"\",VLOOKUP($BK163,Archyvas,41,FALSE)))","v":{"$error":"#N/A"}},null,{"$f":"_xlfn.IFNA(IF(BS163=\"\",\"\",MAX(BR$1:BR162)+1),\"\")","v":""},"","","","","",""]
[null,null,null,null,null,null,null,null,null,null,null,null,null,null,null,null,null,null,null,null,null,null,null,null,null,null,null,null,null,null,null,null,null,null,null,null,null,null,null,null,null,null,null,null,null,null,null,null,null,null,null,null,null,null,null,null,null,{"$f":"IF(BG164=\"\",\"\",MAX(BF$1:BF163)+1)","v":""},{"$f":"IF(TEXT(Kortelė!$B$26,\"mm\")=IF(A164=\"\",\"\",TEXT(A164,\"mm\")),A164,\"\")","v":""},null,"",{"$f":"_xlfn.IFNA(IF(BL164=\"\",\"\",MAX(BJ$1:BJ163)+1),\"\")","v":""},"",{"$f":"IF(IF(IF(VLOOKUP($BK164,Archyvas,42,FALSE)=$BL$1,\"\",VLOOKUP($BK164,Archyvas,45,FALSE))=0,\"\",IF(VLOOKUP($BK164,Archyvas,42,FALSE)=$BL$1,\"\",VLOOKUP($BK164,Archyvas,45,FALSE)))=\"\",\"\",IF(IF(VLOOKUP($BK164,Archyvas,42,FALSE)=$BL$1,\"\",VLOOKUP($BK164,Archyvas,42,FALSE))=0,\"\",IF(VLOOKUP($BK164,Archyvas,42,FALSE)=$BL$1,\"\",VLOOKUP($BK164,Archyvas,42,FALSE))))","v":{"$error":"#N/A"}},{"$f":"IF(IF(VLOOKUP($BK164,Archyvas,42,FALSE)=$BL$1,\"\",VLOOKUP($BK164,Archyvas,43,FALSE))=0,\"\",IF(VLOOKUP($BK164,Archyvas,42,FALSE)=$BL$1,\"\",VLOOKUP($BK164,Archyvas,43,FALSE)))","v":{"$error":"#N/A"}},{"$f":"IF(IF(VLOOKUP($BK164,Archyvas,42,FALSE)=$BL$1,\"\",VLOOKUP($BK164,Archyvas,44,FALSE))=0,\"\",IF(VLOOKUP($BK164,Archyvas,42,FALSE)=$BL$1,\"\",VLOOKUP($BK164,Archyvas,44,FALSE)))","v":{"$error":"#N/A"}},{"$f":"IF(IF(VLOOKUP($BK164,Archyvas,42,FALSE)=$BL$1,\"\",VLOOKUP($BK164,Archyvas,45,FALSE))=0,\"\",IF(VLOOKUP($BK164,Archyvas,42,FALSE)=$BL$1,\"\",VLOOKUP($BK164,Archyvas,45,FALSE)))","v":{"$error":"#N/A"}},{"$f":"IF(IF(VLOOKUP($BK164,Archyvas,42,FALSE)=$BL$1,\"\",VLOOKUP($BK164,Archyvas,46,FALSE))=0,\"\",IF(VLOOKUP($BK164,Archyvas,42,FALSE)=$BL$1,\"\",VLOOKUP($BK164,Archyvas,46,FALSE)))","v":{"$error":"#N/A"}},null,{"$f":"_xlfn.IFNA(IF(BS164=\"\",\"\",MAX(BR$1:BR163)+1),\"\")","v":""},"","","","","",""]
[null,null,null,null,null,null,null,null,null,null,null,null,null,null,null,null,null,null,null,null,null,null,null,null,null,null,null,null,null,null,null,null,null,null,null,null,null,null,null,null,null,null,null,null,null,null,null,null,null,null,null,null,null,null,null,null,null,{"$f":"IF(BG165=\"\",\"\",MAX(BF$1:BF164)+1)","v":""},{"$f":"IF(TEXT(Kortelė!$B$26,\"mm\")=IF(A165=\"\",\"\",TEXT(A165,\"mm\")),A165,\"\")","v":""},null,"",{"$f":"_xlfn.IFNA(IF(BL165=\"\",\"\",MAX(BJ$1:BJ164)+1),\"\")","v":""},"",{"$f":"IF(IF(IF(VLOOKUP($BK165,Archyvas,47,FALSE)=$BL$1,\"\",VLOOKUP($BK165,Archyvas,50,FALSE))=0,\"\",IF(VLOOKUP($BK165,Archyvas,47,FALSE)=$BL$1,\"\",VLOOKUP($BK165,Archyvas,50,FALSE)))=\"\",\"\",IF(IF(VLOOKUP($BK165,Archyvas,47,FALSE)=$BL$1,\"\",VLOOKUP($BK165,Archyvas,47,FALSE))=0,\"\",IF(VLOOKUP($BK165,Archyvas,47,FALSE)=$BL$1,\"\",VLOOKUP($BK165,Archyvas,47,FALSE))))","v":{"$error":"#N/A"}},{"$f":"IF(IF(VLOOKUP($BK165,Archyvas,47,FALSE)=$BL$1,\"\",VLOOKUP($BK165,Archyvas,48,FALSE))=0,\"\",IF(VLOOKUP($BK165,Archyvas,47,FALSE)=$BL$1,\"\",VLOOKUP($BK165,Archyvas,48,FALSE)))","v":{"$error":"#N/A"}},{"$f":"IF(IF(VLOOKUP($BK165,Archyvas,47,FALSE)=$BL$1,\"\",VLOOKUP($BK165,Archyvas,49,FALSE))=0,\"\",IF(VLOOKUP($BK165,Archyvas,47,FALSE)=$BL$1,\"\",VLOOKUP($BK165,Archyvas,49,FALSE)))","v":{"$error":"#N/A"}},{"$f":"IF(IF(VLOOKUP($BK165,Archyvas,47,FALSE)=$BL$1,\"\",VLOOKUP($BK165,Archyvas,50,FALSE))=0,\"\",IF(VLOOKUP($BK165,Archyvas,47,FALSE)=$BL$1,\"\",VLOOKUP($BK165,Archyvas,50,FALSE)))","v":{"$error":"#N/A"}},{"$f":"IF(IF(VLOOKUP($BK165,Archyvas,47,FALSE)=$BL$1,\"\",VLOOKUP($BK165,Archyvas,51,FALSE))=0,\"\",IF(VLOOKUP($BK165,Archyvas,47,FALSE)=$BL$1,\"\",VLOOKUP($BK165,Archyvas,51,FALSE)))","v":{"$error":"#N/A"}},null,{"$f":"_xlfn.IFNA(IF(BS165=\"\",\"\",MAX(BR$1:BR164)+1),\"\")","v":""},"","","","","",""]
[null,null,null,null,null,null,null,null,null,null,null,null,null,null,null,null,null,null,null,null,null,null,null,null,null,null,null,null,null,null,null,null,null,null,null,null,null,null,null,null,null,null,null,null,null,null,null,null,null,null,null,null,null,null,null,null,null,{"$f":"IF(BG166=\"\",\"\",MAX(BF$1:BF165)+1)","v":""},{"$f":"IF(TEXT(Kortelė!$B$26,\"mm\")=IF(A166=\"\",\"\",TEXT(A166,\"mm\")),A166,\"\")","v":""},null,"",{"$f":"_xlfn.IFNA(IF(BL166=\"\",\"\",MAX(BJ$1:BJ165)+1),\"\")","v":""},null,null,null,null,null,null,null,{"$f":"_xlfn.IFNA(IF(BS166=\"\",\"\",MAX(BR$1:BR165)+1),\"\")","v":""},"","","","","",""]
[null,null,null,null,null,null,null,null,null,null,null,null,null,null,null,null,null,null,null,null,null,null,null,null,null,null,null,null,null,null,null,null,null,null,null,null,null,null,null,null,null,null,null,null,null,null,null,null,null,null,null,null,null,null,null,null,null,{"$f":"IF(BG167=\"\",\"\",MAX(BF$1:BF166)+1)","v":""},{"$f":"IF(TEXT(Kortelė!$B$26,\"mm\")=IF(A167=\"\",\"\",TEXT(A167,\"mm\")),A167,\"\")","v":""},null,"",{"$f":"_xlfn.IFNA(IF(BL167=\"\",\"\",MAX(BJ$1:BJ166)+1),\"\")","v":""},{"$f":"$BI$17","v":""},{"$f":"IF(IF(IF(VLOOKUP($BK167,Archyvas,2,FALSE)=$BL$1,\"\",VLOOKUP($BK167,Archyvas,5,FALSE))=0,\"\",IF(VLOOKUP($BK167,Archyvas,2,FALSE)=$BL$1,\"\",VLOOKUP($BK167,Archyvas,5,FALSE)))=\"\",\"\",IF(IF(VLOOKUP($BK167,Archyvas,2,FALSE)=$BL$1,\"\",VLOOKUP($BK167,Archyvas,2,FALSE))=0,\"\",IF(VLOOKUP($BK167,Archyvas,2,FALSE)=$BL$1,\"\",VLOOKUP($BK167,Archyvas,2,FALSE))))","v":{"$error":"#N/A"}},{"$f":"IF(IF(VLOOKUP($BK167,Archyvas,2,FALSE)=$BL$1,\"\",VLOOKUP($BK167,Archyvas,3,FALSE))=0,\"\",IF(VLOOKUP($BK167,Archyvas,2,FALSE)=$BL$1,\"\",VLOOKUP($BK167,Archyvas,3,FALSE)))","v":{"$error":"#N/A"}},{"$f":"IF(IF(VLOOKUP($BK167,Archyvas,2,FALSE)=$BL$1,\"\",VLOOKUP($BK167,Archyvas,4,FALSE))=0,\"\",IF(VLOOKUP($BK167,Archyvas,2,FALSE)=$BL$1,\"\",VLOOKUP($BK167,Archyvas,4,FALSE)))","v":{"$error":"#N/A"}},{"$f":"IF(IF(VLOOKUP($BK167,Archyvas,2,FALSE)=$BL$1,\"\",VLOOKUP($BK167,Archyvas,5,FALSE))=0,\"\",IF(VLOOKUP($BK167,Archyvas,2,FALSE)=$BL$1,\"\",VLOOKUP($BK167,Archyvas,5,FALSE)))","v":{"$error":"#N/A"}},{"$f":"IF(IF(VLOOKUP($BK167,Archyvas,2,FALSE)=$BL$1,\"\",VLOOKUP($BK167,Archyvas,6,FALSE))=0,\"\",IF(VLOOKUP($BK167,Archyvas,2,FALSE)=$BL$1,\"\",VLOOKUP($BK167,Archyvas,6,FALSE)))","v":{"$error":"#N/A"}},null,{"$f":"_xlfn.IFNA(IF(BS167=\"\",\"\",MAX(BR$1:BR166)+1),\"\")","v":""},"","","","","",""]
[null,null,null,null,null,null,null,null,null,null,null,null,null,null,null,null,null,null,null,null,null,null,null,null,null,null,null,null,null,null,null,null,null,null,null,null,null,null,null,null,null,null,null,null,null,null,null,null,null,null,null,null,null,null,null,null,null,{"$f":"IF(BG168=\"\",\"\",MAX(BF$1:BF167)+1)","v":""},{"$f":"IF(TEXT(Kortelė!$B$26,\"mm\")=IF(A168=\"\",\"\",TEXT(A168,\"mm\")),A168,\"\")","v":""},null,"",{"$f":"_xlfn.IFNA(IF(BL168=\"\",\"\",MAX(BJ$1:BJ167)+1),\"\")","v":""},{"$f":"BK167","v":""},{"$f":"IF(IF(IF(VLOOKUP($BK168,Archyvas,7,FALSE)=$BL$1,\"\",VLOOKUP($BK168,Archyvas,10,FALSE))=0,\"\",IF(VLOOKUP($BK168,Archyvas,7,FALSE)=$BL$1,\"\",VLOOKUP($BK168,Archyvas,10,FALSE)))=\"\",\"\",IF(IF(VLOOKUP($BK168,Archyvas,7,FALSE)=$BL$1,\"\",VLOOKUP($BK168,Archyvas,7,FALSE))=0,\"\",IF(VLOOKUP($BK168,Archyvas,7,FALSE)=$BL$1,\"\",VLOOKUP($BK168,Archyvas,7,FALSE))))","v":{"$error":"#N/A"}},{"$f":"IF(IF(VLOOKUP($BK168,Archyvas,7,FALSE)=$BL$1,\"\",VLOOKUP($BK168,Archyvas,8,FALSE))=0,\"\",IF(VLOOKUP($BK168,Archyvas,7,FALSE)=$BL$1,\"\",VLOOKUP($BK168,Archyvas,8,FALSE)))","v":{"$error":"#N/A"}},{"$f":"IF(IF(VLOOKUP($BK168,Archyvas,7,FALSE)=$BL$1,\"\",VLOOKUP($BK168,Archyvas,9,FALSE))=0,\"\",IF(VLOOKUP($BK168,Archyvas,7,FALSE)=$BL$1,\"\",VLOOKUP($BK168,Archyvas,9,FALSE)))","v":{"$error":"#N/A"}},{"$f":"IF(IF(VLOOKUP($BK168,Archyvas,7,FALSE)=$BL$1,\"\",VLOOKUP($BK168,Archyvas,10,FALSE))=0,\"\",IF(VLOOKUP($BK168,Archyvas,7,FALSE)=$BL$1,\"\",VLOOKUP($BK168,Archyvas,10,FALSE)))","v":{"$error":"#N/A"}},{"$f":"IF(IF(VLOOKUP($BK168,Archyvas,7,FALSE)=$BL$1,\"\",VLOOKUP($BK168,Archyvas,11,FALSE))=0,\"\",IF(VLOOKUP($BK168,Archyvas,7,FALSE)=$BL$1,\"\",VLOOKUP($BK168,Archyvas,11,FALSE)))","v":{"$error":"#N/A"}},null,{"$f":"_xlfn.IFNA(IF(BS168=\"\",\"\",MAX(BR$1:BR167)+1),\"\")","v":""},"","","","","",""]
[null,null,null,null,null,null,null,null,null,null,null,null,null,null,null,null,null,null,null,null,null,null,null,null,null,null,null,null,null,null,null,null,null,null,null,null,null,null,null,null,null,null,null,null,null,null,null,null,null,null,null,null,null,null,null,null,null,{"$f":"IF(BG169=\"\",\"\",MAX(BF$1:BF168)+1)","v":""},{"$f":"IF(TEXT(Kortelė!$B$26,\"mm\")=IF(A169=\"\",\"\",TEXT(A169,\"mm\")),A169,\"\")","v":""},null,"",{"$f":"_xlfn.IFNA(IF(BL169=\"\",\"\",MAX(BJ$1:BJ168)+1),\"\")","v":""},"",{"$f":"IF(IF(IF(VLOOKUP($BK169,Archyvas,12,FALSE)=$BL$1,\"\",VLOOKUP($BK169,Archyvas,15,FALSE))=0,\"\",IF(VLOOKUP($BK169,Archyvas,12,FALSE)=$BL$1,\"\",VLOOKUP($BK169,Archyvas,15,FALSE)))=\"\",\"\",IF(IF(VLOOKUP($BK169,Archyvas,12,FALSE)=$BL$1,\"\",VLOOKUP($BK169,Archyvas,12,FALSE))=0,\"\",IF(VLOOKUP($BK169,Archyvas,12,FALSE)=$BL$1,\"\",VLOOKUP($BK169,Archyvas,12,FALSE))))","v":{"$error":"#N/A"}},{"$f":"IF(IF(VLOOKUP($BK169,Archyvas,12,FALSE)=$BL$1,\"\",VLOOKUP($BK169,Archyvas,13,FALSE))=0,\"\",IF(VLOOKUP($BK169,Archyvas,12,FALSE)=$BL$1,\"\",VLOOKUP($BK169,Archyvas,13,FALSE)))","v":{"$error":"#N/A"}},{"$f":"IF(IF(VLOOKUP($BK169,Archyvas,12,FALSE)=$BL$1,\"\",VLOOKUP($BK169,Archyvas,14,FALSE))=0,\"\",IF(VLOOKUP($BK169,Archyvas,12,FALSE)=$BL$1,\"\",VLOOKUP($BK169,Archyvas,14,FALSE)))","v":{"$error":"#N/A"}},{"$f":"IF(IF(VLOOKUP($BK169,Archyvas,12,FALSE)=$BL$1,\"\",VLOOKUP($BK169,Archyvas,15,FALSE))=0,\"\",IF(VLOOKUP($BK169,Archyvas,12,FALSE)=$BL$1,\"\",VLOOKUP($BK169,Archyvas,15,FALSE)))","v":{"$error":"#N/A"}},{"$f":"IF(IF(VLOOKUP($BK169,Archyvas,12,FALSE)=$BL$1,\"\",VLOOKUP($BK169,Archyvas,16,FALSE))=0,\"\",IF(VLOOKUP($BK169,Archyvas,12,FALSE)=$BL$1,\"\",VLOOKUP($BK169,Archyvas,16,FALSE)))","v":{"$error":"#N/A"}},null,{"$f":"_xlfn.IFNA(IF(BS169=\"\",\"\",MAX(BR$1:BR168)+1),\"\")","v":""},"","","","","",""]
[null,null,null,null,null,null,null,null,null,null,null,null,null,null,null,null,null,null,null,null,null,null,null,null,null,null,null,null,null,null,null,null,null,null,null,null,null,null,null,null,null,null,null,null,null,null,null,null,null,null,null,null,null,null,null,null,null,{"$f":"IF(BG170=\"\",\"\",MAX(BF$1:BF169)+1)","v":""},{"$f":"IF(TEXT(Kortelė!$B$26,\"mm\")=IF(A170=\"\",\"\",TEXT(A170,\"mm\")),A170,\"\")","v":""},null,"",{"$f":"_xlfn.IFNA(IF(BL170=\"\",\"\",MAX(BJ$1:BJ169)+1),\"\")","v":""},"",{"$f":"IF(IF(IF(VLOOKUP($BK170,Archyvas,17,FALSE)=$BL$1,\"\",VLOOKUP($BK170,Archyvas,20,FALSE))=0,\"\",IF(VLOOKUP($BK170,Archyvas,17,FALSE)=$BL$1,\"\",VLOOKUP($BK170,Archyvas,20,FALSE)))=\"\",\"\",IF(IF(VLOOKUP($BK170,Archyvas,17,FALSE)=$BL$1,\"\",VLOOKUP($BK170,Archyvas,17,FALSE))=0,\"\",IF(VLOOKUP($BK170,Archyvas,17,FALSE)=$BL$1,\"\",VLOOKUP($BK170,Archyvas,17,FALSE))))","v":{"$error":"#N/A"}},{"$f":"IF(IF(VLOOKUP($BK170,Archyvas,17,FALSE)=$BL$1,\"\",VLOOKUP($BK170,Archyvas,18,FALSE))=0,\"\",IF(VLOOKUP($BK170,Archyvas,17,FALSE)=$BL$1,\"\",VLOOKUP($BK170,Archyvas,18,FALSE)))","v":{"$error":"#N/A"}},{"$f":"IF(IF(VLOOKUP($BK170,Archyvas,17,FALSE)=$BL$1,\"\",VLOOKUP($BK170,Archyvas,19,FALSE))=0,\"\",IF(VLOOKUP($BK170,Archyvas,17,FALSE)=$BL$1,\"\",VLOOKUP($BK170,Archyvas,19,FALSE)))","v":{"$error":"#N/A"}},{"$f":"IF(IF(VLOOKUP($BK170,Archyvas,17,FALSE)=$BL$1,\"\",VLOOKUP($BK170,Archyvas,20,FALSE))=0,\"\",IF(VLOOKUP($BK170,Archyvas,17,FALSE)=$BL$1,\"\",VLOOKUP($BK170,Archyvas,20,FALSE)))","v":{"$error":"#N/A"}},{"$f":"IF(IF(VLOOKUP($BK170,Archyvas,17,FALSE)=$BL$1,\"\",VLOOKUP($BK170,Archyvas,21,FALSE))=0,\"\",IF(VLOOKUP($BK170,Archyvas,17,FALSE)=$BL$1,\"\",VLOOKUP($BK170,Archyvas,21,FALSE)))","v":{"$error":"#N/A"}},null,{"$f":"_xlfn.IFNA(IF(BS170=\"\",\"\",MAX(BR$1:BR169)+1),\"\")","v":""},"","","","","",""]
[null,null,null,null,null,null,null,null,null,null,null,null,null,null,null,null,null,null,null,null,null,null,null,null,null,null,null,null,null,null,null,null,null,null,null,null,null,null,null,null,null,null,null,null,null,null,null,null,null,null,null,null,null,null,null,null,null,{"$f":"IF(BG171=\"\",\"\",MAX(BF$1:BF170)+1)","v":""},{"$f":"IF(TEXT(Kortelė!$B$26,\"mm\")=IF(A171=\"\",\"\",TEXT(A171,\"mm\")),A171,\"\")","v":""},null,"",{"$f":"_xlfn.IFNA(IF(BL171=\"\",\"\",MAX(BJ$1:BJ170)+1),\"\")","v":""},"",{"$f":"IF(IF(IF(VLOOKUP($BK171,Archyvas,22,FALSE)=$BL$1,\"\",VLOOKUP($BK171,Archyvas,25,FALSE))=0,\"\",IF(VLOOKUP($BK171,Archyvas,22,FALSE)=$BL$1,\"\",VLOOKUP($BK171,Archyvas,25,FALSE)))=\"\",\"\",IF(IF(VLOOKUP($BK171,Archyvas,22,FALSE)=$BL$1,\"\",VLOOKUP($BK171,Archyvas,22,FALSE))=0,\"\",IF(VLOOKUP($BK171,Archyvas,22,FALSE)=$BL$1,\"\",VLOOKUP($BK171,Archyvas,22,FALSE))))","v":{"$error":"#N/A"}},{"$f":"IF(IF(VLOOKUP($BK171,Archyvas,22,FALSE)=$BL$1,\"\",VLOOKUP($BK171,Archyvas,23,FALSE))=0,\"\",IF(VLOOKUP($BK171,Archyvas,22,FALSE)=$BL$1,\"\",VLOOKUP($BK171,Archyvas,23,FALSE)))","v":{"$error":"#N/A"}},{"$f":"IF(IF(VLOOKUP($BK171,Archyvas,22,FALSE)=$BL$1,\"\",VLOOKUP($BK171,Archyvas,24,FALSE))=0,\"\",IF(VLOOKUP($BK171,Archyvas,22,FALSE)=$BL$1,\"\",VLOOKUP($BK171,Archyvas,24,FALSE)))","v":{"$error":"#N/A"}},{"$f":"IF(IF(VLOOKUP($BK171,Archyvas,22,FALSE)=$BL$1,\"\",VLOOKUP($BK171,Archyvas,25,FALSE))=0,\"\",IF(VLOOKUP($BK171,Archyvas,22,FALSE)=$BL$1,\"\",VLOOKUP($BK171,Archyvas,25,FALSE)))","v":{"$error":"#N/A"}},{"$f":"IF(IF(VLOOKUP($BK171,Archyvas,22,FALSE)=$BL$1,\"\",VLOOKUP($BK171,Archyvas,26,FALSE))=0,\"\",IF(VLOOKUP($BK171,Archyvas,22,FALSE)=$BL$1,\"\",VLOOKUP($BK171,Archyvas,26,FALSE)))","v":{"$error":"#N/A"}},null,{"$f":"_xlfn.IFNA(IF(BS171=\"\",\"\",MAX(BR$1:BR170)+1),\"\")","v":""},"","","","","",""]
[null,null,null,null,null,null,null,null,null,null,null,null,null,null,null,null,null,null,null,null,null,null,null,null,null,null,null,null,null,null,null,null,null,null,null,null,null,null,null,null,null,null,null,null,null,null,null,null,null,null,null,null,null,null,null,null,null,{"$f":"IF(BG172=\"\",\"\",MAX(BF$1:BF171)+1)","v":""},{"$f":"IF(TEXT(Kortelė!$B$26,\"mm\")=IF(A172=\"\",\"\",TEXT(A172,\"mm\")),A172,\"\")","v":""},null,"",{"$f":"_xlfn.IFNA(IF(BL172=\"\",\"\",MAX(BJ$1:BJ171)+1),\"\")","v":""},"",{"$f":"IF(IF(IF(VLOOKUP($BK172,Archyvas,27,FALSE)=$BL$1,\"\",VLOOKUP($BK172,Archyvas,30,FALSE))=0,\"\",IF(VLOOKUP($BK172,Archyvas,27,FALSE)=$BL$1,\"\",VLOOKUP($BK172,Archyvas,30,FALSE)))=\"\",\"\",IF(IF(VLOOKUP($BK172,Archyvas,27,FALSE)=$BL$1,\"\",VLOOKUP($BK172,Archyvas,27,FALSE))=0,\"\",IF(VLOOKUP($BK172,Archyvas,27,FALSE)=$BL$1,\"\",VLOOKUP($BK172,Archyvas,27,FALSE))))","v":{"$error":"#N/A"}},{"$f":"IF(IF(VLOOKUP($BK172,Archyvas,27,FALSE)=$BL$1,\"\",VLOOKUP($BK172,Archyvas,28,FALSE))=0,\"\",IF(VLOOKUP($BK172,Archyvas,27,FALSE)=$BL$1,\"\",VLOOKUP($BK172,Archyvas,28,FALSE)))","v":{"$error":"#N/A"}},{"$f":"IF(IF(VLOOKUP($BK172,Archyvas,27,FALSE)=$BL$1,\"\",VLOOKUP($BK172,Archyvas,29,FALSE))=0,\"\",IF(VLOOKUP($BK172,Archyvas,27,FALSE)=$BL$1,\"\",VLOOKUP($BK172,Archyvas,29,FALSE)))","v":{"$error":"#N/A"}},{"$f":"IF(IF(VLOOKUP($BK172,Archyvas,27,FALSE)=$BL$1,\"\",VLOOKUP($BK172,Archyvas,30,FALSE))=0,\"\",IF(VLOOKUP($BK172,Archyvas,27,FALSE)=$BL$1,\"\",VLOOKUP($BK172,Archyvas,30,FALSE)))","v":{"$error":"#N/A"}},{"$f":"IF(IF(VLOOKUP($BK172,Archyvas,27,FALSE)=$BL$1,\"\",VLOOKUP($BK172,Archyvas,31,FALSE))=0,\"\",IF(VLOOKUP($BK172,Archyvas,27,FALSE)=$BL$1,\"\",VLOOKUP($BK172,Archyvas,31,FALSE)))","v":{"$error":"#N/A"}},null,{"$f":"_xlfn.IFNA(IF(BS172=\"\",\"\",MAX(BR$1:BR171)+1),\"\")","v":""},"","","","","",""]
[null,null,null,null,null,null,null,null,null,null,null,null,null,null,null,null,null,null,null,null,null,null,null,null,null,null,null,null,null,null,null,null,null,null,null,null,null,null,null,null,null,null,null,null,null,null,null,null,null,null,null,null,null,null,null,null,null,{"$f":"IF(BG173=\"\",\"\",MAX(BF$1:BF172)+1)","v":""},{"$f":"IF(TEXT(Kortelė!$B$26,\"mm\")=IF(A173=\"\",\"\",TEXT(A173,\"mm\")),A173,\"\")","v":""},null,"",{"$f":"_xlfn.IFNA(IF(BL173=\"\",\"\",MAX(BJ$1:BJ172)+1),\"\")","v":""},"",{"$f":"IF(IF(IF(VLOOKUP($BK173,Archyvas,32,FALSE)=$BL$1,\"\",VLOOKUP($BK173,Archyvas,35,FALSE))=0,\"\",IF(VLOOKUP($BK173,Archyvas,32,FALSE)=$BL$1,\"\",VLOOKUP($BK173,Archyvas,35,FALSE)))=\"\",\"\",IF(IF(VLOOKUP($BK173,Archyvas,32,FALSE)=$BL$1,\"\",VLOOKUP($BK173,Archyvas,32,FALSE))=0,\"\",IF(VLOOKUP($BK173,Archyvas,32,FALSE)=$BL$1,\"\",VLOOKUP($BK173,Archyvas,32,FALSE))))","v":{"$error":"#N/A"}},{"$f":"IF(IF(VLOOKUP($BK173,Archyvas,32,FALSE)=$BL$1,\"\",VLOOKUP($BK173,Archyvas,33,FALSE))=0,\"\",IF(VLOOKUP($BK173,Archyvas,32,FALSE)=$BL$1,\"\",VLOOKUP($BK173,Archyvas,33,FALSE)))","v":{"$error":"#N/A"}},{"$f":"IF(IF(VLOOKUP($BK173,Archyvas,32,FALSE)=$BL$1,\"\",VLOOKUP($BK173,Archyvas,34,FALSE))=0,\"\",IF(VLOOKUP($BK173,Archyvas,32,FALSE)=$BL$1,\"\",VLOOKUP($BK173,Archyvas,34,FALSE)))","v":{"$error":"#N/A"}},{"$f":"IF(IF(VLOOKUP($BK173,Archyvas,32,FALSE)=$BL$1,\"\",VLOOKUP($BK173,Archyvas,35,FALSE))=0,\"\",IF(VLOOKUP($BK173,Archyvas,32,FALSE)=$BL$1,\"\",VLOOKUP($BK173,Archyvas,35,FALSE)))","v":{"$error":"#N/A"}},{"$f":"IF(IF(VLOOKUP($BK173,Archyvas,32,FALSE)=$BL$1,\"\",VLOOKUP($BK173,Archyvas,36,FALSE))=0,\"\",IF(VLOOKUP($BK173,Archyvas,32,FALSE)=$BL$1,\"\",VLOOKUP($BK173,Archyvas,36,FALSE)))","v":{"$error":"#N/A"}},null,{"$f":"_xlfn.IFNA(IF(BS173=\"\",\"\",MAX(BR$1:BR172)+1),\"\")","v":""},"","","","","",""]
[null,null,null,null,null,null,null,null,null,null,null,null,null,null,null,null,null,null,null,null,null,null,null,null,null,null,null,null,null,null,null,null,null,null,null,null,null,null,null,null,null,null,null,null,null,null,null,null,null,null,null,null,null,null,null,null,null,{"$f":"IF(BG174=\"\",\"\",MAX(BF$1:BF173)+1)","v":""},{"$f":"IF(TEXT(Kortelė!$B$26,\"mm\")=IF(A174=\"\",\"\",TEXT(A174,\"mm\")),A174,\"\")","v":""},null,"",{"$f":"_xlfn.IFNA(IF(BL174=\"\",\"\",MAX(BJ$1:BJ173)+1),\"\")","v":""},"",{"$f":"IF(IF(IF(VLOOKUP($BK174,Archyvas,37,FALSE)=$BL$1,\"\",VLOOKUP($BK174,Archyvas,40,FALSE))=0,\"\",IF(VLOOKUP($BK174,Archyvas,37,FALSE)=$BL$1,\"\",VLOOKUP($BK174,Archyvas,40,FALSE)))=\"\",\"\",IF(IF(VLOOKUP($BK174,Archyvas,37,FALSE)=$BL$1,\"\",VLOOKUP($BK174,Archyvas,37,FALSE))=0,\"\",IF(VLOOKUP($BK174,Archyvas,37,FALSE)=$BL$1,\"\",VLOOKUP($BK174,Archyvas,37,FALSE))))","v":{"$error":"#N/A"}},{"$f":"IF(IF(VLOOKUP($BK174,Archyvas,37,FALSE)=$BL$1,\"\",VLOOKUP($BK174,Archyvas,38,FALSE))=0,\"\",IF(VLOOKUP($BK174,Archyvas,37,FALSE)=$BL$1,\"\",VLOOKUP($BK174,Archyvas,38,FALSE)))","v":{"$error":"#N/A"}},{"$f":"IF(IF(VLOOKUP($BK174,Archyvas,37,FALSE)=$BL$1,\"\",VLOOKUP($BK174,Archyvas,39,FALSE))=0,\"\",IF(VLOOKUP($BK174,Archyvas,37,FALSE)=$BL$1,\"\",VLOOKUP($BK174,Archyvas,39,FALSE)))","v":{"$error":"#N/A"}},{"$f":"IF(IF(VLOOKUP($BK174,Archyvas,37,FALSE)=$BL$1,\"\",VLOOKUP($BK174,Archyvas,40,FALSE))=0,\"\",IF(VLOOKUP($BK174,Archyvas,37,FALSE)=$BL$1,\"\",VLOOKUP($BK174,Archyvas,40,FALSE)))","v":{"$error":"#N/A"}},{"$f":"IF(IF(VLOOKUP($BK174,Archyvas,37,FALSE)=$BL$1,\"\",VLOOKUP($BK174,Archyvas,41,FALSE))=0,\"\",IF(VLOOKUP($BK174,Archyvas,37,FALSE)=$BL$1,\"\",VLOOKUP($BK174,Archyvas,41,FALSE)))","v":{"$error":"#N/A"}},null,{"$f":"_xlfn.IFNA(IF(BS174=\"\",\"\",MAX(BR$1:BR173)+1),\"\")","v":""},"","","","","",""]
[null,null,null,null,null,null,null,null,null,null,null,null,null,null,null,null,null,null,null,null,null,null,null,null,null,null,null,null,null,null,null,null,null,null,null,null,null,null,null,null,null,null,null,null,null,null,null,null,null,null,null,null,null,null,null,null,null,{"$f":"IF(BG175=\"\",\"\",MAX(BF$1:BF174)+1)","v":""},{"$f":"IF(TEXT(Kortelė!$B$26,\"mm\")=IF(A175=\"\",\"\",TEXT(A175,\"mm\")),A175,\"\")","v":""},null,"",{"$f":"_xlfn.IFNA(IF(BL175=\"\",\"\",MAX(BJ$1:BJ174)+1),\"\")","v":""},"",{"$f":"IF(IF(IF(VLOOKUP($BK175,Archyvas,42,FALSE)=$BL$1,\"\",VLOOKUP($BK175,Archyvas,45,FALSE))=0,\"\",IF(VLOOKUP($BK175,Archyvas,42,FALSE)=$BL$1,\"\",VLOOKUP($BK175,Archyvas,45,FALSE)))=\"\",\"\",IF(IF(VLOOKUP($BK175,Archyvas,42,FALSE)=$BL$1,\"\",VLOOKUP($BK175,Archyvas,42,FALSE))=0,\"\",IF(VLOOKUP($BK175,Archyvas,42,FALSE)=$BL$1,\"\",VLOOKUP($BK175,Archyvas,42,FALSE))))","v":{"$error":"#N/A"}},{"$f":"IF(IF(VLOOKUP($BK175,Archyvas,42,FALSE)=$BL$1,\"\",VLOOKUP($BK175,Archyvas,43,FALSE))=0,\"\",IF(VLOOKUP($BK175,Archyvas,42,FALSE)=$BL$1,\"\",VLOOKUP($BK175,Archyvas,43,FALSE)))","v":{"$error":"#N/A"}},{"$f":"IF(IF(VLOOKUP($BK175,Archyvas,42,FALSE)=$BL$1,\"\",VLOOKUP($BK175,Archyvas,44,FALSE))=0,\"\",IF(VLOOKUP($BK175,Archyvas,42,FALSE)=$BL$1,\"\",VLOOKUP($BK175,Archyvas,44,FALSE)))","v":{"$error":"#N/A"}},{"$f":"IF(IF(VLOOKUP($BK175,Archyvas,42,FALSE)=$BL$1,\"\",VLOOKUP($BK175,Archyvas,45,FALSE))=0,\"\",IF(VLOOKUP($BK175,Archyvas,42,FALSE)=$BL$1,\"\",VLOOKUP($BK175,Archyvas,45,FALSE)))","v":{"$error":"#N/A"}},{"$f":"IF(IF(VLOOKUP($BK175,Archyvas,42,FALSE)=$BL$1,\"\",VLOOKUP($BK175,Archyvas,46,FALSE))=0,\"\",IF(VLOOKUP($BK175,Archyvas,42,FALSE)=$BL$1,\"\",VLOOKUP($BK175,Archyvas,46,FALSE)))","v":{"$error":"#N/A"}},null,{"$f":"_xlfn.IFNA(IF(BS175=\"\",\"\",MAX(BR$1:BR174)+1),\"\")","v":""},"","","","","",""]
[null,null,null,null,null,null,null,null,null,null,null,null,null,null,null,null,null,null,null,null,null,null,null,null,null,null,null,null,null,null,null,null,null,null,null,null,null,null,null,null,null,null,null,null,null,null,null,null,null,null,null,null,null,null,null,null,null,{"$f":"IF(BG176=\"\",\"\",MAX(BF$1:BF175)+1)","v":""},{"$f":"IF(TEXT(Kortelė!$B$26,\"mm\")=IF(A176=\"\",\"\",TEXT(A176,\"mm\")),A176,\"\")","v":""},null,"",{"$f":"_xlfn.IFNA(IF(BL176=\"\",\"\",MAX(BJ$1:BJ175)+1),\"\")","v":""},"",{"$f":"IF(IF(IF(VLOOKUP($BK176,Archyvas,47,FALSE)=$BL$1,\"\",VLOOKUP($BK176,Archyvas,50,FALSE))=0,\"\",IF(VLOOKUP($BK176,Archyvas,47,FALSE)=$BL$1,\"\",VLOOKUP($BK176,Archyvas,50,FALSE)))=\"\",\"\",IF(IF(VLOOKUP($BK176,Archyvas,47,FALSE)=$BL$1,\"\",VLOOKUP($BK176,Archyvas,47,FALSE))=0,\"\",IF(VLOOKUP($BK176,Archyvas,47,FALSE)=$BL$1,\"\",VLOOKUP($BK176,Archyvas,47,FALSE))))","v":{"$error":"#N/A"}},{"$f":"IF(IF(VLOOKUP($BK176,Archyvas,47,FALSE)=$BL$1,\"\",VLOOKUP($BK176,Archyvas,48,FALSE))=0,\"\",IF(VLOOKUP($BK176,Archyvas,47,FALSE)=$BL$1,\"\",VLOOKUP($BK176,Archyvas,48,FALSE)))","v":{"$error":"#N/A"}},{"$f":"IF(IF(VLOOKUP($BK176,Archyvas,47,FALSE)=$BL$1,\"\",VLOOKUP($BK176,Archyvas,49,FALSE))=0,\"\",IF(VLOOKUP($BK176,Archyvas,47,FALSE)=$BL$1,\"\",VLOOKUP($BK176,Archyvas,49,FALSE)))","v":{"$error":"#N/A"}},{"$f":"IF(IF(VLOOKUP($BK176,Archyvas,47,FALSE)=$BL$1,\"\",VLOOKUP($BK176,Archyvas,50,FALSE))=0,\"\",IF(VLOOKUP($BK176,Archyvas,47,FALSE)=$BL$1,\"\",VLOOKUP($BK176,Archyvas,50,FALSE)))","v":{"$error":"#N/A"}},{"$f":"IF(IF(VLOOKUP($BK176,Archyvas,47,FALSE)=$BL$1,\"\",VLOOKUP($BK176,Archyvas,51,FALSE))=0,\"\",IF(VLOOKUP($BK176,Archyvas,47,FALSE)=$BL$1,\"\",VLOOKUP($BK176,Archyvas,51,FALSE)))","v":{"$error":"#N/A"}},null,{"$f":"_xlfn.IFNA(IF(BS176=\"\",\"\",MAX(BR$1:BR175)+1),\"\")","v":""},"","","","","",""]
[null,null,null,null,null,null,null,null,null,null,null,null,null,null,null,null,null,null,null,null,null,null,null,null,null,null,null,null,null,null,null,null,null,null,null,null,null,null,null,null,null,null,null,null,null,null,null,null,null,null,null,null,null,null,null,null,null,{"$f":"IF(BG177=\"\",\"\",MAX(BF$1:BF176)+1)","v":""},{"$f":"IF(TEXT(Kortelė!$B$26,\"mm\")=IF(A177=\"\",\"\",TEXT(A177,\"mm\")),A177,\"\")","v":""},null,"",{"$f":"_xlfn.IFNA(IF(BL177=\"\",\"\",MAX(BJ$1:BJ176)+1),\"\")","v":""},"",null,null,null,null,null,null,{"$f":"_xlfn.IFNA(IF(BS177=\"\",\"\",MAX(BR$1:BR176)+1),\"\")","v":""},"","","","","",""]
[null,null,null,null,null,null,null,null,null,null,null,null,null,null,null,null,null,null,null,null,null,null,null,null,null,null,null,null,null,null,null,null,null,null,null,null,null,null,null,null,null,null,null,null,null,null,null,null,null,null,null,null,null,null,null,null,null,{"$f":"IF(BG178=\"\",\"\",MAX(BF$1:BF177)+1)","v":""},{"$f":"IF(TEXT(Kortelė!$B$26,\"mm\")=IF(A178=\"\",\"\",TEXT(A178,\"mm\")),A178,\"\")","v":""},null,"",{"$f":"_xlfn.IFNA(IF(BL178=\"\",\"\",MAX(BJ$1:BJ177)+1),\"\")","v":""},{"$f":"$BI$18","v":""},{"$f":"IF(IF(IF(VLOOKUP($BK178,Archyvas,2,FALSE)=$BL$1,\"\",VLOOKUP($BK178,Archyvas,5,FALSE))=0,\"\",IF(VLOOKUP($BK178,Archyvas,2,FALSE)=$BL$1,\"\",VLOOKUP($BK178,Archyvas,5,FALSE)))=\"\",\"\",IF(IF(VLOOKUP($BK178,Archyvas,2,FALSE)=$BL$1,\"\",VLOOKUP($BK178,Archyvas,2,FALSE))=0,\"\",IF(VLOOKUP($BK178,Archyvas,2,FALSE)=$BL$1,\"\",VLOOKUP($BK178,Archyvas,2,FALSE))))","v":{"$error":"#N/A"}},{"$f":"IF(IF(VLOOKUP($BK178,Archyvas,2,FALSE)=$BL$1,\"\",VLOOKUP($BK178,Archyvas,3,FALSE))=0,\"\",IF(VLOOKUP($BK178,Archyvas,2,FALSE)=$BL$1,\"\",VLOOKUP($BK178,Archyvas,3,FALSE)))","v":{"$error":"#N/A"}},{"$f":"IF(IF(VLOOKUP($BK178,Archyvas,2,FALSE)=$BL$1,\"\",VLOOKUP($BK178,Archyvas,4,FALSE))=0,\"\",IF(VLOOKUP($BK178,Archyvas,2,FALSE)=$BL$1,\"\",VLOOKUP($BK178,Archyvas,4,FALSE)))","v":{"$error":"#N/A"}},{"$f":"IF(IF(VLOOKUP($BK178,Archyvas,2,FALSE)=$BL$1,\"\",VLOOKUP($BK178,Archyvas,5,FALSE))=0,\"\",IF(VLOOKUP($BK178,Archyvas,2,FALSE)=$BL$1,\"\",VLOOKUP($BK178,Archyvas,5,FALSE)))","v":{"$error":"#N/A"}},{"$f":"IF(IF(VLOOKUP($BK178,Archyvas,2,FALSE)=$BL$1,\"\",VLOOKUP($BK178,Archyvas,6,FALSE))=0,\"\",IF(VLOOKUP($BK178,Archyvas,2,FALSE)=$BL$1,\"\",VLOOKUP($BK178,Archyvas,6,FALSE)))","v":{"$error":"#N/A"}},null,{"$f":"_xlfn.IFNA(IF(BS178=\"\",\"\",MAX(BR$1:BR177)+1),\"\")","v":""},"","","","","",""]
[null,null,null,null,null,null,null,null,null,null,null,null,null,null,null,null,null,null,null,null,null,null,null,null,null,null,null,null,null,null,null,null,null,null,null,null,null,null,null,null,null,null,null,null,null,null,null,null,null,null,null,null,null,null,null,null,null,{"$f":"IF(BG179=\"\",\"\",MAX(BF$1:BF178)+1)","v":""},{"$f":"IF(TEXT(Kortelė!$B$26,\"mm\")=IF(A179=\"\",\"\",TEXT(A179,\"mm\")),A179,\"\")","v":""},null,"",{"$f":"_xlfn.IFNA(IF(BL179=\"\",\"\",MAX(BJ$1:BJ178)+1),\"\")","v":""},{"$f":"BK178","v":""},{"$f":"IF(IF(IF(VLOOKUP($BK179,Archyvas,7,FALSE)=$BL$1,\"\",VLOOKUP($BK179,Archyvas,10,FALSE))=0,\"\",IF(VLOOKUP($BK179,Archyvas,7,FALSE)=$BL$1,\"\",VLOOKUP($BK179,Archyvas,10,FALSE)))=\"\",\"\",IF(IF(VLOOKUP($BK179,Archyvas,7,FALSE)=$BL$1,\"\",VLOOKUP($BK179,Archyvas,7,FALSE))=0,\"\",IF(VLOOKUP($BK179,Archyvas,7,FALSE)=$BL$1,\"\",VLOOKUP($BK179,Archyvas,7,FALSE))))","v":{"$error":"#N/A"}},{"$f":"IF(IF(VLOOKUP($BK179,Archyvas,7,FALSE)=$BL$1,\"\",VLOOKUP($BK179,Archyvas,8,FALSE))=0,\"\",IF(VLOOKUP($BK179,Archyvas,7,FALSE)=$BL$1,\"\",VLOOKUP($BK179,Archyvas,8,FALSE)))","v":{"$error":"#N/A"}},{"$f":"IF(IF(VLOOKUP($BK179,Archyvas,7,FALSE)=$BL$1,\"\",VLOOKUP($BK179,Archyvas,9,FALSE))=0,\"\",IF(VLOOKUP($BK179,Archyvas,7,FALSE)=$BL$1,\"\",VLOOKUP($BK179,Archyvas,9,FALSE)))","v":{"$error":"#N/A"}},{"$f":"IF(IF(VLOOKUP($BK179,Archyvas,7,FALSE)=$BL$1,\"\",VLOOKUP($BK179,Archyvas,10,FALSE))=0,\"\",IF(VLOOKUP($BK179,Archyvas,7,FALSE)=$BL$1,\"\",VLOOKUP($BK179,Archyvas,10,FALSE)))","v":{"$error":"#N/A"}},{"$f":"IF(IF(VLOOKUP($BK179,Archyvas,7,FALSE)=$BL$1,\"\",VLOOKUP($BK179,Archyvas,11,FALSE))=0,\"\",IF(VLOOKUP($BK179,Archyvas,7,FALSE)=$BL$1,\"\",VLOOKUP($BK179,Archyvas,11,FALSE)))","v":{"$error":"#N/A"}},null,{"$f":"_xlfn.IFNA(IF(BS179=\"\",\"\",MAX(BR$1:BR178)+1),\"\")","v":""},"","","","","",""]
[null,null,null,null,null,null,null,null,null,null,null,null,null,null,null,null,null,null,null,null,null,null,null,null,null,null,null,null,null,null,null,null,null,null,null,null,null,null,null,null,null,null,null,null,null,null,null,null,null,null,null,null,null,null,null,null,null,{"$f":"IF(BG180=\"\",\"\",MAX(BF$1:BF179)+1)","v":""},{"$f":"IF(TEXT(Kortelė!$B$26,\"mm\")=IF(A180=\"\",\"\",TEXT(A180,\"mm\")),A180,\"\")","v":""},null,"",{"$f":"_xlfn.IFNA(IF(BL180=\"\",\"\",MAX(BJ$1:BJ179)+1),\"\")","v":""},"",{"$f":"IF(IF(IF(VLOOKUP($BK180,Archyvas,12,FALSE)=$BL$1,\"\",VLOOKUP($BK180,Archyvas,15,FALSE))=0,\"\",IF(VLOOKUP($BK180,Archyvas,12,FALSE)=$BL$1,\"\",VLOOKUP($BK180,Archyvas,15,FALSE)))=\"\",\"\",IF(IF(VLOOKUP($BK180,Archyvas,12,FALSE)=$BL$1,\"\",VLOOKUP($BK180,Archyvas,12,FALSE))=0,\"\",IF(VLOOKUP($BK180,Archyvas,12,FALSE)=$BL$1,\"\",VLOOKUP($BK180,Archyvas,12,FALSE))))","v":{"$error":"#N/A"}},{"$f":"IF(IF(VLOOKUP($BK180,Archyvas,12,FALSE)=$BL$1,\"\",VLOOKUP($BK180,Archyvas,13,FALSE))=0,\"\",IF(VLOOKUP($BK180,Archyvas,12,FALSE)=$BL$1,\"\",VLOOKUP($BK180,Archyvas,13,FALSE)))","v":{"$error":"#N/A"}},{"$f":"IF(IF(VLOOKUP($BK180,Archyvas,12,FALSE)=$BL$1,\"\",VLOOKUP($BK180,Archyvas,14,FALSE))=0,\"\",IF(VLOOKUP($BK180,Archyvas,12,FALSE)=$BL$1,\"\",VLOOKUP($BK180,Archyvas,14,FALSE)))","v":{"$error":"#N/A"}},{"$f":"IF(IF(VLOOKUP($BK180,Archyvas,12,FALSE)=$BL$1,\"\",VLOOKUP($BK180,Archyvas,15,FALSE))=0,\"\",IF(VLOOKUP($BK180,Archyvas,12,FALSE)=$BL$1,\"\",VLOOKUP($BK180,Archyvas,15,FALSE)))","v":{"$error":"#N/A"}},{"$f":"IF(IF(VLOOKUP($BK180,Archyvas,12,FALSE)=$BL$1,\"\",VLOOKUP($BK180,Archyvas,16,FALSE))=0,\"\",IF(VLOOKUP($BK180,Archyvas,12,FALSE)=$BL$1,\"\",VLOOKUP($BK180,Archyvas,16,FALSE)))","v":{"$error":"#N/A"}},null,{"$f":"_xlfn.IFNA(IF(BS180=\"\",\"\",MAX(BR$1:BR179)+1),\"\")","v":""},"","","","","",""]
[null,null,null,null,null,null,null,null,null,null,null,null,null,null,null,null,null,null,null,null,null,null,null,null,null,null,null,null,null,null,null,null,null,null,null,null,null,null,null,null,null,null,null,null,null,null,null,null,null,null,null,null,null,null,null,null,null,{"$f":"IF(BG181=\"\",\"\",MAX(BF$1:BF180)+1)","v":""},{"$f":"IF(TEXT(Kortelė!$B$26,\"mm\")=IF(A181=\"\",\"\",TEXT(A181,\"mm\")),A181,\"\")","v":""},null,"",{"$f":"_xlfn.IFNA(IF(BL181=\"\",\"\",MAX(BJ$1:BJ180)+1),\"\")","v":""},"",{"$f":"IF(IF(IF(VLOOKUP($BK181,Archyvas,17,FALSE)=$BL$1,\"\",VLOOKUP($BK181,Archyvas,20,FALSE))=0,\"\",IF(VLOOKUP($BK181,Archyvas,17,FALSE)=$BL$1,\"\",VLOOKUP($BK181,Archyvas,20,FALSE)))=\"\",\"\",IF(IF(VLOOKUP($BK181,Archyvas,17,FALSE)=$BL$1,\"\",VLOOKUP($BK181,Archyvas,17,FALSE))=0,\"\",IF(VLOOKUP($BK181,Archyvas,17,FALSE)=$BL$1,\"\",VLOOKUP($BK181,Archyvas,17,FALSE))))","v":{"$error":"#N/A"}},{"$f":"IF(IF(VLOOKUP($BK181,Archyvas,17,FALSE)=$BL$1,\"\",VLOOKUP($BK181,Archyvas,18,FALSE))=0,\"\",IF(VLOOKUP($BK181,Archyvas,17,FALSE)=$BL$1,\"\",VLOOKUP($BK181,Archyvas,18,FALSE)))","v":{"$error":"#N/A"}},{"$f":"IF(IF(VLOOKUP($BK181,Archyvas,17,FALSE)=$BL$1,\"\",VLOOKUP($BK181,Archyvas,19,FALSE))=0,\"\",IF(VLOOKUP($BK181,Archyvas,17,FALSE)=$BL$1,\"\",VLOOKUP($BK181,Archyvas,19,FALSE)))","v":{"$error":"#N/A"}},{"$f":"IF(IF(VLOOKUP($BK181,Archyvas,17,FALSE)=$BL$1,\"\",VLOOKUP($BK181,Archyvas,20,FALSE))=0,\"\",IF(VLOOKUP($BK181,Archyvas,17,FALSE)=$BL$1,\"\",VLOOKUP($BK181,Archyvas,20,FALSE)))","v":{"$error":"#N/A"}},{"$f":"IF(IF(VLOOKUP($BK181,Archyvas,17,FALSE)=$BL$1,\"\",VLOOKUP($BK181,Archyvas,21,FALSE))=0,\"\",IF(VLOOKUP($BK181,Archyvas,17,FALSE)=$BL$1,\"\",VLOOKUP($BK181,Archyvas,21,FALSE)))","v":{"$error":"#N/A"}},null,{"$f":"_xlfn.IFNA(IF(BS181=\"\",\"\",MAX(BR$1:BR180)+1),\"\")","v":""},"","","","","",""]
[null,null,null,null,null,null,null,null,null,null,null,null,null,null,null,null,null,null,null,null,null,null,null,null,null,null,null,null,null,null,null,null,null,null,null,null,null,null,null,null,null,null,null,null,null,null,null,null,null,null,null,null,null,null,null,null,null,{"$f":"IF(BG182=\"\",\"\",MAX(BF$1:BF181)+1)","v":""},{"$f":"IF(TEXT(Kortelė!$B$26,\"mm\")=IF(A182=\"\",\"\",TEXT(A182,\"mm\")),A182,\"\")","v":""},null,"",{"$f":"_xlfn.IFNA(IF(BL182=\"\",\"\",MAX(BJ$1:BJ181)+1),\"\")","v":""},"",{"$f":"IF(IF(IF(VLOOKUP($BK182,Archyvas,22,FALSE)=$BL$1,\"\",VLOOKUP($BK182,Archyvas,25,FALSE))=0,\"\",IF(VLOOKUP($BK182,Archyvas,22,FALSE)=$BL$1,\"\",VLOOKUP($BK182,Archyvas,25,FALSE)))=\"\",\"\",IF(IF(VLOOKUP($BK182,Archyvas,22,FALSE)=$BL$1,\"\",VLOOKUP($BK182,Archyvas,22,FALSE))=0,\"\",IF(VLOOKUP($BK182,Archyvas,22,FALSE)=$BL$1,\"\",VLOOKUP($BK182,Archyvas,22,FALSE))))","v":{"$error":"#N/A"}},{"$f":"IF(IF(VLOOKUP($BK182,Archyvas,22,FALSE)=$BL$1,\"\",VLOOKUP($BK182,Archyvas,23,FALSE))=0,\"\",IF(VLOOKUP($BK182,Archyvas,22,FALSE)=$BL$1,\"\",VLOOKUP($BK182,Archyvas,23,FALSE)))","v":{"$error":"#N/A"}},{"$f":"IF(IF(VLOOKUP($BK182,Archyvas,22,FALSE)=$BL$1,\"\",VLOOKUP($BK182,Archyvas,24,FALSE))=0,\"\",IF(VLOOKUP($BK182,Archyvas,22,FALSE)=$BL$1,\"\",VLOOKUP($BK182,Archyvas,24,FALSE)))","v":{"$error":"#N/A"}},{"$f":"IF(IF(VLOOKUP($BK182,Archyvas,22,FALSE)=$BL$1,\"\",VLOOKUP($BK182,Archyvas,25,FALSE))=0,\"\",IF(VLOOKUP($BK182,Archyvas,22,FALSE)=$BL$1,\"\",VLOOKUP($BK182,Archyvas,25,FALSE)))","v":{"$error":"#N/A"}},{"$f":"IF(IF(VLOOKUP($BK182,Archyvas,22,FALSE)=$BL$1,\"\",VLOOKUP($BK182,Archyvas,26,FALSE))=0,\"\",IF(VLOOKUP($BK182,Archyvas,22,FALSE)=$BL$1,\"\",VLOOKUP($BK182,Archyvas,26,FALSE)))","v":{"$error":"#N/A"}},null,{"$f":"_xlfn.IFNA(IF(BS182=\"\",\"\",MAX(BR$1:BR181)+1),\"\")","v":""},"","","","","",""]
[null,null,null,null,null,null,null,null,null,null,null,null,null,null,null,null,null,null,null,null,null,null,null,null,null,null,null,null,null,null,null,null,null,null,null,null,null,null,null,null,null,null,null,null,null,null,null,null,null,null,null,null,null,null,null,null,null,{"$f":"IF(BG183=\"\",\"\",MAX(BF$1:BF182)+1)","v":""},{"$f":"IF(TEXT(Kortelė!$B$26,\"mm\")=IF(A183=\"\",\"\",TEXT(A183,\"mm\")),A183,\"\")","v":""},null,"",{"$f":"_xlfn.IFNA(IF(BL183=\"\",\"\",MAX(BJ$1:BJ182)+1),\"\")","v":""},"",{"$f":"IF(IF(IF(VLOOKUP($BK183,Archyvas,27,FALSE)=$BL$1,\"\",VLOOKUP($BK183,Archyvas,30,FALSE))=0,\"\",IF(VLOOKUP($BK183,Archyvas,27,FALSE)=$BL$1,\"\",VLOOKUP($BK183,Archyvas,30,FALSE)))=\"\",\"\",IF(IF(VLOOKUP($BK183,Archyvas,27,FALSE)=$BL$1,\"\",VLOOKUP($BK183,Archyvas,27,FALSE))=0,\"\",IF(VLOOKUP($BK183,Archyvas,27,FALSE)=$BL$1,\"\",VLOOKUP($BK183,Archyvas,27,FALSE))))","v":{"$error":"#N/A"}},{"$f":"IF(IF(VLOOKUP($BK183,Archyvas,27,FALSE)=$BL$1,\"\",VLOOKUP($BK183,Archyvas,28,FALSE))=0,\"\",IF(VLOOKUP($BK183,Archyvas,27,FALSE)=$BL$1,\"\",VLOOKUP($BK183,Archyvas,28,FALSE)))","v":{"$error":"#N/A"}},{"$f":"IF(IF(VLOOKUP($BK183,Archyvas,27,FALSE)=$BL$1,\"\",VLOOKUP($BK183,Archyvas,29,FALSE))=0,\"\",IF(VLOOKUP($BK183,Archyvas,27,FALSE)=$BL$1,\"\",VLOOKUP($BK183,Archyvas,29,FALSE)))","v":{"$error":"#N/A"}},{"$f":"IF(IF(VLOOKUP($BK183,Archyvas,27,FALSE)=$BL$1,\"\",VLOOKUP($BK183,Archyvas,30,FALSE))=0,\"\",IF(VLOOKUP($BK183,Archyvas,27,FALSE)=$BL$1,\"\",VLOOKUP($BK183,Archyvas,30,FALSE)))","v":{"$error":"#N/A"}},{"$f":"IF(IF(VLOOKUP($BK183,Archyvas,27,FALSE)=$BL$1,\"\",VLOOKUP($BK183,Archyvas,31,FALSE))=0,\"\",IF(VLOOKUP($BK183,Archyvas,27,FALSE)=$BL$1,\"\",VLOOKUP($BK183,Archyvas,31,FALSE)))","v":{"$error":"#N/A"}},null,{"$f":"_xlfn.IFNA(IF(BS183=\"\",\"\",MAX(BR$1:BR182)+1),\"\")","v":""},"","","","","",""]
[null,null,null,null,null,null,null,null,null,null,null,null,null,null,null,null,null,null,null,null,null,null,null,null,null,null,null,null,null,null,null,null,null,null,null,null,null,null,null,null,null,null,null,null,null,null,null,null,null,null,null,null,null,null,null,null,null,{"$f":"IF(BG184=\"\",\"\",MAX(BF$1:BF183)+1)","v":""},{"$f":"IF(TEXT(Kortelė!$B$26,\"mm\")=IF(A184=\"\",\"\",TEXT(A184,\"mm\")),A184,\"\")","v":""},null,"",{"$f":"_xlfn.IFNA(IF(BL184=\"\",\"\",MAX(BJ$1:BJ183)+1),\"\")","v":""},"",{"$f":"IF(IF(IF(VLOOKUP($BK184,Archyvas,32,FALSE)=$BL$1,\"\",VLOOKUP($BK184,Archyvas,35,FALSE))=0,\"\",IF(VLOOKUP($BK184,Archyvas,32,FALSE)=$BL$1,\"\",VLOOKUP($BK184,Archyvas,35,FALSE)))=\"\",\"\",IF(IF(VLOOKUP($BK184,Archyvas,32,FALSE)=$BL$1,\"\",VLOOKUP($BK184,Archyvas,32,FALSE))=0,\"\",IF(VLOOKUP($BK184,Archyvas,32,FALSE)=$BL$1,\"\",VLOOKUP($BK184,Archyvas,32,FALSE))))","v":{"$error":"#N/A"}},{"$f":"IF(IF(VLOOKUP($BK184,Archyvas,32,FALSE)=$BL$1,\"\",VLOOKUP($BK184,Archyvas,33,FALSE))=0,\"\",IF(VLOOKUP($BK184,Archyvas,32,FALSE)=$BL$1,\"\",VLOOKUP($BK184,Archyvas,33,FALSE)))","v":{"$error":"#N/A"}},{"$f":"IF(IF(VLOOKUP($BK184,Archyvas,32,FALSE)=$BL$1,\"\",VLOOKUP($BK184,Archyvas,34,FALSE))=0,\"\",IF(VLOOKUP($BK184,Archyvas,32,FALSE)=$BL$1,\"\",VLOOKUP($BK184,Archyvas,34,FALSE)))","v":{"$error":"#N/A"}},{"$f":"IF(IF(VLOOKUP($BK184,Archyvas,32,FALSE)=$BL$1,\"\",VLOOKUP($BK184,Archyvas,35,FALSE))=0,\"\",IF(VLOOKUP($BK184,Archyvas,32,FALSE)=$BL$1,\"\",VLOOKUP($BK184,Archyvas,35,FALSE)))","v":{"$error":"#N/A"}},{"$f":"IF(IF(VLOOKUP($BK184,Archyvas,32,FALSE)=$BL$1,\"\",VLOOKUP($BK184,Archyvas,36,FALSE))=0,\"\",IF(VLOOKUP($BK184,Archyvas,32,FALSE)=$BL$1,\"\",VLOOKUP($BK184,Archyvas,36,FALSE)))","v":{"$error":"#N/A"}},null,{"$f":"_xlfn.IFNA(IF(BS184=\"\",\"\",MAX(BR$1:BR183)+1),\"\")","v":""},"","","","","",""]
[null,null,null,null,null,null,null,null,null,null,null,null,null,null,null,null,null,null,null,null,null,null,null,null,null,null,null,null,null,null,null,null,null,null,null,null,null,null,null,null,null,null,null,null,null,null,null,null,null,null,null,null,null,null,null,null,null,{"$f":"IF(BG185=\"\",\"\",MAX(BF$1:BF184)+1)","v":""},{"$f":"IF(TEXT(Kortelė!$B$26,\"mm\")=IF(A185=\"\",\"\",TEXT(A185,\"mm\")),A185,\"\")","v":""},null,"",{"$f":"_xlfn.IFNA(IF(BL185=\"\",\"\",MAX(BJ$1:BJ184)+1),\"\")","v":""},"",{"$f":"IF(IF(IF(VLOOKUP($BK185,Archyvas,37,FALSE)=$BL$1,\"\",VLOOKUP($BK185,Archyvas,40,FALSE))=0,\"\",IF(VLOOKUP($BK185,Archyvas,37,FALSE)=$BL$1,\"\",VLOOKUP($BK185,Archyvas,40,FALSE)))=\"\",\"\",IF(IF(VLOOKUP($BK185,Archyvas,37,FALSE)=$BL$1,\"\",VLOOKUP($BK185,Archyvas,37,FALSE))=0,\"\",IF(VLOOKUP($BK185,Archyvas,37,FALSE)=$BL$1,\"\",VLOOKUP($BK185,Archyvas,37,FALSE))))","v":{"$error":"#N/A"}},{"$f":"IF(IF(VLOOKUP($BK185,Archyvas,37,FALSE)=$BL$1,\"\",VLOOKUP($BK185,Archyvas,38,FALSE))=0,\"\",IF(VLOOKUP($BK185,Archyvas,37,FALSE)=$BL$1,\"\",VLOOKUP($BK185,Archyvas,38,FALSE)))","v":{"$error":"#N/A"}},{"$f":"IF(IF(VLOOKUP($BK185,Archyvas,37,FALSE)=$BL$1,\"\",VLOOKUP($BK185,Archyvas,39,FALSE))=0,\"\",IF(VLOOKUP($BK185,Archyvas,37,FALSE)=$BL$1,\"\",VLOOKUP($BK185,Archyvas,39,FALSE)))","v":{"$error":"#N/A"}},{"$f":"IF(IF(VLOOKUP($BK185,Archyvas,37,FALSE)=$BL$1,\"\",VLOOKUP($BK185,Archyvas,40,FALSE))=0,\"\",IF(VLOOKUP($BK185,Archyvas,37,FALSE)=$BL$1,\"\",VLOOKUP($BK185,Archyvas,40,FALSE)))","v":{"$error":"#N/A"}},{"$f":"IF(IF(VLOOKUP($BK185,Archyvas,37,FALSE)=$BL$1,\"\",VLOOKUP($BK185,Archyvas,41,FALSE))=0,\"\",IF(VLOOKUP($BK185,Archyvas,37,FALSE)=$BL$1,\"\",VLOOKUP($BK185,Archyvas,41,FALSE)))","v":{"$error":"#N/A"}},null,{"$f":"_xlfn.IFNA(IF(BS185=\"\",\"\",MAX(BR$1:BR184)+1),\"\")","v":""},"","","","","",""]
[null,null,null,null,null,null,null,null,null,null,null,null,null,null,null,null,null,null,null,null,null,null,null,null,null,null,null,null,null,null,null,null,null,null,null,null,null,null,null,null,null,null,null,null,null,null,null,null,null,null,null,null,null,null,null,null,null,{"$f":"IF(BG186=\"\",\"\",MAX(BF$1:BF185)+1)","v":""},{"$f":"IF(TEXT(Kortelė!$B$26,\"mm\")=IF(A186=\"\",\"\",TEXT(A186,\"mm\")),A186,\"\")","v":""},null,"",{"$f":"_xlfn.IFNA(IF(BL186=\"\",\"\",MAX(BJ$1:BJ185)+1),\"\")","v":""},"",{"$f":"IF(IF(IF(VLOOKUP($BK186,Archyvas,42,FALSE)=$BL$1,\"\",VLOOKUP($BK186,Archyvas,45,FALSE))=0,\"\",IF(VLOOKUP($BK186,Archyvas,42,FALSE)=$BL$1,\"\",VLOOKUP($BK186,Archyvas,45,FALSE)))=\"\",\"\",IF(IF(VLOOKUP($BK186,Archyvas,42,FALSE)=$BL$1,\"\",VLOOKUP($BK186,Archyvas,42,FALSE))=0,\"\",IF(VLOOKUP($BK186,Archyvas,42,FALSE)=$BL$1,\"\",VLOOKUP($BK186,Archyvas,42,FALSE))))","v":{"$error":"#N/A"}},{"$f":"IF(IF(VLOOKUP($BK186,Archyvas,42,FALSE)=$BL$1,\"\",VLOOKUP($BK186,Archyvas,43,FALSE))=0,\"\",IF(VLOOKUP($BK186,Archyvas,42,FALSE)=$BL$1,\"\",VLOOKUP($BK186,Archyvas,43,FALSE)))","v":{"$error":"#N/A"}},{"$f":"IF(IF(VLOOKUP($BK186,Archyvas,42,FALSE)=$BL$1,\"\",VLOOKUP($BK186,Archyvas,44,FALSE))=0,\"\",IF(VLOOKUP($BK186,Archyvas,42,FALSE)=$BL$1,\"\",VLOOKUP($BK186,Archyvas,44,FALSE)))","v":{"$error":"#N/A"}},{"$f":"IF(IF(VLOOKUP($BK186,Archyvas,42,FALSE)=$BL$1,\"\",VLOOKUP($BK186,Archyvas,45,FALSE))=0,\"\",IF(VLOOKUP($BK186,Archyvas,42,FALSE)=$BL$1,\"\",VLOOKUP($BK186,Archyvas,45,FALSE)))","v":{"$error":"#N/A"}},{"$f":"IF(IF(VLOOKUP($BK186,Archyvas,42,FALSE)=$BL$1,\"\",VLOOKUP($BK186,Archyvas,46,FALSE))=0,\"\",IF(VLOOKUP($BK186,Archyvas,42,FALSE)=$BL$1,\"\",VLOOKUP($BK186,Archyvas,46,FALSE)))","v":{"$error":"#N/A"}},null,{"$f":"_xlfn.IFNA(IF(BS186=\"\",\"\",MAX(BR$1:BR185)+1),\"\")","v":""},"","","","","",""]
[null,null,null,null,null,null,null,null,null,null,null,null,null,null,null,null,null,null,null,null,null,null,null,null,null,null,null,null,null,null,null,null,null,null,null,null,null,null,null,null,null,null,null,null,null,null,null,null,null,null,null,null,null,null,null,null,null,{"$f":"IF(BG187=\"\",\"\",MAX(BF$1:BF186)+1)","v":""},{"$f":"IF(TEXT(Kortelė!$B$26,\"mm\")=IF(A187=\"\",\"\",TEXT(A187,\"mm\")),A187,\"\")","v":""},null,"",{"$f":"_xlfn.IFNA(IF(BL187=\"\",\"\",MAX(BJ$1:BJ186)+1),\"\")","v":""},"",{"$f":"IF(IF(IF(VLOOKUP($BK187,Archyvas,47,FALSE)=$BL$1,\"\",VLOOKUP($BK187,Archyvas,50,FALSE))=0,\"\",IF(VLOOKUP($BK187,Archyvas,47,FALSE)=$BL$1,\"\",VLOOKUP($BK187,Archyvas,50,FALSE)))=\"\",\"\",IF(IF(VLOOKUP($BK187,Archyvas,47,FALSE)=$BL$1,\"\",VLOOKUP($BK187,Archyvas,47,FALSE))=0,\"\",IF(VLOOKUP($BK187,Archyvas,47,FALSE)=$BL$1,\"\",VLOOKUP($BK187,Archyvas,47,FALSE))))","v":{"$error":"#N/A"}},{"$f":"IF(IF(VLOOKUP($BK187,Archyvas,47,FALSE)=$BL$1,\"\",VLOOKUP($BK187,Archyvas,48,FALSE))=0,\"\",IF(VLOOKUP($BK187,Archyvas,47,FALSE)=$BL$1,\"\",VLOOKUP($BK187,Archyvas,48,FALSE)))","v":{"$error":"#N/A"}},{"$f":"IF(IF(VLOOKUP($BK187,Archyvas,47,FALSE)=$BL$1,\"\",VLOOKUP($BK187,Archyvas,49,FALSE))=0,\"\",IF(VLOOKUP($BK187,Archyvas,47,FALSE)=$BL$1,\"\",VLOOKUP($BK187,Archyvas,49,FALSE)))","v":{"$error":"#N/A"}},{"$f":"IF(IF(VLOOKUP($BK187,Archyvas,47,FALSE)=$BL$1,\"\",VLOOKUP($BK187,Archyvas,50,FALSE))=0,\"\",IF(VLOOKUP($BK187,Archyvas,47,FALSE)=$BL$1,\"\",VLOOKUP($BK187,Archyvas,50,FALSE)))","v":{"$error":"#N/A"}},{"$f":"IF(IF(VLOOKUP($BK187,Archyvas,47,FALSE)=$BL$1,\"\",VLOOKUP($BK187,Archyvas,51,FALSE))=0,\"\",IF(VLOOKUP($BK187,Archyvas,47,FALSE)=$BL$1,\"\",VLOOKUP($BK187,Archyvas,51,FALSE)))","v":{"$error":"#N/A"}},null,{"$f":"_xlfn.IFNA(IF(BS187=\"\",\"\",MAX(BR$1:BR186)+1),\"\")","v":""},"","","","","",""]
[null,null,null,null,null,null,null,null,null,null,null,null,null,null,null,null,null,null,null,null,null,null,null,null,null,null,null,null,null,null,null,null,null,null,null,null,null,null,null,null,null,null,null,null,null,null,null,null,null,null,null,null,null,null,null,null,null,{"$f":"IF(BG188=\"\",\"\",MAX(BF$1:BF187)+1)","v":""},{"$f":"IF(TEXT(Kortelė!$B$26,\"mm\")=IF(A188=\"\",\"\",TEXT(A188,\"mm\")),A188,\"\")","v":""},null,"",{"$f":"_xlfn.IFNA(IF(BL188=\"\",\"\",MAX(BJ$1:BJ187)+1),\"\")","v":""},null,null,null,null,null,null,null,{"$f":"_xlfn.IFNA(IF(BS188=\"\",\"\",MAX(BR$1:BR187)+1),\"\")","v":""},"","","","","",""]
[null,null,null,null,null,null,null,null,null,null,null,null,null,null,null,null,null,null,null,null,null,null,null,null,null,null,null,null,null,null,null,null,null,null,null,null,null,null,null,null,null,null,null,null,null,null,null,null,null,null,null,null,null,null,null,null,null,{"$f":"IF(BG189=\"\",\"\",MAX(BF$1:BF188)+1)","v":""},{"$f":"IF(TEXT(Kortelė!$B$26,\"mm\")=IF(A189=\"\",\"\",TEXT(A189,\"mm\")),A189,\"\")","v":""},null,"",{"$f":"_xlfn.IFNA(IF(BL189=\"\",\"\",MAX(BJ$1:BJ188)+1),\"\")","v":""},{"$f":"$BI$19","v":""},{"$f":"IF(IF(IF(VLOOKUP($BK189,Archyvas,2,FALSE)=$BL$1,\"\",VLOOKUP($BK189,Archyvas,5,FALSE))=0,\"\",IF(VLOOKUP($BK189,Archyvas,2,FALSE)=$BL$1,\"\",VLOOKUP($BK189,Archyvas,5,FALSE)))=\"\",\"\",IF(IF(VLOOKUP($BK189,Archyvas,2,FALSE)=$BL$1,\"\",VLOOKUP($BK189,Archyvas,2,FALSE))=0,\"\",IF(VLOOKUP($BK189,Archyvas,2,FALSE)=$BL$1,\"\",VLOOKUP($BK189,Archyvas,2,FALSE))))","v":{"$error":"#N/A"}},{"$f":"IF(IF(VLOOKUP($BK189,Archyvas,2,FALSE)=$BL$1,\"\",VLOOKUP($BK189,Archyvas,3,FALSE))=0,\"\",IF(VLOOKUP($BK189,Archyvas,2,FALSE)=$BL$1,\"\",VLOOKUP($BK189,Archyvas,3,FALSE)))","v":{"$error":"#N/A"}},{"$f":"IF(IF(VLOOKUP($BK189,Archyvas,2,FALSE)=$BL$1,\"\",VLOOKUP($BK189,Archyvas,4,FALSE))=0,\"\",IF(VLOOKUP($BK189,Archyvas,2,FALSE)=$BL$1,\"\",VLOOKUP($BK189,Archyvas,4,FALSE)))","v":{"$error":"#N/A"}},{"$f":"IF(IF(VLOOKUP($BK189,Archyvas,2,FALSE)=$BL$1,\"\",VLOOKUP($BK189,Archyvas,5,FALSE))=0,\"\",IF(VLOOKUP($BK189,Archyvas,2,FALSE)=$BL$1,\"\",VLOOKUP($BK189,Archyvas,5,FALSE)))","v":{"$error":"#N/A"}},{"$f":"IF(IF(VLOOKUP($BK189,Archyvas,2,FALSE)=$BL$1,\"\",VLOOKUP($BK189,Archyvas,6,FALSE))=0,\"\",IF(VLOOKUP($BK189,Archyvas,2,FALSE)=$BL$1,\"\",VLOOKUP($BK189,Archyvas,6,FALSE)))","v":{"$error":"#N/A"}},null,{"$f":"_xlfn.IFNA(IF(BS189=\"\",\"\",MAX(BR$1:BR188)+1),\"\")","v":""},"","","","","",""]
[null,null,null,null,null,null,null,null,null,null,null,null,null,null,null,null,null,null,null,null,null,null,null,null,null,null,null,null,null,null,null,null,null,null,null,null,null,null,null,null,null,null,null,null,null,null,null,null,null,null,null,null,null,null,null,null,null,{"$f":"IF(BG190=\"\",\"\",MAX(BF$1:BF189)+1)","v":""},{"$f":"IF(TEXT(Kortelė!$B$26,\"mm\")=IF(A190=\"\",\"\",TEXT(A190,\"mm\")),A190,\"\")","v":""},null,"",{"$f":"_xlfn.IFNA(IF(BL190=\"\",\"\",MAX(BJ$1:BJ189)+1),\"\")","v":""},{"$f":"BK189","v":""},{"$f":"IF(IF(IF(VLOOKUP($BK190,Archyvas,7,FALSE)=$BL$1,\"\",VLOOKUP($BK190,Archyvas,10,FALSE))=0,\"\",IF(VLOOKUP($BK190,Archyvas,7,FALSE)=$BL$1,\"\",VLOOKUP($BK190,Archyvas,10,FALSE)))=\"\",\"\",IF(IF(VLOOKUP($BK190,Archyvas,7,FALSE)=$BL$1,\"\",VLOOKUP($BK190,Archyvas,7,FALSE))=0,\"\",IF(VLOOKUP($BK190,Archyvas,7,FALSE)=$BL$1,\"\",VLOOKUP($BK190,Archyvas,7,FALSE))))","v":{"$error":"#N/A"}},{"$f":"IF(IF(VLOOKUP($BK190,Archyvas,7,FALSE)=$BL$1,\"\",VLOOKUP($BK190,Archyvas,8,FALSE))=0,\"\",IF(VLOOKUP($BK190,Archyvas,7,FALSE)=$BL$1,\"\",VLOOKUP($BK190,Archyvas,8,FALSE)))","v":{"$error":"#N/A"}},{"$f":"IF(IF(VLOOKUP($BK190,Archyvas,7,FALSE)=$BL$1,\"\",VLOOKUP($BK190,Archyvas,9,FALSE))=0,\"\",IF(VLOOKUP($BK190,Archyvas,7,FALSE)=$BL$1,\"\",VLOOKUP($BK190,Archyvas,9,FALSE)))","v":{"$error":"#N/A"}},{"$f":"IF(IF(VLOOKUP($BK190,Archyvas,7,FALSE)=$BL$1,\"\",VLOOKUP($BK190,Archyvas,10,FALSE))=0,\"\",IF(VLOOKUP($BK190,Archyvas,7,FALSE)=$BL$1,\"\",VLOOKUP($BK190,Archyvas,10,FALSE)))","v":{"$error":"#N/A"}},{"$f":"IF(IF(VLOOKUP($BK190,Archyvas,7,FALSE)=$BL$1,\"\",VLOOKUP($BK190,Archyvas,11,FALSE))=0,\"\",IF(VLOOKUP($BK190,Archyvas,7,FALSE)=$BL$1,\"\",VLOOKUP($BK190,Archyvas,11,FALSE)))","v":{"$error":"#N/A"}},null,{"$f":"_xlfn.IFNA(IF(BS190=\"\",\"\",MAX(BR$1:BR189)+1),\"\")","v":""},"","","","","",""]
[null,null,null,null,null,null,null,null,null,null,null,null,null,null,null,null,null,null,null,null,null,null,null,null,null,null,null,null,null,null,null,null,null,null,null,null,null,null,null,null,null,null,null,null,null,null,null,null,null,null,null,null,null,null,null,null,null,{"$f":"IF(BG191=\"\",\"\",MAX(BF$1:BF190)+1)","v":""},{"$f":"IF(TEXT(Kortelė!$B$26,\"mm\")=IF(A191=\"\",\"\",TEXT(A191,\"mm\")),A191,\"\")","v":""},null,"",{"$f":"_xlfn.IFNA(IF(BL191=\"\",\"\",MAX(BJ$1:BJ190)+1),\"\")","v":""},"",{"$f":"IF(IF(IF(VLOOKUP($BK191,Archyvas,12,FALSE)=$BL$1,\"\",VLOOKUP($BK191,Archyvas,15,FALSE))=0,\"\",IF(VLOOKUP($BK191,Archyvas,12,FALSE)=$BL$1,\"\",VLOOKUP($BK191,Archyvas,15,FALSE)))=\"\",\"\",IF(IF(VLOOKUP($BK191,Archyvas,12,FALSE)=$BL$1,\"\",VLOOKUP($BK191,Archyvas,12,FALSE))=0,\"\",IF(VLOOKUP($BK191,Archyvas,12,FALSE)=$BL$1,\"\",VLOOKUP($BK191,Archyvas,12,FALSE))))","v":{"$error":"#N/A"}},{"$f":"IF(IF(VLOOKUP($BK191,Archyvas,12,FALSE)=$BL$1,\"\",VLOOKUP($BK191,Archyvas,13,FALSE))=0,\"\",IF(VLOOKUP($BK191,Archyvas,12,FALSE)=$BL$1,\"\",VLOOKUP($BK191,Archyvas,13,FALSE)))","v":{"$error":"#N/A"}},{"$f":"IF(IF(VLOOKUP($BK191,Archyvas,12,FALSE)=$BL$1,\"\",VLOOKUP($BK191,Archyvas,14,FALSE))=0,\"\",IF(VLOOKUP($BK191,Archyvas,12,FALSE)=$BL$1,\"\",VLOOKUP($BK191,Archyvas,14,FALSE)))","v":{"$error":"#N/A"}},{"$f":"IF(IF(VLOOKUP($BK191,Archyvas,12,FALSE)=$BL$1,\"\",VLOOKUP($BK191,Archyvas,15,FALSE))=0,\"\",IF(VLOOKUP($BK191,Archyvas,12,FALSE)=$BL$1,\"\",VLOOKUP($BK191,Archyvas,15,FALSE)))","v":{"$error":"#N/A"}},{"$f":"IF(IF(VLOOKUP($BK191,Archyvas,12,FALSE)=$BL$1,\"\",VLOOKUP($BK191,Archyvas,16,FALSE))=0,\"\",IF(VLOOKUP($BK191,Archyvas,12,FALSE)=$BL$1,\"\",VLOOKUP($BK191,Archyvas,16,FALSE)))","v":{"$error":"#N/A"}},null,{"$f":"_xlfn.IFNA(IF(BS191=\"\",\"\",MAX(BR$1:BR190)+1),\"\")","v":""},"","","","","",""]
[null,null,null,null,null,null,null,null,null,null,null,null,null,null,null,null,null,null,null,null,null,null,null,null,null,null,null,null,null,null,null,null,null,null,null,null,null,null,null,null,null,null,null,null,null,null,null,null,null,null,null,null,null,null,null,null,null,{"$f":"IF(BG192=\"\",\"\",MAX(BF$1:BF191)+1)","v":""},{"$f":"IF(TEXT(Kortelė!$B$26,\"mm\")=IF(A192=\"\",\"\",TEXT(A192,\"mm\")),A192,\"\")","v":""},null,"",{"$f":"_xlfn.IFNA(IF(BL192=\"\",\"\",MAX(BJ$1:BJ191)+1),\"\")","v":""},"",{"$f":"IF(IF(IF(VLOOKUP($BK192,Archyvas,17,FALSE)=$BL$1,\"\",VLOOKUP($BK192,Archyvas,20,FALSE))=0,\"\",IF(VLOOKUP($BK192,Archyvas,17,FALSE)=$BL$1,\"\",VLOOKUP($BK192,Archyvas,20,FALSE)))=\"\",\"\",IF(IF(VLOOKUP($BK192,Archyvas,17,FALSE)=$BL$1,\"\",VLOOKUP($BK192,Archyvas,17,FALSE))=0,\"\",IF(VLOOKUP($BK192,Archyvas,17,FALSE)=$BL$1,\"\",VLOOKUP($BK192,Archyvas,17,FALSE))))","v":{"$error":"#N/A"}},{"$f":"IF(IF(VLOOKUP($BK192,Archyvas,17,FALSE)=$BL$1,\"\",VLOOKUP($BK192,Archyvas,18,FALSE))=0,\"\",IF(VLOOKUP($BK192,Archyvas,17,FALSE)=$BL$1,\"\",VLOOKUP($BK192,Archyvas,18,FALSE)))","v":{"$error":"#N/A"}},{"$f":"IF(IF(VLOOKUP($BK192,Archyvas,17,FALSE)=$BL$1,\"\",VLOOKUP($BK192,Archyvas,19,FALSE))=0,\"\",IF(VLOOKUP($BK192,Archyvas,17,FALSE)=$BL$1,\"\",VLOOKUP($BK192,Archyvas,19,FALSE)))","v":{"$error":"#N/A"}},{"$f":"IF(IF(VLOOKUP($BK192,Archyvas,17,FALSE)=$BL$1,\"\",VLOOKUP($BK192,Archyvas,20,FALSE))=0,\"\",IF(VLOOKUP($BK192,Archyvas,17,FALSE)=$BL$1,\"\",VLOOKUP($BK192,Archyvas,20,FALSE)))","v":{"$error":"#N/A"}},{"$f":"IF(IF(VLOOKUP($BK192,Archyvas,17,FALSE)=$BL$1,\"\",VLOOKUP($BK192,Archyvas,21,FALSE))=0,\"\",IF(VLOOKUP($BK192,Archyvas,17,FALSE)=$BL$1,\"\",VLOOKUP($BK192,Archyvas,21,FALSE)))","v":{"$error":"#N/A"}},null,{"$f":"_xlfn.IFNA(IF(BS192=\"\",\"\",MAX(BR$1:BR191)+1),\"\")","v":""},"","","","","",""]
[null,null,null,null,null,null,null,null,null,null,null,null,null,null,null,null,null,null,null,null,null,null,null,null,null,null,null,null,null,null,null,null,null,null,null,null,null,null,null,null,null,null,null,null,null,null,null,null,null,null,null,null,null,null,null,null,null,{"$f":"IF(BG193=\"\",\"\",MAX(BF$1:BF192)+1)","v":""},{"$f":"IF(TEXT(Kortelė!$B$26,\"mm\")=IF(A193=\"\",\"\",TEXT(A193,\"mm\")),A193,\"\")","v":""},null,"",{"$f":"_xlfn.IFNA(IF(BL193=\"\",\"\",MAX(BJ$1:BJ192)+1),\"\")","v":""},"",{"$f":"IF(IF(IF(VLOOKUP($BK193,Archyvas,22,FALSE)=$BL$1,\"\",VLOOKUP($BK193,Archyvas,25,FALSE))=0,\"\",IF(VLOOKUP($BK193,Archyvas,22,FALSE)=$BL$1,\"\",VLOOKUP($BK193,Archyvas,25,FALSE)))=\"\",\"\",IF(IF(VLOOKUP($BK193,Archyvas,22,FALSE)=$BL$1,\"\",VLOOKUP($BK193,Archyvas,22,FALSE))=0,\"\",IF(VLOOKUP($BK193,Archyvas,22,FALSE)=$BL$1,\"\",VLOOKUP($BK193,Archyvas,22,FALSE))))","v":{"$error":"#N/A"}},{"$f":"IF(IF(VLOOKUP($BK193,Archyvas,22,FALSE)=$BL$1,\"\",VLOOKUP($BK193,Archyvas,23,FALSE))=0,\"\",IF(VLOOKUP($BK193,Archyvas,22,FALSE)=$BL$1,\"\",VLOOKUP($BK193,Archyvas,23,FALSE)))","v":{"$error":"#N/A"}},{"$f":"IF(IF(VLOOKUP($BK193,Archyvas,22,FALSE)=$BL$1,\"\",VLOOKUP($BK193,Archyvas,24,FALSE))=0,\"\",IF(VLOOKUP($BK193,Archyvas,22,FALSE)=$BL$1,\"\",VLOOKUP($BK193,Archyvas,24,FALSE)))","v":{"$error":"#N/A"}},{"$f":"IF(IF(VLOOKUP($BK193,Archyvas,22,FALSE)=$BL$1,\"\",VLOOKUP($BK193,Archyvas,25,FALSE))=0,\"\",IF(VLOOKUP($BK193,Archyvas,22,FALSE)=$BL$1,\"\",VLOOKUP($BK193,Archyvas,25,FALSE)))","v":{"$error":"#N/A"}},{"$f":"IF(IF(VLOOKUP($BK193,Archyvas,22,FALSE)=$BL$1,\"\",VLOOKUP($BK193,Archyvas,26,FALSE))=0,\"\",IF(VLOOKUP($BK193,Archyvas,22,FALSE)=$BL$1,\"\",VLOOKUP($BK193,Archyvas,26,FALSE)))","v":{"$error":"#N/A"}},null,{"$f":"_xlfn.IFNA(IF(BS193=\"\",\"\",MAX(BR$1:BR192)+1),\"\")","v":""},"","","","","",""]
[null,null,null,null,null,null,null,null,null,null,null,null,null,null,null,null,null,null,null,null,null,null,null,null,null,null,null,null,null,null,null,null,null,null,null,null,null,null,null,null,null,null,null,null,null,null,null,null,null,null,null,null,null,null,null,null,null,{"$f":"IF(BG194=\"\",\"\",MAX(BF$1:BF193)+1)","v":""},{"$f":"IF(TEXT(Kortelė!$B$26,\"mm\")=IF(A194=\"\",\"\",TEXT(A194,\"mm\")),A194,\"\")","v":""},null,{"$f":"IFERROR(INDEX($BG$2:$BG$500,MATCH(ROW()-ROW($A$1),$BF$2:$BF$500,0)),\"\")","v":""},{"$f":"_xlfn.IFNA(IF(BL194=\"\",\"\",MAX(BJ$1:BJ193)+1),\"\")","v":""},"",{"$f":"IF(IF(IF(VLOOKUP($BK194,Archyvas,27,FALSE)=$BL$1,\"\",VLOOKUP($BK194,Archyvas,30,FALSE))=0,\"\",IF(VLOOKUP($BK194,Archyvas,27,FALSE)=$BL$1,\"\",VLOOKUP($BK194,Archyvas,30,FALSE)))=\"\",\"\",IF(IF(VLOOKUP($BK194,Archyvas,27,FALSE)=$BL$1,\"\",VLOOKUP($BK194,Archyvas,27,FALSE))=0,\"\",IF(VLOOKUP($BK194,Archyvas,27,FALSE)=$BL$1,\"\",VLOOKUP($BK194,Archyvas,27,FALSE))))","v":{"$error":"#N/A"}},{"$f":"IF(IF(VLOOKUP($BK194,Archyvas,27,FALSE)=$BL$1,\"\",VLOOKUP($BK194,Archyvas,28,FALSE))=0,\"\",IF(VLOOKUP($BK194,Archyvas,27,FALSE)=$BL$1,\"\",VLOOKUP($BK194,Archyvas,28,FALSE)))","v":{"$error":"#N/A"}},{"$f":"IF(IF(VLOOKUP($BK194,Archyvas,27,FALSE)=$BL$1,\"\",VLOOKUP($BK194,Archyvas,29,FALSE))=0,\"\",IF(VLOOKUP($BK194,Archyvas,27,FALSE)=$BL$1,\"\",VLOOKUP($BK194,Archyvas,29,FALSE)))","v":{"$error":"#N/A"}},{"$f":"IF(IF(VLOOKUP($BK194,Archyvas,27,FALSE)=$BL$1,\"\",VLOOKUP($BK194,Archyvas,30,FALSE))=0,\"\",IF(VLOOKUP($BK194,Archyvas,27,FALSE)=$BL$1,\"\",VLOOKUP($BK194,Archyvas,30,FALSE)))","v":{"$error":"#N/A"}},{"$f":"IF(IF(VLOOKUP($BK194,Archyvas,27,FALSE)=$BL$1,\"\",VLOOKUP($BK194,Archyvas,31,FALSE))=0,\"\",IF(VLOOKUP($BK194,Archyvas,27,FALSE)=$BL$1,\"\",VLOOKUP($BK194,Archyvas,31,FALSE)))","v":{"$error":"#N/A"}},null,{"$f":"_xlfn.IFNA(IF(BS194=\"\",\"\",MAX(BR$1:BR193)+1),\"\")","v":""},{"$f":"IFERROR(INDEX(BK$2:BK$330,MATCH(ROW()-ROW($BJ$1),$BJ$2:$BJ$330,0)),\"\")","v":""},{"$f":"IFERROR(INDEX(BL$2:BL$330,MATCH(ROW()-ROW($BJ$1),$BJ$2:$BJ$330,0)),\"\")","v":""},{"$f":"IFERROR(INDEX(BM$2:BM$330,MATCH(ROW()-ROW($BJ$1),$BJ$2:$BJ$330,0)),\"\")","v":""},{"$f":"IFERROR(INDEX(BN$2:BN$330,MATCH(ROW()-ROW($BJ$1),$BJ$2:$BJ$330,0)),\"\")","v":""},{"$f":"IFERROR(INDEX(BO$2:BO$330,MATCH(ROW()-ROW($BJ$1),$BJ$2:$BJ$330,0)),\"\")","v":""},{"$f":"IFERROR(INDEX(BP$2:BP$330,MATCH(ROW()-ROW($BJ$1),$BJ$2:$BJ$330,0)),\"\")","v":""}]
[null,null,null,null,null,null,null,null,null,null,null,null,null,null,null,null,null,null,null,null,null,null,null,null,null,null,null,null,null,null,null,null,null,null,null,null,null,null,null,null,null,null,null,null,null,null,null,null,null,null,null,null,null,null,null,null,null,{"$f":"IF(BG195=\"\",\"\",MAX(BF$1:BF194)+1)","v":""},{"$f":"IF(TEXT(Kortelė!$B$26,\"mm\")=IF(A195=\"\",\"\",TEXT(A195,\"mm\")),A195,\"\")","v":""},null,"",{"$f":"_xlfn.IFNA(IF(BL195=\"\",\"\",MAX(BJ$1:BJ194)+1),\"\")","v":""},"",{"$f":"IF(IF(IF(VLOOKUP($BK195,Archyvas,32,FALSE)=$BL$1,\"\",VLOOKUP($BK195,Archyvas,35,FALSE))=0,\"\",IF(VLOOKUP($BK195,Archyvas,32,FALSE)=$BL$1,\"\",VLOOKUP($BK195,Archyvas,35,FALSE)))=\"\",\"\",IF(IF(VLOOKUP($BK195,Archyvas,32,FALSE)=$BL$1,\"\",VLOOKUP($BK195,Archyvas,32,FALSE))=0,\"\",IF(VLOOKUP($BK195,Archyvas,32,FALSE)=$BL$1,\"\",VLOOKUP($BK195,Archyvas,32,FALSE))))","v":{"$error":"#N/A"}},{"$f":"IF(IF(VLOOKUP($BK195,Archyvas,32,FALSE)=$BL$1,\"\",VLOOKUP($BK195,Archyvas,33,FALSE))=0,\"\",IF(VLOOKUP($BK195,Archyvas,32,FALSE)=$BL$1,\"\",VLOOKUP($BK195,Archyvas,33,FALSE)))","v":{"$error":"#N/A"}},{"$f":"IF(IF(VLOOKUP($BK195,Archyvas,32,FALSE)=$BL$1,\"\",VLOOKUP($BK195,Archyvas,34,FALSE))=0,\"\",IF(VLOOKUP($BK195,Archyvas,32,FALSE)=$BL$1,\"\",VLOOKUP($BK195,Archyvas,34,FALSE)))","v":{"$error":"#N/A"}},{"$f":"IF(IF(VLOOKUP($BK195,Archyvas,32,FALSE)=$BL$1,\"\",VLOOKUP($BK195,Archyvas,35,FALSE))=0,\"\",IF(VLOOKUP($BK195,Archyvas,32,FALSE)=$BL$1,\"\",VLOOKUP($BK195,Archyvas,35,FALSE)))","v":{"$error":"#N/A"}},{"$f":"IF(IF(VLOOKUP($BK195,Archyvas,32,FALSE)=$BL$1,\"\",VLOOKUP($BK195,Archyvas,36,FALSE))=0,\"\",IF(VLOOKUP($BK195,Archyvas,32,FALSE)=$BL$1,\"\",VLOOKUP($BK195,Archyvas,36,FALSE)))","v":{"$error":"#N/A"}},null,{"$f":"_xlfn.IFNA(IF(BS195=\"\",\"\",MAX(BR$1:BR194)+1),\"\")","v":""},"","","","","",""]
[null,null,null,null,null,null,null,null,null,null,null,null,null,null,null,null,null,null,null,null,null,null,null,null,null,null,null,null,null,null,null,null,null,null,null,null,null,null,null,null,null,null,null,null,null,null,null,null,null,null,null,null,null,null,null,null,null,{"$f":"IF(BG196=\"\",\"\",MAX(BF$1:BF195)+1)","v":""},{"$f":"IF(TEXT(Kortelė!$B$26,\"mm\")=IF(A196=\"\",\"\",TEXT(A196,\"mm\")),A196,\"\")","v":""},null,"",{"$f":"_xlfn.IFNA(IF(BL196=\"\",\"\",MAX(BJ$1:BJ195)+1),\"\")","v":""},"",{"$f":"IF(IF(IF(VLOOKUP($BK196,Archyvas,37,FALSE)=$BL$1,\"\",VLOOKUP($BK196,Archyvas,40,FALSE))=0,\"\",IF(VLOOKUP($BK196,Archyvas,37,FALSE)=$BL$1,\"\",VLOOKUP($BK196,Archyvas,40,FALSE)))=\"\",\"\",IF(IF(VLOOKUP($BK196,Archyvas,37,FALSE)=$BL$1,\"\",VLOOKUP($BK196,Archyvas,37,FALSE))=0,\"\",IF(VLOOKUP($BK196,Archyvas,37,FALSE)=$BL$1,\"\",VLOOKUP($BK196,Archyvas,37,FALSE))))","v":{"$error":"#N/A"}},{"$f":"IF(IF(VLOOKUP($BK196,Archyvas,37,FALSE)=$BL$1,\"\",VLOOKUP($BK196,Archyvas,38,FALSE))=0,\"\",IF(VLOOKUP($BK196,Archyvas,37,FALSE)=$BL$1,\"\",VLOOKUP($BK196,Archyvas,38,FALSE)))","v":{"$error":"#N/A"}},{"$f":"IF(IF(VLOOKUP($BK196,Archyvas,37,FALSE)=$BL$1,\"\",VLOOKUP($BK196,Archyvas,39,FALSE))=0,\"\",IF(VLOOKUP($BK196,Archyvas,37,FALSE)=$BL$1,\"\",VLOOKUP($BK196,Archyvas,39,FALSE)))","v":{"$error":"#N/A"}},{"$f":"IF(IF(VLOOKUP($BK196,Archyvas,37,FALSE)=$BL$1,\"\",VLOOKUP($BK196,Archyvas,40,FALSE))=0,\"\",IF(VLOOKUP($BK196,Archyvas,37,FALSE)=$BL$1,\"\",VLOOKUP($BK196,Archyvas,40,FALSE)))","v":{"$error":"#N/A"}},{"$f":"IF(IF(VLOOKUP($BK196,Archyvas,37,FALSE)=$BL$1,\"\",VLOOKUP($BK196,Archyvas,41,FALSE))=0,\"\",IF(VLOOKUP($BK196,Archyvas,37,FALSE)=$BL$1,\"\",VLOOKUP($BK196,Archyvas,41,FALSE)))","v":{"$error":"#N/A"}},null,{"$f":"_xlfn.IFNA(IF(BS196=\"\",\"\",MAX(BR$1:BR195)+1),\"\")","v":""},"","","","","",""]
[null,null,null,null,null,null,null,null,null,null,null,null,null,null,null,null,null,null,null,null,null,null,null,null,null,null,null,null,null,null,null,null,null,null,null,null,null,null,null,null,null,null,null,null,null,null,null,null,null,null,null,null,null,null,null,null,null,{"$f":"IF(BG197=\"\",\"\",MAX(BF$1:BF196)+1)","v":""},{"$f":"IF(TEXT(Kortelė!$B$26,\"mm\")=IF(A197=\"\",\"\",TEXT(A197,\"mm\")),A197,\"\")","v":""},null,"",{"$f":"_xlfn.IFNA(IF(BL197=\"\",\"\",MAX(BJ$1:BJ196)+1),\"\")","v":""},"",{"$f":"IF(IF(IF(VLOOKUP($BK197,Archyvas,42,FALSE)=$BL$1,\"\",VLOOKUP($BK197,Archyvas,45,FALSE))=0,\"\",IF(VLOOKUP($BK197,Archyvas,42,FALSE)=$BL$1,\"\",VLOOKUP($BK197,Archyvas,45,FALSE)))=\"\",\"\",IF(IF(VLOOKUP($BK197,Archyvas,42,FALSE)=$BL$1,\"\",VLOOKUP($BK197,Archyvas,42,FALSE))=0,\"\",IF(VLOOKUP($BK197,Archyvas,42,FALSE)=$BL$1,\"\",VLOOKUP($BK197,Archyvas,42,FALSE))))","v":{"$error":"#N/A"}},{"$f":"IF(IF(VLOOKUP($BK197,Archyvas,42,FALSE)=$BL$1,\"\",VLOOKUP($BK197,Archyvas,43,FALSE))=0,\"\",IF(VLOOKUP($BK197,Archyvas,42,FALSE)=$BL$1,\"\",VLOOKUP($BK197,Archyvas,43,FALSE)))","v":{"$error":"#N/A"}},{"$f":"IF(IF(VLOOKUP($BK197,Archyvas,42,FALSE)=$BL$1,\"\",VLOOKUP($BK197,Archyvas,44,FALSE))=0,\"\",IF(VLOOKUP($BK197,Archyvas,42,FALSE)=$BL$1,\"\",VLOOKUP($BK197,Archyvas,44,FALSE)))","v":{"$error":"#N/A"}},{"$f":"IF(IF(VLOOKUP($BK197,Archyvas,42,FALSE)=$BL$1,\"\",VLOOKUP($BK197,Archyvas,45,FALSE))=0,\"\",IF(VLOOKUP($BK197,Archyvas,42,FALSE)=$BL$1,\"\",VLOOKUP($BK197,Archyvas,45,FALSE)))","v":{"$error":"#N/A"}},{"$f":"IF(IF(VLOOKUP($BK197,Archyvas,42,FALSE)=$BL$1,\"\",VLOOKUP($BK197,Archyvas,46,FALSE))=0,\"\",IF(VLOOKUP($BK197,Archyvas,42,FALSE)=$BL$1,\"\",VLOOKUP($BK197,Archyvas,46,FALSE)))","v":{"$error":"#N/A"}},null,{"$f":"_xlfn.IFNA(IF(BS197=\"\",\"\",MAX(BR$1:BR196)+1),\"\")","v":""},"","","","","",""]
[null,null,null,null,null,null,null,null,null,null,null,null,null,null,null,null,null,null,null,null,null,null,null,null,null,null,null,null,null,null,null,null,null,null,null,null,null,null,null,null,null,null,null,null,null,null,null,null,null,null,null,null,null,null,null,null,null,{"$f":"IF(BG198=\"\",\"\",MAX(BF$1:BF197)+1)","v":""},{"$f":"IF(TEXT(Kortelė!$B$26,\"mm\")=IF(A198=\"\",\"\",TEXT(A198,\"mm\")),A198,\"\")","v":""},null,"",{"$f":"_xlfn.IFNA(IF(BL198=\"\",\"\",MAX(BJ$1:BJ197)+1),\"\")","v":""},"",{"$f":"IF(IF(IF(VLOOKUP($BK198,Archyvas,47,FALSE)=$BL$1,\"\",VLOOKUP($BK198,Archyvas,50,FALSE))=0,\"\",IF(VLOOKUP($BK198,Archyvas,47,FALSE)=$BL$1,\"\",VLOOKUP($BK198,Archyvas,50,FALSE)))=\"\",\"\",IF(IF(VLOOKUP($BK198,Archyvas,47,FALSE)=$BL$1,\"\",VLOOKUP($BK198,Archyvas,47,FALSE))=0,\"\",IF(VLOOKUP($BK198,Archyvas,47,FALSE)=$BL$1,\"\",VLOOKUP($BK198,Archyvas,47,FALSE))))","v":{"$error":"#N/A"}},{"$f":"IF(IF(VLOOKUP($BK198,Archyvas,47,FALSE)=$BL$1,\"\",VLOOKUP($BK198,Archyvas,48,FALSE))=0,\"\",IF(VLOOKUP($BK198,Archyvas,47,FALSE)=$BL$1,\"\",VLOOKUP($BK198,Archyvas,48,FALSE)))","v":{"$error":"#N/A"}},{"$f":"IF(IF(VLOOKUP($BK198,Archyvas,47,FALSE)=$BL$1,\"\",VLOOKUP($BK198,Archyvas,49,FALSE))=0,\"\",IF(VLOOKUP($BK198,Archyvas,47,FALSE)=$BL$1,\"\",VLOOKUP($BK198,Archyvas,49,FALSE)))","v":{"$error":"#N/A"}},{"$f":"IF(IF(VLOOKUP($BK198,Archyvas,47,FALSE)=$BL$1,\"\",VLOOKUP($BK198,Archyvas,50,FALSE))=0,\"\",IF(VLOOKUP($BK198,Archyvas,47,FALSE)=$BL$1,\"\",VLOOKUP($BK198,Archyvas,50,FALSE)))","v":{"$error":"#N/A"}},{"$f":"IF(IF(VLOOKUP($BK198,Archyvas,47,FALSE)=$BL$1,\"\",VLOOKUP($BK198,Archyvas,51,FALSE))=0,\"\",IF(VLOOKUP($BK198,Archyvas,47,FALSE)=$BL$1,\"\",VLOOKUP($BK198,Archyvas,51,FALSE)))","v":{"$error":"#N/A"}},null,{"$f":"_xlfn.IFNA(IF(BS198=\"\",\"\",MAX(BR$1:BR197)+1),\"\")","v":""},"","","","","",""]
[null,null,null,null,null,null,null,null,null,null,null,null,null,null,null,null,null,null,null,null,null,null,null,null,null,null,null,null,null,null,null,null,null,null,null,null,null,null,null,null,null,null,null,null,null,null,null,null,null,null,null,null,null,null,null,null,null,{"$f":"IF(BG199=\"\",\"\",MAX(BF$1:BF198)+1)","v":""},{"$f":"IF(TEXT(Kortelė!$B$26,\"mm\")=IF(A199=\"\",\"\",TEXT(A199,\"mm\")),A199,\"\")","v":""},null,"",{"$f":"_xlfn.IFNA(IF(BL199=\"\",\"\",MAX(BJ$1:BJ198)+1),\"\")","v":""},"",null,null,null,null,null,null,{"$f":"_xlfn.IFNA(IF(BS199=\"\",\"\",MAX(BR$1:BR198)+1),\"\")","v":""},"","","","","",""]
[null,null,null,null,null,null,null,null,null,null,null,null,null,null,null,null,null,null,null,null,null,null,null,null,null,null,null,null,null,null,null,null,null,null,null,null,null,null,null,null,null,null,null,null,null,null,null,null,null,null,null,null,null,null,null,null,null,{"$f":"IF(BG200=\"\",\"\",MAX(BF$1:BF199)+1)","v":""},{"$f":"IF(TEXT(Kortelė!$B$26,\"mm\")=IF(A200=\"\",\"\",TEXT(A200,\"mm\")),A200,\"\")","v":""},null,"",{"$f":"_xlfn.IFNA(IF(BL200=\"\",\"\",MAX(BJ$1:BJ199)+1),\"\")","v":""},{"$f":"$BI$20","v":""},{"$f":"IF(IF(IF(VLOOKUP($BK200,Archyvas,2,FALSE)=$BL$1,\"\",VLOOKUP($BK200,Archyvas,5,FALSE))=0,\"\",IF(VLOOKUP($BK200,Archyvas,2,FALSE)=$BL$1,\"\",VLOOKUP($BK200,Archyvas,5,FALSE)))=\"\",\"\",IF(IF(VLOOKUP($BK200,Archyvas,2,FALSE)=$BL$1,\"\",VLOOKUP($BK200,Archyvas,2,FALSE))=0,\"\",IF(VLOOKUP($BK200,Archyvas,2,FALSE)=$BL$1,\"\",VLOOKUP($BK200,Archyvas,2,FALSE))))","v":{"$error":"#N/A"}},{"$f":"IF(IF(VLOOKUP($BK200,Archyvas,2,FALSE)=$BL$1,\"\",VLOOKUP($BK200,Archyvas,3,FALSE))=0,\"\",IF(VLOOKUP($BK200,Archyvas,2,FALSE)=$BL$1,\"\",VLOOKUP($BK200,Archyvas,3,FALSE)))","v":{"$error":"#N/A"}},{"$f":"IF(IF(VLOOKUP($BK200,Archyvas,2,FALSE)=$BL$1,\"\",VLOOKUP($BK200,Archyvas,4,FALSE))=0,\"\",IF(VLOOKUP($BK200,Archyvas,2,FALSE)=$BL$1,\"\",VLOOKUP($BK200,Archyvas,4,FALSE)))","v":{"$error":"#N/A"}},{"$f":"IF(IF(VLOOKUP($BK200,Archyvas,2,FALSE)=$BL$1,\"\",VLOOKUP($BK200,Archyvas,5,FALSE))=0,\"\",IF(VLOOKUP($BK200,Archyvas,2,FALSE)=$BL$1,\"\",VLOOKUP($BK200,Archyvas,5,FALSE)))","v":{"$error":"#N/A"}},{"$f":"IF(IF(VLOOKUP($BK200,Archyvas,2,FALSE)=$BL$1,\"\",VLOOKUP($BK200,Archyvas,6,FALSE))=0,\"\",IF(VLOOKUP($BK200,Archyvas,2,FALSE)=$BL$1,\"\",VLOOKUP($BK200,Archyvas,6,FALSE)))","v":{"$error":"#N/A"}},null,{"$f":"_xlfn.IFNA(IF(BS200=\"\",\"\",MAX(BR$1:BR199)+1),\"\")","v":""},"","","","","",""]
[null,null,null,null,null,null,null,null,null,null,null,null,null,null,null,null,null,null,null,null,null,null,null,null,null,null,null,null,null,null,null,null,null,null,null,null,null,null,null,null,null,null,null,null,null,null,null,null,null,null,null,null,null,null,null,null,null,{"$f":"IF(BG201=\"\",\"\",MAX(BF$1:BF200)+1)","v":""},{"$f":"IF(TEXT(Kortelė!$B$26,\"mm\")=IF(A201=\"\",\"\",TEXT(A201,\"mm\")),A201,\"\")","v":""},null,"",{"$f":"_xlfn.IFNA(IF(BL201=\"\",\"\",MAX(BJ$1:BJ200)+1),\"\")","v":""},{"$f":"BK200","v":""},{"$f":"IF(IF(IF(VLOOKUP($BK201,Archyvas,7,FALSE)=$BL$1,\"\",VLOOKUP($BK201,Archyvas,10,FALSE))=0,\"\",IF(VLOOKUP($BK201,Archyvas,7,FALSE)=$BL$1,\"\",VLOOKUP($BK201,Archyvas,10,FALSE)))=\"\",\"\",IF(IF(VLOOKUP($BK201,Archyvas,7,FALSE)=$BL$1,\"\",VLOOKUP($BK201,Archyvas,7,FALSE))=0,\"\",IF(VLOOKUP($BK201,Archyvas,7,FALSE)=$BL$1,\"\",VLOOKUP($BK201,Archyvas,7,FALSE))))","v":{"$error":"#N/A"}},{"$f":"IF(IF(VLOOKUP($BK201,Archyvas,7,FALSE)=$BL$1,\"\",VLOOKUP($BK201,Archyvas,8,FALSE))=0,\"\",IF(VLOOKUP($BK201,Archyvas,7,FALSE)=$BL$1,\"\",VLOOKUP($BK201,Archyvas,8,FALSE)))","v":{"$error":"#N/A"}},{"$f":"IF(IF(VLOOKUP($BK201,Archyvas,7,FALSE)=$BL$1,\"\",VLOOKUP($BK201,Archyvas,9,FALSE))=0,\"\",IF(VLOOKUP($BK201,Archyvas,7,FALSE)=$BL$1,\"\",VLOOKUP($BK201,Archyvas,9,FALSE)))","v":{"$error":"#N/A"}},{"$f":"IF(IF(VLOOKUP($BK201,Archyvas,7,FALSE)=$BL$1,\"\",VLOOKUP($BK201,Archyvas,10,FALSE))=0,\"\",IF(VLOOKUP($BK201,Archyvas,7,FALSE)=$BL$1,\"\",VLOOKUP($BK201,Archyvas,10,FALSE)))","v":{"$error":"#N/A"}},{"$f":"IF(IF(VLOOKUP($BK201,Archyvas,7,FALSE)=$BL$1,\"\",VLOOKUP($BK201,Archyvas,11,FALSE))=0,\"\",IF(VLOOKUP($BK201,Archyvas,7,FALSE)=$BL$1,\"\",VLOOKUP($BK201,Archyvas,11,FALSE)))","v":{"$error":"#N/A"}},null,{"$f":"_xlfn.IFNA(IF(BS201=\"\",\"\",MAX(BR$1:BR200)+1),\"\")","v":""},"","","","","",""]
[null,null,null,null,null,null,null,null,null,null,null,null,null,null,null,null,null,null,null,null,null,null,null,null,null,null,null,null,null,null,null,null,null,null,null,null,null,null,null,null,null,null,null,null,null,null,null,null,null,null,null,null,null,null,null,null,null,{"$f":"IF(BG202=\"\",\"\",MAX(BF$1:BF201)+1)","v":""},{"$f":"IF(TEXT(Kortelė!$B$26,\"mm\")=IF(A202=\"\",\"\",TEXT(A202,\"mm\")),A202,\"\")","v":""},null,"",{"$f":"_xlfn.IFNA(IF(BL202=\"\",\"\",MAX(BJ$1:BJ201)+1),\"\")","v":""},"",{"$f":"IF(IF(IF(VLOOKUP($BK202,Archyvas,12,FALSE)=$BL$1,\"\",VLOOKUP($BK202,Archyvas,15,FALSE))=0,\"\",IF(VLOOKUP($BK202,Archyvas,12,FALSE)=$BL$1,\"\",VLOOKUP($BK202,Archyvas,15,FALSE)))=\"\",\"\",IF(IF(VLOOKUP($BK202,Archyvas,12,FALSE)=$BL$1,\"\",VLOOKUP($BK202,Archyvas,12,FALSE))=0,\"\",IF(VLOOKUP($BK202,Archyvas,12,FALSE)=$BL$1,\"\",VLOOKUP($BK202,Archyvas,12,FALSE))))","v":{"$error":"#N/A"}},{"$f":"IF(IF(VLOOKUP($BK202,Archyvas,12,FALSE)=$BL$1,\"\",VLOOKUP($BK202,Archyvas,13,FALSE))=0,\"\",IF(VLOOKUP($BK202,Archyvas,12,FALSE)=$BL$1,\"\",VLOOKUP($BK202,Archyvas,13,FALSE)))","v":{"$error":"#N/A"}},{"$f":"IF(IF(VLOOKUP($BK202,Archyvas,12,FALSE)=$BL$1,\"\",VLOOKUP($BK202,Archyvas,14,FALSE))=0,\"\",IF(VLOOKUP($BK202,Archyvas,12,FALSE)=$BL$1,\"\",VLOOKUP($BK202,Archyvas,14,FALSE)))","v":{"$error":"#N/A"}},{"$f":"IF(IF(VLOOKUP($BK202,Archyvas,12,FALSE)=$BL$1,\"\",VLOOKUP($BK202,Archyvas,15,FALSE))=0,\"\",IF(VLOOKUP($BK202,Archyvas,12,FALSE)=$BL$1,\"\",VLOOKUP($BK202,Archyvas,15,FALSE)))","v":{"$error":"#N/A"}},{"$f":"IF(IF(VLOOKUP($BK202,Archyvas,12,FALSE)=$BL$1,\"\",VLOOKUP($BK202,Archyvas,16,FALSE))=0,\"\",IF(VLOOKUP($BK202,Archyvas,12,FALSE)=$BL$1,\"\",VLOOKUP($BK202,Archyvas,16,FALSE)))","v":{"$error":"#N/A"}},null,{"$f":"_xlfn.IFNA(IF(BS202=\"\",\"\",MAX(BR$1:BR201)+1),\"\")","v":""},"","","","","",""]
[null,null,null,null,null,null,null,null,null,null,null,null,null,null,null,null,null,null,null,null,null,null,null,null,null,null,null,null,null,null,null,null,null,null,null,null,null,null,null,null,null,null,null,null,null,null,null,null,null,null,null,null,null,null,null,null,null,{"$f":"IF(BG203=\"\",\"\",MAX(BF$1:BF202)+1)","v":""},{"$f":"IF(TEXT(Kortelė!$B$26,\"mm\")=IF(A203=\"\",\"\",TEXT(A203,\"mm\")),A203,\"\")","v":""},null,"",{"$f":"_xlfn.IFNA(IF(BL203=\"\",\"\",MAX(BJ$1:BJ202)+1),\"\")","v":""},"",{"$f":"IF(IF(IF(VLOOKUP($BK203,Archyvas,17,FALSE)=$BL$1,\"\",VLOOKUP($BK203,Archyvas,20,FALSE))=0,\"\",IF(VLOOKUP($BK203,Archyvas,17,FALSE)=$BL$1,\"\",VLOOKUP($BK203,Archyvas,20,FALSE)))=\"\",\"\",IF(IF(VLOOKUP($BK203,Archyvas,17,FALSE)=$BL$1,\"\",VLOOKUP($BK203,Archyvas,17,FALSE))=0,\"\",IF(VLOOKUP($BK203,Archyvas,17,FALSE)=$BL$1,\"\",VLOOKUP($BK203,Archyvas,17,FALSE))))","v":{"$error":"#N/A"}},{"$f":"IF(IF(VLOOKUP($BK203,Archyvas,17,FALSE)=$BL$1,\"\",VLOOKUP($BK203,Archyvas,18,FALSE))=0,\"\",IF(VLOOKUP($BK203,Archyvas,17,FALSE)=$BL$1,\"\",VLOOKUP($BK203,Archyvas,18,FALSE)))","v":{"$error":"#N/A"}},{"$f":"IF(IF(VLOOKUP($BK203,Archyvas,17,FALSE)=$BL$1,\"\",VLOOKUP($BK203,Archyvas,19,FALSE))=0,\"\",IF(VLOOKUP($BK203,Archyvas,17,FALSE)=$BL$1,\"\",VLOOKUP($BK203,Archyvas,19,FALSE)))","v":{"$error":"#N/A"}},{"$f":"IF(IF(VLOOKUP($BK203,Archyvas,17,FALSE)=$BL$1,\"\",VLOOKUP($BK203,Archyvas,20,FALSE))=0,\"\",IF(VLOOKUP($BK203,Archyvas,17,FALSE)=$BL$1,\"\",VLOOKUP($BK203,Archyvas,20,FALSE)))","v":{"$error":"#N/A"}},{"$f":"IF(IF(VLOOKUP($BK203,Archyvas,17,FALSE)=$BL$1,\"\",VLOOKUP($BK203,Archyvas,21,FALSE))=0,\"\",IF(VLOOKUP($BK203,Archyvas,17,FALSE)=$BL$1,\"\",VLOOKUP($BK203,Archyvas,21,FALSE)))","v":{"$error":"#N/A"}},null,{"$f":"_xlfn.IFNA(IF(BS203=\"\",\"\",MAX(BR$1:BR202)+1),\"\")","v":""},"","","","","",""]
[null,null,null,null,null,null,null,null,null,null,null,null,null,null,null,null,null,null,null,null,null,null,null,null,null,null,null,null,null,null,null,null,null,null,null,null,null,null,null,null,null,null,null,null,null,null,null,null,null,null,null,null,null,null,null,null,null,{"$f":"IF(BG204=\"\",\"\",MAX(BF$1:BF203)+1)","v":""},{"$f":"IF(TEXT(Kortelė!$B$26,\"mm\")=IF(A204=\"\",\"\",TEXT(A204,\"mm\")),A204,\"\")","v":""},null,"",{"$f":"_xlfn.IFNA(IF(BL204=\"\",\"\",MAX(BJ$1:BJ203)+1),\"\")","v":""},"",{"$f":"IF(IF(IF(VLOOKUP($BK204,Archyvas,22,FALSE)=$BL$1,\"\",VLOOKUP($BK204,Archyvas,25,FALSE))=0,\"\",IF(VLOOKUP($BK204,Archyvas,22,FALSE)=$BL$1,\"\",VLOOKUP($BK204,Archyvas,25,FALSE)))=\"\",\"\",IF(IF(VLOOKUP($BK204,Archyvas,22,FALSE)=$BL$1,\"\",VLOOKUP($BK204,Archyvas,22,FALSE))=0,\"\",IF(VLOOKUP($BK204,Archyvas,22,FALSE)=$BL$1,\"\",VLOOKUP($BK204,Archyvas,22,FALSE))))","v":{"$error":"#N/A"}},{"$f":"IF(IF(VLOOKUP($BK204,Archyvas,22,FALSE)=$BL$1,\"\",VLOOKUP($BK204,Archyvas,23,FALSE))=0,\"\",IF(VLOOKUP($BK204,Archyvas,22,FALSE)=$BL$1,\"\",VLOOKUP($BK204,Archyvas,23,FALSE)))","v":{"$error":"#N/A"}},{"$f":"IF(IF(VLOOKUP($BK204,Archyvas,22,FALSE)=$BL$1,\"\",VLOOKUP($BK204,Archyvas,24,FALSE))=0,\"\",IF(VLOOKUP($BK204,Archyvas,22,FALSE)=$BL$1,\"\",VLOOKUP($BK204,Archyvas,24,FALSE)))","v":{"$error":"#N/A"}},{"$f":"IF(IF(VLOOKUP($BK204,Archyvas,22,FALSE)=$BL$1,\"\",VLOOKUP($BK204,Archyvas,25,FALSE))=0,\"\",IF(VLOOKUP($BK204,Archyvas,22,FALSE)=$BL$1,\"\",VLOOKUP($BK204,Archyvas,25,FALSE)))","v":{"$error":"#N/A"}},{"$f":"IF(IF(VLOOKUP($BK204,Archyvas,22,FALSE)=$BL$1,\"\",VLOOKUP($BK204,Archyvas,26,FALSE))=0,\"\",IF(VLOOKUP($BK204,Archyvas,22,FALSE)=$BL$1,\"\",VLOOKUP($BK204,Archyvas,26,FALSE)))","v":{"$error":"#N/A"}},null,{"$f":"_xlfn.IFNA(IF(BS204=\"\",\"\",MAX(BR$1:BR203)+1),\"\")","v":""},"","","","","",""]
[null,null,null,null,null,null,null,null,null,null,null,null,null,null,null,null,null,null,null,null,null,null,null,null,null,null,null,null,null,null,null,null,null,null,null,null,null,null,null,null,null,null,null,null,null,null,null,null,null,null,null,null,null,null,null,null,null,{"$f":"IF(BG205=\"\",\"\",MAX(BF$1:BF204)+1)","v":""},{"$f":"IF(TEXT(Kortelė!$B$26,\"mm\")=IF(A205=\"\",\"\",TEXT(A205,\"mm\")),A205,\"\")","v":""},null,"",{"$f":"_xlfn.IFNA(IF(BL205=\"\",\"\",MAX(BJ$1:BJ204)+1),\"\")","v":""},"",{"$f":"IF(IF(IF(VLOOKUP($BK205,Archyvas,27,FALSE)=$BL$1,\"\",VLOOKUP($BK205,Archyvas,30,FALSE))=0,\"\",IF(VLOOKUP($BK205,Archyvas,27,FALSE)=$BL$1,\"\",VLOOKUP($BK205,Archyvas,30,FALSE)))=\"\",\"\",IF(IF(VLOOKUP($BK205,Archyvas,27,FALSE)=$BL$1,\"\",VLOOKUP($BK205,Archyvas,27,FALSE))=0,\"\",IF(VLOOKUP($BK205,Archyvas,27,FALSE)=$BL$1,\"\",VLOOKUP($BK205,Archyvas,27,FALSE))))","v":{"$error":"#N/A"}},{"$f":"IF(IF(VLOOKUP($BK205,Archyvas,27,FALSE)=$BL$1,\"\",VLOOKUP($BK205,Archyvas,28,FALSE))=0,\"\",IF(VLOOKUP($BK205,Archyvas,27,FALSE)=$BL$1,\"\",VLOOKUP($BK205,Archyvas,28,FALSE)))","v":{"$error":"#N/A"}},{"$f":"IF(IF(VLOOKUP($BK205,Archyvas,27,FALSE)=$BL$1,\"\",VLOOKUP($BK205,Archyvas,29,FALSE))=0,\"\",IF(VLOOKUP($BK205,Archyvas,27,FALSE)=$BL$1,\"\",VLOOKUP($BK205,Archyvas,29,FALSE)))","v":{"$error":"#N/A"}},{"$f":"IF(IF(VLOOKUP($BK205,Archyvas,27,FALSE)=$BL$1,\"\",VLOOKUP($BK205,Archyvas,30,FALSE))=0,\"\",IF(VLOOKUP($BK205,Archyvas,27,FALSE)=$BL$1,\"\",VLOOKUP($BK205,Archyvas,30,FALSE)))","v":{"$error":"#N/A"}},{"$f":"IF(IF(VLOOKUP($BK205,Archyvas,27,FALSE)=$BL$1,\"\",VLOOKUP($BK205,Archyvas,31,FALSE))=0,\"\",IF(VLOOKUP($BK205,Archyvas,27,FALSE)=$BL$1,\"\",VLOOKUP($BK205,Archyvas,31,FALSE)))","v":{"$error":"#N/A"}},null,{"$f":"_xlfn.IFNA(IF(BS205=\"\",\"\",MAX(BR$1:BR204)+1),\"\")","v":""},"","","","","",""]
[null,null,null,null,null,null,null,null,null,null,null,null,null,null,null,null,null,null,null,null,null,null,null,null,null,null,null,null,null,null,null,null,null,null,null,null,null,null,null,null,null,null,null,null,null,null,null,null,null,null,null,null,null,null,null,null,null,{"$f":"IF(BG206=\"\",\"\",MAX(BF$1:BF205)+1)","v":""},{"$f":"IF(TEXT(Kortelė!$B$26,\"mm\")=IF(A206=\"\",\"\",TEXT(A206,\"mm\")),A206,\"\")","v":""},null,"",{"$f":"_xlfn.IFNA(IF(BL206=\"\",\"\",MAX(BJ$1:BJ205)+1),\"\")","v":""},"",{"$f":"IF(IF(IF(VLOOKUP($BK206,Archyvas,32,FALSE)=$BL$1,\"\",VLOOKUP($BK206,Archyvas,35,FALSE))=0,\"\",IF(VLOOKUP($BK206,Archyvas,32,FALSE)=$BL$1,\"\",VLOOKUP($BK206,Archyvas,35,FALSE)))=\"\",\"\",IF(IF(VLOOKUP($BK206,Archyvas,32,FALSE)=$BL$1,\"\",VLOOKUP($BK206,Archyvas,32,FALSE))=0,\"\",IF(VLOOKUP($BK206,Archyvas,32,FALSE)=$BL$1,\"\",VLOOKUP($BK206,Archyvas,32,FALSE))))","v":{"$error":"#N/A"}},{"$f":"IF(IF(VLOOKUP($BK206,Archyvas,32,FALSE)=$BL$1,\"\",VLOOKUP($BK206,Archyvas,33,FALSE))=0,\"\",IF(VLOOKUP($BK206,Archyvas,32,FALSE)=$BL$1,\"\",VLOOKUP($BK206,Archyvas,33,FALSE)))","v":{"$error":"#N/A"}},{"$f":"IF(IF(VLOOKUP($BK206,Archyvas,32,FALSE)=$BL$1,\"\",VLOOKUP($BK206,Archyvas,34,FALSE))=0,\"\",IF(VLOOKUP($BK206,Archyvas,32,FALSE)=$BL$1,\"\",VLOOKUP($BK206,Archyvas,34,FALSE)))","v":{"$error":"#N/A"}},{"$f":"IF(IF(VLOOKUP($BK206,Archyvas,32,FALSE)=$BL$1,\"\",VLOOKUP($BK206,Archyvas,35,FALSE))=0,\"\",IF(VLOOKUP($BK206,Archyvas,32,FALSE)=$BL$1,\"\",VLOOKUP($BK206,Archyvas,35,FALSE)))","v":{"$error":"#N/A"}},{"$f":"IF(IF(VLOOKUP($BK206,Archyvas,32,FALSE)=$BL$1,\"\",VLOOKUP($BK206,Archyvas,36,FALSE))=0,\"\",IF(VLOOKUP($BK206,Archyvas,32,FALSE)=$BL$1,\"\",VLOOKUP($BK206,Archyvas,36,FALSE)))","v":{"$error":"#N/A"}},null,{"$f":"_xlfn.IFNA(IF(BS206=\"\",\"\",MAX(BR$1:BR205)+1),\"\")","v":""},"","","","","",""]
[null,null,null,null,null,null,null,null,null,null,null,null,null,null,null,null,null,null,null,null,null,null,null,null,null,null,null,null,null,null,null,null,null,null,null,null,null,null,null,null,null,null,null,null,null,null,null,null,null,null,null,null,null,null,null,null,null,{"$f":"IF(BG207=\"\",\"\",MAX(BF$1:BF206)+1)","v":""},{"$f":"IF(TEXT(Kortelė!$B$26,\"mm\")=IF(A207=\"\",\"\",TEXT(A207,\"mm\")),A207,\"\")","v":""},null,"",{"$f":"_xlfn.IFNA(IF(BL207=\"\",\"\",MAX(BJ$1:BJ206)+1),\"\")","v":""},"",{"$f":"IF(IF(IF(VLOOKUP($BK207,Archyvas,37,FALSE)=$BL$1,\"\",VLOOKUP($BK207,Archyvas,40,FALSE))=0,\"\",IF(VLOOKUP($BK207,Archyvas,37,FALSE)=$BL$1,\"\",VLOOKUP($BK207,Archyvas,40,FALSE)))=\"\",\"\",IF(IF(VLOOKUP($BK207,Archyvas,37,FALSE)=$BL$1,\"\",VLOOKUP($BK207,Archyvas,37,FALSE))=0,\"\",IF(VLOOKUP($BK207,Archyvas,37,FALSE)=$BL$1,\"\",VLOOKUP($BK207,Archyvas,37,FALSE))))","v":{"$error":"#N/A"}},{"$f":"IF(IF(VLOOKUP($BK207,Archyvas,37,FALSE)=$BL$1,\"\",VLOOKUP($BK207,Archyvas,38,FALSE))=0,\"\",IF(VLOOKUP($BK207,Archyvas,37,FALSE)=$BL$1,\"\",VLOOKUP($BK207,Archyvas,38,FALSE)))","v":{"$error":"#N/A"}},{"$f":"IF(IF(VLOOKUP($BK207,Archyvas,37,FALSE)=$BL$1,\"\",VLOOKUP($BK207,Archyvas,39,FALSE))=0,\"\",IF(VLOOKUP($BK207,Archyvas,37,FALSE)=$BL$1,\"\",VLOOKUP($BK207,Archyvas,39,FALSE)))","v":{"$error":"#N/A"}},{"$f":"IF(IF(VLOOKUP($BK207,Archyvas,37,FALSE)=$BL$1,\"\",VLOOKUP($BK207,Archyvas,40,FALSE))=0,\"\",IF(VLOOKUP($BK207,Archyvas,37,FALSE)=$BL$1,\"\",VLOOKUP($BK207,Archyvas,40,FALSE)))","v":{"$error":"#N/A"}},{"$f":"IF(IF(VLOOKUP($BK207,Archyvas,37,FALSE)=$BL$1,\"\",VLOOKUP($BK207,Archyvas,41,FALSE))=0,\"\",IF(VLOOKUP($BK207,Archyvas,37,FALSE)=$BL$1,\"\",VLOOKUP($BK207,Archyvas,41,FALSE)))","v":{"$error":"#N/A"}},null,{"$f":"_xlfn.IFNA(IF(BS207=\"\",\"\",MAX(BR$1:BR206)+1),\"\")","v":""},"","","","","",""]
[null,null,null,null,null,null,null,null,null,null,null,null,null,null,null,null,null,null,null,null,null,null,null,null,null,null,null,null,null,null,null,null,null,null,null,null,null,null,null,null,null,null,null,null,null,null,null,null,null,null,null,null,null,null,null,null,null,{"$f":"IF(BG208=\"\",\"\",MAX(BF$1:BF207)+1)","v":""},{"$f":"IF(TEXT(Kortelė!$B$26,\"mm\")=IF(A208=\"\",\"\",TEXT(A208,\"mm\")),A208,\"\")","v":""},null,"",{"$f":"_xlfn.IFNA(IF(BL208=\"\",\"\",MAX(BJ$1:BJ207)+1),\"\")","v":""},"",{"$f":"IF(IF(IF(VLOOKUP($BK208,Archyvas,42,FALSE)=$BL$1,\"\",VLOOKUP($BK208,Archyvas,45,FALSE))=0,\"\",IF(VLOOKUP($BK208,Archyvas,42,FALSE)=$BL$1,\"\",VLOOKUP($BK208,Archyvas,45,FALSE)))=\"\",\"\",IF(IF(VLOOKUP($BK208,Archyvas,42,FALSE)=$BL$1,\"\",VLOOKUP($BK208,Archyvas,42,FALSE))=0,\"\",IF(VLOOKUP($BK208,Archyvas,42,FALSE)=$BL$1,\"\",VLOOKUP($BK208,Archyvas,42,FALSE))))","v":{"$error":"#N/A"}},{"$f":"IF(IF(VLOOKUP($BK208,Archyvas,42,FALSE)=$BL$1,\"\",VLOOKUP($BK208,Archyvas,43,FALSE))=0,\"\",IF(VLOOKUP($BK208,Archyvas,42,FALSE)=$BL$1,\"\",VLOOKUP($BK208,Archyvas,43,FALSE)))","v":{"$error":"#N/A"}},{"$f":"IF(IF(VLOOKUP($BK208,Archyvas,42,FALSE)=$BL$1,\"\",VLOOKUP($BK208,Archyvas,44,FALSE))=0,\"\",IF(VLOOKUP($BK208,Archyvas,42,FALSE)=$BL$1,\"\",VLOOKUP($BK208,Archyvas,44,FALSE)))","v":{"$error":"#N/A"}},{"$f":"IF(IF(VLOOKUP($BK208,Archyvas,42,FALSE)=$BL$1,\"\",VLOOKUP($BK208,Archyvas,45,FALSE))=0,\"\",IF(VLOOKUP($BK208,Archyvas,42,FALSE)=$BL$1,\"\",VLOOKUP($BK208,Archyvas,45,FALSE)))","v":{"$error":"#N/A"}},{"$f":"IF(IF(VLOOKUP($BK208,Archyvas,42,FALSE)=$BL$1,\"\",VLOOKUP($BK208,Archyvas,46,FALSE))=0,\"\",IF(VLOOKUP($BK208,Archyvas,42,FALSE)=$BL$1,\"\",VLOOKUP($BK208,Archyvas,46,FALSE)))","v":{"$error":"#N/A"}},null,{"$f":"_xlfn.IFNA(IF(BS208=\"\",\"\",MAX(BR$1:BR207)+1),\"\")","v":""},"","","","","",""]
[null,null,null,null,null,null,null,null,null,null,null,null,null,null,null,null,null,null,null,null,null,null,null,null,null,null,null,null,null,null,null,null,null,null,null,null,null,null,null,null,null,null,null,null,null,null,null,null,null,null,null,null,null,null,null,null,null,{"$f":"IF(BG209=\"\",\"\",MAX(BF$1:BF208)+1)","v":""},{"$f":"IF(TEXT(Kortelė!$B$26,\"mm\")=IF(A209=\"\",\"\",TEXT(A209,\"mm\")),A209,\"\")","v":""},null,"",{"$f":"_xlfn.IFNA(IF(BL209=\"\",\"\",MAX(BJ$1:BJ208)+1),\"\")","v":""},"",{"$f":"IF(IF(IF(VLOOKUP($BK209,Archyvas,47,FALSE)=$BL$1,\"\",VLOOKUP($BK209,Archyvas,50,FALSE))=0,\"\",IF(VLOOKUP($BK209,Archyvas,47,FALSE)=$BL$1,\"\",VLOOKUP($BK209,Archyvas,50,FALSE)))=\"\",\"\",IF(IF(VLOOKUP($BK209,Archyvas,47,FALSE)=$BL$1,\"\",VLOOKUP($BK209,Archyvas,47,FALSE))=0,\"\",IF(VLOOKUP($BK209,Archyvas,47,FALSE)=$BL$1,\"\",VLOOKUP($BK209,Archyvas,47,FALSE))))","v":{"$error":"#N/A"}},{"$f":"IF(IF(VLOOKUP($BK209,Archyvas,47,FALSE)=$BL$1,\"\",VLOOKUP($BK209,Archyvas,48,FALSE))=0,\"\",IF(VLOOKUP($BK209,Archyvas,47,FALSE)=$BL$1,\"\",VLOOKUP($BK209,Archyvas,48,FALSE)))","v":{"$error":"#N/A"}},{"$f":"IF(IF(VLOOKUP($BK209,Archyvas,47,FALSE)=$BL$1,\"\",VLOOKUP($BK209,Archyvas,49,FALSE))=0,\"\",IF(VLOOKUP($BK209,Archyvas,47,FALSE)=$BL$1,\"\",VLOOKUP($BK209,Archyvas,49,FALSE)))","v":{"$error":"#N/A"}},{"$f":"IF(IF(VLOOKUP($BK209,Archyvas,47,FALSE)=$BL$1,\"\",VLOOKUP($BK209,Archyvas,50,FALSE))=0,\"\",IF(VLOOKUP($BK209,Archyvas,47,FALSE)=$BL$1,\"\",VLOOKUP($BK209,Archyvas,50,FALSE)))","v":{"$error":"#N/A"}},{"$f":"IF(IF(VLOOKUP($BK209,Archyvas,47,FALSE)=$BL$1,\"\",VLOOKUP($BK209,Archyvas,51,FALSE))=0,\"\",IF(VLOOKUP($BK209,Archyvas,47,FALSE)=$BL$1,\"\",VLOOKUP($BK209,Archyvas,51,FALSE)))","v":{"$error":"#N/A"}},null,{"$f":"_xlfn.IFNA(IF(BS209=\"\",\"\",MAX(BR$1:BR208)+1),\"\")","v":""},"","","","","",""]
[null,null,null,null,null,null,null,null,null,null,null,null,null,null,null,null,null,null,null,null,null,null,null,null,null,null,null,null,null,null,null,null,null,null,null,null,null,null,null,null,null,null,null,null,null,null,null,null,null,null,null,null,null,null,null,null,null,{"$f":"IF(BG210=\"\",\"\",MAX(BF$1:BF209)+1)","v":""},{"$f":"IF(TEXT(Kortelė!$B$26,\"mm\")=IF(A210=\"\",\"\",TEXT(A210,\"mm\")),A210,\"\")","v":""},null,"",{"$f":"_xlfn.IFNA(IF(BL210=\"\",\"\",MAX(BJ$1:BJ209)+1),\"\")","v":""},null,null,null,null,null,null,null,{"$f":"_xlfn.IFNA(IF(BS210=\"\",\"\",MAX(BR$1:BR209)+1),\"\")","v":""},"","","","","",""]
[null,null,null,null,null,null,null,null,null,null,null,null,null,null,null,null,null,null,null,null,null,null,null,null,null,null,null,null,null,null,null,null,null,null,null,null,null,null,null,null,null,null,null,null,null,null,null,null,null,null,null,null,null,null,null,null,null,{"$f":"IF(BG211=\"\",\"\",MAX(BF$1:BF210)+1)","v":""},{"$f":"IF(TEXT(Kortelė!$B$26,\"mm\")=IF(A211=\"\",\"\",TEXT(A211,\"mm\")),A211,\"\")","v":""},null,"",{"$f":"_xlfn.IFNA(IF(BL211=\"\",\"\",MAX(BJ$1:BJ210)+1),\"\")","v":""},{"$f":"$BI$21","v":""},{"$f":"IF(IF(IF(VLOOKUP($BK211,Archyvas,2,FALSE)=$BL$1,\"\",VLOOKUP($BK211,Archyvas,5,FALSE))=0,\"\",IF(VLOOKUP($BK211,Archyvas,2,FALSE)=$BL$1,\"\",VLOOKUP($BK211,Archyvas,5,FALSE)))=\"\",\"\",IF(IF(VLOOKUP($BK211,Archyvas,2,FALSE)=$BL$1,\"\",VLOOKUP($BK211,Archyvas,2,FALSE))=0,\"\",IF(VLOOKUP($BK211,Archyvas,2,FALSE)=$BL$1,\"\",VLOOKUP($BK211,Archyvas,2,FALSE))))","v":{"$error":"#N/A"}},{"$f":"IF(IF(VLOOKUP($BK211,Archyvas,2,FALSE)=$BL$1,\"\",VLOOKUP($BK211,Archyvas,3,FALSE))=0,\"\",IF(VLOOKUP($BK211,Archyvas,2,FALSE)=$BL$1,\"\",VLOOKUP($BK211,Archyvas,3,FALSE)))","v":{"$error":"#N/A"}},{"$f":"IF(IF(VLOOKUP($BK211,Archyvas,2,FALSE)=$BL$1,\"\",VLOOKUP($BK211,Archyvas,4,FALSE))=0,\"\",IF(VLOOKUP($BK211,Archyvas,2,FALSE)=$BL$1,\"\",VLOOKUP($BK211,Archyvas,4,FALSE)))","v":{"$error":"#N/A"}},{"$f":"IF(IF(VLOOKUP($BK211,Archyvas,2,FALSE)=$BL$1,\"\",VLOOKUP($BK211,Archyvas,5,FALSE))=0,\"\",IF(VLOOKUP($BK211,Archyvas,2,FALSE)=$BL$1,\"\",VLOOKUP($BK211,Archyvas,5,FALSE)))","v":{"$error":"#N/A"}},{"$f":"IF(IF(VLOOKUP($BK211,Archyvas,2,FALSE)=$BL$1,\"\",VLOOKUP($BK211,Archyvas,6,FALSE))=0,\"\",IF(VLOOKUP($BK211,Archyvas,2,FALSE)=$BL$1,\"\",VLOOKUP($BK211,Archyvas,6,FALSE)))","v":{"$error":"#N/A"}},null,{"$f":"_xlfn.IFNA(IF(BS211=\"\",\"\",MAX(BR$1:BR210)+1),\"\")","v":""},"","","","","",""]
[null,null,null,null,null,null,null,null,null,null,null,null,null,null,null,null,null,null,null,null,null,null,null,null,null,null,null,null,null,null,null,null,null,null,null,null,null,null,null,null,null,null,null,null,null,null,null,null,null,null,null,null,null,null,null,null,null,{"$f":"IF(BG212=\"\",\"\",MAX(BF$1:BF211)+1)","v":""},{"$f":"IF(TEXT(Kortelė!$B$26,\"mm\")=IF(A212=\"\",\"\",TEXT(A212,\"mm\")),A212,\"\")","v":""},null,"",{"$f":"_xlfn.IFNA(IF(BL212=\"\",\"\",MAX(BJ$1:BJ211)+1),\"\")","v":""},{"$f":"BK211","v":""},{"$f":"IF(IF(IF(VLOOKUP($BK212,Archyvas,7,FALSE)=$BL$1,\"\",VLOOKUP($BK212,Archyvas,10,FALSE))=0,\"\",IF(VLOOKUP($BK212,Archyvas,7,FALSE)=$BL$1,\"\",VLOOKUP($BK212,Archyvas,10,FALSE)))=\"\",\"\",IF(IF(VLOOKUP($BK212,Archyvas,7,FALSE)=$BL$1,\"\",VLOOKUP($BK212,Archyvas,7,FALSE))=0,\"\",IF(VLOOKUP($BK212,Archyvas,7,FALSE)=$BL$1,\"\",VLOOKUP($BK212,Archyvas,7,FALSE))))","v":{"$error":"#N/A"}},{"$f":"IF(IF(VLOOKUP($BK212,Archyvas,7,FALSE)=$BL$1,\"\",VLOOKUP($BK212,Archyvas,8,FALSE))=0,\"\",IF(VLOOKUP($BK212,Archyvas,7,FALSE)=$BL$1,\"\",VLOOKUP($BK212,Archyvas,8,FALSE)))","v":{"$error":"#N/A"}},{"$f":"IF(IF(VLOOKUP($BK212,Archyvas,7,FALSE)=$BL$1,\"\",VLOOKUP($BK212,Archyvas,9,FALSE))=0,\"\",IF(VLOOKUP($BK212,Archyvas,7,FALSE)=$BL$1,\"\",VLOOKUP($BK212,Archyvas,9,FALSE)))","v":{"$error":"#N/A"}},{"$f":"IF(IF(VLOOKUP($BK212,Archyvas,7,FALSE)=$BL$1,\"\",VLOOKUP($BK212,Archyvas,10,FALSE))=0,\"\",IF(VLOOKUP($BK212,Archyvas,7,FALSE)=$BL$1,\"\",VLOOKUP($BK212,Archyvas,10,FALSE)))","v":{"$error":"#N/A"}},{"$f":"IF(IF(VLOOKUP($BK212,Archyvas,7,FALSE)=$BL$1,\"\",VLOOKUP($BK212,Archyvas,11,FALSE))=0,\"\",IF(VLOOKUP($BK212,Archyvas,7,FALSE)=$BL$1,\"\",VLOOKUP($BK212,Archyvas,11,FALSE)))","v":{"$error":"#N/A"}},null,{"$f":"_xlfn.IFNA(IF(BS212=\"\",\"\",MAX(BR$1:BR211)+1),\"\")","v":""},"","","","","",""]
[null,null,null,null,null,null,null,null,null,null,null,null,null,null,null,null,null,null,null,null,null,null,null,null,null,null,null,null,null,null,null,null,null,null,null,null,null,null,null,null,null,null,null,null,null,null,null,null,null,null,null,null,null,null,null,null,null,{"$f":"IF(BG213=\"\",\"\",MAX(BF$1:BF212)+1)","v":""},{"$f":"IF(TEXT(Kortelė!$B$26,\"mm\")=IF(A213=\"\",\"\",TEXT(A213,\"mm\")),A213,\"\")","v":""},null,"",{"$f":"_xlfn.IFNA(IF(BL213=\"\",\"\",MAX(BJ$1:BJ212)+1),\"\")","v":""},"",{"$f":"IF(IF(IF(VLOOKUP($BK213,Archyvas,12,FALSE)=$BL$1,\"\",VLOOKUP($BK213,Archyvas,15,FALSE))=0,\"\",IF(VLOOKUP($BK213,Archyvas,12,FALSE)=$BL$1,\"\",VLOOKUP($BK213,Archyvas,15,FALSE)))=\"\",\"\",IF(IF(VLOOKUP($BK213,Archyvas,12,FALSE)=$BL$1,\"\",VLOOKUP($BK213,Archyvas,12,FALSE))=0,\"\",IF(VLOOKUP($BK213,Archyvas,12,FALSE)=$BL$1,\"\",VLOOKUP($BK213,Archyvas,12,FALSE))))","v":{"$error":"#N/A"}},{"$f":"IF(IF(VLOOKUP($BK213,Archyvas,12,FALSE)=$BL$1,\"\",VLOOKUP($BK213,Archyvas,13,FALSE))=0,\"\",IF(VLOOKUP($BK213,Archyvas,12,FALSE)=$BL$1,\"\",VLOOKUP($BK213,Archyvas,13,FALSE)))","v":{"$error":"#N/A"}},{"$f":"IF(IF(VLOOKUP($BK213,Archyvas,12,FALSE)=$BL$1,\"\",VLOOKUP($BK213,Archyvas,14,FALSE))=0,\"\",IF(VLOOKUP($BK213,Archyvas,12,FALSE)=$BL$1,\"\",VLOOKUP($BK213,Archyvas,14,FALSE)))","v":{"$error":"#N/A"}},{"$f":"IF(IF(VLOOKUP($BK213,Archyvas,12,FALSE)=$BL$1,\"\",VLOOKUP($BK213,Archyvas,15,FALSE))=0,\"\",IF(VLOOKUP($BK213,Archyvas,12,FALSE)=$BL$1,\"\",VLOOKUP($BK213,Archyvas,15,FALSE)))","v":{"$error":"#N/A"}},{"$f":"IF(IF(VLOOKUP($BK213,Archyvas,12,FALSE)=$BL$1,\"\",VLOOKUP($BK213,Archyvas,16,FALSE))=0,\"\",IF(VLOOKUP($BK213,Archyvas,12,FALSE)=$BL$1,\"\",VLOOKUP($BK213,Archyvas,16,FALSE)))","v":{"$error":"#N/A"}},null,{"$f":"_xlfn.IFNA(IF(BS213=\"\",\"\",MAX(BR$1:BR212)+1),\"\")","v":""},"","","","","",""]
[null,null,null,null,null,null,null,null,null,null,null,null,null,null,null,null,null,null,null,null,null,null,null,null,null,null,null,null,null,null,null,null,null,null,null,null,null,null,null,null,null,null,null,null,null,null,null,null,null,null,null,null,null,null,null,null,null,{"$f":"IF(BG214=\"\",\"\",MAX(BF$1:BF213)+1)","v":""},{"$f":"IF(TEXT(Kortelė!$B$26,\"mm\")=IF(A214=\"\",\"\",TEXT(A214,\"mm\")),A214,\"\")","v":""},null,"",{"$f":"_xlfn.IFNA(IF(BL214=\"\",\"\",MAX(BJ$1:BJ213)+1),\"\")","v":""},"",{"$f":"IF(IF(IF(VLOOKUP($BK214,Archyvas,17,FALSE)=$BL$1,\"\",VLOOKUP($BK214,Archyvas,20,FALSE))=0,\"\",IF(VLOOKUP($BK214,Archyvas,17,FALSE)=$BL$1,\"\",VLOOKUP($BK214,Archyvas,20,FALSE)))=\"\",\"\",IF(IF(VLOOKUP($BK214,Archyvas,17,FALSE)=$BL$1,\"\",VLOOKUP($BK214,Archyvas,17,FALSE))=0,\"\",IF(VLOOKUP($BK214,Archyvas,17,FALSE)=$BL$1,\"\",VLOOKUP($BK214,Archyvas,17,FALSE))))","v":{"$error":"#N/A"}},{"$f":"IF(IF(VLOOKUP($BK214,Archyvas,17,FALSE)=$BL$1,\"\",VLOOKUP($BK214,Archyvas,18,FALSE))=0,\"\",IF(VLOOKUP($BK214,Archyvas,17,FALSE)=$BL$1,\"\",VLOOKUP($BK214,Archyvas,18,FALSE)))","v":{"$error":"#N/A"}},{"$f":"IF(IF(VLOOKUP($BK214,Archyvas,17,FALSE)=$BL$1,\"\",VLOOKUP($BK214,Archyvas,19,FALSE))=0,\"\",IF(VLOOKUP($BK214,Archyvas,17,FALSE)=$BL$1,\"\",VLOOKUP($BK214,Archyvas,19,FALSE)))","v":{"$error":"#N/A"}},{"$f":"IF(IF(VLOOKUP($BK214,Archyvas,17,FALSE)=$BL$1,\"\",VLOOKUP($BK214,Archyvas,20,FALSE))=0,\"\",IF(VLOOKUP($BK214,Archyvas,17,FALSE)=$BL$1,\"\",VLOOKUP($BK214,Archyvas,20,FALSE)))","v":{"$error":"#N/A"}},{"$f":"IF(IF(VLOOKUP($BK214,Archyvas,17,FALSE)=$BL$1,\"\",VLOOKUP($BK214,Archyvas,21,FALSE))=0,\"\",IF(VLOOKUP($BK214,Archyvas,17,FALSE)=$BL$1,\"\",VLOOKUP($BK214,Archyvas,21,FALSE)))","v":{"$error":"#N/A"}},null,{"$f":"_xlfn.IFNA(IF(BS214=\"\",\"\",MAX(BR$1:BR213)+1),\"\")","v":""},"","","","","",""]
[null,null,null,null,null,null,null,null,null,null,null,null,null,null,null,null,null,null,null,null,null,null,null,null,null,null,null,null,null,null,null,null,null,null,null,null,null,null,null,null,null,null,null,null,null,null,null,null,null,null,null,null,null,null,null,null,null,{"$f":"IF(BG215=\"\",\"\",MAX(BF$1:BF214)+1)","v":""},{"$f":"IF(TEXT(Kortelė!$B$26,\"mm\")=IF(A215=\"\",\"\",TEXT(A215,\"mm\")),A215,\"\")","v":""},null,"",{"$f":"_xlfn.IFNA(IF(BL215=\"\",\"\",MAX(BJ$1:BJ214)+1),\"\")","v":""},"",{"$f":"IF(IF(IF(VLOOKUP($BK215,Archyvas,22,FALSE)=$BL$1,\"\",VLOOKUP($BK215,Archyvas,25,FALSE))=0,\"\",IF(VLOOKUP($BK215,Archyvas,22,FALSE)=$BL$1,\"\",VLOOKUP($BK215,Archyvas,25,FALSE)))=\"\",\"\",IF(IF(VLOOKUP($BK215,Archyvas,22,FALSE)=$BL$1,\"\",VLOOKUP($BK215,Archyvas,22,FALSE))=0,\"\",IF(VLOOKUP($BK215,Archyvas,22,FALSE)=$BL$1,\"\",VLOOKUP($BK215,Archyvas,22,FALSE))))","v":{"$error":"#N/A"}},{"$f":"IF(IF(VLOOKUP($BK215,Archyvas,22,FALSE)=$BL$1,\"\",VLOOKUP($BK215,Archyvas,23,FALSE))=0,\"\",IF(VLOOKUP($BK215,Archyvas,22,FALSE)=$BL$1,\"\",VLOOKUP($BK215,Archyvas,23,FALSE)))","v":{"$error":"#N/A"}},{"$f":"IF(IF(VLOOKUP($BK215,Archyvas,22,FALSE)=$BL$1,\"\",VLOOKUP($BK215,Archyvas,24,FALSE))=0,\"\",IF(VLOOKUP($BK215,Archyvas,22,FALSE)=$BL$1,\"\",VLOOKUP($BK215,Archyvas,24,FALSE)))","v":{"$error":"#N/A"}},{"$f":"IF(IF(VLOOKUP($BK215,Archyvas,22,FALSE)=$BL$1,\"\",VLOOKUP($BK215,Archyvas,25,FALSE))=0,\"\",IF(VLOOKUP($BK215,Archyvas,22,FALSE)=$BL$1,\"\",VLOOKUP($BK215,Archyvas,25,FALSE)))","v":{"$error":"#N/A"}},{"$f":"IF(IF(VLOOKUP($BK215,Archyvas,22,FALSE)=$BL$1,\"\",VLOOKUP($BK215,Archyvas,26,FALSE))=0,\"\",IF(VLOOKUP($BK215,Archyvas,22,FALSE)=$BL$1,\"\",VLOOKUP($BK215,Archyvas,26,FALSE)))","v":{"$error":"#N/A"}},null,{"$f":"_xlfn.IFNA(IF(BS215=\"\",\"\",MAX(BR$1:BR214)+1),\"\")","v":""},"","","","","",""]
[null,null,null,null,null,null,null,null,null,null,null,null,null,null,null,null,null,null,null,null,null,null,null,null,null,null,null,null,null,null,null,null,null,null,null,null,null,null,null,null,null,null,null,null,null,null,null,null,null,null,null,null,null,null,null,null,null,{"$f":"IF(BG216=\"\",\"\",MAX(BF$1:BF215)+1)","v":""},{"$f":"IF(TEXT(Kortelė!$B$26,\"mm\")=IF(A216=\"\",\"\",TEXT(A216,\"mm\")),A216,\"\")","v":""},null,"",{"$f":"_xlfn.IFNA(IF(BL216=\"\",\"\",MAX(BJ$1:BJ215)+1),\"\")","v":""},"",{"$f":"IF(IF(IF(VLOOKUP($BK216,Archyvas,27,FALSE)=$BL$1,\"\",VLOOKUP($BK216,Archyvas,30,FALSE))=0,\"\",IF(VLOOKUP($BK216,Archyvas,27,FALSE)=$BL$1,\"\",VLOOKUP($BK216,Archyvas,30,FALSE)))=\"\",\"\",IF(IF(VLOOKUP($BK216,Archyvas,27,FALSE)=$BL$1,\"\",VLOOKUP($BK216,Archyvas,27,FALSE))=0,\"\",IF(VLOOKUP($BK216,Archyvas,27,FALSE)=$BL$1,\"\",VLOOKUP($BK216,Archyvas,27,FALSE))))","v":{"$error":"#N/A"}},{"$f":"IF(IF(VLOOKUP($BK216,Archyvas,27,FALSE)=$BL$1,\"\",VLOOKUP($BK216,Archyvas,28,FALSE))=0,\"\",IF(VLOOKUP($BK216,Archyvas,27,FALSE)=$BL$1,\"\",VLOOKUP($BK216,Archyvas,28,FALSE)))","v":{"$error":"#N/A"}},{"$f":"IF(IF(VLOOKUP($BK216,Archyvas,27,FALSE)=$BL$1,\"\",VLOOKUP($BK216,Archyvas,29,FALSE))=0,\"\",IF(VLOOKUP($BK216,Archyvas,27,FALSE)=$BL$1,\"\",VLOOKUP($BK216,Archyvas,29,FALSE)))","v":{"$error":"#N/A"}},{"$f":"IF(IF(VLOOKUP($BK216,Archyvas,27,FALSE)=$BL$1,\"\",VLOOKUP($BK216,Archyvas,30,FALSE))=0,\"\",IF(VLOOKUP($BK216,Archyvas,27,FALSE)=$BL$1,\"\",VLOOKUP($BK216,Archyvas,30,FALSE)))","v":{"$error":"#N/A"}},{"$f":"IF(IF(VLOOKUP($BK216,Archyvas,27,FALSE)=$BL$1,\"\",VLOOKUP($BK216,Archyvas,31,FALSE))=0,\"\",IF(VLOOKUP($BK216,Archyvas,27,FALSE)=$BL$1,\"\",VLOOKUP($BK216,Archyvas,31,FALSE)))","v":{"$error":"#N/A"}},null,{"$f":"_xlfn.IFNA(IF(BS216=\"\",\"\",MAX(BR$1:BR215)+1),\"\")","v":""},"","","","","",""]
[null,null,null,null,null,null,null,null,null,null,null,null,null,null,null,null,null,null,null,null,null,null,null,null,null,null,null,null,null,null,null,null,null,null,null,null,null,null,null,null,null,null,null,null,null,null,null,null,null,null,null,null,null,null,null,null,null,{"$f":"IF(BG217=\"\",\"\",MAX(BF$1:BF216)+1)","v":""},{"$f":"IF(TEXT(Kortelė!$B$26,\"mm\")=IF(A217=\"\",\"\",TEXT(A217,\"mm\")),A217,\"\")","v":""},null,"",{"$f":"_xlfn.IFNA(IF(BL217=\"\",\"\",MAX(BJ$1:BJ216)+1),\"\")","v":""},"",{"$f":"IF(IF(IF(VLOOKUP($BK217,Archyvas,32,FALSE)=$BL$1,\"\",VLOOKUP($BK217,Archyvas,35,FALSE))=0,\"\",IF(VLOOKUP($BK217,Archyvas,32,FALSE)=$BL$1,\"\",VLOOKUP($BK217,Archyvas,35,FALSE)))=\"\",\"\",IF(IF(VLOOKUP($BK217,Archyvas,32,FALSE)=$BL$1,\"\",VLOOKUP($BK217,Archyvas,32,FALSE))=0,\"\",IF(VLOOKUP($BK217,Archyvas,32,FALSE)=$BL$1,\"\",VLOOKUP($BK217,Archyvas,32,FALSE))))","v":{"$error":"#N/A"}},{"$f":"IF(IF(VLOOKUP($BK217,Archyvas,32,FALSE)=$BL$1,\"\",VLOOKUP($BK217,Archyvas,33,FALSE))=0,\"\",IF(VLOOKUP($BK217,Archyvas,32,FALSE)=$BL$1,\"\",VLOOKUP($BK217,Archyvas,33,FALSE)))","v":{"$error":"#N/A"}},{"$f":"IF(IF(VLOOKUP($BK217,Archyvas,32,FALSE)=$BL$1,\"\",VLOOKUP($BK217,Archyvas,34,FALSE))=0,\"\",IF(VLOOKUP($BK217,Archyvas,32,FALSE)=$BL$1,\"\",VLOOKUP($BK217,Archyvas,34,FALSE)))","v":{"$error":"#N/A"}},{"$f":"IF(IF(VLOOKUP($BK217,Archyvas,32,FALSE)=$BL$1,\"\",VLOOKUP($BK217,Archyvas,35,FALSE))=0,\"\",IF(VLOOKUP($BK217,Archyvas,32,FALSE)=$BL$1,\"\",VLOOKUP($BK217,Archyvas,35,FALSE)))","v":{"$error":"#N/A"}},{"$f":"IF(IF(VLOOKUP($BK217,Archyvas,32,FALSE)=$BL$1,\"\",VLOOKUP($BK217,Archyvas,36,FALSE))=0,\"\",IF(VLOOKUP($BK217,Archyvas,32,FALSE)=$BL$1,\"\",VLOOKUP($BK217,Archyvas,36,FALSE)))","v":{"$error":"#N/A"}},null,{"$f":"_xlfn.IFNA(IF(BS217=\"\",\"\",MAX(BR$1:BR216)+1),\"\")","v":""},"","","","","",""]
[null,null,null,null,null,null,null,null,null,null,null,null,null,null,null,null,null,null,null,null,null,null,null,null,null,null,null,null,null,null,null,null,null,null,null,null,null,null,null,null,null,null,null,null,null,null,null,null,null,null,null,null,null,null,null,null,null,{"$f":"IF(BG218=\"\",\"\",MAX(BF$1:BF217)+1)","v":""},{"$f":"IF(TEXT(Kortelė!$B$26,\"mm\")=IF(A218=\"\",\"\",TEXT(A218,\"mm\")),A218,\"\")","v":""},null,"",{"$f":"_xlfn.IFNA(IF(BL218=\"\",\"\",MAX(BJ$1:BJ217)+1),\"\")","v":""},"",{"$f":"IF(IF(IF(VLOOKUP($BK218,Archyvas,37,FALSE)=$BL$1,\"\",VLOOKUP($BK218,Archyvas,40,FALSE))=0,\"\",IF(VLOOKUP($BK218,Archyvas,37,FALSE)=$BL$1,\"\",VLOOKUP($BK218,Archyvas,40,FALSE)))=\"\",\"\",IF(IF(VLOOKUP($BK218,Archyvas,37,FALSE)=$BL$1,\"\",VLOOKUP($BK218,Archyvas,37,FALSE))=0,\"\",IF(VLOOKUP($BK218,Archyvas,37,FALSE)=$BL$1,\"\",VLOOKUP($BK218,Archyvas,37,FALSE))))","v":{"$error":"#N/A"}},{"$f":"IF(IF(VLOOKUP($BK218,Archyvas,37,FALSE)=$BL$1,\"\",VLOOKUP($BK218,Archyvas,38,FALSE))=0,\"\",IF(VLOOKUP($BK218,Archyvas,37,FALSE)=$BL$1,\"\",VLOOKUP($BK218,Archyvas,38,FALSE)))","v":{"$error":"#N/A"}},{"$f":"IF(IF(VLOOKUP($BK218,Archyvas,37,FALSE)=$BL$1,\"\",VLOOKUP($BK218,Archyvas,39,FALSE))=0,\"\",IF(VLOOKUP($BK218,Archyvas,37,FALSE)=$BL$1,\"\",VLOOKUP($BK218,Archyvas,39,FALSE)))","v":{"$error":"#N/A"}},{"$f":"IF(IF(VLOOKUP($BK218,Archyvas,37,FALSE)=$BL$1,\"\",VLOOKUP($BK218,Archyvas,40,FALSE))=0,\"\",IF(VLOOKUP($BK218,Archyvas,37,FALSE)=$BL$1,\"\",VLOOKUP($BK218,Archyvas,40,FALSE)))","v":{"$error":"#N/A"}},{"$f":"IF(IF(VLOOKUP($BK218,Archyvas,37,FALSE)=$BL$1,\"\",VLOOKUP($BK218,Archyvas,41,FALSE))=0,\"\",IF(VLOOKUP($BK218,Archyvas,37,FALSE)=$BL$1,\"\",VLOOKUP($BK218,Archyvas,41,FALSE)))","v":{"$error":"#N/A"}},null,{"$f":"_xlfn.IFNA(IF(BS218=\"\",\"\",MAX(BR$1:BR217)+1),\"\")","v":""},"","","","","",""]
[null,null,null,null,null,null,null,null,null,null,null,null,null,null,null,null,null,null,null,null,null,null,null,null,null,null,null,null,null,null,null,null,null,null,null,null,null,null,null,null,null,null,null,null,null,null,null,null,null,null,null,null,null,null,null,null,null,{"$f":"IF(BG219=\"\",\"\",MAX(BF$1:BF218)+1)","v":""},{"$f":"IF(TEXT(Kortelė!$B$26,\"mm\")=IF(A219=\"\",\"\",TEXT(A219,\"mm\")),A219,\"\")","v":""},null,"",{"$f":"_xlfn.IFNA(IF(BL219=\"\",\"\",MAX(BJ$1:BJ218)+1),\"\")","v":""},"",{"$f":"IF(IF(IF(VLOOKUP($BK219,Archyvas,42,FALSE)=$BL$1,\"\",VLOOKUP($BK219,Archyvas,45,FALSE))=0,\"\",IF(VLOOKUP($BK219,Archyvas,42,FALSE)=$BL$1,\"\",VLOOKUP($BK219,Archyvas,45,FALSE)))=\"\",\"\",IF(IF(VLOOKUP($BK219,Archyvas,42,FALSE)=$BL$1,\"\",VLOOKUP($BK219,Archyvas,42,FALSE))=0,\"\",IF(VLOOKUP($BK219,Archyvas,42,FALSE)=$BL$1,\"\",VLOOKUP($BK219,Archyvas,42,FALSE))))","v":{"$error":"#N/A"}},{"$f":"IF(IF(VLOOKUP($BK219,Archyvas,42,FALSE)=$BL$1,\"\",VLOOKUP($BK219,Archyvas,43,FALSE))=0,\"\",IF(VLOOKUP($BK219,Archyvas,42,FALSE)=$BL$1,\"\",VLOOKUP($BK219,Archyvas,43,FALSE)))","v":{"$error":"#N/A"}},{"$f":"IF(IF(VLOOKUP($BK219,Archyvas,42,FALSE)=$BL$1,\"\",VLOOKUP($BK219,Archyvas,44,FALSE))=0,\"\",IF(VLOOKUP($BK219,Archyvas,42,FALSE)=$BL$1,\"\",VLOOKUP($BK219,Archyvas,44,FALSE)))","v":{"$error":"#N/A"}},{"$f":"IF(IF(VLOOKUP($BK219,Archyvas,42,FALSE)=$BL$1,\"\",VLOOKUP($BK219,Archyvas,45,FALSE))=0,\"\",IF(VLOOKUP($BK219,Archyvas,42,FALSE)=$BL$1,\"\",VLOOKUP($BK219,Archyvas,45,FALSE)))","v":{"$error":"#N/A"}},{"$f":"IF(IF(VLOOKUP($BK219,Archyvas,42,FALSE)=$BL$1,\"\",VLOOKUP($BK219,Archyvas,46,FALSE))=0,\"\",IF(VLOOKUP($BK219,Archyvas,42,FALSE)=$BL$1,\"\",VLOOKUP($BK219,Archyvas,46,FALSE)))","v":{"$error":"#N/A"}},null,{"$f":"_xlfn.IFNA(IF(BS219=\"\",\"\",MAX(BR$1:BR218)+1),\"\")","v":""},"","","","","",""]
[null,null,null,null,null,null,null,null,null,null,null,null,null,null,null,null,null,null,null,null,null,null,null,null,null,null,null,null,null,null,null,null,null,null,null,null,null,null,null,null,null,null,null,null,null,null,null,null,null,null,null,null,null,null,null,null,null,{"$f":"IF(BG220=\"\",\"\",MAX(BF$1:BF219)+1)","v":""},{"$f":"IF(TEXT(Kortelė!$B$26,\"mm\")=IF(A220=\"\",\"\",TEXT(A220,\"mm\")),A220,\"\")","v":""},null,"",{"$f":"_xlfn.IFNA(IF(BL220=\"\",\"\",MAX(BJ$1:BJ219)+1),\"\")","v":""},"",{"$f":"IF(IF(IF(VLOOKUP($BK220,Archyvas,47,FALSE)=$BL$1,\"\",VLOOKUP($BK220,Archyvas,50,FALSE))=0,\"\",IF(VLOOKUP($BK220,Archyvas,47,FALSE)=$BL$1,\"\",VLOOKUP($BK220,Archyvas,50,FALSE)))=\"\",\"\",IF(IF(VLOOKUP($BK220,Archyvas,47,FALSE)=$BL$1,\"\",VLOOKUP($BK220,Archyvas,47,FALSE))=0,\"\",IF(VLOOKUP($BK220,Archyvas,47,FALSE)=$BL$1,\"\",VLOOKUP($BK220,Archyvas,47,FALSE))))","v":{"$error":"#N/A"}},{"$f":"IF(IF(VLOOKUP($BK220,Archyvas,47,FALSE)=$BL$1,\"\",VLOOKUP($BK220,Archyvas,48,FALSE))=0,\"\",IF(VLOOKUP($BK220,Archyvas,47,FALSE)=$BL$1,\"\",VLOOKUP($BK220,Archyvas,48,FALSE)))","v":{"$error":"#N/A"}},{"$f":"IF(IF(VLOOKUP($BK220,Archyvas,47,FALSE)=$BL$1,\"\",VLOOKUP($BK220,Archyvas,49,FALSE))=0,\"\",IF(VLOOKUP($BK220,Archyvas,47,FALSE)=$BL$1,\"\",VLOOKUP($BK220,Archyvas,49,FALSE)))","v":{"$error":"#N/A"}},{"$f":"IF(IF(VLOOKUP($BK220,Archyvas,47,FALSE)=$BL$1,\"\",VLOOKUP($BK220,Archyvas,50,FALSE))=0,\"\",IF(VLOOKUP($BK220,Archyvas,47,FALSE)=$BL$1,\"\",VLOOKUP($BK220,Archyvas,50,FALSE)))","v":{"$error":"#N/A"}},{"$f":"IF(IF(VLOOKUP($BK220,Archyvas,47,FALSE)=$BL$1,\"\",VLOOKUP($BK220,Archyvas,51,FALSE))=0,\"\",IF(VLOOKUP($BK220,Archyvas,47,FALSE)=$BL$1,\"\",VLOOKUP($BK220,Archyvas,51,FALSE)))","v":{"$error":"#N/A"}},null,{"$f":"_xlfn.IFNA(IF(BS220=\"\",\"\",MAX(BR$1:BR219)+1),\"\")","v":""},"","","","","",""]
[null,null,null,null,null,null,null,null,null,null,null,null,null,null,null,null,null,null,null,null,null,null,null,null,null,null,null,null,null,null,null,null,null,null,null,null,null,null,null,null,null,null,null,null,null,null,null,null,null,null,null,null,null,null,null,null,null,{"$f":"IF(BG221=\"\",\"\",MAX(BF$1:BF220)+1)","v":""},{"$f":"IF(TEXT(Kortelė!$B$26,\"mm\")=IF(A221=\"\",\"\",TEXT(A221,\"mm\")),A221,\"\")","v":""},null,"",{"$f":"_xlfn.IFNA(IF(BL221=\"\",\"\",MAX(BJ$1:BJ220)+1),\"\")","v":""},{"$f":"BI220","v":""},null,null,null,null,null,null,{"$f":"_xlfn.IFNA(IF(BS221=\"\",\"\",MAX(BR$1:BR220)+1),\"\")","v":""},"","","","","",""]
[null,null,null,null,null,null,null,null,null,null,null,null,null,null,null,null,null,null,null,null,null,null,null,null,null,null,null,null,null,null,null,null,null,null,null,null,null,null,null,null,null,null,null,null,null,null,null,null,null,null,null,null,null,null,null,null,null,{"$f":"IF(BG222=\"\",\"\",MAX(BF$1:BF221)+1)","v":""},{"$f":"IF(TEXT(Kortelė!$B$26,\"mm\")=IF(A222=\"\",\"\",TEXT(A222,\"mm\")),A222,\"\")","v":""},null,"",{"$f":"_xlfn.IFNA(IF(BL222=\"\",\"\",MAX(BJ$1:BJ221)+1),\"\")","v":""},{"$f":"$BI$22","v":""},{"$f":"IF(IF(IF(VLOOKUP($BK222,Archyvas,2,FALSE)=$BL$1,\"\",VLOOKUP($BK222,Archyvas,5,FALSE))=0,\"\",IF(VLOOKUP($BK222,Archyvas,2,FALSE)=$BL$1,\"\",VLOOKUP($BK222,Archyvas,5,FALSE)))=\"\",\"\",IF(IF(VLOOKUP($BK222,Archyvas,2,FALSE)=$BL$1,\"\",VLOOKUP($BK222,Archyvas,2,FALSE))=0,\"\",IF(VLOOKUP($BK222,Archyvas,2,FALSE)=$BL$1,\"\",VLOOKUP($BK222,Archyvas,2,FALSE))))","v":{"$error":"#N/A"}},{"$f":"IF(IF(VLOOKUP($BK222,Archyvas,2,FALSE)=$BL$1,\"\",VLOOKUP($BK222,Archyvas,3,FALSE))=0,\"\",IF(VLOOKUP($BK222,Archyvas,2,FALSE)=$BL$1,\"\",VLOOKUP($BK222,Archyvas,3,FALSE)))","v":{"$error":"#N/A"}},{"$f":"IF(IF(VLOOKUP($BK222,Archyvas,2,FALSE)=$BL$1,\"\",VLOOKUP($BK222,Archyvas,4,FALSE))=0,\"\",IF(VLOOKUP($BK222,Archyvas,2,FALSE)=$BL$1,\"\",VLOOKUP($BK222,Archyvas,4,FALSE)))","v":{"$error":"#N/A"}},{"$f":"IF(IF(VLOOKUP($BK222,Archyvas,2,FALSE)=$BL$1,\"\",VLOOKUP($BK222,Archyvas,5,FALSE))=0,\"\",IF(VLOOKUP($BK222,Archyvas,2,FALSE)=$BL$1,\"\",VLOOKUP($BK222,Archyvas,5,FALSE)))","v":{"$error":"#N/A"}},{"$f":"IF(IF(VLOOKUP($BK222,Archyvas,2,FALSE)=$BL$1,\"\",VLOOKUP($BK222,Archyvas,6,FALSE))=0,\"\",IF(VLOOKUP($BK222,Archyvas,2,FALSE)=$BL$1,\"\",VLOOKUP($BK222,Archyvas,6,FALSE)))","v":{"$error":"#N/A"}},null,{"$f":"_xlfn.IFNA(IF(BS222=\"\",\"\",MAX(BR$1:BR221)+1),\"\")","v":""},"","","","","",""]
[null,null,null,null,null,null,null,null,null,null,null,null,null,null,null,null,null,null,null,null,null,null,null,null,null,null,null,null,null,null,null,null,null,null,null,null,null,null,null,null,null,null,null,null,null,null,null,null,null,null,null,null,null,null,null,null,null,{"$f":"IF(BG223=\"\",\"\",MAX(BF$1:BF222)+1)","v":""},{"$f":"IF(TEXT(Kortelė!$B$26,\"mm\")=IF(A223=\"\",\"\",TEXT(A223,\"mm\")),A223,\"\")","v":""},null,"",{"$f":"_xlfn.IFNA(IF(BL223=\"\",\"\",MAX(BJ$1:BJ222)+1),\"\")","v":""},{"$f":"BK222","v":""},{"$f":"IF(IF(IF(VLOOKUP($BK223,Archyvas,7,FALSE)=$BL$1,\"\",VLOOKUP($BK223,Archyvas,10,FALSE))=0,\"\",IF(VLOOKUP($BK223,Archyvas,7,FALSE)=$BL$1,\"\",VLOOKUP($BK223,Archyvas,10,FALSE)))=\"\",\"\",IF(IF(VLOOKUP($BK223,Archyvas,7,FALSE)=$BL$1,\"\",VLOOKUP($BK223,Archyvas,7,FALSE))=0,\"\",IF(VLOOKUP($BK223,Archyvas,7,FALSE)=$BL$1,\"\",VLOOKUP($BK223,Archyvas,7,FALSE))))","v":{"$error":"#N/A"}},{"$f":"IF(IF(VLOOKUP($BK223,Archyvas,7,FALSE)=$BL$1,\"\",VLOOKUP($BK223,Archyvas,8,FALSE))=0,\"\",IF(VLOOKUP($BK223,Archyvas,7,FALSE)=$BL$1,\"\",VLOOKUP($BK223,Archyvas,8,FALSE)))","v":{"$error":"#N/A"}},{"$f":"IF(IF(VLOOKUP($BK223,Archyvas,7,FALSE)=$BL$1,\"\",VLOOKUP($BK223,Archyvas,9,FALSE))=0,\"\",IF(VLOOKUP($BK223,Archyvas,7,FALSE)=$BL$1,\"\",VLOOKUP($BK223,Archyvas,9,FALSE)))","v":{"$error":"#N/A"}},{"$f":"IF(IF(VLOOKUP($BK223,Archyvas,7,FALSE)=$BL$1,\"\",VLOOKUP($BK223,Archyvas,10,FALSE))=0,\"\",IF(VLOOKUP($BK223,Archyvas,7,FALSE)=$BL$1,\"\",VLOOKUP($BK223,Archyvas,10,FALSE)))","v":{"$error":"#N/A"}},{"$f":"IF(IF(VLOOKUP($BK223,Archyvas,7,FALSE)=$BL$1,\"\",VLOOKUP($BK223,Archyvas,11,FALSE))=0,\"\",IF(VLOOKUP($BK223,Archyvas,7,FALSE)=$BL$1,\"\",VLOOKUP($BK223,Archyvas,11,FALSE)))","v":{"$error":"#N/A"}},null,{"$f":"_xlfn.IFNA(IF(BS223=\"\",\"\",MAX(BR$1:BR222)+1),\"\")","v":""},"","","","","",""]
[null,null,null,null,null,null,null,null,null,null,null,null,null,null,null,null,null,null,null,null,null,null,null,null,null,null,null,null,null,null,null,null,null,null,null,null,null,null,null,null,null,null,null,null,null,null,null,null,null,null,null,null,null,null,null,null,null,{"$f":"IF(BG224=\"\",\"\",MAX(BF$1:BF223)+1)","v":""},{"$f":"IF(TEXT(Kortelė!$B$26,\"mm\")=IF(A224=\"\",\"\",TEXT(A224,\"mm\")),A224,\"\")","v":""},null,"",{"$f":"_xlfn.IFNA(IF(BL224=\"\",\"\",MAX(BJ$1:BJ223)+1),\"\")","v":""},"",{"$f":"IF(IF(IF(VLOOKUP($BK224,Archyvas,12,FALSE)=$BL$1,\"\",VLOOKUP($BK224,Archyvas,15,FALSE))=0,\"\",IF(VLOOKUP($BK224,Archyvas,12,FALSE)=$BL$1,\"\",VLOOKUP($BK224,Archyvas,15,FALSE)))=\"\",\"\",IF(IF(VLOOKUP($BK224,Archyvas,12,FALSE)=$BL$1,\"\",VLOOKUP($BK224,Archyvas,12,FALSE))=0,\"\",IF(VLOOKUP($BK224,Archyvas,12,FALSE)=$BL$1,\"\",VLOOKUP($BK224,Archyvas,12,FALSE))))","v":{"$error":"#N/A"}},{"$f":"IF(IF(VLOOKUP($BK224,Archyvas,12,FALSE)=$BL$1,\"\",VLOOKUP($BK224,Archyvas,13,FALSE))=0,\"\",IF(VLOOKUP($BK224,Archyvas,12,FALSE)=$BL$1,\"\",VLOOKUP($BK224,Archyvas,13,FALSE)))","v":{"$error":"#N/A"}},{"$f":"IF(IF(VLOOKUP($BK224,Archyvas,12,FALSE)=$BL$1,\"\",VLOOKUP($BK224,Archyvas,14,FALSE))=0,\"\",IF(VLOOKUP($BK224,Archyvas,12,FALSE)=$BL$1,\"\",VLOOKUP($BK224,Archyvas,14,FALSE)))","v":{"$error":"#N/A"}},{"$f":"IF(IF(VLOOKUP($BK224,Archyvas,12,FALSE)=$BL$1,\"\",VLOOKUP($BK224,Archyvas,15,FALSE))=0,\"\",IF(VLOOKUP($BK224,Archyvas,12,FALSE)=$BL$1,\"\",VLOOKUP($BK224,Archyvas,15,FALSE)))","v":{"$error":"#N/A"}},{"$f":"IF(IF(VLOOKUP($BK224,Archyvas,12,FALSE)=$BL$1,\"\",VLOOKUP($BK224,Archyvas,16,FALSE))=0,\"\",IF(VLOOKUP($BK224,Archyvas,12,FALSE)=$BL$1,\"\",VLOOKUP($BK224,Archyvas,16,FALSE)))","v":{"$error":"#N/A"}},null,{"$f":"_xlfn.IFNA(IF(BS224=\"\",\"\",MAX(BR$1:BR223)+1),\"\")","v":""},"","","","","",""]
[null,null,null,null,null,null,null,null,null,null,null,null,null,null,null,null,null,null,null,null,null,null,null,null,null,null,null,null,null,null,null,null,null,null,null,null,null,null,null,null,null,null,null,null,null,null,null,null,null,null,null,null,null,null,null,null,null,{"$f":"IF(BG225=\"\",\"\",MAX(BF$1:BF224)+1)","v":""},{"$f":"IF(TEXT(Kortelė!$B$26,\"mm\")=IF(A225=\"\",\"\",TEXT(A225,\"mm\")),A225,\"\")","v":""},null,"",{"$f":"_xlfn.IFNA(IF(BL225=\"\",\"\",MAX(BJ$1:BJ224)+1),\"\")","v":""},"",{"$f":"IF(IF(IF(VLOOKUP($BK225,Archyvas,17,FALSE)=$BL$1,\"\",VLOOKUP($BK225,Archyvas,20,FALSE))=0,\"\",IF(VLOOKUP($BK225,Archyvas,17,FALSE)=$BL$1,\"\",VLOOKUP($BK225,Archyvas,20,FALSE)))=\"\",\"\",IF(IF(VLOOKUP($BK225,Archyvas,17,FALSE)=$BL$1,\"\",VLOOKUP($BK225,Archyvas,17,FALSE))=0,\"\",IF(VLOOKUP($BK225,Archyvas,17,FALSE)=$BL$1,\"\",VLOOKUP($BK225,Archyvas,17,FALSE))))","v":{"$error":"#N/A"}},{"$f":"IF(IF(VLOOKUP($BK225,Archyvas,17,FALSE)=$BL$1,\"\",VLOOKUP($BK225,Archyvas,18,FALSE))=0,\"\",IF(VLOOKUP($BK225,Archyvas,17,FALSE)=$BL$1,\"\",VLOOKUP($BK225,Archyvas,18,FALSE)))","v":{"$error":"#N/A"}},{"$f":"IF(IF(VLOOKUP($BK225,Archyvas,17,FALSE)=$BL$1,\"\",VLOOKUP($BK225,Archyvas,19,FALSE))=0,\"\",IF(VLOOKUP($BK225,Archyvas,17,FALSE)=$BL$1,\"\",VLOOKUP($BK225,Archyvas,19,FALSE)))","v":{"$error":"#N/A"}},{"$f":"IF(IF(VLOOKUP($BK225,Archyvas,17,FALSE)=$BL$1,\"\",VLOOKUP($BK225,Archyvas,20,FALSE))=0,\"\",IF(VLOOKUP($BK225,Archyvas,17,FALSE)=$BL$1,\"\",VLOOKUP($BK225,Archyvas,20,FALSE)))","v":{"$error":"#N/A"}},{"$f":"IF(IF(VLOOKUP($BK225,Archyvas,17,FALSE)=$BL$1,\"\",VLOOKUP($BK225,Archyvas,21,FALSE))=0,\"\",IF(VLOOKUP($BK225,Archyvas,17,FALSE)=$BL$1,\"\",VLOOKUP($BK225,Archyvas,21,FALSE)))","v":{"$error":"#N/A"}},null,{"$f":"_xlfn.IFNA(IF(BS225=\"\",\"\",MAX(BR$1:BR224)+1),\"\")","v":""},"","","","","",""]
[null,null,null,null,null,null,null,null,null,null,null,null,null,null,null,null,null,null,null,null,null,null,null,null,null,null,null,null,null,null,null,null,null,null,null,null,null,null,null,null,null,null,null,null,null,null,null,null,null,null,null,null,null,null,null,null,null,{"$f":"IF(BG226=\"\",\"\",MAX(BF$1:BF225)+1)","v":""},{"$f":"IF(TEXT(Kortelė!$B$26,\"mm\")=IF(A226=\"\",\"\",TEXT(A226,\"mm\")),A226,\"\")","v":""},null,"",{"$f":"_xlfn.IFNA(IF(BL226=\"\",\"\",MAX(BJ$1:BJ225)+1),\"\")","v":""},"",{"$f":"IF(IF(IF(VLOOKUP($BK226,Archyvas,22,FALSE)=$BL$1,\"\",VLOOKUP($BK226,Archyvas,25,FALSE))=0,\"\",IF(VLOOKUP($BK226,Archyvas,22,FALSE)=$BL$1,\"\",VLOOKUP($BK226,Archyvas,25,FALSE)))=\"\",\"\",IF(IF(VLOOKUP($BK226,Archyvas,22,FALSE)=$BL$1,\"\",VLOOKUP($BK226,Archyvas,22,FALSE))=0,\"\",IF(VLOOKUP($BK226,Archyvas,22,FALSE)=$BL$1,\"\",VLOOKUP($BK226,Archyvas,22,FALSE))))","v":{"$error":"#N/A"}},{"$f":"IF(IF(VLOOKUP($BK226,Archyvas,22,FALSE)=$BL$1,\"\",VLOOKUP($BK226,Archyvas,23,FALSE))=0,\"\",IF(VLOOKUP($BK226,Archyvas,22,FALSE)=$BL$1,\"\",VLOOKUP($BK226,Archyvas,23,FALSE)))","v":{"$error":"#N/A"}},{"$f":"IF(IF(VLOOKUP($BK226,Archyvas,22,FALSE)=$BL$1,\"\",VLOOKUP($BK226,Archyvas,24,FALSE))=0,\"\",IF(VLOOKUP($BK226,Archyvas,22,FALSE)=$BL$1,\"\",VLOOKUP($BK226,Archyvas,24,FALSE)))","v":{"$error":"#N/A"}},{"$f":"IF(IF(VLOOKUP($BK226,Archyvas,22,FALSE)=$BL$1,\"\",VLOOKUP($BK226,Archyvas,25,FALSE))=0,\"\",IF(VLOOKUP($BK226,Archyvas,22,FALSE)=$BL$1,\"\",VLOOKUP($BK226,Archyvas,25,FALSE)))","v":{"$error":"#N/A"}},{"$f":"IF(IF(VLOOKUP($BK226,Archyvas,22,FALSE)=$BL$1,\"\",VLOOKUP($BK226,Archyvas,26,FALSE))=0,\"\",IF(VLOOKUP($BK226,Archyvas,22,FALSE)=$BL$1,\"\",VLOOKUP($BK226,Archyvas,26,FALSE)))","v":{"$error":"#N/A"}},null,{"$f":"_xlfn.IFNA(IF(BS226=\"\",\"\",MAX(BR$1:BR225)+1),\"\")","v":""},"","","","","",""]
[null,null,null,null,null,null,null,null,null,null,null,null,null,null,null,null,null,null,null,null,null,null,null,null,null,null,null,null,null,null,null,null,null,null,null,null,null,null,null,null,null,null,null,null,null,null,null,null,null,null,null,null,null,null,null,null,null,{"$f":"IF(BG227=\"\",\"\",MAX(BF$1:BF226)+1)","v":""},{"$f":"IF(TEXT(Kortelė!$B$26,\"mm\")=IF(A227=\"\",\"\",TEXT(A227,\"mm\")),A227,\"\")","v":""},null,"",{"$f":"_xlfn.IFNA(IF(BL227=\"\",\"\",MAX(BJ$1:BJ226)+1),\"\")","v":""},"",{"$f":"IF(IF(IF(VLOOKUP($BK227,Archyvas,27,FALSE)=$BL$1,\"\",VLOOKUP($BK227,Archyvas,30,FALSE))=0,\"\",IF(VLOOKUP($BK227,Archyvas,27,FALSE)=$BL$1,\"\",VLOOKUP($BK227,Archyvas,30,FALSE)))=\"\",\"\",IF(IF(VLOOKUP($BK227,Archyvas,27,FALSE)=$BL$1,\"\",VLOOKUP($BK227,Archyvas,27,FALSE))=0,\"\",IF(VLOOKUP($BK227,Archyvas,27,FALSE)=$BL$1,\"\",VLOOKUP($BK227,Archyvas,27,FALSE))))","v":{"$error":"#N/A"}},{"$f":"IF(IF(VLOOKUP($BK227,Archyvas,27,FALSE)=$BL$1,\"\",VLOOKUP($BK227,Archyvas,28,FALSE))=0,\"\",IF(VLOOKUP($BK227,Archyvas,27,FALSE)=$BL$1,\"\",VLOOKUP($BK227,Archyvas,28,FALSE)))","v":{"$error":"#N/A"}},{"$f":"IF(IF(VLOOKUP($BK227,Archyvas,27,FALSE)=$BL$1,\"\",VLOOKUP($BK227,Archyvas,29,FALSE))=0,\"\",IF(VLOOKUP($BK227,Archyvas,27,FALSE)=$BL$1,\"\",VLOOKUP($BK227,Archyvas,29,FALSE)))","v":{"$error":"#N/A"}},{"$f":"IF(IF(VLOOKUP($BK227,Archyvas,27,FALSE)=$BL$1,\"\",VLOOKUP($BK227,Archyvas,30,FALSE))=0,\"\",IF(VLOOKUP($BK227,Archyvas,27,FALSE)=$BL$1,\"\",VLOOKUP($BK227,Archyvas,30,FALSE)))","v":{"$error":"#N/A"}},{"$f":"IF(IF(VLOOKUP($BK227,Archyvas,27,FALSE)=$BL$1,\"\",VLOOKUP($BK227,Archyvas,31,FALSE))=0,\"\",IF(VLOOKUP($BK227,Archyvas,27,FALSE)=$BL$1,\"\",VLOOKUP($BK227,Archyvas,31,FALSE)))","v":{"$error":"#N/A"}},null,{"$f":"_xlfn.IFNA(IF(BS227=\"\",\"\",MAX(BR$1:BR226)+1),\"\")","v":""},"","","","","",""]
[null,null,null,null,null,null,null,null,null,null,null,null,null,null,null,null,null,null,null,null,null,null,null,null,null,null,null,null,null,null,null,null,null,null,null,null,null,null,null,null,null,null,null,null,null,null,null,null,null,null,null,null,null,null,null,null,null,{"$f":"IF(BG228=\"\",\"\",MAX(BF$1:BF227)+1)","v":""},{"$f":"IF(TEXT(Kortelė!$B$26,\"mm\")=IF(A228=\"\",\"\",TEXT(A228,\"mm\")),A228,\"\")","v":""},null,"",{"$f":"_xlfn.IFNA(IF(BL228=\"\",\"\",MAX(BJ$1:BJ227)+1),\"\")","v":""},"",{"$f":"IF(IF(IF(VLOOKUP($BK228,Archyvas,32,FALSE)=$BL$1,\"\",VLOOKUP($BK228,Archyvas,35,FALSE))=0,\"\",IF(VLOOKUP($BK228,Archyvas,32,FALSE)=$BL$1,\"\",VLOOKUP($BK228,Archyvas,35,FALSE)))=\"\",\"\",IF(IF(VLOOKUP($BK228,Archyvas,32,FALSE)=$BL$1,\"\",VLOOKUP($BK228,Archyvas,32,FALSE))=0,\"\",IF(VLOOKUP($BK228,Archyvas,32,FALSE)=$BL$1,\"\",VLOOKUP($BK228,Archyvas,32,FALSE))))","v":{"$error":"#N/A"}},{"$f":"IF(IF(VLOOKUP($BK228,Archyvas,32,FALSE)=$BL$1,\"\",VLOOKUP($BK228,Archyvas,33,FALSE))=0,\"\",IF(VLOOKUP($BK228,Archyvas,32,FALSE)=$BL$1,\"\",VLOOKUP($BK228,Archyvas,33,FALSE)))","v":{"$error":"#N/A"}},{"$f":"IF(IF(VLOOKUP($BK228,Archyvas,32,FALSE)=$BL$1,\"\",VLOOKUP($BK228,Archyvas,34,FALSE))=0,\"\",IF(VLOOKUP($BK228,Archyvas,32,FALSE)=$BL$1,\"\",VLOOKUP($BK228,Archyvas,34,FALSE)))","v":{"$error":"#N/A"}},{"$f":"IF(IF(VLOOKUP($BK228,Archyvas,32,FALSE)=$BL$1,\"\",VLOOKUP($BK228,Archyvas,35,FALSE))=0,\"\",IF(VLOOKUP($BK228,Archyvas,32,FALSE)=$BL$1,\"\",VLOOKUP($BK228,Archyvas,35,FALSE)))","v":{"$error":"#N/A"}},{"$f":"IF(IF(VLOOKUP($BK228,Archyvas,32,FALSE)=$BL$1,\"\",VLOOKUP($BK228,Archyvas,36,FALSE))=0,\"\",IF(VLOOKUP($BK228,Archyvas,32,FALSE)=$BL$1,\"\",VLOOKUP($BK228,Archyvas,36,FALSE)))","v":{"$error":"#N/A"}},null,{"$f":"_xlfn.IFNA(IF(BS228=\"\",\"\",MAX(BR$1:BR227)+1),\"\")","v":""},"","","","","",""]
[null,null,null,null,null,null,null,null,null,null,null,null,null,null,null,null,null,null,null,null,null,null,null,null,null,null,null,null,null,null,null,null,null,null,null,null,null,null,null,null,null,null,null,null,null,null,null,null,null,null,null,null,null,null,null,null,null,{"$f":"IF(BG229=\"\",\"\",MAX(BF$1:BF228)+1)","v":""},{"$f":"IF(TEXT(Kortelė!$B$26,\"mm\")=IF(A229=\"\",\"\",TEXT(A229,\"mm\")),A229,\"\")","v":""},null,"",{"$f":"_xlfn.IFNA(IF(BL229=\"\",\"\",MAX(BJ$1:BJ228)+1),\"\")","v":""},"",{"$f":"IF(IF(IF(VLOOKUP($BK229,Archyvas,37,FALSE)=$BL$1,\"\",VLOOKUP($BK229,Archyvas,40,FALSE))=0,\"\",IF(VLOOKUP($BK229,Archyvas,37,FALSE)=$BL$1,\"\",VLOOKUP($BK229,Archyvas,40,FALSE)))=\"\",\"\",IF(IF(VLOOKUP($BK229,Archyvas,37,FALSE)=$BL$1,\"\",VLOOKUP($BK229,Archyvas,37,FALSE))=0,\"\",IF(VLOOKUP($BK229,Archyvas,37,FALSE)=$BL$1,\"\",VLOOKUP($BK229,Archyvas,37,FALSE))))","v":{"$error":"#N/A"}},{"$f":"IF(IF(VLOOKUP($BK229,Archyvas,37,FALSE)=$BL$1,\"\",VLOOKUP($BK229,Archyvas,38,FALSE))=0,\"\",IF(VLOOKUP($BK229,Archyvas,37,FALSE)=$BL$1,\"\",VLOOKUP($BK229,Archyvas,38,FALSE)))","v":{"$error":"#N/A"}},{"$f":"IF(IF(VLOOKUP($BK229,Archyvas,37,FALSE)=$BL$1,\"\",VLOOKUP($BK229,Archyvas,39,FALSE))=0,\"\",IF(VLOOKUP($BK229,Archyvas,37,FALSE)=$BL$1,\"\",VLOOKUP($BK229,Archyvas,39,FALSE)))","v":{"$error":"#N/A"}},{"$f":"IF(IF(VLOOKUP($BK229,Archyvas,37,FALSE)=$BL$1,\"\",VLOOKUP($BK229,Archyvas,40,FALSE))=0,\"\",IF(VLOOKUP($BK229,Archyvas,37,FALSE)=$BL$1,\"\",VLOOKUP($BK229,Archyvas,40,FALSE)))","v":{"$error":"#N/A"}},{"$f":"IF(IF(VLOOKUP($BK229,Archyvas,37,FALSE)=$BL$1,\"\",VLOOKUP($BK229,Archyvas,41,FALSE))=0,\"\",IF(VLOOKUP($BK229,Archyvas,37,FALSE)=$BL$1,\"\",VLOOKUP($BK229,Archyvas,41,FALSE)))","v":{"$error":"#N/A"}},null,{"$f":"_xlfn.IFNA(IF(BS229=\"\",\"\",MAX(BR$1:BR228)+1),\"\")","v":""},"","","","","",""]
[null,null,null,null,null,null,null,null,null,null,null,null,null,null,null,null,null,null,null,null,null,null,null,null,null,null,null,null,null,null,null,null,null,null,null,null,null,null,null,null,null,null,null,null,null,null,null,null,null,null,null,null,null,null,null,null,null,{"$f":"IF(BG230=\"\",\"\",MAX(BF$1:BF229)+1)","v":""},{"$f":"IF(TEXT(Kortelė!$B$26,\"mm\")=IF(A230=\"\",\"\",TEXT(A230,\"mm\")),A230,\"\")","v":""},null,"",{"$f":"_xlfn.IFNA(IF(BL230=\"\",\"\",MAX(BJ$1:BJ229)+1),\"\")","v":""},"",{"$f":"IF(IF(IF(VLOOKUP($BK230,Archyvas,42,FALSE)=$BL$1,\"\",VLOOKUP($BK230,Archyvas,45,FALSE))=0,\"\",IF(VLOOKUP($BK230,Archyvas,42,FALSE)=$BL$1,\"\",VLOOKUP($BK230,Archyvas,45,FALSE)))=\"\",\"\",IF(IF(VLOOKUP($BK230,Archyvas,42,FALSE)=$BL$1,\"\",VLOOKUP($BK230,Archyvas,42,FALSE))=0,\"\",IF(VLOOKUP($BK230,Archyvas,42,FALSE)=$BL$1,\"\",VLOOKUP($BK230,Archyvas,42,FALSE))))","v":{"$error":"#N/A"}},{"$f":"IF(IF(VLOOKUP($BK230,Archyvas,42,FALSE)=$BL$1,\"\",VLOOKUP($BK230,Archyvas,43,FALSE))=0,\"\",IF(VLOOKUP($BK230,Archyvas,42,FALSE)=$BL$1,\"\",VLOOKUP($BK230,Archyvas,43,FALSE)))","v":{"$error":"#N/A"}},{"$f":"IF(IF(VLOOKUP($BK230,Archyvas,42,FALSE)=$BL$1,\"\",VLOOKUP($BK230,Archyvas,44,FALSE))=0,\"\",IF(VLOOKUP($BK230,Archyvas,42,FALSE)=$BL$1,\"\",VLOOKUP($BK230,Archyvas,44,FALSE)))","v":{"$error":"#N/A"}},{"$f":"IF(IF(VLOOKUP($BK230,Archyvas,42,FALSE)=$BL$1,\"\",VLOOKUP($BK230,Archyvas,45,FALSE))=0,\"\",IF(VLOOKUP($BK230,Archyvas,42,FALSE)=$BL$1,\"\",VLOOKUP($BK230,Archyvas,45,FALSE)))","v":{"$error":"#N/A"}},{"$f":"IF(IF(VLOOKUP($BK230,Archyvas,42,FALSE)=$BL$1,\"\",VLOOKUP($BK230,Archyvas,46,FALSE))=0,\"\",IF(VLOOKUP($BK230,Archyvas,42,FALSE)=$BL$1,\"\",VLOOKUP($BK230,Archyvas,46,FALSE)))","v":{"$error":"#N/A"}},null,{"$f":"_xlfn.IFNA(IF(BS230=\"\",\"\",MAX(BR$1:BR229)+1),\"\")","v":""},"","","","","",""]
[null,null,null,null,null,null,null,null,null,null,null,null,null,null,null,null,null,null,null,null,null,null,null,null,null,null,null,null,null,null,null,null,null,null,null,null,null,null,null,null,null,null,null,null,null,null,null,null,null,null,null,null,null,null,null,null,null,{"$f":"IF(BG231=\"\",\"\",MAX(BF$1:BF230)+1)","v":""},{"$f":"IF(TEXT(Kortelė!$B$26,\"mm\")=IF(A231=\"\",\"\",TEXT(A231,\"mm\")),A231,\"\")","v":""},null,"",{"$f":"_xlfn.IFNA(IF(BL231=\"\",\"\",MAX(BJ$1:BJ230)+1),\"\")","v":""},"",{"$f":"IF(IF(IF(VLOOKUP($BK231,Archyvas,47,FALSE)=$BL$1,\"\",VLOOKUP($BK231,Archyvas,50,FALSE))=0,\"\",IF(VLOOKUP($BK231,Archyvas,47,FALSE)=$BL$1,\"\",VLOOKUP($BK231,Archyvas,50,FALSE)))=\"\",\"\",IF(IF(VLOOKUP($BK231,Archyvas,47,FALSE)=$BL$1,\"\",VLOOKUP($BK231,Archyvas,47,FALSE))=0,\"\",IF(VLOOKUP($BK231,Archyvas,47,FALSE)=$BL$1,\"\",VLOOKUP($BK231,Archyvas,47,FALSE))))","v":{"$error":"#N/A"}},{"$f":"IF(IF(VLOOKUP($BK231,Archyvas,47,FALSE)=$BL$1,\"\",VLOOKUP($BK231,Archyvas,48,FALSE))=0,\"\",IF(VLOOKUP($BK231,Archyvas,47,FALSE)=$BL$1,\"\",VLOOKUP($BK231,Archyvas,48,FALSE)))","v":{"$error":"#N/A"}},{"$f":"IF(IF(VLOOKUP($BK231,Archyvas,47,FALSE)=$BL$1,\"\",VLOOKUP($BK231,Archyvas,49,FALSE))=0,\"\",IF(VLOOKUP($BK231,Archyvas,47,FALSE)=$BL$1,\"\",VLOOKUP($BK231,Archyvas,49,FALSE)))","v":{"$error":"#N/A"}},{"$f":"IF(IF(VLOOKUP($BK231,Archyvas,47,FALSE)=$BL$1,\"\",VLOOKUP($BK231,Archyvas,50,FALSE))=0,\"\",IF(VLOOKUP($BK231,Archyvas,47,FALSE)=$BL$1,\"\",VLOOKUP($BK231,Archyvas,50,FALSE)))","v":{"$error":"#N/A"}},{"$f":"IF(IF(VLOOKUP($BK231,Archyvas,47,FALSE)=$BL$1,\"\",VLOOKUP($BK231,Archyvas,51,FALSE))=0,\"\",IF(VLOOKUP($BK231,Archyvas,47,FALSE)=$BL$1,\"\",VLOOKUP($BK231,Archyvas,51,FALSE)))","v":{"$error":"#N/A"}},null,{"$f":"_xlfn.IFNA(IF(BS231=\"\",\"\",MAX(BR$1:BR230)+1),\"\")","v":""},"","","","","",""]
[null,null,null,null,null,null,null,null,null,null,null,null,null,null,null,null,null,null,null,null,null,null,null,null,null,null,null,null,null,null,null,null,null,null,null,null,null,null,null,null,null,null,null,null,null,null,null,null,null,null,null,null,null,null,null,null,null,{"$f":"IF(BG232=\"\",\"\",MAX(BF$1:BF231)+1)","v":""},{"$f":"IF(TEXT(Kortelė!$B$26,\"mm\")=IF(A232=\"\",\"\",TEXT(A232,\"mm\")),A232,\"\")","v":""},null,"",{"$f":"_xlfn.IFNA(IF(BL232=\"\",\"\",MAX(BJ$1:BJ231)+1),\"\")","v":""},null,null,null,null,null,null,null,{"$f":"_xlfn.IFNA(IF(BS232=\"\",\"\",MAX(BR$1:BR231)+1),\"\")","v":""},"","","","","",""]
[null,null,null,null,null,null,null,null,null,null,null,null,null,null,null,null,null,null,null,null,null,null,null,null,null,null,null,null,null,null,null,null,null,null,null,null,null,null,null,null,null,null,null,null,null,null,null,null,null,null,null,null,null,null,null,null,null,{"$f":"IF(BG233=\"\",\"\",MAX(BF$1:BF232)+1)","v":""},{"$f":"IF(TEXT(Kortelė!$B$26,\"mm\")=IF(A233=\"\",\"\",TEXT(A233,\"mm\")),A233,\"\")","v":""},null,"",{"$f":"_xlfn.IFNA(IF(BL233=\"\",\"\",MAX(BJ$1:BJ232)+1),\"\")","v":""},{"$f":"$BI$23","v":""},{"$f":"IF(IF(IF(VLOOKUP($BK233,Archyvas,2,FALSE)=$BL$1,\"\",VLOOKUP($BK233,Archyvas,5,FALSE))=0,\"\",IF(VLOOKUP($BK233,Archyvas,2,FALSE)=$BL$1,\"\",VLOOKUP($BK233,Archyvas,5,FALSE)))=\"\",\"\",IF(IF(VLOOKUP($BK233,Archyvas,2,FALSE)=$BL$1,\"\",VLOOKUP($BK233,Archyvas,2,FALSE))=0,\"\",IF(VLOOKUP($BK233,Archyvas,2,FALSE)=$BL$1,\"\",VLOOKUP($BK233,Archyvas,2,FALSE))))","v":{"$error":"#N/A"}},{"$f":"IF(IF(VLOOKUP($BK233,Archyvas,2,FALSE)=$BL$1,\"\",VLOOKUP($BK233,Archyvas,3,FALSE))=0,\"\",IF(VLOOKUP($BK233,Archyvas,2,FALSE)=$BL$1,\"\",VLOOKUP($BK233,Archyvas,3,FALSE)))","v":{"$error":"#N/A"}},{"$f":"IF(IF(VLOOKUP($BK233,Archyvas,2,FALSE)=$BL$1,\"\",VLOOKUP($BK233,Archyvas,4,FALSE))=0,\"\",IF(VLOOKUP($BK233,Archyvas,2,FALSE)=$BL$1,\"\",VLOOKUP($BK233,Archyvas,4,FALSE)))","v":{"$error":"#N/A"}},{"$f":"IF(IF(VLOOKUP($BK233,Archyvas,2,FALSE)=$BL$1,\"\",VLOOKUP($BK233,Archyvas,5,FALSE))=0,\"\",IF(VLOOKUP($BK233,Archyvas,2,FALSE)=$BL$1,\"\",VLOOKUP($BK233,Archyvas,5,FALSE)))","v":{"$error":"#N/A"}},{"$f":"IF(IF(VLOOKUP($BK233,Archyvas,2,FALSE)=$BL$1,\"\",VLOOKUP($BK233,Archyvas,6,FALSE))=0,\"\",IF(VLOOKUP($BK233,Archyvas,2,FALSE)=$BL$1,\"\",VLOOKUP($BK233,Archyvas,6,FALSE)))","v":{"$error":"#N/A"}},null,{"$f":"_xlfn.IFNA(IF(BS233=\"\",\"\",MAX(BR$1:BR232)+1),\"\")","v":""},"","","","","",""]
[null,null,null,null,null,null,null,null,null,null,null,null,null,null,null,null,null,null,null,null,null,null,null,null,null,null,null,null,null,null,null,null,null,null,null,null,null,null,null,null,null,null,null,null,null,null,null,null,null,null,null,null,null,null,null,null,null,{"$f":"IF(BG234=\"\",\"\",MAX(BF$1:BF233)+1)","v":""},{"$f":"IF(TEXT(Kortelė!$B$26,\"mm\")=IF(A234=\"\",\"\",TEXT(A234,\"mm\")),A234,\"\")","v":""},null,"",{"$f":"_xlfn.IFNA(IF(BL234=\"\",\"\",MAX(BJ$1:BJ233)+1),\"\")","v":""},{"$f":"BK233","v":""},{"$f":"IF(IF(IF(VLOOKUP($BK234,Archyvas,7,FALSE)=$BL$1,\"\",VLOOKUP($BK234,Archyvas,10,FALSE))=0,\"\",IF(VLOOKUP($BK234,Archyvas,7,FALSE)=$BL$1,\"\",VLOOKUP($BK234,Archyvas,10,FALSE)))=\"\",\"\",IF(IF(VLOOKUP($BK234,Archyvas,7,FALSE)=$BL$1,\"\",VLOOKUP($BK234,Archyvas,7,FALSE))=0,\"\",IF(VLOOKUP($BK234,Archyvas,7,FALSE)=$BL$1,\"\",VLOOKUP($BK234,Archyvas,7,FALSE))))","v":{"$error":"#N/A"}},{"$f":"IF(IF(VLOOKUP($BK234,Archyvas,7,FALSE)=$BL$1,\"\",VLOOKUP($BK234,Archyvas,8,FALSE))=0,\"\",IF(VLOOKUP($BK234,Archyvas,7,FALSE)=$BL$1,\"\",VLOOKUP($BK234,Archyvas,8,FALSE)))","v":{"$error":"#N/A"}},{"$f":"IF(IF(VLOOKUP($BK234,Archyvas,7,FALSE)=$BL$1,\"\",VLOOKUP($BK234,Archyvas,9,FALSE))=0,\"\",IF(VLOOKUP($BK234,Archyvas,7,FALSE)=$BL$1,\"\",VLOOKUP($BK234,Archyvas,9,FALSE)))","v":{"$error":"#N/A"}},{"$f":"IF(IF(VLOOKUP($BK234,Archyvas,7,FALSE)=$BL$1,\"\",VLOOKUP($BK234,Archyvas,10,FALSE))=0,\"\",IF(VLOOKUP($BK234,Archyvas,7,FALSE)=$BL$1,\"\",VLOOKUP($BK234,Archyvas,10,FALSE)))","v":{"$error":"#N/A"}},{"$f":"IF(IF(VLOOKUP($BK234,Archyvas,7,FALSE)=$BL$1,\"\",VLOOKUP($BK234,Archyvas,11,FALSE))=0,\"\",IF(VLOOKUP($BK234,Archyvas,7,FALSE)=$BL$1,\"\",VLOOKUP($BK234,Archyvas,11,FALSE)))","v":{"$error":"#N/A"}},null,{"$f":"_xlfn.IFNA(IF(BS234=\"\",\"\",MAX(BR$1:BR233)+1),\"\")","v":""},"","","","","",""]
[null,null,null,null,null,null,null,null,null,null,null,null,null,null,null,null,null,null,null,null,null,null,null,null,null,null,null,null,null,null,null,null,null,null,null,null,null,null,null,null,null,null,null,null,null,null,null,null,null,null,null,null,null,null,null,null,null,{"$f":"IF(BG235=\"\",\"\",MAX(BF$1:BF234)+1)","v":""},{"$f":"IF(TEXT(Kortelė!$B$26,\"mm\")=IF(A235=\"\",\"\",TEXT(A235,\"mm\")),A235,\"\")","v":""},null,"",{"$f":"_xlfn.IFNA(IF(BL235=\"\",\"\",MAX(BJ$1:BJ234)+1),\"\")","v":""},"",{"$f":"IF(IF(IF(VLOOKUP($BK235,Archyvas,12,FALSE)=$BL$1,\"\",VLOOKUP($BK235,Archyvas,15,FALSE))=0,\"\",IF(VLOOKUP($BK235,Archyvas,12,FALSE)=$BL$1,\"\",VLOOKUP($BK235,Archyvas,15,FALSE)))=\"\",\"\",IF(IF(VLOOKUP($BK235,Archyvas,12,FALSE)=$BL$1,\"\",VLOOKUP($BK235,Archyvas,12,FALSE))=0,\"\",IF(VLOOKUP($BK235,Archyvas,12,FALSE)=$BL$1,\"\",VLOOKUP($BK235,Archyvas,12,FALSE))))","v":{"$error":"#N/A"}},{"$f":"IF(IF(VLOOKUP($BK235,Archyvas,12,FALSE)=$BL$1,\"\",VLOOKUP($BK235,Archyvas,13,FALSE))=0,\"\",IF(VLOOKUP($BK235,Archyvas,12,FALSE)=$BL$1,\"\",VLOOKUP($BK235,Archyvas,13,FALSE)))","v":{"$error":"#N/A"}},{"$f":"IF(IF(VLOOKUP($BK235,Archyvas,12,FALSE)=$BL$1,\"\",VLOOKUP($BK235,Archyvas,14,FALSE))=0,\"\",IF(VLOOKUP($BK235,Archyvas,12,FALSE)=$BL$1,\"\",VLOOKUP($BK235,Archyvas,14,FALSE)))","v":{"$error":"#N/A"}},{"$f":"IF(IF(VLOOKUP($BK235,Archyvas,12,FALSE)=$BL$1,\"\",VLOOKUP($BK235,Archyvas,15,FALSE))=0,\"\",IF(VLOOKUP($BK235,Archyvas,12,FALSE)=$BL$1,\"\",VLOOKUP($BK235,Archyvas,15,FALSE)))","v":{"$error":"#N/A"}},{"$f":"IF(IF(VLOOKUP($BK235,Archyvas,12,FALSE)=$BL$1,\"\",VLOOKUP($BK235,Archyvas,16,FALSE))=0,\"\",IF(VLOOKUP($BK235,Archyvas,12,FALSE)=$BL$1,\"\",VLOOKUP($BK235,Archyvas,16,FALSE)))","v":{"$error":"#N/A"}},null,{"$f":"_xlfn.IFNA(IF(BS235=\"\",\"\",MAX(BR$1:BR234)+1),\"\")","v":""},"","","","","",""]
[null,null,null,null,null,null,null,null,null,null,null,null,null,null,null,null,null,null,null,null,null,null,null,null,null,null,null,null,null,null,null,null,null,null,null,null,null,null,null,null,null,null,null,null,null,null,null,null,null,null,null,null,null,null,null,null,null,{"$f":"IF(BG236=\"\",\"\",MAX(BF$1:BF235)+1)","v":""},{"$f":"IF(TEXT(Kortelė!$B$26,\"mm\")=IF(A236=\"\",\"\",TEXT(A236,\"mm\")),A236,\"\")","v":""},null,"",{"$f":"_xlfn.IFNA(IF(BL236=\"\",\"\",MAX(BJ$1:BJ235)+1),\"\")","v":""},"",{"$f":"IF(IF(IF(VLOOKUP($BK236,Archyvas,17,FALSE)=$BL$1,\"\",VLOOKUP($BK236,Archyvas,20,FALSE))=0,\"\",IF(VLOOKUP($BK236,Archyvas,17,FALSE)=$BL$1,\"\",VLOOKUP($BK236,Archyvas,20,FALSE)))=\"\",\"\",IF(IF(VLOOKUP($BK236,Archyvas,17,FALSE)=$BL$1,\"\",VLOOKUP($BK236,Archyvas,17,FALSE))=0,\"\",IF(VLOOKUP($BK236,Archyvas,17,FALSE)=$BL$1,\"\",VLOOKUP($BK236,Archyvas,17,FALSE))))","v":{"$error":"#N/A"}},{"$f":"IF(IF(VLOOKUP($BK236,Archyvas,17,FALSE)=$BL$1,\"\",VLOOKUP($BK236,Archyvas,18,FALSE))=0,\"\",IF(VLOOKUP($BK236,Archyvas,17,FALSE)=$BL$1,\"\",VLOOKUP($BK236,Archyvas,18,FALSE)))","v":{"$error":"#N/A"}},{"$f":"IF(IF(VLOOKUP($BK236,Archyvas,17,FALSE)=$BL$1,\"\",VLOOKUP($BK236,Archyvas,19,FALSE))=0,\"\",IF(VLOOKUP($BK236,Archyvas,17,FALSE)=$BL$1,\"\",VLOOKUP($BK236,Archyvas,19,FALSE)))","v":{"$error":"#N/A"}},{"$f":"IF(IF(VLOOKUP($BK236,Archyvas,17,FALSE)=$BL$1,\"\",VLOOKUP($BK236,Archyvas,20,FALSE))=0,\"\",IF(VLOOKUP($BK236,Archyvas,17,FALSE)=$BL$1,\"\",VLOOKUP($BK236,Archyvas,20,FALSE)))","v":{"$error":"#N/A"}},{"$f":"IF(IF(VLOOKUP($BK236,Archyvas,17,FALSE)=$BL$1,\"\",VLOOKUP($BK236,Archyvas,21,FALSE))=0,\"\",IF(VLOOKUP($BK236,Archyvas,17,FALSE)=$BL$1,\"\",VLOOKUP($BK236,Archyvas,21,FALSE)))","v":{"$error":"#N/A"}},null,{"$f":"_xlfn.IFNA(IF(BS236=\"\",\"\",MAX(BR$1:BR235)+1),\"\")","v":""},"","","","","",""]
[null,null,null,null,null,null,null,null,null,null,null,null,null,null,null,null,null,null,null,null,null,null,null,null,null,null,null,null,null,null,null,null,null,null,null,null,null,null,null,null,null,null,null,null,null,null,null,null,null,null,null,null,null,null,null,null,null,{"$f":"IF(BG237=\"\",\"\",MAX(BF$1:BF236)+1)","v":""},{"$f":"IF(TEXT(Kortelė!$B$26,\"mm\")=IF(A237=\"\",\"\",TEXT(A237,\"mm\")),A237,\"\")","v":""},null,"",{"$f":"_xlfn.IFNA(IF(BL237=\"\",\"\",MAX(BJ$1:BJ236)+1),\"\")","v":""},"",{"$f":"IF(IF(IF(VLOOKUP($BK237,Archyvas,22,FALSE)=$BL$1,\"\",VLOOKUP($BK237,Archyvas,25,FALSE))=0,\"\",IF(VLOOKUP($BK237,Archyvas,22,FALSE)=$BL$1,\"\",VLOOKUP($BK237,Archyvas,25,FALSE)))=\"\",\"\",IF(IF(VLOOKUP($BK237,Archyvas,22,FALSE)=$BL$1,\"\",VLOOKUP($BK237,Archyvas,22,FALSE))=0,\"\",IF(VLOOKUP($BK237,Archyvas,22,FALSE)=$BL$1,\"\",VLOOKUP($BK237,Archyvas,22,FALSE))))","v":{"$error":"#N/A"}},{"$f":"IF(IF(VLOOKUP($BK237,Archyvas,22,FALSE)=$BL$1,\"\",VLOOKUP($BK237,Archyvas,23,FALSE))=0,\"\",IF(VLOOKUP($BK237,Archyvas,22,FALSE)=$BL$1,\"\",VLOOKUP($BK237,Archyvas,23,FALSE)))","v":{"$error":"#N/A"}},{"$f":"IF(IF(VLOOKUP($BK237,Archyvas,22,FALSE)=$BL$1,\"\",VLOOKUP($BK237,Archyvas,24,FALSE))=0,\"\",IF(VLOOKUP($BK237,Archyvas,22,FALSE)=$BL$1,\"\",VLOOKUP($BK237,Archyvas,24,FALSE)))","v":{"$error":"#N/A"}},{"$f":"IF(IF(VLOOKUP($BK237,Archyvas,22,FALSE)=$BL$1,\"\",VLOOKUP($BK237,Archyvas,25,FALSE))=0,\"\",IF(VLOOKUP($BK237,Archyvas,22,FALSE)=$BL$1,\"\",VLOOKUP($BK237,Archyvas,25,FALSE)))","v":{"$error":"#N/A"}},{"$f":"IF(IF(VLOOKUP($BK237,Archyvas,22,FALSE)=$BL$1,\"\",VLOOKUP($BK237,Archyvas,26,FALSE))=0,\"\",IF(VLOOKUP($BK237,Archyvas,22,FALSE)=$BL$1,\"\",VLOOKUP($BK237,Archyvas,26,FALSE)))","v":{"$error":"#N/A"}},null,{"$f":"_xlfn.IFNA(IF(BS237=\"\",\"\",MAX(BR$1:BR236)+1),\"\")","v":""},"","","","","",""]
[null,null,null,null,null,null,null,null,null,null,null,null,null,null,null,null,null,null,null,null,null,null,null,null,null,null,null,null,null,null,null,null,null,null,null,null,null,null,null,null,null,null,null,null,null,null,null,null,null,null,null,null,null,null,null,null,null,{"$f":"IF(BG238=\"\",\"\",MAX(BF$1:BF237)+1)","v":""},{"$f":"IF(TEXT(Kortelė!$B$26,\"mm\")=IF(A238=\"\",\"\",TEXT(A238,\"mm\")),A238,\"\")","v":""},null,"",{"$f":"_xlfn.IFNA(IF(BL238=\"\",\"\",MAX(BJ$1:BJ237)+1),\"\")","v":""},"",{"$f":"IF(IF(IF(VLOOKUP($BK238,Archyvas,27,FALSE)=$BL$1,\"\",VLOOKUP($BK238,Archyvas,30,FALSE))=0,\"\",IF(VLOOKUP($BK238,Archyvas,27,FALSE)=$BL$1,\"\",VLOOKUP($BK238,Archyvas,30,FALSE)))=\"\",\"\",IF(IF(VLOOKUP($BK238,Archyvas,27,FALSE)=$BL$1,\"\",VLOOKUP($BK238,Archyvas,27,FALSE))=0,\"\",IF(VLOOKUP($BK238,Archyvas,27,FALSE)=$BL$1,\"\",VLOOKUP($BK238,Archyvas,27,FALSE))))","v":{"$error":"#N/A"}},{"$f":"IF(IF(VLOOKUP($BK238,Archyvas,27,FALSE)=$BL$1,\"\",VLOOKUP($BK238,Archyvas,28,FALSE))=0,\"\",IF(VLOOKUP($BK238,Archyvas,27,FALSE)=$BL$1,\"\",VLOOKUP($BK238,Archyvas,28,FALSE)))","v":{"$error":"#N/A"}},{"$f":"IF(IF(VLOOKUP($BK238,Archyvas,27,FALSE)=$BL$1,\"\",VLOOKUP($BK238,Archyvas,29,FALSE))=0,\"\",IF(VLOOKUP($BK238,Archyvas,27,FALSE)=$BL$1,\"\",VLOOKUP($BK238,Archyvas,29,FALSE)))","v":{"$error":"#N/A"}},{"$f":"IF(IF(VLOOKUP($BK238,Archyvas,27,FALSE)=$BL$1,\"\",VLOOKUP($BK238,Archyvas,30,FALSE))=0,\"\",IF(VLOOKUP($BK238,Archyvas,27,FALSE)=$BL$1,\"\",VLOOKUP($BK238,Archyvas,30,FALSE)))","v":{"$error":"#N/A"}},{"$f":"IF(IF(VLOOKUP($BK238,Archyvas,27,FALSE)=$BL$1,\"\",VLOOKUP($BK238,Archyvas,31,FALSE))=0,\"\",IF(VLOOKUP($BK238,Archyvas,27,FALSE)=$BL$1,\"\",VLOOKUP($BK238,Archyvas,31,FALSE)))","v":{"$error":"#N/A"}},null,{"$f":"_xlfn.IFNA(IF(BS238=\"\",\"\",MAX(BR$1:BR237)+1),\"\")","v":""},"","","","","",""]
[null,null,null,null,null,null,null,null,null,null,null,null,null,null,null,null,null,null,null,null,null,null,null,null,null,null,null,null,null,null,null,null,null,null,null,null,null,null,null,null,null,null,null,null,null,null,null,null,null,null,null,null,null,null,null,null,null,{"$f":"IF(BG239=\"\",\"\",MAX(BF$1:BF238)+1)","v":""},{"$f":"IF(TEXT(Kortelė!$B$26,\"mm\")=IF(A239=\"\",\"\",TEXT(A239,\"mm\")),A239,\"\")","v":""},null,"",{"$f":"_xlfn.IFNA(IF(BL239=\"\",\"\",MAX(BJ$1:BJ238)+1),\"\")","v":""},"",{"$f":"IF(IF(IF(VLOOKUP($BK239,Archyvas,32,FALSE)=$BL$1,\"\",VLOOKUP($BK239,Archyvas,35,FALSE))=0,\"\",IF(VLOOKUP($BK239,Archyvas,32,FALSE)=$BL$1,\"\",VLOOKUP($BK239,Archyvas,35,FALSE)))=\"\",\"\",IF(IF(VLOOKUP($BK239,Archyvas,32,FALSE)=$BL$1,\"\",VLOOKUP($BK239,Archyvas,32,FALSE))=0,\"\",IF(VLOOKUP($BK239,Archyvas,32,FALSE)=$BL$1,\"\",VLOOKUP($BK239,Archyvas,32,FALSE))))","v":{"$error":"#N/A"}},{"$f":"IF(IF(VLOOKUP($BK239,Archyvas,32,FALSE)=$BL$1,\"\",VLOOKUP($BK239,Archyvas,33,FALSE))=0,\"\",IF(VLOOKUP($BK239,Archyvas,32,FALSE)=$BL$1,\"\",VLOOKUP($BK239,Archyvas,33,FALSE)))","v":{"$error":"#N/A"}},{"$f":"IF(IF(VLOOKUP($BK239,Archyvas,32,FALSE)=$BL$1,\"\",VLOOKUP($BK239,Archyvas,34,FALSE))=0,\"\",IF(VLOOKUP($BK239,Archyvas,32,FALSE)=$BL$1,\"\",VLOOKUP($BK239,Archyvas,34,FALSE)))","v":{"$error":"#N/A"}},{"$f":"IF(IF(VLOOKUP($BK239,Archyvas,32,FALSE)=$BL$1,\"\",VLOOKUP($BK239,Archyvas,35,FALSE))=0,\"\",IF(VLOOKUP($BK239,Archyvas,32,FALSE)=$BL$1,\"\",VLOOKUP($BK239,Archyvas,35,FALSE)))","v":{"$error":"#N/A"}},{"$f":"IF(IF(VLOOKUP($BK239,Archyvas,32,FALSE)=$BL$1,\"\",VLOOKUP($BK239,Archyvas,36,FALSE))=0,\"\",IF(VLOOKUP($BK239,Archyvas,32,FALSE)=$BL$1,\"\",VLOOKUP($BK239,Archyvas,36,FALSE)))","v":{"$error":"#N/A"}},null,{"$f":"_xlfn.IFNA(IF(BS239=\"\",\"\",MAX(BR$1:BR238)+1),\"\")","v":""},"","","","","",""]
[null,null,null,null,null,null,null,null,null,null,null,null,null,null,null,null,null,null,null,null,null,null,null,null,null,null,null,null,null,null,null,null,null,null,null,null,null,null,null,null,null,null,null,null,null,null,null,null,null,null,null,null,null,null,null,null,null,{"$f":"IF(BG240=\"\",\"\",MAX(BF$1:BF239)+1)","v":""},{"$f":"IF(TEXT(Kortelė!$B$26,\"mm\")=IF(A240=\"\",\"\",TEXT(A240,\"mm\")),A240,\"\")","v":""},null,"",{"$f":"_xlfn.IFNA(IF(BL240=\"\",\"\",MAX(BJ$1:BJ239)+1),\"\")","v":""},"",{"$f":"IF(IF(IF(VLOOKUP($BK240,Archyvas,37,FALSE)=$BL$1,\"\",VLOOKUP($BK240,Archyvas,40,FALSE))=0,\"\",IF(VLOOKUP($BK240,Archyvas,37,FALSE)=$BL$1,\"\",VLOOKUP($BK240,Archyvas,40,FALSE)))=\"\",\"\",IF(IF(VLOOKUP($BK240,Archyvas,37,FALSE)=$BL$1,\"\",VLOOKUP($BK240,Archyvas,37,FALSE))=0,\"\",IF(VLOOKUP($BK240,Archyvas,37,FALSE)=$BL$1,\"\",VLOOKUP($BK240,Archyvas,37,FALSE))))","v":{"$error":"#N/A"}},{"$f":"IF(IF(VLOOKUP($BK240,Archyvas,37,FALSE)=$BL$1,\"\",VLOOKUP($BK240,Archyvas,38,FALSE))=0,\"\",IF(VLOOKUP($BK240,Archyvas,37,FALSE)=$BL$1,\"\",VLOOKUP($BK240,Archyvas,38,FALSE)))","v":{"$error":"#N/A"}},{"$f":"IF(IF(VLOOKUP($BK240,Archyvas,37,FALSE)=$BL$1,\"\",VLOOKUP($BK240,Archyvas,39,FALSE))=0,\"\",IF(VLOOKUP($BK240,Archyvas,37,FALSE)=$BL$1,\"\",VLOOKUP($BK240,Archyvas,39,FALSE)))","v":{"$error":"#N/A"}},{"$f":"IF(IF(VLOOKUP($BK240,Archyvas,37,FALSE)=$BL$1,\"\",VLOOKUP($BK240,Archyvas,40,FALSE))=0,\"\",IF(VLOOKUP($BK240,Archyvas,37,FALSE)=$BL$1,\"\",VLOOKUP($BK240,Archyvas,40,FALSE)))","v":{"$error":"#N/A"}},{"$f":"IF(IF(VLOOKUP($BK240,Archyvas,37,FALSE)=$BL$1,\"\",VLOOKUP($BK240,Archyvas,41,FALSE))=0,\"\",IF(VLOOKUP($BK240,Archyvas,37,FALSE)=$BL$1,\"\",VLOOKUP($BK240,Archyvas,41,FALSE)))","v":{"$error":"#N/A"}},null,{"$f":"_xlfn.IFNA(IF(BS240=\"\",\"\",MAX(BR$1:BR239)+1),\"\")","v":""},"","","","","",""]
[null,null,null,null,null,null,null,null,null,null,null,null,null,null,null,null,null,null,null,null,null,null,null,null,null,null,null,null,null,null,null,null,null,null,null,null,null,null,null,null,null,null,null,null,null,null,null,null,null,null,null,null,null,null,null,null,null,{"$f":"IF(BG241=\"\",\"\",MAX(BF$1:BF240)+1)","v":""},{"$f":"IF(TEXT(Kortelė!$B$26,\"mm\")=IF(A241=\"\",\"\",TEXT(A241,\"mm\")),A241,\"\")","v":""},null,"",{"$f":"_xlfn.IFNA(IF(BL241=\"\",\"\",MAX(BJ$1:BJ240)+1),\"\")","v":""},"",{"$f":"IF(IF(IF(VLOOKUP($BK241,Archyvas,42,FALSE)=$BL$1,\"\",VLOOKUP($BK241,Archyvas,45,FALSE))=0,\"\",IF(VLOOKUP($BK241,Archyvas,42,FALSE)=$BL$1,\"\",VLOOKUP($BK241,Archyvas,45,FALSE)))=\"\",\"\",IF(IF(VLOOKUP($BK241,Archyvas,42,FALSE)=$BL$1,\"\",VLOOKUP($BK241,Archyvas,42,FALSE))=0,\"\",IF(VLOOKUP($BK241,Archyvas,42,FALSE)=$BL$1,\"\",VLOOKUP($BK241,Archyvas,42,FALSE))))","v":{"$error":"#N/A"}},{"$f":"IF(IF(VLOOKUP($BK241,Archyvas,42,FALSE)=$BL$1,\"\",VLOOKUP($BK241,Archyvas,43,FALSE))=0,\"\",IF(VLOOKUP($BK241,Archyvas,42,FALSE)=$BL$1,\"\",VLOOKUP($BK241,Archyvas,43,FALSE)))","v":{"$error":"#N/A"}},{"$f":"IF(IF(VLOOKUP($BK241,Archyvas,42,FALSE)=$BL$1,\"\",VLOOKUP($BK241,Archyvas,44,FALSE))=0,\"\",IF(VLOOKUP($BK241,Archyvas,42,FALSE)=$BL$1,\"\",VLOOKUP($BK241,Archyvas,44,FALSE)))","v":{"$error":"#N/A"}},{"$f":"IF(IF(VLOOKUP($BK241,Archyvas,42,FALSE)=$BL$1,\"\",VLOOKUP($BK241,Archyvas,45,FALSE))=0,\"\",IF(VLOOKUP($BK241,Archyvas,42,FALSE)=$BL$1,\"\",VLOOKUP($BK241,Archyvas,45,FALSE)))","v":{"$error":"#N/A"}},{"$f":"IF(IF(VLOOKUP($BK241,Archyvas,42,FALSE)=$BL$1,\"\",VLOOKUP($BK241,Archyvas,46,FALSE))=0,\"\",IF(VLOOKUP($BK241,Archyvas,42,FALSE)=$BL$1,\"\",VLOOKUP($BK241,Archyvas,46,FALSE)))","v":{"$error":"#N/A"}},null,{"$f":"_xlfn.IFNA(IF(BS241=\"\",\"\",MAX(BR$1:BR240)+1),\"\")","v":""},"","","","","",""]
[null,null,null,null,null,null,null,null,null,null,null,null,null,null,null,null,null,null,null,null,null,null,null,null,null,null,null,null,null,null,null,null,null,null,null,null,null,null,null,null,null,null,null,null,null,null,null,null,null,null,null,null,null,null,null,null,null,{"$f":"IF(BG242=\"\",\"\",MAX(BF$1:BF241)+1)","v":""},{"$f":"IF(TEXT(Kortelė!$B$26,\"mm\")=IF(A242=\"\",\"\",TEXT(A242,\"mm\")),A242,\"\")","v":""},null,"",{"$f":"_xlfn.IFNA(IF(BL242=\"\",\"\",MAX(BJ$1:BJ241)+1),\"\")","v":""},"",{"$f":"IF(IF(IF(VLOOKUP($BK242,Archyvas,47,FALSE)=$BL$1,\"\",VLOOKUP($BK242,Archyvas,50,FALSE))=0,\"\",IF(VLOOKUP($BK242,Archyvas,47,FALSE)=$BL$1,\"\",VLOOKUP($BK242,Archyvas,50,FALSE)))=\"\",\"\",IF(IF(VLOOKUP($BK242,Archyvas,47,FALSE)=$BL$1,\"\",VLOOKUP($BK242,Archyvas,47,FALSE))=0,\"\",IF(VLOOKUP($BK242,Archyvas,47,FALSE)=$BL$1,\"\",VLOOKUP($BK242,Archyvas,47,FALSE))))","v":{"$error":"#N/A"}},{"$f":"IF(IF(VLOOKUP($BK242,Archyvas,47,FALSE)=$BL$1,\"\",VLOOKUP($BK242,Archyvas,48,FALSE))=0,\"\",IF(VLOOKUP($BK242,Archyvas,47,FALSE)=$BL$1,\"\",VLOOKUP($BK242,Archyvas,48,FALSE)))","v":{"$error":"#N/A"}},{"$f":"IF(IF(VLOOKUP($BK242,Archyvas,47,FALSE)=$BL$1,\"\",VLOOKUP($BK242,Archyvas,49,FALSE))=0,\"\",IF(VLOOKUP($BK242,Archyvas,47,FALSE)=$BL$1,\"\",VLOOKUP($BK242,Archyvas,49,FALSE)))","v":{"$error":"#N/A"}},{"$f":"IF(IF(VLOOKUP($BK242,Archyvas,47,FALSE)=$BL$1,\"\",VLOOKUP($BK242,Archyvas,50,FALSE))=0,\"\",IF(VLOOKUP($BK242,Archyvas,47,FALSE)=$BL$1,\"\",VLOOKUP($BK242,Archyvas,50,FALSE)))","v":{"$error":"#N/A"}},{"$f":"IF(IF(VLOOKUP($BK242,Archyvas,47,FALSE)=$BL$1,\"\",VLOOKUP($BK242,Archyvas,51,FALSE))=0,\"\",IF(VLOOKUP($BK242,Archyvas,47,FALSE)=$BL$1,\"\",VLOOKUP($BK242,Archyvas,51,FALSE)))","v":{"$error":"#N/A"}},null,{"$f":"_xlfn.IFNA(IF(BS242=\"\",\"\",MAX(BR$1:BR241)+1),\"\")","v":""},"","","","","",""]
[null,null,null,null,null,null,null,null,null,null,null,null,null,null,null,null,null,null,null,null,null,null,null,null,null,null,null,null,null,null,null,null,null,null,null,null,null,null,null,null,null,null,null,null,null,null,null,null,null,null,null,null,null,null,null,null,null,{"$f":"IF(BG243=\"\",\"\",MAX(BF$1:BF242)+1)","v":""},{"$f":"IF(TEXT(Kortelė!$B$26,\"mm\")=IF(A243=\"\",\"\",TEXT(A243,\"mm\")),A243,\"\")","v":""},null,"",{"$f":"_xlfn.IFNA(IF(BL243=\"\",\"\",MAX(BJ$1:BJ242)+1),\"\")","v":""},"",null,null,null,null,null,null,{"$f":"_xlfn.IFNA(IF(BS243=\"\",\"\",MAX(BR$1:BR242)+1),\"\")","v":""},"","","","","",""]
[null,null,null,null,null,null,null,null,null,null,null,null,null,null,null,null,null,null,null,null,null,null,null,null,null,null,null,null,null,null,null,null,null,null,null,null,null,null,null,null,null,null,null,null,null,null,null,null,null,null,null,null,null,null,null,null,null,{"$f":"IF(BG244=\"\",\"\",MAX(BF$1:BF243)+1)","v":""},{"$f":"IF(TEXT(Kortelė!$B$26,\"mm\")=IF(A244=\"\",\"\",TEXT(A244,\"mm\")),A244,\"\")","v":""},null,"",{"$f":"_xlfn.IFNA(IF(BL244=\"\",\"\",MAX(BJ$1:BJ243)+1),\"\")","v":""},{"$f":"$BI$24","v":""},{"$f":"IF(IF(IF(VLOOKUP($BK244,Archyvas,2,FALSE)=$BL$1,\"\",VLOOKUP($BK244,Archyvas,5,FALSE))=0,\"\",IF(VLOOKUP($BK244,Archyvas,2,FALSE)=$BL$1,\"\",VLOOKUP($BK244,Archyvas,5,FALSE)))=\"\",\"\",IF(IF(VLOOKUP($BK244,Archyvas,2,FALSE)=$BL$1,\"\",VLOOKUP($BK244,Archyvas,2,FALSE))=0,\"\",IF(VLOOKUP($BK244,Archyvas,2,FALSE)=$BL$1,\"\",VLOOKUP($BK244,Archyvas,2,FALSE))))","v":{"$error":"#N/A"}},{"$f":"IF(IF(VLOOKUP($BK244,Archyvas,2,FALSE)=$BL$1,\"\",VLOOKUP($BK244,Archyvas,3,FALSE))=0,\"\",IF(VLOOKUP($BK244,Archyvas,2,FALSE)=$BL$1,\"\",VLOOKUP($BK244,Archyvas,3,FALSE)))","v":{"$error":"#N/A"}},{"$f":"IF(IF(VLOOKUP($BK244,Archyvas,2,FALSE)=$BL$1,\"\",VLOOKUP($BK244,Archyvas,4,FALSE))=0,\"\",IF(VLOOKUP($BK244,Archyvas,2,FALSE)=$BL$1,\"\",VLOOKUP($BK244,Archyvas,4,FALSE)))","v":{"$error":"#N/A"}},{"$f":"IF(IF(VLOOKUP($BK244,Archyvas,2,FALSE)=$BL$1,\"\",VLOOKUP($BK244,Archyvas,5,FALSE))=0,\"\",IF(VLOOKUP($BK244,Archyvas,2,FALSE)=$BL$1,\"\",VLOOKUP($BK244,Archyvas,5,FALSE)))","v":{"$error":"#N/A"}},{"$f":"IF(IF(VLOOKUP($BK244,Archyvas,2,FALSE)=$BL$1,\"\",VLOOKUP($BK244,Archyvas,6,FALSE))=0,\"\",IF(VLOOKUP($BK244,Archyvas,2,FALSE)=$BL$1,\"\",VLOOKUP($BK244,Archyvas,6,FALSE)))","v":{"$error":"#N/A"}},null,{"$f":"_xlfn.IFNA(IF(BS244=\"\",\"\",MAX(BR$1:BR243)+1),\"\")","v":""},"","","","","",""]
[null,null,null,null,null,null,null,null,null,null,null,null,null,null,null,null,null,null,null,null,null,null,null,null,null,null,null,null,null,null,null,null,null,null,null,null,null,null,null,null,null,null,null,null,null,null,null,null,null,null,null,null,null,null,null,null,null,{"$f":"IF(BG245=\"\",\"\",MAX(BF$1:BF244)+1)","v":""},{"$f":"IF(TEXT(Kortelė!$B$26,\"mm\")=IF(A245=\"\",\"\",TEXT(A245,\"mm\")),A245,\"\")","v":""},null,"",{"$f":"_xlfn.IFNA(IF(BL245=\"\",\"\",MAX(BJ$1:BJ244)+1),\"\")","v":""},{"$f":"BK244","v":""},{"$f":"IF(IF(IF(VLOOKUP($BK245,Archyvas,7,FALSE)=$BL$1,\"\",VLOOKUP($BK245,Archyvas,10,FALSE))=0,\"\",IF(VLOOKUP($BK245,Archyvas,7,FALSE)=$BL$1,\"\",VLOOKUP($BK245,Archyvas,10,FALSE)))=\"\",\"\",IF(IF(VLOOKUP($BK245,Archyvas,7,FALSE)=$BL$1,\"\",VLOOKUP($BK245,Archyvas,7,FALSE))=0,\"\",IF(VLOOKUP($BK245,Archyvas,7,FALSE)=$BL$1,\"\",VLOOKUP($BK245,Archyvas,7,FALSE))))","v":{"$error":"#N/A"}},{"$f":"IF(IF(VLOOKUP($BK245,Archyvas,7,FALSE)=$BL$1,\"\",VLOOKUP($BK245,Archyvas,8,FALSE))=0,\"\",IF(VLOOKUP($BK245,Archyvas,7,FALSE)=$BL$1,\"\",VLOOKUP($BK245,Archyvas,8,FALSE)))","v":{"$error":"#N/A"}},{"$f":"IF(IF(VLOOKUP($BK245,Archyvas,7,FALSE)=$BL$1,\"\",VLOOKUP($BK245,Archyvas,9,FALSE))=0,\"\",IF(VLOOKUP($BK245,Archyvas,7,FALSE)=$BL$1,\"\",VLOOKUP($BK245,Archyvas,9,FALSE)))","v":{"$error":"#N/A"}},{"$f":"IF(IF(VLOOKUP($BK245,Archyvas,7,FALSE)=$BL$1,\"\",VLOOKUP($BK245,Archyvas,10,FALSE))=0,\"\",IF(VLOOKUP($BK245,Archyvas,7,FALSE)=$BL$1,\"\",VLOOKUP($BK245,Archyvas,10,FALSE)))","v":{"$error":"#N/A"}},{"$f":"IF(IF(VLOOKUP($BK245,Archyvas,7,FALSE)=$BL$1,\"\",VLOOKUP($BK245,Archyvas,11,FALSE))=0,\"\",IF(VLOOKUP($BK245,Archyvas,7,FALSE)=$BL$1,\"\",VLOOKUP($BK245,Archyvas,11,FALSE)))","v":{"$error":"#N/A"}},null,{"$f":"_xlfn.IFNA(IF(BS245=\"\",\"\",MAX(BR$1:BR244)+1),\"\")","v":""},"","","","","",""]
[null,null,null,null,null,null,null,null,null,null,null,null,null,null,null,null,null,null,null,null,null,null,null,null,null,null,null,null,null,null,null,null,null,null,null,null,null,null,null,null,null,null,null,null,null,null,null,null,null,null,null,null,null,null,null,null,null,{"$f":"IF(BG246=\"\",\"\",MAX(BF$1:BF245)+1)","v":""},{"$f":"IF(TEXT(Kortelė!$B$26,\"mm\")=IF(A246=\"\",\"\",TEXT(A246,\"mm\")),A246,\"\")","v":""},null,"",{"$f":"_xlfn.IFNA(IF(BL246=\"\",\"\",MAX(BJ$1:BJ245)+1),\"\")","v":""},"",{"$f":"IF(IF(IF(VLOOKUP($BK246,Archyvas,12,FALSE)=$BL$1,\"\",VLOOKUP($BK246,Archyvas,15,FALSE))=0,\"\",IF(VLOOKUP($BK246,Archyvas,12,FALSE)=$BL$1,\"\",VLOOKUP($BK246,Archyvas,15,FALSE)))=\"\",\"\",IF(IF(VLOOKUP($BK246,Archyvas,12,FALSE)=$BL$1,\"\",VLOOKUP($BK246,Archyvas,12,FALSE))=0,\"\",IF(VLOOKUP($BK246,Archyvas,12,FALSE)=$BL$1,\"\",VLOOKUP($BK246,Archyvas,12,FALSE))))","v":{"$error":"#N/A"}},{"$f":"IF(IF(VLOOKUP($BK246,Archyvas,12,FALSE)=$BL$1,\"\",VLOOKUP($BK246,Archyvas,13,FALSE))=0,\"\",IF(VLOOKUP($BK246,Archyvas,12,FALSE)=$BL$1,\"\",VLOOKUP($BK246,Archyvas,13,FALSE)))","v":{"$error":"#N/A"}},{"$f":"IF(IF(VLOOKUP($BK246,Archyvas,12,FALSE)=$BL$1,\"\",VLOOKUP($BK246,Archyvas,14,FALSE))=0,\"\",IF(VLOOKUP($BK246,Archyvas,12,FALSE)=$BL$1,\"\",VLOOKUP($BK246,Archyvas,14,FALSE)))","v":{"$error":"#N/A"}},{"$f":"IF(IF(VLOOKUP($BK246,Archyvas,12,FALSE)=$BL$1,\"\",VLOOKUP($BK246,Archyvas,15,FALSE))=0,\"\",IF(VLOOKUP($BK246,Archyvas,12,FALSE)=$BL$1,\"\",VLOOKUP($BK246,Archyvas,15,FALSE)))","v":{"$error":"#N/A"}},{"$f":"IF(IF(VLOOKUP($BK246,Archyvas,12,FALSE)=$BL$1,\"\",VLOOKUP($BK246,Archyvas,16,FALSE))=0,\"\",IF(VLOOKUP($BK246,Archyvas,12,FALSE)=$BL$1,\"\",VLOOKUP($BK246,Archyvas,16,FALSE)))","v":{"$error":"#N/A"}},null,{"$f":"_xlfn.IFNA(IF(BS246=\"\",\"\",MAX(BR$1:BR245)+1),\"\")","v":""},"","","","","",""]
[null,null,null,null,null,null,null,null,null,null,null,null,null,null,null,null,null,null,null,null,null,null,null,null,null,null,null,null,null,null,null,null,null,null,null,null,null,null,null,null,null,null,null,null,null,null,null,null,null,null,null,null,null,null,null,null,null,{"$f":"IF(BG247=\"\",\"\",MAX(BF$1:BF246)+1)","v":""},{"$f":"IF(TEXT(Kortelė!$B$26,\"mm\")=IF(A247=\"\",\"\",TEXT(A247,\"mm\")),A247,\"\")","v":""},null,"",{"$f":"_xlfn.IFNA(IF(BL247=\"\",\"\",MAX(BJ$1:BJ246)+1),\"\")","v":""},"",{"$f":"IF(IF(IF(VLOOKUP($BK247,Archyvas,17,FALSE)=$BL$1,\"\",VLOOKUP($BK247,Archyvas,20,FALSE))=0,\"\",IF(VLOOKUP($BK247,Archyvas,17,FALSE)=$BL$1,\"\",VLOOKUP($BK247,Archyvas,20,FALSE)))=\"\",\"\",IF(IF(VLOOKUP($BK247,Archyvas,17,FALSE)=$BL$1,\"\",VLOOKUP($BK247,Archyvas,17,FALSE))=0,\"\",IF(VLOOKUP($BK247,Archyvas,17,FALSE)=$BL$1,\"\",VLOOKUP($BK247,Archyvas,17,FALSE))))","v":{"$error":"#N/A"}},{"$f":"IF(IF(VLOOKUP($BK247,Archyvas,17,FALSE)=$BL$1,\"\",VLOOKUP($BK247,Archyvas,18,FALSE))=0,\"\",IF(VLOOKUP($BK247,Archyvas,17,FALSE)=$BL$1,\"\",VLOOKUP($BK247,Archyvas,18,FALSE)))","v":{"$error":"#N/A"}},{"$f":"IF(IF(VLOOKUP($BK247,Archyvas,17,FALSE)=$BL$1,\"\",VLOOKUP($BK247,Archyvas,19,FALSE))=0,\"\",IF(VLOOKUP($BK247,Archyvas,17,FALSE)=$BL$1,\"\",VLOOKUP($BK247,Archyvas,19,FALSE)))","v":{"$error":"#N/A"}},{"$f":"IF(IF(VLOOKUP($BK247,Archyvas,17,FALSE)=$BL$1,\"\",VLOOKUP($BK247,Archyvas,20,FALSE))=0,\"\",IF(VLOOKUP($BK247,Archyvas,17,FALSE)=$BL$1,\"\",VLOOKUP($BK247,Archyvas,20,FALSE)))","v":{"$error":"#N/A"}},{"$f":"IF(IF(VLOOKUP($BK247,Archyvas,17,FALSE)=$BL$1,\"\",VLOOKUP($BK247,Archyvas,21,FALSE))=0,\"\",IF(VLOOKUP($BK247,Archyvas,17,FALSE)=$BL$1,\"\",VLOOKUP($BK247,Archyvas,21,FALSE)))","v":{"$error":"#N/A"}},null,{"$f":"_xlfn.IFNA(IF(BS247=\"\",\"\",MAX(BR$1:BR246)+1),\"\")","v":""},"","","","","",""]
[null,null,null,null,null,null,null,null,null,null,null,null,null,null,null,null,null,null,null,null,null,null,null,null,null,null,null,null,null,null,null,null,null,null,null,null,null,null,null,null,null,null,null,null,null,null,null,null,null,null,null,null,null,null,null,null,null,{"$f":"IF(BG248=\"\",\"\",MAX(BF$1:BF247)+1)","v":""},{"$f":"IF(TEXT(Kortelė!$B$26,\"mm\")=IF(A248=\"\",\"\",TEXT(A248,\"mm\")),A248,\"\")","v":""},null,"",{"$f":"_xlfn.IFNA(IF(BL248=\"\",\"\",MAX(BJ$1:BJ247)+1),\"\")","v":""},"",{"$f":"IF(IF(IF(VLOOKUP($BK248,Archyvas,22,FALSE)=$BL$1,\"\",VLOOKUP($BK248,Archyvas,25,FALSE))=0,\"\",IF(VLOOKUP($BK248,Archyvas,22,FALSE)=$BL$1,\"\",VLOOKUP($BK248,Archyvas,25,FALSE)))=\"\",\"\",IF(IF(VLOOKUP($BK248,Archyvas,22,FALSE)=$BL$1,\"\",VLOOKUP($BK248,Archyvas,22,FALSE))=0,\"\",IF(VLOOKUP($BK248,Archyvas,22,FALSE)=$BL$1,\"\",VLOOKUP($BK248,Archyvas,22,FALSE))))","v":{"$error":"#N/A"}},{"$f":"IF(IF(VLOOKUP($BK248,Archyvas,22,FALSE)=$BL$1,\"\",VLOOKUP($BK248,Archyvas,23,FALSE))=0,\"\",IF(VLOOKUP($BK248,Archyvas,22,FALSE)=$BL$1,\"\",VLOOKUP($BK248,Archyvas,23,FALSE)))","v":{"$error":"#N/A"}},{"$f":"IF(IF(VLOOKUP($BK248,Archyvas,22,FALSE)=$BL$1,\"\",VLOOKUP($BK248,Archyvas,24,FALSE))=0,\"\",IF(VLOOKUP($BK248,Archyvas,22,FALSE)=$BL$1,\"\",VLOOKUP($BK248,Archyvas,24,FALSE)))","v":{"$error":"#N/A"}},{"$f":"IF(IF(VLOOKUP($BK248,Archyvas,22,FALSE)=$BL$1,\"\",VLOOKUP($BK248,Archyvas,25,FALSE))=0,\"\",IF(VLOOKUP($BK248,Archyvas,22,FALSE)=$BL$1,\"\",VLOOKUP($BK248,Archyvas,25,FALSE)))","v":{"$error":"#N/A"}},{"$f":"IF(IF(VLOOKUP($BK248,Archyvas,22,FALSE)=$BL$1,\"\",VLOOKUP($BK248,Archyvas,26,FALSE))=0,\"\",IF(VLOOKUP($BK248,Archyvas,22,FALSE)=$BL$1,\"\",VLOOKUP($BK248,Archyvas,26,FALSE)))","v":{"$error":"#N/A"}},null,{"$f":"_xlfn.IFNA(IF(BS248=\"\",\"\",MAX(BR$1:BR247)+1),\"\")","v":""},"","","","","",""]
[null,null,null,null,null,null,null,null,null,null,null,null,null,null,null,null,null,null,null,null,null,null,null,null,null,null,null,null,null,null,null,null,null,null,null,null,null,null,null,null,null,null,null,null,null,null,null,null,null,null,null,null,null,null,null,null,null,{"$f":"IF(BG249=\"\",\"\",MAX(BF$1:BF248)+1)","v":""},{"$f":"IF(TEXT(Kortelė!$B$26,\"mm\")=IF(A249=\"\",\"\",TEXT(A249,\"mm\")),A249,\"\")","v":""},null,"",{"$f":"_xlfn.IFNA(IF(BL249=\"\",\"\",MAX(BJ$1:BJ248)+1),\"\")","v":""},"",{"$f":"IF(IF(IF(VLOOKUP($BK249,Archyvas,27,FALSE)=$BL$1,\"\",VLOOKUP($BK249,Archyvas,30,FALSE))=0,\"\",IF(VLOOKUP($BK249,Archyvas,27,FALSE)=$BL$1,\"\",VLOOKUP($BK249,Archyvas,30,FALSE)))=\"\",\"\",IF(IF(VLOOKUP($BK249,Archyvas,27,FALSE)=$BL$1,\"\",VLOOKUP($BK249,Archyvas,27,FALSE))=0,\"\",IF(VLOOKUP($BK249,Archyvas,27,FALSE)=$BL$1,\"\",VLOOKUP($BK249,Archyvas,27,FALSE))))","v":{"$error":"#N/A"}},{"$f":"IF(IF(VLOOKUP($BK249,Archyvas,27,FALSE)=$BL$1,\"\",VLOOKUP($BK249,Archyvas,28,FALSE))=0,\"\",IF(VLOOKUP($BK249,Archyvas,27,FALSE)=$BL$1,\"\",VLOOKUP($BK249,Archyvas,28,FALSE)))","v":{"$error":"#N/A"}},{"$f":"IF(IF(VLOOKUP($BK249,Archyvas,27,FALSE)=$BL$1,\"\",VLOOKUP($BK249,Archyvas,29,FALSE))=0,\"\",IF(VLOOKUP($BK249,Archyvas,27,FALSE)=$BL$1,\"\",VLOOKUP($BK249,Archyvas,29,FALSE)))","v":{"$error":"#N/A"}},{"$f":"IF(IF(VLOOKUP($BK249,Archyvas,27,FALSE)=$BL$1,\"\",VLOOKUP($BK249,Archyvas,30,FALSE))=0,\"\",IF(VLOOKUP($BK249,Archyvas,27,FALSE)=$BL$1,\"\",VLOOKUP($BK249,Archyvas,30,FALSE)))","v":{"$error":"#N/A"}},{"$f":"IF(IF(VLOOKUP($BK249,Archyvas,27,FALSE)=$BL$1,\"\",VLOOKUP($BK249,Archyvas,31,FALSE))=0,\"\",IF(VLOOKUP($BK249,Archyvas,27,FALSE)=$BL$1,\"\",VLOOKUP($BK249,Archyvas,31,FALSE)))","v":{"$error":"#N/A"}},null,{"$f":"_xlfn.IFNA(IF(BS249=\"\",\"\",MAX(BR$1:BR248)+1),\"\")","v":""},"","","","","",""]
[null,null,null,null,null,null,null,null,null,null,null,null,null,null,null,null,null,null,null,null,null,null,null,null,null,null,null,null,null,null,null,null,null,null,null,null,null,null,null,null,null,null,null,null,null,null,null,null,null,null,null,null,null,null,null,null,null,{"$f":"IF(BG250=\"\",\"\",MAX(BF$1:BF249)+1)","v":""},{"$f":"IF(TEXT(Kortelė!$B$26,\"mm\")=IF(A250=\"\",\"\",TEXT(A250,\"mm\")),A250,\"\")","v":""},null,"",{"$f":"_xlfn.IFNA(IF(BL250=\"\",\"\",MAX(BJ$1:BJ249)+1),\"\")","v":""},"",{"$f":"IF(IF(IF(VLOOKUP($BK250,Archyvas,32,FALSE)=$BL$1,\"\",VLOOKUP($BK250,Archyvas,35,FALSE))=0,\"\",IF(VLOOKUP($BK250,Archyvas,32,FALSE)=$BL$1,\"\",VLOOKUP($BK250,Archyvas,35,FALSE)))=\"\",\"\",IF(IF(VLOOKUP($BK250,Archyvas,32,FALSE)=$BL$1,\"\",VLOOKUP($BK250,Archyvas,32,FALSE))=0,\"\",IF(VLOOKUP($BK250,Archyvas,32,FALSE)=$BL$1,\"\",VLOOKUP($BK250,Archyvas,32,FALSE))))","v":{"$error":"#N/A"}},{"$f":"IF(IF(VLOOKUP($BK250,Archyvas,32,FALSE)=$BL$1,\"\",VLOOKUP($BK250,Archyvas,33,FALSE))=0,\"\",IF(VLOOKUP($BK250,Archyvas,32,FALSE)=$BL$1,\"\",VLOOKUP($BK250,Archyvas,33,FALSE)))","v":{"$error":"#N/A"}},{"$f":"IF(IF(VLOOKUP($BK250,Archyvas,32,FALSE)=$BL$1,\"\",VLOOKUP($BK250,Archyvas,34,FALSE))=0,\"\",IF(VLOOKUP($BK250,Archyvas,32,FALSE)=$BL$1,\"\",VLOOKUP($BK250,Archyvas,34,FALSE)))","v":{"$error":"#N/A"}},{"$f":"IF(IF(VLOOKUP($BK250,Archyvas,32,FALSE)=$BL$1,\"\",VLOOKUP($BK250,Archyvas,35,FALSE))=0,\"\",IF(VLOOKUP($BK250,Archyvas,32,FALSE)=$BL$1,\"\",VLOOKUP($BK250,Archyvas,35,FALSE)))","v":{"$error":"#N/A"}},{"$f":"IF(IF(VLOOKUP($BK250,Archyvas,32,FALSE)=$BL$1,\"\",VLOOKUP($BK250,Archyvas,36,FALSE))=0,\"\",IF(VLOOKUP($BK250,Archyvas,32,FALSE)=$BL$1,\"\",VLOOKUP($BK250,Archyvas,36,FALSE)))","v":{"$error":"#N/A"}},null,{"$f":"_xlfn.IFNA(IF(BS250=\"\",\"\",MAX(BR$1:BR249)+1),\"\")","v":""},"","","","","",""]
[null,null,null,null,null,null,null,null,null,null,null,null,null,null,null,null,null,null,null,null,null,null,null,null,null,null,null,null,null,null,null,null,null,null,null,null,null,null,null,null,null,null,null,null,null,null,null,null,null,null,null,null,null,null,null,null,null,{"$f":"IF(BG251=\"\",\"\",MAX(BF$1:BF250)+1)","v":""},{"$f":"IF(TEXT(Kortelė!$B$26,\"mm\")=IF(A251=\"\",\"\",TEXT(A251,\"mm\")),A251,\"\")","v":""},null,"",{"$f":"_xlfn.IFNA(IF(BL251=\"\",\"\",MAX(BJ$1:BJ250)+1),\"\")","v":""},"",{"$f":"IF(IF(IF(VLOOKUP($BK251,Archyvas,37,FALSE)=$BL$1,\"\",VLOOKUP($BK251,Archyvas,40,FALSE))=0,\"\",IF(VLOOKUP($BK251,Archyvas,37,FALSE)=$BL$1,\"\",VLOOKUP($BK251,Archyvas,40,FALSE)))=\"\",\"\",IF(IF(VLOOKUP($BK251,Archyvas,37,FALSE)=$BL$1,\"\",VLOOKUP($BK251,Archyvas,37,FALSE))=0,\"\",IF(VLOOKUP($BK251,Archyvas,37,FALSE)=$BL$1,\"\",VLOOKUP($BK251,Archyvas,37,FALSE))))","v":{"$error":"#N/A"}},{"$f":"IF(IF(VLOOKUP($BK251,Archyvas,37,FALSE)=$BL$1,\"\",VLOOKUP($BK251,Archyvas,38,FALSE))=0,\"\",IF(VLOOKUP($BK251,Archyvas,37,FALSE)=$BL$1,\"\",VLOOKUP($BK251,Archyvas,38,FALSE)))","v":{"$error":"#N/A"}},{"$f":"IF(IF(VLOOKUP($BK251,Archyvas,37,FALSE)=$BL$1,\"\",VLOOKUP($BK251,Archyvas,39,FALSE))=0,\"\",IF(VLOOKUP($BK251,Archyvas,37,FALSE)=$BL$1,\"\",VLOOKUP($BK251,Archyvas,39,FALSE)))","v":{"$error":"#N/A"}},{"$f":"IF(IF(VLOOKUP($BK251,Archyvas,37,FALSE)=$BL$1,\"\",VLOOKUP($BK251,Archyvas,40,FALSE))=0,\"\",IF(VLOOKUP($BK251,Archyvas,37,FALSE)=$BL$1,\"\",VLOOKUP($BK251,Archyvas,40,FALSE)))","v":{"$error":"#N/A"}},{"$f":"IF(IF(VLOOKUP($BK251,Archyvas,37,FALSE)=$BL$1,\"\",VLOOKUP($BK251,Archyvas,41,FALSE))=0,\"\",IF(VLOOKUP($BK251,Archyvas,37,FALSE)=$BL$1,\"\",VLOOKUP($BK251,Archyvas,41,FALSE)))","v":{"$error":"#N/A"}},null,{"$f":"_xlfn.IFNA(IF(BS251=\"\",\"\",MAX(BR$1:BR250)+1),\"\")","v":""},"","","","","",""]
[null,null,null,null,null,null,null,null,null,null,null,null,null,null,null,null,null,null,null,null,null,null,null,null,null,null,null,null,null,null,null,null,null,null,null,null,null,null,null,null,null,null,null,null,null,null,null,null,null,null,null,null,null,null,null,null,null,{"$f":"IF(BG252=\"\",\"\",MAX(BF$1:BF251)+1)","v":""},{"$f":"IF(TEXT(Kortelė!$B$26,\"mm\")=IF(A252=\"\",\"\",TEXT(A252,\"mm\")),A252,\"\")","v":""},null,"",{"$f":"_xlfn.IFNA(IF(BL252=\"\",\"\",MAX(BJ$1:BJ251)+1),\"\")","v":""},"",{"$f":"IF(IF(IF(VLOOKUP($BK252,Archyvas,42,FALSE)=$BL$1,\"\",VLOOKUP($BK252,Archyvas,45,FALSE))=0,\"\",IF(VLOOKUP($BK252,Archyvas,42,FALSE)=$BL$1,\"\",VLOOKUP($BK252,Archyvas,45,FALSE)))=\"\",\"\",IF(IF(VLOOKUP($BK252,Archyvas,42,FALSE)=$BL$1,\"\",VLOOKUP($BK252,Archyvas,42,FALSE))=0,\"\",IF(VLOOKUP($BK252,Archyvas,42,FALSE)=$BL$1,\"\",VLOOKUP($BK252,Archyvas,42,FALSE))))","v":{"$error":"#N/A"}},{"$f":"IF(IF(VLOOKUP($BK252,Archyvas,42,FALSE)=$BL$1,\"\",VLOOKUP($BK252,Archyvas,43,FALSE))=0,\"\",IF(VLOOKUP($BK252,Archyvas,42,FALSE)=$BL$1,\"\",VLOOKUP($BK252,Archyvas,43,FALSE)))","v":{"$error":"#N/A"}},{"$f":"IF(IF(VLOOKUP($BK252,Archyvas,42,FALSE)=$BL$1,\"\",VLOOKUP($BK252,Archyvas,44,FALSE))=0,\"\",IF(VLOOKUP($BK252,Archyvas,42,FALSE)=$BL$1,\"\",VLOOKUP($BK252,Archyvas,44,FALSE)))","v":{"$error":"#N/A"}},{"$f":"IF(IF(VLOOKUP($BK252,Archyvas,42,FALSE)=$BL$1,\"\",VLOOKUP($BK252,Archyvas,45,FALSE))=0,\"\",IF(VLOOKUP($BK252,Archyvas,42,FALSE)=$BL$1,\"\",VLOOKUP($BK252,Archyvas,45,FALSE)))","v":{"$error":"#N/A"}},{"$f":"IF(IF(VLOOKUP($BK252,Archyvas,42,FALSE)=$BL$1,\"\",VLOOKUP($BK252,Archyvas,46,FALSE))=0,\"\",IF(VLOOKUP($BK252,Archyvas,42,FALSE)=$BL$1,\"\",VLOOKUP($BK252,Archyvas,46,FALSE)))","v":{"$error":"#N/A"}},null,{"$f":"_xlfn.IFNA(IF(BS252=\"\",\"\",MAX(BR$1:BR251)+1),\"\")","v":""},"","","","","",""]
[null,null,null,null,null,null,null,null,null,null,null,null,null,null,null,null,null,null,null,null,null,null,null,null,null,null,null,null,null,null,null,null,null,null,null,null,null,null,null,null,null,null,null,null,null,null,null,null,null,null,null,null,null,null,null,null,null,{"$f":"IF(BG253=\"\",\"\",MAX(BF$1:BF252)+1)","v":""},{"$f":"IF(TEXT(Kortelė!$B$26,\"mm\")=IF(A253=\"\",\"\",TEXT(A253,\"mm\")),A253,\"\")","v":""},null,"",{"$f":"_xlfn.IFNA(IF(BL253=\"\",\"\",MAX(BJ$1:BJ252)+1),\"\")","v":""},"",{"$f":"IF(IF(IF(VLOOKUP($BK253,Archyvas,47,FALSE)=$BL$1,\"\",VLOOKUP($BK253,Archyvas,50,FALSE))=0,\"\",IF(VLOOKUP($BK253,Archyvas,47,FALSE)=$BL$1,\"\",VLOOKUP($BK253,Archyvas,50,FALSE)))=\"\",\"\",IF(IF(VLOOKUP($BK253,Archyvas,47,FALSE)=$BL$1,\"\",VLOOKUP($BK253,Archyvas,47,FALSE))=0,\"\",IF(VLOOKUP($BK253,Archyvas,47,FALSE)=$BL$1,\"\",VLOOKUP($BK253,Archyvas,47,FALSE))))","v":{"$error":"#N/A"}},{"$f":"IF(IF(VLOOKUP($BK253,Archyvas,47,FALSE)=$BL$1,\"\",VLOOKUP($BK253,Archyvas,48,FALSE))=0,\"\",IF(VLOOKUP($BK253,Archyvas,47,FALSE)=$BL$1,\"\",VLOOKUP($BK253,Archyvas,48,FALSE)))","v":{"$error":"#N/A"}},{"$f":"IF(IF(VLOOKUP($BK253,Archyvas,47,FALSE)=$BL$1,\"\",VLOOKUP($BK253,Archyvas,49,FALSE))=0,\"\",IF(VLOOKUP($BK253,Archyvas,47,FALSE)=$BL$1,\"\",VLOOKUP($BK253,Archyvas,49,FALSE)))","v":{"$error":"#N/A"}},{"$f":"IF(IF(VLOOKUP($BK253,Archyvas,47,FALSE)=$BL$1,\"\",VLOOKUP($BK253,Archyvas,50,FALSE))=0,\"\",IF(VLOOKUP($BK253,Archyvas,47,FALSE)=$BL$1,\"\",VLOOKUP($BK253,Archyvas,50,FALSE)))","v":{"$error":"#N/A"}},{"$f":"IF(IF(VLOOKUP($BK253,Archyvas,47,FALSE)=$BL$1,\"\",VLOOKUP($BK253,Archyvas,51,FALSE))=0,\"\",IF(VLOOKUP($BK253,Archyvas,47,FALSE)=$BL$1,\"\",VLOOKUP($BK253,Archyvas,51,FALSE)))","v":{"$error":"#N/A"}},null,{"$f":"_xlfn.IFNA(IF(BS253=\"\",\"\",MAX(BR$1:BR252)+1),\"\")","v":""},"","","","","",""]
[null,null,null,null,null,null,null,null,null,null,null,null,null,null,null,null,null,null,null,null,null,null,null,null,null,null,null,null,null,null,null,null,null,null,null,null,null,null,null,null,null,null,null,null,null,null,null,null,null,null,null,null,null,null,null,null,null,{"$f":"IF(BG254=\"\",\"\",MAX(BF$1:BF253)+1)","v":""},{"$f":"IF(TEXT(Kortelė!$B$26,\"mm\")=IF(A254=\"\",\"\",TEXT(A254,\"mm\")),A254,\"\")","v":""},null,"",{"$f":"_xlfn.IFNA(IF(BL254=\"\",\"\",MAX(BJ$1:BJ253)+1),\"\")","v":""},null,null,null,null,null,null,null,{"$f":"_xlfn.IFNA(IF(BS254=\"\",\"\",MAX(BR$1:BR253)+1),\"\")","v":""},"","","","","",""]
[null,null,null,null,null,null,null,null,null,null,null,null,null,null,null,null,null,null,null,null,null,null,null,null,null,null,null,null,null,null,null,null,null,null,null,null,null,null,null,null,null,null,null,null,null,null,null,null,null,null,null,null,null,null,null,null,null,{"$f":"IF(BG255=\"\",\"\",MAX(BF$1:BF254)+1)","v":""},{"$f":"IF(TEXT(Kortelė!$B$26,\"mm\")=IF(A255=\"\",\"\",TEXT(A255,\"mm\")),A255,\"\")","v":""},null,"",{"$f":"_xlfn.IFNA(IF(BL255=\"\",\"\",MAX(BJ$1:BJ254)+1),\"\")","v":""},{"$f":"$BI$25","v":""},{"$f":"IF(IF(IF(VLOOKUP($BK255,Archyvas,2,FALSE)=$BL$1,\"\",VLOOKUP($BK255,Archyvas,5,FALSE))=0,\"\",IF(VLOOKUP($BK255,Archyvas,2,FALSE)=$BL$1,\"\",VLOOKUP($BK255,Archyvas,5,FALSE)))=\"\",\"\",IF(IF(VLOOKUP($BK255,Archyvas,2,FALSE)=$BL$1,\"\",VLOOKUP($BK255,Archyvas,2,FALSE))=0,\"\",IF(VLOOKUP($BK255,Archyvas,2,FALSE)=$BL$1,\"\",VLOOKUP($BK255,Archyvas,2,FALSE))))","v":{"$error":"#N/A"}},{"$f":"IF(IF(VLOOKUP($BK255,Archyvas,2,FALSE)=$BL$1,\"\",VLOOKUP($BK255,Archyvas,3,FALSE))=0,\"\",IF(VLOOKUP($BK255,Archyvas,2,FALSE)=$BL$1,\"\",VLOOKUP($BK255,Archyvas,3,FALSE)))","v":{"$error":"#N/A"}},{"$f":"IF(IF(VLOOKUP($BK255,Archyvas,2,FALSE)=$BL$1,\"\",VLOOKUP($BK255,Archyvas,4,FALSE))=0,\"\",IF(VLOOKUP($BK255,Archyvas,2,FALSE)=$BL$1,\"\",VLOOKUP($BK255,Archyvas,4,FALSE)))","v":{"$error":"#N/A"}},{"$f":"IF(IF(VLOOKUP($BK255,Archyvas,2,FALSE)=$BL$1,\"\",VLOOKUP($BK255,Archyvas,5,FALSE))=0,\"\",IF(VLOOKUP($BK255,Archyvas,2,FALSE)=$BL$1,\"\",VLOOKUP($BK255,Archyvas,5,FALSE)))","v":{"$error":"#N/A"}},{"$f":"IF(IF(VLOOKUP($BK255,Archyvas,2,FALSE)=$BL$1,\"\",VLOOKUP($BK255,Archyvas,6,FALSE))=0,\"\",IF(VLOOKUP($BK255,Archyvas,2,FALSE)=$BL$1,\"\",VLOOKUP($BK255,Archyvas,6,FALSE)))","v":{"$error":"#N/A"}},null,{"$f":"_xlfn.IFNA(IF(BS255=\"\",\"\",MAX(BR$1:BR254)+1),\"\")","v":""},"","","","","",""]
[null,null,null,null,null,null,null,null,null,null,null,null,null,null,null,null,null,null,null,null,null,null,null,null,null,null,null,null,null,null,null,null,null,null,null,null,null,null,null,null,null,null,null,null,null,null,null,null,null,null,null,null,null,null,null,null,null,{"$f":"IF(BG256=\"\",\"\",MAX(BF$1:BF255)+1)","v":""},{"$f":"IF(TEXT(Kortelė!$B$26,\"mm\")=IF(A256=\"\",\"\",TEXT(A256,\"mm\")),A256,\"\")","v":""},null,"",{"$f":"_xlfn.IFNA(IF(BL256=\"\",\"\",MAX(BJ$1:BJ255)+1),\"\")","v":""},{"$f":"BK255","v":""},{"$f":"IF(IF(IF(VLOOKUP($BK256,Archyvas,7,FALSE)=$BL$1,\"\",VLOOKUP($BK256,Archyvas,10,FALSE))=0,\"\",IF(VLOOKUP($BK256,Archyvas,7,FALSE)=$BL$1,\"\",VLOOKUP($BK256,Archyvas,10,FALSE)))=\"\",\"\",IF(IF(VLOOKUP($BK256,Archyvas,7,FALSE)=$BL$1,\"\",VLOOKUP($BK256,Archyvas,7,FALSE))=0,\"\",IF(VLOOKUP($BK256,Archyvas,7,FALSE)=$BL$1,\"\",VLOOKUP($BK256,Archyvas,7,FALSE))))","v":{"$error":"#N/A"}},{"$f":"IF(IF(VLOOKUP($BK256,Archyvas,7,FALSE)=$BL$1,\"\",VLOOKUP($BK256,Archyvas,8,FALSE))=0,\"\",IF(VLOOKUP($BK256,Archyvas,7,FALSE)=$BL$1,\"\",VLOOKUP($BK256,Archyvas,8,FALSE)))","v":{"$error":"#N/A"}},{"$f":"IF(IF(VLOOKUP($BK256,Archyvas,7,FALSE)=$BL$1,\"\",VLOOKUP($BK256,Archyvas,9,FALSE))=0,\"\",IF(VLOOKUP($BK256,Archyvas,7,FALSE)=$BL$1,\"\",VLOOKUP($BK256,Archyvas,9,FALSE)))","v":{"$error":"#N/A"}},{"$f":"IF(IF(VLOOKUP($BK256,Archyvas,7,FALSE)=$BL$1,\"\",VLOOKUP($BK256,Archyvas,10,FALSE))=0,\"\",IF(VLOOKUP($BK256,Archyvas,7,FALSE)=$BL$1,\"\",VLOOKUP($BK256,Archyvas,10,FALSE)))","v":{"$error":"#N/A"}},{"$f":"IF(IF(VLOOKUP($BK256,Archyvas,7,FALSE)=$BL$1,\"\",VLOOKUP($BK256,Archyvas,11,FALSE))=0,\"\",IF(VLOOKUP($BK256,Archyvas,7,FALSE)=$BL$1,\"\",VLOOKUP($BK256,Archyvas,11,FALSE)))","v":{"$error":"#N/A"}},null,{"$f":"_xlfn.IFNA(IF(BS256=\"\",\"\",MAX(BR$1:BR255)+1),\"\")","v":""},"","","","","",""]
[null,null,null,null,null,null,null,null,null,null,null,null,null,null,null,null,null,null,null,null,null,null,null,null,null,null,null,null,null,null,null,null,null,null,null,null,null,null,null,null,null,null,null,null,null,null,null,null,null,null,null,null,null,null,null,null,null,{"$f":"IF(BG257=\"\",\"\",MAX(BF$1:BF256)+1)","v":""},{"$f":"IF(TEXT(Kortelė!$B$26,\"mm\")=IF(A257=\"\",\"\",TEXT(A257,\"mm\")),A257,\"\")","v":""},null,"",{"$f":"_xlfn.IFNA(IF(BL257=\"\",\"\",MAX(BJ$1:BJ256)+1),\"\")","v":""},"",{"$f":"IF(IF(IF(VLOOKUP($BK257,Archyvas,12,FALSE)=$BL$1,\"\",VLOOKUP($BK257,Archyvas,15,FALSE))=0,\"\",IF(VLOOKUP($BK257,Archyvas,12,FALSE)=$BL$1,\"\",VLOOKUP($BK257,Archyvas,15,FALSE)))=\"\",\"\",IF(IF(VLOOKUP($BK257,Archyvas,12,FALSE)=$BL$1,\"\",VLOOKUP($BK257,Archyvas,12,FALSE))=0,\"\",IF(VLOOKUP($BK257,Archyvas,12,FALSE)=$BL$1,\"\",VLOOKUP($BK257,Archyvas,12,FALSE))))","v":{"$error":"#N/A"}},{"$f":"IF(IF(VLOOKUP($BK257,Archyvas,12,FALSE)=$BL$1,\"\",VLOOKUP($BK257,Archyvas,13,FALSE))=0,\"\",IF(VLOOKUP($BK257,Archyvas,12,FALSE)=$BL$1,\"\",VLOOKUP($BK257,Archyvas,13,FALSE)))","v":{"$error":"#N/A"}},{"$f":"IF(IF(VLOOKUP($BK257,Archyvas,12,FALSE)=$BL$1,\"\",VLOOKUP($BK257,Archyvas,14,FALSE))=0,\"\",IF(VLOOKUP($BK257,Archyvas,12,FALSE)=$BL$1,\"\",VLOOKUP($BK257,Archyvas,14,FALSE)))","v":{"$error":"#N/A"}},{"$f":"IF(IF(VLOOKUP($BK257,Archyvas,12,FALSE)=$BL$1,\"\",VLOOKUP($BK257,Archyvas,15,FALSE))=0,\"\",IF(VLOOKUP($BK257,Archyvas,12,FALSE)=$BL$1,\"\",VLOOKUP($BK257,Archyvas,15,FALSE)))","v":{"$error":"#N/A"}},{"$f":"IF(IF(VLOOKUP($BK257,Archyvas,12,FALSE)=$BL$1,\"\",VLOOKUP($BK257,Archyvas,16,FALSE))=0,\"\",IF(VLOOKUP($BK257,Archyvas,12,FALSE)=$BL$1,\"\",VLOOKUP($BK257,Archyvas,16,FALSE)))","v":{"$error":"#N/A"}},null,{"$f":"_xlfn.IFNA(IF(BS257=\"\",\"\",MAX(BR$1:BR256)+1),\"\")","v":""},"","","","","",""]
[null,null,null,null,null,null,null,null,null,null,null,null,null,null,null,null,null,null,null,null,null,null,null,null,null,null,null,null,null,null,null,null,null,null,null,null,null,null,null,null,null,null,null,null,null,null,null,null,null,null,null,null,null,null,null,null,null,{"$f":"IF(BG258=\"\",\"\",MAX(BF$1:BF257)+1)","v":""},{"$f":"IF(TEXT(Kortelė!$B$26,\"mm\")=IF(A258=\"\",\"\",TEXT(A258,\"mm\")),A258,\"\")","v":""},null,{"$f":"IFERROR(INDEX($BG$2:$BG$500,MATCH(ROW()-ROW($A$1),$BF$2:$BF$500,0)),\"\")","v":""},{"$f":"_xlfn.IFNA(IF(BL258=\"\",\"\",MAX(BJ$1:BJ257)+1),\"\")","v":""},"",{"$f":"IF(IF(IF(VLOOKUP($BK258,Archyvas,17,FALSE)=$BL$1,\"\",VLOOKUP($BK258,Archyvas,20,FALSE))=0,\"\",IF(VLOOKUP($BK258,Archyvas,17,FALSE)=$BL$1,\"\",VLOOKUP($BK258,Archyvas,20,FALSE)))=\"\",\"\",IF(IF(VLOOKUP($BK258,Archyvas,17,FALSE)=$BL$1,\"\",VLOOKUP($BK258,Archyvas,17,FALSE))=0,\"\",IF(VLOOKUP($BK258,Archyvas,17,FALSE)=$BL$1,\"\",VLOOKUP($BK258,Archyvas,17,FALSE))))","v":{"$error":"#N/A"}},{"$f":"IF(IF(VLOOKUP($BK258,Archyvas,17,FALSE)=$BL$1,\"\",VLOOKUP($BK258,Archyvas,18,FALSE))=0,\"\",IF(VLOOKUP($BK258,Archyvas,17,FALSE)=$BL$1,\"\",VLOOKUP($BK258,Archyvas,18,FALSE)))","v":{"$error":"#N/A"}},{"$f":"IF(IF(VLOOKUP($BK258,Archyvas,17,FALSE)=$BL$1,\"\",VLOOKUP($BK258,Archyvas,19,FALSE))=0,\"\",IF(VLOOKUP($BK258,Archyvas,17,FALSE)=$BL$1,\"\",VLOOKUP($BK258,Archyvas,19,FALSE)))","v":{"$error":"#N/A"}},{"$f":"IF(IF(VLOOKUP($BK258,Archyvas,17,FALSE)=$BL$1,\"\",VLOOKUP($BK258,Archyvas,20,FALSE))=0,\"\",IF(VLOOKUP($BK258,Archyvas,17,FALSE)=$BL$1,\"\",VLOOKUP($BK258,Archyvas,20,FALSE)))","v":{"$error":"#N/A"}},{"$f":"IF(IF(VLOOKUP($BK258,Archyvas,17,FALSE)=$BL$1,\"\",VLOOKUP($BK258,Archyvas,21,FALSE))=0,\"\",IF(VLOOKUP($BK258,Archyvas,17,FALSE)=$BL$1,\"\",VLOOKUP($BK258,Archyvas,21,FALSE)))","v":{"$error":"#N/A"}},null,{"$f":"_xlfn.IFNA(IF(BS258=\"\",\"\",MAX(BR$1:BR257)+1),\"\")","v":""},{"$f":"IFERROR(INDEX(BK$2:BK$330,MATCH(ROW()-ROW($BJ$1),$BJ$2:$BJ$330,0)),\"\")","v":""},{"$f":"IFERROR(INDEX(BL$2:BL$330,MATCH(ROW()-ROW($BJ$1),$BJ$2:$BJ$330,0)),\"\")","v":""},{"$f":"IFERROR(INDEX(BM$2:BM$330,MATCH(ROW()-ROW($BJ$1),$BJ$2:$BJ$330,0)),\"\")","v":""},{"$f":"IFERROR(INDEX(BN$2:BN$330,MATCH(ROW()-ROW($BJ$1),$BJ$2:$BJ$330,0)),\"\")","v":""},{"$f":"IFERROR(INDEX(BO$2:BO$330,MATCH(ROW()-ROW($BJ$1),$BJ$2:$BJ$330,0)),\"\")","v":""},{"$f":"IFERROR(INDEX(BP$2:BP$330,MATCH(ROW()-ROW($BJ$1),$BJ$2:$BJ$330,0)),\"\")","v":""}]
[null,null,null,null,null,null,null,null,null,null,null,null,null,null,null,null,null,null,null,null,null,null,null,null,null,null,null,null,null,null,null,null,null,null,null,null,null,null,null,null,null,null,null,null,null,null,null,null,null,null,null,null,null,null,null,null,null,{"$f":"IF(BG259=\"\",\"\",MAX(BF$1:BF258)+1)","v":""},{"$f":"IF(TEXT(Kortelė!$B$26,\"mm\")=IF(A259=\"\",\"\",TEXT(A259,\"mm\")),A259,\"\")","v":""},null,"",{"$f":"_xlfn.IFNA(IF(BL259=\"\",\"\",MAX(BJ$1:BJ258)+1),\"\")","v":""},"",{"$f":"IF(IF(IF(VLOOKUP($BK259,Archyvas,22,FALSE)=$BL$1,\"\",VLOOKUP($BK259,Archyvas,25,FALSE))=0,\"\",IF(VLOOKUP($BK259,Archyvas,22,FALSE)=$BL$1,\"\",VLOOKUP($BK259,Archyvas,25,FALSE)))=\"\",\"\",IF(IF(VLOOKUP($BK259,Archyvas,22,FALSE)=$BL$1,\"\",VLOOKUP($BK259,Archyvas,22,FALSE))=0,\"\",IF(VLOOKUP($BK259,Archyvas,22,FALSE)=$BL$1,\"\",VLOOKUP($BK259,Archyvas,22,FALSE))))","v":{"$error":"#N/A"}},{"$f":"IF(IF(VLOOKUP($BK259,Archyvas,22,FALSE)=$BL$1,\"\",VLOOKUP($BK259,Archyvas,23,FALSE))=0,\"\",IF(VLOOKUP($BK259,Archyvas,22,FALSE)=$BL$1,\"\",VLOOKUP($BK259,Archyvas,23,FALSE)))","v":{"$error":"#N/A"}},{"$f":"IF(IF(VLOOKUP($BK259,Archyvas,22,FALSE)=$BL$1,\"\",VLOOKUP($BK259,Archyvas,24,FALSE))=0,\"\",IF(VLOOKUP($BK259,Archyvas,22,FALSE)=$BL$1,\"\",VLOOKUP($BK259,Archyvas,24,FALSE)))","v":{"$error":"#N/A"}},{"$f":"IF(IF(VLOOKUP($BK259,Archyvas,22,FALSE)=$BL$1,\"\",VLOOKUP($BK259,Archyvas,25,FALSE))=0,\"\",IF(VLOOKUP($BK259,Archyvas,22,FALSE)=$BL$1,\"\",VLOOKUP($BK259,Archyvas,25,FALSE)))","v":{"$error":"#N/A"}},{"$f":"IF(IF(VLOOKUP($BK259,Archyvas,22,FALSE)=$BL$1,\"\",VLOOKUP($BK259,Archyvas,26,FALSE))=0,\"\",IF(VLOOKUP($BK259,Archyvas,22,FALSE)=$BL$1,\"\",VLOOKUP($BK259,Archyvas,26,FALSE)))","v":{"$error":"#N/A"}},null,{"$f":"_xlfn.IFNA(IF(BS259=\"\",\"\",MAX(BR$1:BR258)+1),\"\")","v":""},"","","","","",""]
[null,null,null,null,null,null,null,null,null,null,null,null,null,null,null,null,null,null,null,null,null,null,null,null,null,null,null,null,null,null,null,null,null,null,null,null,null,null,null,null,null,null,null,null,null,null,null,null,null,null,null,null,null,null,null,null,null,{"$f":"IF(BG260=\"\",\"\",MAX(BF$1:BF259)+1)","v":""},{"$f":"IF(TEXT(Kortelė!$B$26,\"mm\")=IF(A260=\"\",\"\",TEXT(A260,\"mm\")),A260,\"\")","v":""},null,"",{"$f":"_xlfn.IFNA(IF(BL260=\"\",\"\",MAX(BJ$1:BJ259)+1),\"\")","v":""},"",{"$f":"IF(IF(IF(VLOOKUP($BK260,Archyvas,27,FALSE)=$BL$1,\"\",VLOOKUP($BK260,Archyvas,30,FALSE))=0,\"\",IF(VLOOKUP($BK260,Archyvas,27,FALSE)=$BL$1,\"\",VLOOKUP($BK260,Archyvas,30,FALSE)))=\"\",\"\",IF(IF(VLOOKUP($BK260,Archyvas,27,FALSE)=$BL$1,\"\",VLOOKUP($BK260,Archyvas,27,FALSE))=0,\"\",IF(VLOOKUP($BK260,Archyvas,27,FALSE)=$BL$1,\"\",VLOOKUP($BK260,Archyvas,27,FALSE))))","v":{"$error":"#N/A"}},{"$f":"IF(IF(VLOOKUP($BK260,Archyvas,27,FALSE)=$BL$1,\"\",VLOOKUP($BK260,Archyvas,28,FALSE))=0,\"\",IF(VLOOKUP($BK260,Archyvas,27,FALSE)=$BL$1,\"\",VLOOKUP($BK260,Archyvas,28,FALSE)))","v":{"$error":"#N/A"}},{"$f":"IF(IF(VLOOKUP($BK260,Archyvas,27,FALSE)=$BL$1,\"\",VLOOKUP($BK260,Archyvas,29,FALSE))=0,\"\",IF(VLOOKUP($BK260,Archyvas,27,FALSE)=$BL$1,\"\",VLOOKUP($BK260,Archyvas,29,FALSE)))","v":{"$error":"#N/A"}},{"$f":"IF(IF(VLOOKUP($BK260,Archyvas,27,FALSE)=$BL$1,\"\",VLOOKUP($BK260,Archyvas,30,FALSE))=0,\"\",IF(VLOOKUP($BK260,Archyvas,27,FALSE)=$BL$1,\"\",VLOOKUP($BK260,Archyvas,30,FALSE)))","v":{"$error":"#N/A"}},{"$f":"IF(IF(VLOOKUP($BK260,Archyvas,27,FALSE)=$BL$1,\"\",VLOOKUP($BK260,Archyvas,31,FALSE))=0,\"\",IF(VLOOKUP($BK260,Archyvas,27,FALSE)=$BL$1,\"\",VLOOKUP($BK260,Archyvas,31,FALSE)))","v":{"$error":"#N/A"}},null,{"$f":"_xlfn.IFNA(IF(BS260=\"\",\"\",MAX(BR$1:BR259)+1),\"\")","v":""},"","","","","",""]
[null,null,null,null,null,null,null,null,null,null,null,null,null,null,null,null,null,null,null,null,null,null,null,null,null,null,null,null,null,null,null,null,null,null,null,null,null,null,null,null,null,null,null,null,null,null,null,null,null,null,null,null,null,null,null,null,null,{"$f":"IF(BG261=\"\",\"\",MAX(BF$1:BF260)+1)","v":""},{"$f":"IF(TEXT(Kortelė!$B$26,\"mm\")=IF(A261=\"\",\"\",TEXT(A261,\"mm\")),A261,\"\")","v":""},null,"",{"$f":"_xlfn.IFNA(IF(BL261=\"\",\"\",MAX(BJ$1:BJ260)+1),\"\")","v":""},"",{"$f":"IF(IF(IF(VLOOKUP($BK261,Archyvas,32,FALSE)=$BL$1,\"\",VLOOKUP($BK261,Archyvas,35,FALSE))=0,\"\",IF(VLOOKUP($BK261,Archyvas,32,FALSE)=$BL$1,\"\",VLOOKUP($BK261,Archyvas,35,FALSE)))=\"\",\"\",IF(IF(VLOOKUP($BK261,Archyvas,32,FALSE)=$BL$1,\"\",VLOOKUP($BK261,Archyvas,32,FALSE))=0,\"\",IF(VLOOKUP($BK261,Archyvas,32,FALSE)=$BL$1,\"\",VLOOKUP($BK261,Archyvas,32,FALSE))))","v":{"$error":"#N/A"}},{"$f":"IF(IF(VLOOKUP($BK261,Archyvas,32,FALSE)=$BL$1,\"\",VLOOKUP($BK261,Archyvas,33,FALSE))=0,\"\",IF(VLOOKUP($BK261,Archyvas,32,FALSE)=$BL$1,\"\",VLOOKUP($BK261,Archyvas,33,FALSE)))","v":{"$error":"#N/A"}},{"$f":"IF(IF(VLOOKUP($BK261,Archyvas,32,FALSE)=$BL$1,\"\",VLOOKUP($BK261,Archyvas,34,FALSE))=0,\"\",IF(VLOOKUP($BK261,Archyvas,32,FALSE)=$BL$1,\"\",VLOOKUP($BK261,Archyvas,34,FALSE)))","v":{"$error":"#N/A"}},{"$f":"IF(IF(VLOOKUP($BK261,Archyvas,32,FALSE)=$BL$1,\"\",VLOOKUP($BK261,Archyvas,35,FALSE))=0,\"\",IF(VLOOKUP($BK261,Archyvas,32,FALSE)=$BL$1,\"\",VLOOKUP($BK261,Archyvas,35,FALSE)))","v":{"$error":"#N/A"}},{"$f":"IF(IF(VLOOKUP($BK261,Archyvas,32,FALSE)=$BL$1,\"\",VLOOKUP($BK261,Archyvas,36,FALSE))=0,\"\",IF(VLOOKUP($BK261,Archyvas,32,FALSE)=$BL$1,\"\",VLOOKUP($BK261,Archyvas,36,FALSE)))","v":{"$error":"#N/A"}},null,{"$f":"_xlfn.IFNA(IF(BS261=\"\",\"\",MAX(BR$1:BR260)+1),\"\")","v":""},"","","","","",""]
[null,null,null,null,null,null,null,null,null,null,null,null,null,null,null,null,null,null,null,null,null,null,null,null,null,null,null,null,null,null,null,null,null,null,null,null,null,null,null,null,null,null,null,null,null,null,null,null,null,null,null,null,null,null,null,null,null,{"$f":"IF(BG262=\"\",\"\",MAX(BF$1:BF261)+1)","v":""},{"$f":"IF(TEXT(Kortelė!$B$26,\"mm\")=IF(A262=\"\",\"\",TEXT(A262,\"mm\")),A262,\"\")","v":""},null,"",{"$f":"_xlfn.IFNA(IF(BL262=\"\",\"\",MAX(BJ$1:BJ261)+1),\"\")","v":""},"",{"$f":"IF(IF(IF(VLOOKUP($BK262,Archyvas,37,FALSE)=$BL$1,\"\",VLOOKUP($BK262,Archyvas,40,FALSE))=0,\"\",IF(VLOOKUP($BK262,Archyvas,37,FALSE)=$BL$1,\"\",VLOOKUP($BK262,Archyvas,40,FALSE)))=\"\",\"\",IF(IF(VLOOKUP($BK262,Archyvas,37,FALSE)=$BL$1,\"\",VLOOKUP($BK262,Archyvas,37,FALSE))=0,\"\",IF(VLOOKUP($BK262,Archyvas,37,FALSE)=$BL$1,\"\",VLOOKUP($BK262,Archyvas,37,FALSE))))","v":{"$error":"#N/A"}},{"$f":"IF(IF(VLOOKUP($BK262,Archyvas,37,FALSE)=$BL$1,\"\",VLOOKUP($BK262,Archyvas,38,FALSE))=0,\"\",IF(VLOOKUP($BK262,Archyvas,37,FALSE)=$BL$1,\"\",VLOOKUP($BK262,Archyvas,38,FALSE)))","v":{"$error":"#N/A"}},{"$f":"IF(IF(VLOOKUP($BK262,Archyvas,37,FALSE)=$BL$1,\"\",VLOOKUP($BK262,Archyvas,39,FALSE))=0,\"\",IF(VLOOKUP($BK262,Archyvas,37,FALSE)=$BL$1,\"\",VLOOKUP($BK262,Archyvas,39,FALSE)))","v":{"$error":"#N/A"}},{"$f":"IF(IF(VLOOKUP($BK262,Archyvas,37,FALSE)=$BL$1,\"\",VLOOKUP($BK262,Archyvas,40,FALSE))=0,\"\",IF(VLOOKUP($BK262,Archyvas,37,FALSE)=$BL$1,\"\",VLOOKUP($BK262,Archyvas,40,FALSE)))","v":{"$error":"#N/A"}},{"$f":"IF(IF(VLOOKUP($BK262,Archyvas,37,FALSE)=$BL$1,\"\",VLOOKUP($BK262,Archyvas,41,FALSE))=0,\"\",IF(VLOOKUP($BK262,Archyvas,37,FALSE)=$BL$1,\"\",VLOOKUP($BK262,Archyvas,41,FALSE)))","v":{"$error":"#N/A"}},null,{"$f":"_xlfn.IFNA(IF(BS262=\"\",\"\",MAX(BR$1:BR261)+1),\"\")","v":""},"","","","","",""]
[null,null,null,null,null,null,null,null,null,null,null,null,null,null,null,null,null,null,null,null,null,null,null,null,null,null,null,null,null,null,null,null,null,null,null,null,null,null,null,null,null,null,null,null,null,null,null,null,null,null,null,null,null,null,null,null,null,{"$f":"IF(BG263=\"\",\"\",MAX(BF$1:BF262)+1)","v":""},{"$f":"IF(TEXT(Kortelė!$B$26,\"mm\")=IF(A263=\"\",\"\",TEXT(A263,\"mm\")),A263,\"\")","v":""},null,"",{"$f":"_xlfn.IFNA(IF(BL263=\"\",\"\",MAX(BJ$1:BJ262)+1),\"\")","v":""},"",{"$f":"IF(IF(IF(VLOOKUP($BK263,Archyvas,42,FALSE)=$BL$1,\"\",VLOOKUP($BK263,Archyvas,45,FALSE))=0,\"\",IF(VLOOKUP($BK263,Archyvas,42,FALSE)=$BL$1,\"\",VLOOKUP($BK263,Archyvas,45,FALSE)))=\"\",\"\",IF(IF(VLOOKUP($BK263,Archyvas,42,FALSE)=$BL$1,\"\",VLOOKUP($BK263,Archyvas,42,FALSE))=0,\"\",IF(VLOOKUP($BK263,Archyvas,42,FALSE)=$BL$1,\"\",VLOOKUP($BK263,Archyvas,42,FALSE))))","v":{"$error":"#N/A"}},{"$f":"IF(IF(VLOOKUP($BK263,Archyvas,42,FALSE)=$BL$1,\"\",VLOOKUP($BK263,Archyvas,43,FALSE))=0,\"\",IF(VLOOKUP($BK263,Archyvas,42,FALSE)=$BL$1,\"\",VLOOKUP($BK263,Archyvas,43,FALSE)))","v":{"$error":"#N/A"}},{"$f":"IF(IF(VLOOKUP($BK263,Archyvas,42,FALSE)=$BL$1,\"\",VLOOKUP($BK263,Archyvas,44,FALSE))=0,\"\",IF(VLOOKUP($BK263,Archyvas,42,FALSE)=$BL$1,\"\",VLOOKUP($BK263,Archyvas,44,FALSE)))","v":{"$error":"#N/A"}},{"$f":"IF(IF(VLOOKUP($BK263,Archyvas,42,FALSE)=$BL$1,\"\",VLOOKUP($BK263,Archyvas,45,FALSE))=0,\"\",IF(VLOOKUP($BK263,Archyvas,42,FALSE)=$BL$1,\"\",VLOOKUP($BK263,Archyvas,45,FALSE)))","v":{"$error":"#N/A"}},{"$f":"IF(IF(VLOOKUP($BK263,Archyvas,42,FALSE)=$BL$1,\"\",VLOOKUP($BK263,Archyvas,46,FALSE))=0,\"\",IF(VLOOKUP($BK263,Archyvas,42,FALSE)=$BL$1,\"\",VLOOKUP($BK263,Archyvas,46,FALSE)))","v":{"$error":"#N/A"}},null,{"$f":"_xlfn.IFNA(IF(BS263=\"\",\"\",MAX(BR$1:BR262)+1),\"\")","v":""},"","","","","",""]
[null,null,null,null,null,null,null,null,null,null,null,null,null,null,null,null,null,null,null,null,null,null,null,null,null,null,null,null,null,null,null,null,null,null,null,null,null,null,null,null,null,null,null,null,null,null,null,null,null,null,null,null,null,null,null,null,null,{"$f":"IF(BG264=\"\",\"\",MAX(BF$1:BF263)+1)","v":""},{"$f":"IF(TEXT(Kortelė!$B$26,\"mm\")=IF(A264=\"\",\"\",TEXT(A264,\"mm\")),A264,\"\")","v":""},null,"",{"$f":"_xlfn.IFNA(IF(BL264=\"\",\"\",MAX(BJ$1:BJ263)+1),\"\")","v":""},"",{"$f":"IF(IF(IF(VLOOKUP($BK264,Archyvas,47,FALSE)=$BL$1,\"\",VLOOKUP($BK264,Archyvas,50,FALSE))=0,\"\",IF(VLOOKUP($BK264,Archyvas,47,FALSE)=$BL$1,\"\",VLOOKUP($BK264,Archyvas,50,FALSE)))=\"\",\"\",IF(IF(VLOOKUP($BK264,Archyvas,47,FALSE)=$BL$1,\"\",VLOOKUP($BK264,Archyvas,47,FALSE))=0,\"\",IF(VLOOKUP($BK264,Archyvas,47,FALSE)=$BL$1,\"\",VLOOKUP($BK264,Archyvas,47,FALSE))))","v":{"$error":"#N/A"}},{"$f":"IF(IF(VLOOKUP($BK264,Archyvas,47,FALSE)=$BL$1,\"\",VLOOKUP($BK264,Archyvas,48,FALSE))=0,\"\",IF(VLOOKUP($BK264,Archyvas,47,FALSE)=$BL$1,\"\",VLOOKUP($BK264,Archyvas,48,FALSE)))","v":{"$error":"#N/A"}},{"$f":"IF(IF(VLOOKUP($BK264,Archyvas,47,FALSE)=$BL$1,\"\",VLOOKUP($BK264,Archyvas,49,FALSE))=0,\"\",IF(VLOOKUP($BK264,Archyvas,47,FALSE)=$BL$1,\"\",VLOOKUP($BK264,Archyvas,49,FALSE)))","v":{"$error":"#N/A"}},{"$f":"IF(IF(VLOOKUP($BK264,Archyvas,47,FALSE)=$BL$1,\"\",VLOOKUP($BK264,Archyvas,50,FALSE))=0,\"\",IF(VLOOKUP($BK264,Archyvas,47,FALSE)=$BL$1,\"\",VLOOKUP($BK264,Archyvas,50,FALSE)))","v":{"$error":"#N/A"}},{"$f":"IF(IF(VLOOKUP($BK264,Archyvas,47,FALSE)=$BL$1,\"\",VLOOKUP($BK264,Archyvas,51,FALSE))=0,\"\",IF(VLOOKUP($BK264,Archyvas,47,FALSE)=$BL$1,\"\",VLOOKUP($BK264,Archyvas,51,FALSE)))","v":{"$error":"#N/A"}},null,{"$f":"_xlfn.IFNA(IF(BS264=\"\",\"\",MAX(BR$1:BR263)+1),\"\")","v":""},"","","","","",""]
[null,null,null,null,null,null,null,null,null,null,null,null,null,null,null,null,null,null,null,null,null,null,null,null,null,null,null,null,null,null,null,null,null,null,null,null,null,null,null,null,null,null,null,null,null,null,null,null,null,null,null,null,null,null,null,null,null,{"$f":"IF(BG265=\"\",\"\",MAX(BF$1:BF264)+1)","v":""},{"$f":"IF(TEXT(Kortelė!$B$26,\"mm\")=IF(A265=\"\",\"\",TEXT(A265,\"mm\")),A265,\"\")","v":""},null,"",{"$f":"_xlfn.IFNA(IF(BL265=\"\",\"\",MAX(BJ$1:BJ264)+1),\"\")","v":""},"",null,null,null,null,null,null,{"$f":"_xlfn.IFNA(IF(BS265=\"\",\"\",MAX(BR$1:BR264)+1),\"\")","v":""},"","","","","",""]
[null,null,null,null,null,null,null,null,null,null,null,null,null,null,null,null,null,null,null,null,null,null,null,null,null,null,null,null,null,null,null,null,null,null,null,null,null,null,null,null,null,null,null,null,null,null,null,null,null,null,null,null,null,null,null,null,null,{"$f":"IF(BG266=\"\",\"\",MAX(BF$1:BF265)+1)","v":""},{"$f":"IF(TEXT(Kortelė!$B$26,\"mm\")=IF(A266=\"\",\"\",TEXT(A266,\"mm\")),A266,\"\")","v":""},null,"",{"$f":"_xlfn.IFNA(IF(BL266=\"\",\"\",MAX(BJ$1:BJ265)+1),\"\")","v":""},{"$f":"$BI$26","v":""},{"$f":"IF(IF(IF(VLOOKUP($BK266,Archyvas,2,FALSE)=$BL$1,\"\",VLOOKUP($BK266,Archyvas,5,FALSE))=0,\"\",IF(VLOOKUP($BK266,Archyvas,2,FALSE)=$BL$1,\"\",VLOOKUP($BK266,Archyvas,5,FALSE)))=\"\",\"\",IF(IF(VLOOKUP($BK266,Archyvas,2,FALSE)=$BL$1,\"\",VLOOKUP($BK266,Archyvas,2,FALSE))=0,\"\",IF(VLOOKUP($BK266,Archyvas,2,FALSE)=$BL$1,\"\",VLOOKUP($BK266,Archyvas,2,FALSE))))","v":{"$error":"#N/A"}},{"$f":"IF(IF(VLOOKUP($BK266,Archyvas,2,FALSE)=$BL$1,\"\",VLOOKUP($BK266,Archyvas,3,FALSE))=0,\"\",IF(VLOOKUP($BK266,Archyvas,2,FALSE)=$BL$1,\"\",VLOOKUP($BK266,Archyvas,3,FALSE)))","v":{"$error":"#N/A"}},{"$f":"IF(IF(VLOOKUP($BK266,Archyvas,2,FALSE)=$BL$1,\"\",VLOOKUP($BK266,Archyvas,4,FALSE))=0,\"\",IF(VLOOKUP($BK266,Archyvas,2,FALSE)=$BL$1,\"\",VLOOKUP($BK266,Archyvas,4,FALSE)))","v":{"$error":"#N/A"}},{"$f":"IF(IF(VLOOKUP($BK266,Archyvas,2,FALSE)=$BL$1,\"\",VLOOKUP($BK266,Archyvas,5,FALSE))=0,\"\",IF(VLOOKUP($BK266,Archyvas,2,FALSE)=$BL$1,\"\",VLOOKUP($BK266,Archyvas,5,FALSE)))","v":{"$error":"#N/A"}},{"$f":"IF(IF(VLOOKUP($BK266,Archyvas,2,FALSE)=$BL$1,\"\",VLOOKUP($BK266,Archyvas,6,FALSE))=0,\"\",IF(VLOOKUP($BK266,Archyvas,2,FALSE)=$BL$1,\"\",VLOOKUP($BK266,Archyvas,6,FALSE)))","v":{"$error":"#N/A"}},null,{"$f":"_xlfn.IFNA(IF(BS266=\"\",\"\",MAX(BR$1:BR265)+1),\"\")","v":""},"","","","","",""]
[null,null,null,null,null,null,null,null,null,null,null,null,null,null,null,null,null,null,null,null,null,null,null,null,null,null,null,null,null,null,null,null,null,null,null,null,null,null,null,null,null,null,null,null,null,null,null,null,null,null,null,null,null,null,null,null,null,{"$f":"IF(BG267=\"\",\"\",MAX(BF$1:BF266)+1)","v":""},{"$f":"IF(TEXT(Kortelė!$B$26,\"mm\")=IF(A267=\"\",\"\",TEXT(A267,\"mm\")),A267,\"\")","v":""},null,"",{"$f":"_xlfn.IFNA(IF(BL267=\"\",\"\",MAX(BJ$1:BJ266)+1),\"\")","v":""},{"$f":"BK266","v":""},{"$f":"IF(IF(IF(VLOOKUP($BK267,Archyvas,7,FALSE)=$BL$1,\"\",VLOOKUP($BK267,Archyvas,10,FALSE))=0,\"\",IF(VLOOKUP($BK267,Archyvas,7,FALSE)=$BL$1,\"\",VLOOKUP($BK267,Archyvas,10,FALSE)))=\"\",\"\",IF(IF(VLOOKUP($BK267,Archyvas,7,FALSE)=$BL$1,\"\",VLOOKUP($BK267,Archyvas,7,FALSE))=0,\"\",IF(VLOOKUP($BK267,Archyvas,7,FALSE)=$BL$1,\"\",VLOOKUP($BK267,Archyvas,7,FALSE))))","v":{"$error":"#N/A"}},{"$f":"IF(IF(VLOOKUP($BK267,Archyvas,7,FALSE)=$BL$1,\"\",VLOOKUP($BK267,Archyvas,8,FALSE))=0,\"\",IF(VLOOKUP($BK267,Archyvas,7,FALSE)=$BL$1,\"\",VLOOKUP($BK267,Archyvas,8,FALSE)))","v":{"$error":"#N/A"}},{"$f":"IF(IF(VLOOKUP($BK267,Archyvas,7,FALSE)=$BL$1,\"\",VLOOKUP($BK267,Archyvas,9,FALSE))=0,\"\",IF(VLOOKUP($BK267,Archyvas,7,FALSE)=$BL$1,\"\",VLOOKUP($BK267,Archyvas,9,FALSE)))","v":{"$error":"#N/A"}},{"$f":"IF(IF(VLOOKUP($BK267,Archyvas,7,FALSE)=$BL$1,\"\",VLOOKUP($BK267,Archyvas,10,FALSE))=0,\"\",IF(VLOOKUP($BK267,Archyvas,7,FALSE)=$BL$1,\"\",VLOOKUP($BK267,Archyvas,10,FALSE)))","v":{"$error":"#N/A"}},{"$f":"IF(IF(VLOOKUP($BK267,Archyvas,7,FALSE)=$BL$1,\"\",VLOOKUP($BK267,Archyvas,11,FALSE))=0,\"\",IF(VLOOKUP($BK267,Archyvas,7,FALSE)=$BL$1,\"\",VLOOKUP($BK267,Archyvas,11,FALSE)))","v":{"$error":"#N/A"}},null,{"$f":"_xlfn.IFNA(IF(BS267=\"\",\"\",MAX(BR$1:BR266)+1),\"\")","v":""},"","","","","",""]
[null,null,null,null,null,null,null,null,null,null,null,null,null,null,null,null,null,null,null,null,null,null,null,null,null,null,null,null,null,null,null,null,null,null,null,null,null,null,null,null,null,null,null,null,null,null,null,null,null,null,null,null,null,null,null,null,null,{"$f":"IF(BG268=\"\",\"\",MAX(BF$1:BF267)+1)","v":""},{"$f":"IF(TEXT(Kortelė!$B$26,\"mm\")=IF(A268=\"\",\"\",TEXT(A268,\"mm\")),A268,\"\")","v":""},null,"",{"$f":"_xlfn.IFNA(IF(BL268=\"\",\"\",MAX(BJ$1:BJ267)+1),\"\")","v":""},"",{"$f":"IF(IF(IF(VLOOKUP($BK268,Archyvas,12,FALSE)=$BL$1,\"\",VLOOKUP($BK268,Archyvas,15,FALSE))=0,\"\",IF(VLOOKUP($BK268,Archyvas,12,FALSE)=$BL$1,\"\",VLOOKUP($BK268,Archyvas,15,FALSE)))=\"\",\"\",IF(IF(VLOOKUP($BK268,Archyvas,12,FALSE)=$BL$1,\"\",VLOOKUP($BK268,Archyvas,12,FALSE))=0,\"\",IF(VLOOKUP($BK268,Archyvas,12,FALSE)=$BL$1,\"\",VLOOKUP($BK268,Archyvas,12,FALSE))))","v":{"$error":"#N/A"}},{"$f":"IF(IF(VLOOKUP($BK268,Archyvas,12,FALSE)=$BL$1,\"\",VLOOKUP($BK268,Archyvas,13,FALSE))=0,\"\",IF(VLOOKUP($BK268,Archyvas,12,FALSE)=$BL$1,\"\",VLOOKUP($BK268,Archyvas,13,FALSE)))","v":{"$error":"#N/A"}},{"$f":"IF(IF(VLOOKUP($BK268,Archyvas,12,FALSE)=$BL$1,\"\",VLOOKUP($BK268,Archyvas,14,FALSE))=0,\"\",IF(VLOOKUP($BK268,Archyvas,12,FALSE)=$BL$1,\"\",VLOOKUP($BK268,Archyvas,14,FALSE)))","v":{"$error":"#N/A"}},{"$f":"IF(IF(VLOOKUP($BK268,Archyvas,12,FALSE)=$BL$1,\"\",VLOOKUP($BK268,Archyvas,15,FALSE))=0,\"\",IF(VLOOKUP($BK268,Archyvas,12,FALSE)=$BL$1,\"\",VLOOKUP($BK268,Archyvas,15,FALSE)))","v":{"$error":"#N/A"}},{"$f":"IF(IF(VLOOKUP($BK268,Archyvas,12,FALSE)=$BL$1,\"\",VLOOKUP($BK268,Archyvas,16,FALSE))=0,\"\",IF(VLOOKUP($BK268,Archyvas,12,FALSE)=$BL$1,\"\",VLOOKUP($BK268,Archyvas,16,FALSE)))","v":{"$error":"#N/A"}},null,{"$f":"_xlfn.IFNA(IF(BS268=\"\",\"\",MAX(BR$1:BR267)+1),\"\")","v":""},"","","","","",""]
[null,null,null,null,null,null,null,null,null,null,null,null,null,null,null,null,null,null,null,null,null,null,null,null,null,null,null,null,null,null,null,null,null,null,null,null,null,null,null,null,null,null,null,null,null,null,null,null,null,null,null,null,null,null,null,null,null,{"$f":"IF(BG269=\"\",\"\",MAX(BF$1:BF268)+1)","v":""},{"$f":"IF(TEXT(Kortelė!$B$26,\"mm\")=IF(A269=\"\",\"\",TEXT(A269,\"mm\")),A269,\"\")","v":""},null,"",{"$f":"_xlfn.IFNA(IF(BL269=\"\",\"\",MAX(BJ$1:BJ268)+1),\"\")","v":""},"",{"$f":"IF(IF(IF(VLOOKUP($BK269,Archyvas,17,FALSE)=$BL$1,\"\",VLOOKUP($BK269,Archyvas,20,FALSE))=0,\"\",IF(VLOOKUP($BK269,Archyvas,17,FALSE)=$BL$1,\"\",VLOOKUP($BK269,Archyvas,20,FALSE)))=\"\",\"\",IF(IF(VLOOKUP($BK269,Archyvas,17,FALSE)=$BL$1,\"\",VLOOKUP($BK269,Archyvas,17,FALSE))=0,\"\",IF(VLOOKUP($BK269,Archyvas,17,FALSE)=$BL$1,\"\",VLOOKUP($BK269,Archyvas,17,FALSE))))","v":{"$error":"#N/A"}},{"$f":"IF(IF(VLOOKUP($BK269,Archyvas,17,FALSE)=$BL$1,\"\",VLOOKUP($BK269,Archyvas,18,FALSE))=0,\"\",IF(VLOOKUP($BK269,Archyvas,17,FALSE)=$BL$1,\"\",VLOOKUP($BK269,Archyvas,18,FALSE)))","v":{"$error":"#N/A"}},{"$f":"IF(IF(VLOOKUP($BK269,Archyvas,17,FALSE)=$BL$1,\"\",VLOOKUP($BK269,Archyvas,19,FALSE))=0,\"\",IF(VLOOKUP($BK269,Archyvas,17,FALSE)=$BL$1,\"\",VLOOKUP($BK269,Archyvas,19,FALSE)))","v":{"$error":"#N/A"}},{"$f":"IF(IF(VLOOKUP($BK269,Archyvas,17,FALSE)=$BL$1,\"\",VLOOKUP($BK269,Archyvas,20,FALSE))=0,\"\",IF(VLOOKUP($BK269,Archyvas,17,FALSE)=$BL$1,\"\",VLOOKUP($BK269,Archyvas,20,FALSE)))","v":{"$error":"#N/A"}},{"$f":"IF(IF(VLOOKUP($BK269,Archyvas,17,FALSE)=$BL$1,\"\",VLOOKUP($BK269,Archyvas,21,FALSE))=0,\"\",IF(VLOOKUP($BK269,Archyvas,17,FALSE)=$BL$1,\"\",VLOOKUP($BK269,Archyvas,21,FALSE)))","v":{"$error":"#N/A"}},null,{"$f":"_xlfn.IFNA(IF(BS269=\"\",\"\",MAX(BR$1:BR268)+1),\"\")","v":""},"","","","","",""]
[null,null,null,null,null,null,null,null,null,null,null,null,null,null,null,null,null,null,null,null,null,null,null,null,null,null,null,null,null,null,null,null,null,null,null,null,null,null,null,null,null,null,null,null,null,null,null,null,null,null,null,null,null,null,null,null,null,{"$f":"IF(BG270=\"\",\"\",MAX(BF$1:BF269)+1)","v":""},{"$f":"IF(TEXT(Kortelė!$B$26,\"mm\")=IF(A270=\"\",\"\",TEXT(A270,\"mm\")),A270,\"\")","v":""},null,"",{"$f":"_xlfn.IFNA(IF(BL270=\"\",\"\",MAX(BJ$1:BJ269)+1),\"\")","v":""},"",{"$f":"IF(IF(IF(VLOOKUP($BK270,Archyvas,22,FALSE)=$BL$1,\"\",VLOOKUP($BK270,Archyvas,25,FALSE))=0,\"\",IF(VLOOKUP($BK270,Archyvas,22,FALSE)=$BL$1,\"\",VLOOKUP($BK270,Archyvas,25,FALSE)))=\"\",\"\",IF(IF(VLOOKUP($BK270,Archyvas,22,FALSE)=$BL$1,\"\",VLOOKUP($BK270,Archyvas,22,FALSE))=0,\"\",IF(VLOOKUP($BK270,Archyvas,22,FALSE)=$BL$1,\"\",VLOOKUP($BK270,Archyvas,22,FALSE))))","v":{"$error":"#N/A"}},{"$f":"IF(IF(VLOOKUP($BK270,Archyvas,22,FALSE)=$BL$1,\"\",VLOOKUP($BK270,Archyvas,23,FALSE))=0,\"\",IF(VLOOKUP($BK270,Archyvas,22,FALSE)=$BL$1,\"\",VLOOKUP($BK270,Archyvas,23,FALSE)))","v":{"$error":"#N/A"}},{"$f":"IF(IF(VLOOKUP($BK270,Archyvas,22,FALSE)=$BL$1,\"\",VLOOKUP($BK270,Archyvas,24,FALSE))=0,\"\",IF(VLOOKUP($BK270,Archyvas,22,FALSE)=$BL$1,\"\",VLOOKUP($BK270,Archyvas,24,FALSE)))","v":{"$error":"#N/A"}},{"$f":"IF(IF(VLOOKUP($BK270,Archyvas,22,FALSE)=$BL$1,\"\",VLOOKUP($BK270,Archyvas,25,FALSE))=0,\"\",IF(VLOOKUP($BK270,Archyvas,22,FALSE)=$BL$1,\"\",VLOOKUP($BK270,Archyvas,25,FALSE)))","v":{"$error":"#N/A"}},{"$f":"IF(IF(VLOOKUP($BK270,Archyvas,22,FALSE)=$BL$1,\"\",VLOOKUP($BK270,Archyvas,26,FALSE))=0,\"\",IF(VLOOKUP($BK270,Archyvas,22,FALSE)=$BL$1,\"\",VLOOKUP($BK270,Archyvas,26,FALSE)))","v":{"$error":"#N/A"}},null,{"$f":"_xlfn.IFNA(IF(BS270=\"\",\"\",MAX(BR$1:BR269)+1),\"\")","v":""},"","","","","",""]
[null,null,null,null,null,null,null,null,null,null,null,null,null,null,null,null,null,null,null,null,null,null,null,null,null,null,null,null,null,null,null,null,null,null,null,null,null,null,null,null,null,null,null,null,null,null,null,null,null,null,null,null,null,null,null,null,null,{"$f":"IF(BG271=\"\",\"\",MAX(BF$1:BF270)+1)","v":""},{"$f":"IF(TEXT(Kortelė!$B$26,\"mm\")=IF(A271=\"\",\"\",TEXT(A271,\"mm\")),A271,\"\")","v":""},null,"",{"$f":"_xlfn.IFNA(IF(BL271=\"\",\"\",MAX(BJ$1:BJ270)+1),\"\")","v":""},"",{"$f":"IF(IF(IF(VLOOKUP($BK271,Archyvas,27,FALSE)=$BL$1,\"\",VLOOKUP($BK271,Archyvas,30,FALSE))=0,\"\",IF(VLOOKUP($BK271,Archyvas,27,FALSE)=$BL$1,\"\",VLOOKUP($BK271,Archyvas,30,FALSE)))=\"\",\"\",IF(IF(VLOOKUP($BK271,Archyvas,27,FALSE)=$BL$1,\"\",VLOOKUP($BK271,Archyvas,27,FALSE))=0,\"\",IF(VLOOKUP($BK271,Archyvas,27,FALSE)=$BL$1,\"\",VLOOKUP($BK271,Archyvas,27,FALSE))))","v":{"$error":"#N/A"}},{"$f":"IF(IF(VLOOKUP($BK271,Archyvas,27,FALSE)=$BL$1,\"\",VLOOKUP($BK271,Archyvas,28,FALSE))=0,\"\",IF(VLOOKUP($BK271,Archyvas,27,FALSE)=$BL$1,\"\",VLOOKUP($BK271,Archyvas,28,FALSE)))","v":{"$error":"#N/A"}},{"$f":"IF(IF(VLOOKUP($BK271,Archyvas,27,FALSE)=$BL$1,\"\",VLOOKUP($BK271,Archyvas,29,FALSE))=0,\"\",IF(VLOOKUP($BK271,Archyvas,27,FALSE)=$BL$1,\"\",VLOOKUP($BK271,Archyvas,29,FALSE)))","v":{"$error":"#N/A"}},{"$f":"IF(IF(VLOOKUP($BK271,Archyvas,27,FALSE)=$BL$1,\"\",VLOOKUP($BK271,Archyvas,30,FALSE))=0,\"\",IF(VLOOKUP($BK271,Archyvas,27,FALSE)=$BL$1,\"\",VLOOKUP($BK271,Archyvas,30,FALSE)))","v":{"$error":"#N/A"}},{"$f":"IF(IF(VLOOKUP($BK271,Archyvas,27,FALSE)=$BL$1,\"\",VLOOKUP($BK271,Archyvas,31,FALSE))=0,\"\",IF(VLOOKUP($BK271,Archyvas,27,FALSE)=$BL$1,\"\",VLOOKUP($BK271,Archyvas,31,FALSE)))","v":{"$error":"#N/A"}},null,{"$f":"_xlfn.IFNA(IF(BS271=\"\",\"\",MAX(BR$1:BR270)+1),\"\")","v":""},"","","","","",""]
[null,null,null,null,null,null,null,null,null,null,null,null,null,null,null,null,null,null,null,null,null,null,null,null,null,null,null,null,null,null,null,null,null,null,null,null,null,null,null,null,null,null,null,null,null,null,null,null,null,null,null,null,null,null,null,null,null,{"$f":"IF(BG272=\"\",\"\",MAX(BF$1:BF271)+1)","v":""},{"$f":"IF(TEXT(Kortelė!$B$26,\"mm\")=IF(A272=\"\",\"\",TEXT(A272,\"mm\")),A272,\"\")","v":""},null,"",{"$f":"_xlfn.IFNA(IF(BL272=\"\",\"\",MAX(BJ$1:BJ271)+1),\"\")","v":""},"",{"$f":"IF(IF(IF(VLOOKUP($BK272,Archyvas,32,FALSE)=$BL$1,\"\",VLOOKUP($BK272,Archyvas,35,FALSE))=0,\"\",IF(VLOOKUP($BK272,Archyvas,32,FALSE)=$BL$1,\"\",VLOOKUP($BK272,Archyvas,35,FALSE)))=\"\",\"\",IF(IF(VLOOKUP($BK272,Archyvas,32,FALSE)=$BL$1,\"\",VLOOKUP($BK272,Archyvas,32,FALSE))=0,\"\",IF(VLOOKUP($BK272,Archyvas,32,FALSE)=$BL$1,\"\",VLOOKUP($BK272,Archyvas,32,FALSE))))","v":{"$error":"#N/A"}},{"$f":"IF(IF(VLOOKUP($BK272,Archyvas,32,FALSE)=$BL$1,\"\",VLOOKUP($BK272,Archyvas,33,FALSE))=0,\"\",IF(VLOOKUP($BK272,Archyvas,32,FALSE)=$BL$1,\"\",VLOOKUP($BK272,Archyvas,33,FALSE)))","v":{"$error":"#N/A"}},{"$f":"IF(IF(VLOOKUP($BK272,Archyvas,32,FALSE)=$BL$1,\"\",VLOOKUP($BK272,Archyvas,34,FALSE))=0,\"\",IF(VLOOKUP($BK272,Archyvas,32,FALSE)=$BL$1,\"\",VLOOKUP($BK272,Archyvas,34,FALSE)))","v":{"$error":"#N/A"}},{"$f":"IF(IF(VLOOKUP($BK272,Archyvas,32,FALSE)=$BL$1,\"\",VLOOKUP($BK272,Archyvas,35,FALSE))=0,\"\",IF(VLOOKUP($BK272,Archyvas,32,FALSE)=$BL$1,\"\",VLOOKUP($BK272,Archyvas,35,FALSE)))","v":{"$error":"#N/A"}},{"$f":"IF(IF(VLOOKUP($BK272,Archyvas,32,FALSE)=$BL$1,\"\",VLOOKUP($BK272,Archyvas,36,FALSE))=0,\"\",IF(VLOOKUP($BK272,Archyvas,32,FALSE)=$BL$1,\"\",VLOOKUP($BK272,Archyvas,36,FALSE)))","v":{"$error":"#N/A"}},null,{"$f":"_xlfn.IFNA(IF(BS272=\"\",\"\",MAX(BR$1:BR271)+1),\"\")","v":""},"","","","","",""]
[null,null,null,null,null,null,null,null,null,null,null,null,null,null,null,null,null,null,null,null,null,null,null,null,null,null,null,null,null,null,null,null,null,null,null,null,null,null,null,null,null,null,null,null,null,null,null,null,null,null,null,null,null,null,null,null,null,{"$f":"IF(BG273=\"\",\"\",MAX(BF$1:BF272)+1)","v":""},{"$f":"IF(TEXT(Kortelė!$B$26,\"mm\")=IF(A273=\"\",\"\",TEXT(A273,\"mm\")),A273,\"\")","v":""},null,"",{"$f":"_xlfn.IFNA(IF(BL273=\"\",\"\",MAX(BJ$1:BJ272)+1),\"\")","v":""},"",{"$f":"IF(IF(IF(VLOOKUP($BK273,Archyvas,37,FALSE)=$BL$1,\"\",VLOOKUP($BK273,Archyvas,40,FALSE))=0,\"\",IF(VLOOKUP($BK273,Archyvas,37,FALSE)=$BL$1,\"\",VLOOKUP($BK273,Archyvas,40,FALSE)))=\"\",\"\",IF(IF(VLOOKUP($BK273,Archyvas,37,FALSE)=$BL$1,\"\",VLOOKUP($BK273,Archyvas,37,FALSE))=0,\"\",IF(VLOOKUP($BK273,Archyvas,37,FALSE)=$BL$1,\"\",VLOOKUP($BK273,Archyvas,37,FALSE))))","v":{"$error":"#N/A"}},{"$f":"IF(IF(VLOOKUP($BK273,Archyvas,37,FALSE)=$BL$1,\"\",VLOOKUP($BK273,Archyvas,38,FALSE))=0,\"\",IF(VLOOKUP($BK273,Archyvas,37,FALSE)=$BL$1,\"\",VLOOKUP($BK273,Archyvas,38,FALSE)))","v":{"$error":"#N/A"}},{"$f":"IF(IF(VLOOKUP($BK273,Archyvas,37,FALSE)=$BL$1,\"\",VLOOKUP($BK273,Archyvas,39,FALSE))=0,\"\",IF(VLOOKUP($BK273,Archyvas,37,FALSE)=$BL$1,\"\",VLOOKUP($BK273,Archyvas,39,FALSE)))","v":{"$error":"#N/A"}},{"$f":"IF(IF(VLOOKUP($BK273,Archyvas,37,FALSE)=$BL$1,\"\",VLOOKUP($BK273,Archyvas,40,FALSE))=0,\"\",IF(VLOOKUP($BK273,Archyvas,37,FALSE)=$BL$1,\"\",VLOOKUP($BK273,Archyvas,40,FALSE)))","v":{"$error":"#N/A"}},{"$f":"IF(IF(VLOOKUP($BK273,Archyvas,37,FALSE)=$BL$1,\"\",VLOOKUP($BK273,Archyvas,41,FALSE))=0,\"\",IF(VLOOKUP($BK273,Archyvas,37,FALSE)=$BL$1,\"\",VLOOKUP($BK273,Archyvas,41,FALSE)))","v":{"$error":"#N/A"}},null,{"$f":"_xlfn.IFNA(IF(BS273=\"\",\"\",MAX(BR$1:BR272)+1),\"\")","v":""},"","","","","",""]
[null,null,null,null,null,null,null,null,null,null,null,null,null,null,null,null,null,null,null,null,null,null,null,null,null,null,null,null,null,null,null,null,null,null,null,null,null,null,null,null,null,null,null,null,null,null,null,null,null,null,null,null,null,null,null,null,null,{"$f":"IF(BG274=\"\",\"\",MAX(BF$1:BF273)+1)","v":""},{"$f":"IF(TEXT(Kortelė!$B$26,\"mm\")=IF(A274=\"\",\"\",TEXT(A274,\"mm\")),A274,\"\")","v":""},null,"",{"$f":"_xlfn.IFNA(IF(BL274=\"\",\"\",MAX(BJ$1:BJ273)+1),\"\")","v":""},"",{"$f":"IF(IF(IF(VLOOKUP($BK274,Archyvas,42,FALSE)=$BL$1,\"\",VLOOKUP($BK274,Archyvas,45,FALSE))=0,\"\",IF(VLOOKUP($BK274,Archyvas,42,FALSE)=$BL$1,\"\",VLOOKUP($BK274,Archyvas,45,FALSE)))=\"\",\"\",IF(IF(VLOOKUP($BK274,Archyvas,42,FALSE)=$BL$1,\"\",VLOOKUP($BK274,Archyvas,42,FALSE))=0,\"\",IF(VLOOKUP($BK274,Archyvas,42,FALSE)=$BL$1,\"\",VLOOKUP($BK274,Archyvas,42,FALSE))))","v":{"$error":"#N/A"}},{"$f":"IF(IF(VLOOKUP($BK274,Archyvas,42,FALSE)=$BL$1,\"\",VLOOKUP($BK274,Archyvas,43,FALSE))=0,\"\",IF(VLOOKUP($BK274,Archyvas,42,FALSE)=$BL$1,\"\",VLOOKUP($BK274,Archyvas,43,FALSE)))","v":{"$error":"#N/A"}},{"$f":"IF(IF(VLOOKUP($BK274,Archyvas,42,FALSE)=$BL$1,\"\",VLOOKUP($BK274,Archyvas,44,FALSE))=0,\"\",IF(VLOOKUP($BK274,Archyvas,42,FALSE)=$BL$1,\"\",VLOOKUP($BK274,Archyvas,44,FALSE)))","v":{"$error":"#N/A"}},{"$f":"IF(IF(VLOOKUP($BK274,Archyvas,42,FALSE)=$BL$1,\"\",VLOOKUP($BK274,Archyvas,45,FALSE))=0,\"\",IF(VLOOKUP($BK274,Archyvas,42,FALSE)=$BL$1,\"\",VLOOKUP($BK274,Archyvas,45,FALSE)))","v":{"$error":"#N/A"}},{"$f":"IF(IF(VLOOKUP($BK274,Archyvas,42,FALSE)=$BL$1,\"\",VLOOKUP($BK274,Archyvas,46,FALSE))=0,\"\",IF(VLOOKUP($BK274,Archyvas,42,FALSE)=$BL$1,\"\",VLOOKUP($BK274,Archyvas,46,FALSE)))","v":{"$error":"#N/A"}},null,{"$f":"_xlfn.IFNA(IF(BS274=\"\",\"\",MAX(BR$1:BR273)+1),\"\")","v":""},"","","","","",""]
[null,null,null,null,null,null,null,null,null,null,null,null,null,null,null,null,null,null,null,null,null,null,null,null,null,null,null,null,null,null,null,null,null,null,null,null,null,null,null,null,null,null,null,null,null,null,null,null,null,null,null,null,null,null,null,null,null,{"$f":"IF(BG275=\"\",\"\",MAX(BF$1:BF274)+1)","v":""},{"$f":"IF(TEXT(Kortelė!$B$26,\"mm\")=IF(A275=\"\",\"\",TEXT(A275,\"mm\")),A275,\"\")","v":""},null,"",{"$f":"_xlfn.IFNA(IF(BL275=\"\",\"\",MAX(BJ$1:BJ274)+1),\"\")","v":""},"",{"$f":"IF(IF(IF(VLOOKUP($BK275,Archyvas,47,FALSE)=$BL$1,\"\",VLOOKUP($BK275,Archyvas,50,FALSE))=0,\"\",IF(VLOOKUP($BK275,Archyvas,47,FALSE)=$BL$1,\"\",VLOOKUP($BK275,Archyvas,50,FALSE)))=\"\",\"\",IF(IF(VLOOKUP($BK275,Archyvas,47,FALSE)=$BL$1,\"\",VLOOKUP($BK275,Archyvas,47,FALSE))=0,\"\",IF(VLOOKUP($BK275,Archyvas,47,FALSE)=$BL$1,\"\",VLOOKUP($BK275,Archyvas,47,FALSE))))","v":{"$error":"#N/A"}},{"$f":"IF(IF(VLOOKUP($BK275,Archyvas,47,FALSE)=$BL$1,\"\",VLOOKUP($BK275,Archyvas,48,FALSE))=0,\"\",IF(VLOOKUP($BK275,Archyvas,47,FALSE)=$BL$1,\"\",VLOOKUP($BK275,Archyvas,48,FALSE)))","v":{"$error":"#N/A"}},{"$f":"IF(IF(VLOOKUP($BK275,Archyvas,47,FALSE)=$BL$1,\"\",VLOOKUP($BK275,Archyvas,49,FALSE))=0,\"\",IF(VLOOKUP($BK275,Archyvas,47,FALSE)=$BL$1,\"\",VLOOKUP($BK275,Archyvas,49,FALSE)))","v":{"$error":"#N/A"}},{"$f":"IF(IF(VLOOKUP($BK275,Archyvas,47,FALSE)=$BL$1,\"\",VLOOKUP($BK275,Archyvas,50,FALSE))=0,\"\",IF(VLOOKUP($BK275,Archyvas,47,FALSE)=$BL$1,\"\",VLOOKUP($BK275,Archyvas,50,FALSE)))","v":{"$error":"#N/A"}},{"$f":"IF(IF(VLOOKUP($BK275,Archyvas,47,FALSE)=$BL$1,\"\",VLOOKUP($BK275,Archyvas,51,FALSE))=0,\"\",IF(VLOOKUP($BK275,Archyvas,47,FALSE)=$BL$1,\"\",VLOOKUP($BK275,Archyvas,51,FALSE)))","v":{"$error":"#N/A"}},null,{"$f":"_xlfn.IFNA(IF(BS275=\"\",\"\",MAX(BR$1:BR274)+1),\"\")","v":""},"","","","","",""]
[null,null,null,null,null,null,null,null,null,null,null,null,null,null,null,null,null,null,null,null,null,null,null,null,null,null,null,null,null,null,null,null,null,null,null,null,null,null,null,null,null,null,null,null,null,null,null,null,null,null,null,null,null,null,null,null,null,{"$f":"IF(BG276=\"\",\"\",MAX(BF$1:BF275)+1)","v":""},{"$f":"IF(TEXT(Kortelė!$B$26,\"mm\")=IF(A276=\"\",\"\",TEXT(A276,\"mm\")),A276,\"\")","v":""},null,"",{"$f":"_xlfn.IFNA(IF(BL276=\"\",\"\",MAX(BJ$1:BJ275)+1),\"\")","v":""},null,null,null,null,null,null,null,{"$f":"_xlfn.IFNA(IF(BS276=\"\",\"\",MAX(BR$1:BR275)+1),\"\")","v":""},"","","","","",""]
[null,null,null,null,null,null,null,null,null,null,null,null,null,null,null,null,null,null,null,null,null,null,null,null,null,null,null,null,null,null,null,null,null,null,null,null,null,null,null,null,null,null,null,null,null,null,null,null,null,null,null,null,null,null,null,null,null,{"$f":"IF(BG277=\"\",\"\",MAX(BF$1:BF276)+1)","v":""},{"$f":"IF(TEXT(Kortelė!$B$26,\"mm\")=IF(A277=\"\",\"\",TEXT(A277,\"mm\")),A277,\"\")","v":""},null,"",{"$f":"_xlfn.IFNA(IF(BL277=\"\",\"\",MAX(BJ$1:BJ276)+1),\"\")","v":""},{"$f":"$BI$27","v":""},{"$f":"IF(IF(IF(VLOOKUP($BK277,Archyvas,2,FALSE)=$BL$1,\"\",VLOOKUP($BK277,Archyvas,5,FALSE))=0,\"\",IF(VLOOKUP($BK277,Archyvas,2,FALSE)=$BL$1,\"\",VLOOKUP($BK277,Archyvas,5,FALSE)))=\"\",\"\",IF(IF(VLOOKUP($BK277,Archyvas,2,FALSE)=$BL$1,\"\",VLOOKUP($BK277,Archyvas,2,FALSE))=0,\"\",IF(VLOOKUP($BK277,Archyvas,2,FALSE)=$BL$1,\"\",VLOOKUP($BK277,Archyvas,2,FALSE))))","v":{"$error":"#N/A"}},{"$f":"IF(IF(VLOOKUP($BK277,Archyvas,2,FALSE)=$BL$1,\"\",VLOOKUP($BK277,Archyvas,3,FALSE))=0,\"\",IF(VLOOKUP($BK277,Archyvas,2,FALSE)=$BL$1,\"\",VLOOKUP($BK277,Archyvas,3,FALSE)))","v":{"$error":"#N/A"}},{"$f":"IF(IF(VLOOKUP($BK277,Archyvas,2,FALSE)=$BL$1,\"\",VLOOKUP($BK277,Archyvas,4,FALSE))=0,\"\",IF(VLOOKUP($BK277,Archyvas,2,FALSE)=$BL$1,\"\",VLOOKUP($BK277,Archyvas,4,FALSE)))","v":{"$error":"#N/A"}},{"$f":"IF(IF(VLOOKUP($BK277,Archyvas,2,FALSE)=$BL$1,\"\",VLOOKUP($BK277,Archyvas,5,FALSE))=0,\"\",IF(VLOOKUP($BK277,Archyvas,2,FALSE)=$BL$1,\"\",VLOOKUP($BK277,Archyvas,5,FALSE)))","v":{"$error":"#N/A"}},{"$f":"IF(IF(VLOOKUP($BK277,Archyvas,2,FALSE)=$BL$1,\"\",VLOOKUP($BK277,Archyvas,6,FALSE))=0,\"\",IF(VLOOKUP($BK277,Archyvas,2,FALSE)=$BL$1,\"\",VLOOKUP($BK277,Archyvas,6,FALSE)))","v":{"$error":"#N/A"}},null,{"$f":"_xlfn.IFNA(IF(BS277=\"\",\"\",MAX(BR$1:BR276)+1),\"\")","v":""},"","","","","",""]
[null,null,null,null,null,null,null,null,null,null,null,null,null,null,null,null,null,null,null,null,null,null,null,null,null,null,null,null,null,null,null,null,null,null,null,null,null,null,null,null,null,null,null,null,null,null,null,null,null,null,null,null,null,null,null,null,null,{"$f":"IF(BG278=\"\",\"\",MAX(BF$1:BF277)+1)","v":""},{"$f":"IF(TEXT(Kortelė!$B$26,\"mm\")=IF(A278=\"\",\"\",TEXT(A278,\"mm\")),A278,\"\")","v":""},null,"",{"$f":"_xlfn.IFNA(IF(BL278=\"\",\"\",MAX(BJ$1:BJ277)+1),\"\")","v":""},{"$f":"BK277","v":""},{"$f":"IF(IF(IF(VLOOKUP($BK278,Archyvas,7,FALSE)=$BL$1,\"\",VLOOKUP($BK278,Archyvas,10,FALSE))=0,\"\",IF(VLOOKUP($BK278,Archyvas,7,FALSE)=$BL$1,\"\",VLOOKUP($BK278,Archyvas,10,FALSE)))=\"\",\"\",IF(IF(VLOOKUP($BK278,Archyvas,7,FALSE)=$BL$1,\"\",VLOOKUP($BK278,Archyvas,7,FALSE))=0,\"\",IF(VLOOKUP($BK278,Archyvas,7,FALSE)=$BL$1,\"\",VLOOKUP($BK278,Archyvas,7,FALSE))))","v":{"$error":"#N/A"}},{"$f":"IF(IF(VLOOKUP($BK278,Archyvas,7,FALSE)=$BL$1,\"\",VLOOKUP($BK278,Archyvas,8,FALSE))=0,\"\",IF(VLOOKUP($BK278,Archyvas,7,FALSE)=$BL$1,\"\",VLOOKUP($BK278,Archyvas,8,FALSE)))","v":{"$error":"#N/A"}},{"$f":"IF(IF(VLOOKUP($BK278,Archyvas,7,FALSE)=$BL$1,\"\",VLOOKUP($BK278,Archyvas,9,FALSE))=0,\"\",IF(VLOOKUP($BK278,Archyvas,7,FALSE)=$BL$1,\"\",VLOOKUP($BK278,Archyvas,9,FALSE)))","v":{"$error":"#N/A"}},{"$f":"IF(IF(VLOOKUP($BK278,Archyvas,7,FALSE)=$BL$1,\"\",VLOOKUP($BK278,Archyvas,10,FALSE))=0,\"\",IF(VLOOKUP($BK278,Archyvas,7,FALSE)=$BL$1,\"\",VLOOKUP($BK278,Archyvas,10,FALSE)))","v":{"$error":"#N/A"}},{"$f":"IF(IF(VLOOKUP($BK278,Archyvas,7,FALSE)=$BL$1,\"\",VLOOKUP($BK278,Archyvas,11,FALSE))=0,\"\",IF(VLOOKUP($BK278,Archyvas,7,FALSE)=$BL$1,\"\",VLOOKUP($BK278,Archyvas,11,FALSE)))","v":{"$error":"#N/A"}},null,{"$f":"_xlfn.IFNA(IF(BS278=\"\",\"\",MAX(BR$1:BR277)+1),\"\")","v":""},"","","","","",""]
[null,null,null,null,null,null,null,null,null,null,null,null,null,null,null,null,null,null,null,null,null,null,null,null,null,null,null,null,null,null,null,null,null,null,null,null,null,null,null,null,null,null,null,null,null,null,null,null,null,null,null,null,null,null,null,null,null,{"$f":"IF(BG279=\"\",\"\",MAX(BF$1:BF278)+1)","v":""},{"$f":"IF(TEXT(Kortelė!$B$26,\"mm\")=IF(A279=\"\",\"\",TEXT(A279,\"mm\")),A279,\"\")","v":""},null,"",{"$f":"_xlfn.IFNA(IF(BL279=\"\",\"\",MAX(BJ$1:BJ278)+1),\"\")","v":""},"",{"$f":"IF(IF(IF(VLOOKUP($BK279,Archyvas,12,FALSE)=$BL$1,\"\",VLOOKUP($BK279,Archyvas,15,FALSE))=0,\"\",IF(VLOOKUP($BK279,Archyvas,12,FALSE)=$BL$1,\"\",VLOOKUP($BK279,Archyvas,15,FALSE)))=\"\",\"\",IF(IF(VLOOKUP($BK279,Archyvas,12,FALSE)=$BL$1,\"\",VLOOKUP($BK279,Archyvas,12,FALSE))=0,\"\",IF(VLOOKUP($BK279,Archyvas,12,FALSE)=$BL$1,\"\",VLOOKUP($BK279,Archyvas,12,FALSE))))","v":{"$error":"#N/A"}},{"$f":"IF(IF(VLOOKUP($BK279,Archyvas,12,FALSE)=$BL$1,\"\",VLOOKUP($BK279,Archyvas,13,FALSE))=0,\"\",IF(VLOOKUP($BK279,Archyvas,12,FALSE)=$BL$1,\"\",VLOOKUP($BK279,Archyvas,13,FALSE)))","v":{"$error":"#N/A"}},{"$f":"IF(IF(VLOOKUP($BK279,Archyvas,12,FALSE)=$BL$1,\"\",VLOOKUP($BK279,Archyvas,14,FALSE))=0,\"\",IF(VLOOKUP($BK279,Archyvas,12,FALSE)=$BL$1,\"\",VLOOKUP($BK279,Archyvas,14,FALSE)))","v":{"$error":"#N/A"}},{"$f":"IF(IF(VLOOKUP($BK279,Archyvas,12,FALSE)=$BL$1,\"\",VLOOKUP($BK279,Archyvas,15,FALSE))=0,\"\",IF(VLOOKUP($BK279,Archyvas,12,FALSE)=$BL$1,\"\",VLOOKUP($BK279,Archyvas,15,FALSE)))","v":{"$error":"#N/A"}},{"$f":"IF(IF(VLOOKUP($BK279,Archyvas,12,FALSE)=$BL$1,\"\",VLOOKUP($BK279,Archyvas,16,FALSE))=0,\"\",IF(VLOOKUP($BK279,Archyvas,12,FALSE)=$BL$1,\"\",VLOOKUP($BK279,Archyvas,16,FALSE)))","v":{"$error":"#N/A"}},null,{"$f":"_xlfn.IFNA(IF(BS279=\"\",\"\",MAX(BR$1:BR278)+1),\"\")","v":""},"","","","","",""]
[null,null,null,null,null,null,null,null,null,null,null,null,null,null,null,null,null,null,null,null,null,null,null,null,null,null,null,null,null,null,null,null,null,null,null,null,null,null,null,null,null,null,null,null,null,null,null,null,null,null,null,null,null,null,null,null,null,{"$f":"IF(BG280=\"\",\"\",MAX(BF$1:BF279)+1)","v":""},{"$f":"IF(TEXT(Kortelė!$B$26,\"mm\")=IF(A280=\"\",\"\",TEXT(A280,\"mm\")),A280,\"\")","v":""},null,"",{"$f":"_xlfn.IFNA(IF(BL280=\"\",\"\",MAX(BJ$1:BJ279)+1),\"\")","v":""},"",{"$f":"IF(IF(IF(VLOOKUP($BK280,Archyvas,17,FALSE)=$BL$1,\"\",VLOOKUP($BK280,Archyvas,20,FALSE))=0,\"\",IF(VLOOKUP($BK280,Archyvas,17,FALSE)=$BL$1,\"\",VLOOKUP($BK280,Archyvas,20,FALSE)))=\"\",\"\",IF(IF(VLOOKUP($BK280,Archyvas,17,FALSE)=$BL$1,\"\",VLOOKUP($BK280,Archyvas,17,FALSE))=0,\"\",IF(VLOOKUP($BK280,Archyvas,17,FALSE)=$BL$1,\"\",VLOOKUP($BK280,Archyvas,17,FALSE))))","v":{"$error":"#N/A"}},{"$f":"IF(IF(VLOOKUP($BK280,Archyvas,17,FALSE)=$BL$1,\"\",VLOOKUP($BK280,Archyvas,18,FALSE))=0,\"\",IF(VLOOKUP($BK280,Archyvas,17,FALSE)=$BL$1,\"\",VLOOKUP($BK280,Archyvas,18,FALSE)))","v":{"$error":"#N/A"}},{"$f":"IF(IF(VLOOKUP($BK280,Archyvas,17,FALSE)=$BL$1,\"\",VLOOKUP($BK280,Archyvas,19,FALSE))=0,\"\",IF(VLOOKUP($BK280,Archyvas,17,FALSE)=$BL$1,\"\",VLOOKUP($BK280,Archyvas,19,FALSE)))","v":{"$error":"#N/A"}},{"$f":"IF(IF(VLOOKUP($BK280,Archyvas,17,FALSE)=$BL$1,\"\",VLOOKUP($BK280,Archyvas,20,FALSE))=0,\"\",IF(VLOOKUP($BK280,Archyvas,17,FALSE)=$BL$1,\"\",VLOOKUP($BK280,Archyvas,20,FALSE)))","v":{"$error":"#N/A"}},{"$f":"IF(IF(VLOOKUP($BK280,Archyvas,17,FALSE)=$BL$1,\"\",VLOOKUP($BK280,Archyvas,21,FALSE))=0,\"\",IF(VLOOKUP($BK280,Archyvas,17,FALSE)=$BL$1,\"\",VLOOKUP($BK280,Archyvas,21,FALSE)))","v":{"$error":"#N/A"}},null,{"$f":"_xlfn.IFNA(IF(BS280=\"\",\"\",MAX(BR$1:BR279)+1),\"\")","v":""},"","","","","",""]
[null,null,null,null,null,null,null,null,null,null,null,null,null,null,null,null,null,null,null,null,null,null,null,null,null,null,null,null,null,null,null,null,null,null,null,null,null,null,null,null,null,null,null,null,null,null,null,null,null,null,null,null,null,null,null,null,null,{"$f":"IF(BG281=\"\",\"\",MAX(BF$1:BF280)+1)","v":""},{"$f":"IF(TEXT(Kortelė!$B$26,\"mm\")=IF(A281=\"\",\"\",TEXT(A281,\"mm\")),A281,\"\")","v":""},null,"",{"$f":"_xlfn.IFNA(IF(BL281=\"\",\"\",MAX(BJ$1:BJ280)+1),\"\")","v":""},"",{"$f":"IF(IF(IF(VLOOKUP($BK281,Archyvas,22,FALSE)=$BL$1,\"\",VLOOKUP($BK281,Archyvas,25,FALSE))=0,\"\",IF(VLOOKUP($BK281,Archyvas,22,FALSE)=$BL$1,\"\",VLOOKUP($BK281,Archyvas,25,FALSE)))=\"\",\"\",IF(IF(VLOOKUP($BK281,Archyvas,22,FALSE)=$BL$1,\"\",VLOOKUP($BK281,Archyvas,22,FALSE))=0,\"\",IF(VLOOKUP($BK281,Archyvas,22,FALSE)=$BL$1,\"\",VLOOKUP($BK281,Archyvas,22,FALSE))))","v":{"$error":"#N/A"}},{"$f":"IF(IF(VLOOKUP($BK281,Archyvas,22,FALSE)=$BL$1,\"\",VLOOKUP($BK281,Archyvas,23,FALSE))=0,\"\",IF(VLOOKUP($BK281,Archyvas,22,FALSE)=$BL$1,\"\",VLOOKUP($BK281,Archyvas,23,FALSE)))","v":{"$error":"#N/A"}},{"$f":"IF(IF(VLOOKUP($BK281,Archyvas,22,FALSE)=$BL$1,\"\",VLOOKUP($BK281,Archyvas,24,FALSE))=0,\"\",IF(VLOOKUP($BK281,Archyvas,22,FALSE)=$BL$1,\"\",VLOOKUP($BK281,Archyvas,24,FALSE)))","v":{"$error":"#N/A"}},{"$f":"IF(IF(VLOOKUP($BK281,Archyvas,22,FALSE)=$BL$1,\"\",VLOOKUP($BK281,Archyvas,25,FALSE))=0,\"\",IF(VLOOKUP($BK281,Archyvas,22,FALSE)=$BL$1,\"\",VLOOKUP($BK281,Archyvas,25,FALSE)))","v":{"$error":"#N/A"}},{"$f":"IF(IF(VLOOKUP($BK281,Archyvas,22,FALSE)=$BL$1,\"\",VLOOKUP($BK281,Archyvas,26,FALSE))=0,\"\",IF(VLOOKUP($BK281,Archyvas,22,FALSE)=$BL$1,\"\",VLOOKUP($BK281,Archyvas,26,FALSE)))","v":{"$error":"#N/A"}},null,{"$f":"_xlfn.IFNA(IF(BS281=\"\",\"\",MAX(BR$1:BR280)+1),\"\")","v":""},"","","","","",""]
[null,null,null,null,null,null,null,null,null,null,null,null,null,null,null,null,null,null,null,null,null,null,null,null,null,null,null,null,null,null,null,null,null,null,null,null,null,null,null,null,null,null,null,null,null,null,null,null,null,null,null,null,null,null,null,null,null,{"$f":"IF(BG282=\"\",\"\",MAX(BF$1:BF281)+1)","v":""},{"$f":"IF(TEXT(Kortelė!$B$26,\"mm\")=IF(A282=\"\",\"\",TEXT(A282,\"mm\")),A282,\"\")","v":""},null,"",{"$f":"_xlfn.IFNA(IF(BL282=\"\",\"\",MAX(BJ$1:BJ281)+1),\"\")","v":""},"",{"$f":"IF(IF(IF(VLOOKUP($BK282,Archyvas,27,FALSE)=$BL$1,\"\",VLOOKUP($BK282,Archyvas,30,FALSE))=0,\"\",IF(VLOOKUP($BK282,Archyvas,27,FALSE)=$BL$1,\"\",VLOOKUP($BK282,Archyvas,30,FALSE)))=\"\",\"\",IF(IF(VLOOKUP($BK282,Archyvas,27,FALSE)=$BL$1,\"\",VLOOKUP($BK282,Archyvas,27,FALSE))=0,\"\",IF(VLOOKUP($BK282,Archyvas,27,FALSE)=$BL$1,\"\",VLOOKUP($BK282,Archyvas,27,FALSE))))","v":{"$error":"#N/A"}},{"$f":"IF(IF(VLOOKUP($BK282,Archyvas,27,FALSE)=$BL$1,\"\",VLOOKUP($BK282,Archyvas,28,FALSE))=0,\"\",IF(VLOOKUP($BK282,Archyvas,27,FALSE)=$BL$1,\"\",VLOOKUP($BK282,Archyvas,28,FALSE)))","v":{"$error":"#N/A"}},{"$f":"IF(IF(VLOOKUP($BK282,Archyvas,27,FALSE)=$BL$1,\"\",VLOOKUP($BK282,Archyvas,29,FALSE))=0,\"\",IF(VLOOKUP($BK282,Archyvas,27,FALSE)=$BL$1,\"\",VLOOKUP($BK282,Archyvas,29,FALSE)))","v":{"$error":"#N/A"}},{"$f":"IF(IF(VLOOKUP($BK282,Archyvas,27,FALSE)=$BL$1,\"\",VLOOKUP($BK282,Archyvas,30,FALSE))=0,\"\",IF(VLOOKUP($BK282,Archyvas,27,FALSE)=$BL$1,\"\",VLOOKUP($BK282,Archyvas,30,FALSE)))","v":{"$error":"#N/A"}},{"$f":"IF(IF(VLOOKUP($BK282,Archyvas,27,FALSE)=$BL$1,\"\",VLOOKUP($BK282,Archyvas,31,FALSE))=0,\"\",IF(VLOOKUP($BK282,Archyvas,27,FALSE)=$BL$1,\"\",VLOOKUP($BK282,Archyvas,31,FALSE)))","v":{"$error":"#N/A"}},null,{"$f":"_xlfn.IFNA(IF(BS282=\"\",\"\",MAX(BR$1:BR281)+1),\"\")","v":""},"","","","","",""]
[null,null,null,null,null,null,null,null,null,null,null,null,null,null,null,null,null,null,null,null,null,null,null,null,null,null,null,null,null,null,null,null,null,null,null,null,null,null,null,null,null,null,null,null,null,null,null,null,null,null,null,null,null,null,null,null,null,{"$f":"IF(BG283=\"\",\"\",MAX(BF$1:BF282)+1)","v":""},{"$f":"IF(TEXT(Kortelė!$B$26,\"mm\")=IF(A283=\"\",\"\",TEXT(A283,\"mm\")),A283,\"\")","v":""},null,"",{"$f":"_xlfn.IFNA(IF(BL283=\"\",\"\",MAX(BJ$1:BJ282)+1),\"\")","v":""},"",{"$f":"IF(IF(IF(VLOOKUP($BK283,Archyvas,32,FALSE)=$BL$1,\"\",VLOOKUP($BK283,Archyvas,35,FALSE))=0,\"\",IF(VLOOKUP($BK283,Archyvas,32,FALSE)=$BL$1,\"\",VLOOKUP($BK283,Archyvas,35,FALSE)))=\"\",\"\",IF(IF(VLOOKUP($BK283,Archyvas,32,FALSE)=$BL$1,\"\",VLOOKUP($BK283,Archyvas,32,FALSE))=0,\"\",IF(VLOOKUP($BK283,Archyvas,32,FALSE)=$BL$1,\"\",VLOOKUP($BK283,Archyvas,32,FALSE))))","v":{"$error":"#N/A"}},{"$f":"IF(IF(VLOOKUP($BK283,Archyvas,32,FALSE)=$BL$1,\"\",VLOOKUP($BK283,Archyvas,33,FALSE))=0,\"\",IF(VLOOKUP($BK283,Archyvas,32,FALSE)=$BL$1,\"\",VLOOKUP($BK283,Archyvas,33,FALSE)))","v":{"$error":"#N/A"}},{"$f":"IF(IF(VLOOKUP($BK283,Archyvas,32,FALSE)=$BL$1,\"\",VLOOKUP($BK283,Archyvas,34,FALSE))=0,\"\",IF(VLOOKUP($BK283,Archyvas,32,FALSE)=$BL$1,\"\",VLOOKUP($BK283,Archyvas,34,FALSE)))","v":{"$error":"#N/A"}},{"$f":"IF(IF(VLOOKUP($BK283,Archyvas,32,FALSE)=$BL$1,\"\",VLOOKUP($BK283,Archyvas,35,FALSE))=0,\"\",IF(VLOOKUP($BK283,Archyvas,32,FALSE)=$BL$1,\"\",VLOOKUP($BK283,Archyvas,35,FALSE)))","v":{"$error":"#N/A"}},{"$f":"IF(IF(VLOOKUP($BK283,Archyvas,32,FALSE)=$BL$1,\"\",VLOOKUP($BK283,Archyvas,36,FALSE))=0,\"\",IF(VLOOKUP($BK283,Archyvas,32,FALSE)=$BL$1,\"\",VLOOKUP($BK283,Archyvas,36,FALSE)))","v":{"$error":"#N/A"}},null,{"$f":"_xlfn.IFNA(IF(BS283=\"\",\"\",MAX(BR$1:BR282)+1),\"\")","v":""},"","","","","",""]
[null,null,null,null,null,null,null,null,null,null,null,null,null,null,null,null,null,null,null,null,null,null,null,null,null,null,null,null,null,null,null,null,null,null,null,null,null,null,null,null,null,null,null,null,null,null,null,null,null,null,null,null,null,null,null,null,null,{"$f":"IF(BG284=\"\",\"\",MAX(BF$1:BF283)+1)","v":""},{"$f":"IF(TEXT(Kortelė!$B$26,\"mm\")=IF(A284=\"\",\"\",TEXT(A284,\"mm\")),A284,\"\")","v":""},null,"",{"$f":"_xlfn.IFNA(IF(BL284=\"\",\"\",MAX(BJ$1:BJ283)+1),\"\")","v":""},"",{"$f":"IF(IF(IF(VLOOKUP($BK284,Archyvas,37,FALSE)=$BL$1,\"\",VLOOKUP($BK284,Archyvas,40,FALSE))=0,\"\",IF(VLOOKUP($BK284,Archyvas,37,FALSE)=$BL$1,\"\",VLOOKUP($BK284,Archyvas,40,FALSE)))=\"\",\"\",IF(IF(VLOOKUP($BK284,Archyvas,37,FALSE)=$BL$1,\"\",VLOOKUP($BK284,Archyvas,37,FALSE))=0,\"\",IF(VLOOKUP($BK284,Archyvas,37,FALSE)=$BL$1,\"\",VLOOKUP($BK284,Archyvas,37,FALSE))))","v":{"$error":"#N/A"}},{"$f":"IF(IF(VLOOKUP($BK284,Archyvas,37,FALSE)=$BL$1,\"\",VLOOKUP($BK284,Archyvas,38,FALSE))=0,\"\",IF(VLOOKUP($BK284,Archyvas,37,FALSE)=$BL$1,\"\",VLOOKUP($BK284,Archyvas,38,FALSE)))","v":{"$error":"#N/A"}},{"$f":"IF(IF(VLOOKUP($BK284,Archyvas,37,FALSE)=$BL$1,\"\",VLOOKUP($BK284,Archyvas,39,FALSE))=0,\"\",IF(VLOOKUP($BK284,Archyvas,37,FALSE)=$BL$1,\"\",VLOOKUP($BK284,Archyvas,39,FALSE)))","v":{"$error":"#N/A"}},{"$f":"IF(IF(VLOOKUP($BK284,Archyvas,37,FALSE)=$BL$1,\"\",VLOOKUP($BK284,Archyvas,40,FALSE))=0,\"\",IF(VLOOKUP($BK284,Archyvas,37,FALSE)=$BL$1,\"\",VLOOKUP($BK284,Archyvas,40,FALSE)))","v":{"$error":"#N/A"}},{"$f":"IF(IF(VLOOKUP($BK284,Archyvas,37,FALSE)=$BL$1,\"\",VLOOKUP($BK284,Archyvas,41,FALSE))=0,\"\",IF(VLOOKUP($BK284,Archyvas,37,FALSE)=$BL$1,\"\",VLOOKUP($BK284,Archyvas,41,FALSE)))","v":{"$error":"#N/A"}},null,{"$f":"_xlfn.IFNA(IF(BS284=\"\",\"\",MAX(BR$1:BR283)+1),\"\")","v":""},"","","","","",""]
[null,null,null,null,null,null,null,null,null,null,null,null,null,null,null,null,null,null,null,null,null,null,null,null,null,null,null,null,null,null,null,null,null,null,null,null,null,null,null,null,null,null,null,null,null,null,null,null,null,null,null,null,null,null,null,null,null,{"$f":"IF(BG285=\"\",\"\",MAX(BF$1:BF284)+1)","v":""},{"$f":"IF(TEXT(Kortelė!$B$26,\"mm\")=IF(A285=\"\",\"\",TEXT(A285,\"mm\")),A285,\"\")","v":""},null,"",{"$f":"_xlfn.IFNA(IF(BL285=\"\",\"\",MAX(BJ$1:BJ284)+1),\"\")","v":""},"",{"$f":"IF(IF(IF(VLOOKUP($BK285,Archyvas,42,FALSE)=$BL$1,\"\",VLOOKUP($BK285,Archyvas,45,FALSE))=0,\"\",IF(VLOOKUP($BK285,Archyvas,42,FALSE)=$BL$1,\"\",VLOOKUP($BK285,Archyvas,45,FALSE)))=\"\",\"\",IF(IF(VLOOKUP($BK285,Archyvas,42,FALSE)=$BL$1,\"\",VLOOKUP($BK285,Archyvas,42,FALSE))=0,\"\",IF(VLOOKUP($BK285,Archyvas,42,FALSE)=$BL$1,\"\",VLOOKUP($BK285,Archyvas,42,FALSE))))","v":{"$error":"#N/A"}},{"$f":"IF(IF(VLOOKUP($BK285,Archyvas,42,FALSE)=$BL$1,\"\",VLOOKUP($BK285,Archyvas,43,FALSE))=0,\"\",IF(VLOOKUP($BK285,Archyvas,42,FALSE)=$BL$1,\"\",VLOOKUP($BK285,Archyvas,43,FALSE)))","v":{"$error":"#N/A"}},{"$f":"IF(IF(VLOOKUP($BK285,Archyvas,42,FALSE)=$BL$1,\"\",VLOOKUP($BK285,Archyvas,44,FALSE))=0,\"\",IF(VLOOKUP($BK285,Archyvas,42,FALSE)=$BL$1,\"\",VLOOKUP($BK285,Archyvas,44,FALSE)))","v":{"$error":"#N/A"}},{"$f":"IF(IF(VLOOKUP($BK285,Archyvas,42,FALSE)=$BL$1,\"\",VLOOKUP($BK285,Archyvas,45,FALSE))=0,\"\",IF(VLOOKUP($BK285,Archyvas,42,FALSE)=$BL$1,\"\",VLOOKUP($BK285,Archyvas,45,FALSE)))","v":{"$error":"#N/A"}},{"$f":"IF(IF(VLOOKUP($BK285,Archyvas,42,FALSE)=$BL$1,\"\",VLOOKUP($BK285,Archyvas,46,FALSE))=0,\"\",IF(VLOOKUP($BK285,Archyvas,42,FALSE)=$BL$1,\"\",VLOOKUP($BK285,Archyvas,46,FALSE)))","v":{"$error":"#N/A"}},null,{"$f":"_xlfn.IFNA(IF(BS285=\"\",\"\",MAX(BR$1:BR284)+1),\"\")","v":""},"","","","","",""]
[null,null,null,null,null,null,null,null,null,null,null,null,null,null,null,null,null,null,null,null,null,null,null,null,null,null,null,null,null,null,null,null,null,null,null,null,null,null,null,null,null,null,null,null,null,null,null,null,null,null,null,null,null,null,null,null,null,{"$f":"IF(BG286=\"\",\"\",MAX(BF$1:BF285)+1)","v":""},{"$f":"IF(TEXT(Kortelė!$B$26,\"mm\")=IF(A286=\"\",\"\",TEXT(A286,\"mm\")),A286,\"\")","v":""},null,"",{"$f":"_xlfn.IFNA(IF(BL286=\"\",\"\",MAX(BJ$1:BJ285)+1),\"\")","v":""},"",{"$f":"IF(IF(IF(VLOOKUP($BK286,Archyvas,47,FALSE)=$BL$1,\"\",VLOOKUP($BK286,Archyvas,50,FALSE))=0,\"\",IF(VLOOKUP($BK286,Archyvas,47,FALSE)=$BL$1,\"\",VLOOKUP($BK286,Archyvas,50,FALSE)))=\"\",\"\",IF(IF(VLOOKUP($BK286,Archyvas,47,FALSE)=$BL$1,\"\",VLOOKUP($BK286,Archyvas,47,FALSE))=0,\"\",IF(VLOOKUP($BK286,Archyvas,47,FALSE)=$BL$1,\"\",VLOOKUP($BK286,Archyvas,47,FALSE))))","v":{"$error":"#N/A"}},{"$f":"IF(IF(VLOOKUP($BK286,Archyvas,47,FALSE)=$BL$1,\"\",VLOOKUP($BK286,Archyvas,48,FALSE))=0,\"\",IF(VLOOKUP($BK286,Archyvas,47,FALSE)=$BL$1,\"\",VLOOKUP($BK286,Archyvas,48,FALSE)))","v":{"$error":"#N/A"}},{"$f":"IF(IF(VLOOKUP($BK286,Archyvas,47,FALSE)=$BL$1,\"\",VLOOKUP($BK286,Archyvas,49,FALSE))=0,\"\",IF(VLOOKUP($BK286,Archyvas,47,FALSE)=$BL$1,\"\",VLOOKUP($BK286,Archyvas,49,FALSE)))","v":{"$error":"#N/A"}},{"$f":"IF(IF(VLOOKUP($BK286,Archyvas,47,FALSE)=$BL$1,\"\",VLOOKUP($BK286,Archyvas,50,FALSE))=0,\"\",IF(VLOOKUP($BK286,Archyvas,47,FALSE)=$BL$1,\"\",VLOOKUP($BK286,Archyvas,50,FALSE)))","v":{"$error":"#N/A"}},{"$f":"IF(IF(VLOOKUP($BK286,Archyvas,47,FALSE)=$BL$1,\"\",VLOOKUP($BK286,Archyvas,51,FALSE))=0,\"\",IF(VLOOKUP($BK286,Archyvas,47,FALSE)=$BL$1,\"\",VLOOKUP($BK286,Archyvas,51,FALSE)))","v":{"$error":"#N/A"}},null,{"$f":"_xlfn.IFNA(IF(BS286=\"\",\"\",MAX(BR$1:BR285)+1),\"\")","v":""},"","","","","",""]
[null,null,null,null,null,null,null,null,null,null,null,null,null,null,null,null,null,null,null,null,null,null,null,null,null,null,null,null,null,null,null,null,null,null,null,null,null,null,null,null,null,null,null,null,null,null,null,null,null,null,null,null,null,null,null,null,null,{"$f":"IF(BG287=\"\",\"\",MAX(BF$1:BF286)+1)","v":""},{"$f":"IF(TEXT(Kortelė!$B$26,\"mm\")=IF(A287=\"\",\"\",TEXT(A287,\"mm\")),A287,\"\")","v":""},null,"",{"$f":"_xlfn.IFNA(IF(BL287=\"\",\"\",MAX(BJ$1:BJ286)+1),\"\")","v":""},{"$f":"BI286","v":""},null,null,null,null,null,null,{"$f":"_xlfn.IFNA(IF(BS287=\"\",\"\",MAX(BR$1:BR286)+1),\"\")","v":""},"","","","","",""]
[null,null,null,null,null,null,null,null,null,null,null,null,null,null,null,null,null,null,null,null,null,null,null,null,null,null,null,null,null,null,null,null,null,null,null,null,null,null,null,null,null,null,null,null,null,null,null,null,null,null,null,null,null,null,null,null,null,{"$f":"IF(BG288=\"\",\"\",MAX(BF$1:BF287)+1)","v":""},{"$f":"IF(TEXT(Kortelė!$B$26,\"mm\")=IF(A288=\"\",\"\",TEXT(A288,\"mm\")),A288,\"\")","v":""},null,"",{"$f":"_xlfn.IFNA(IF(BL288=\"\",\"\",MAX(BJ$1:BJ287)+1),\"\")","v":""},{"$f":"$BI$28","v":""},{"$f":"IF(IF(IF(VLOOKUP($BK288,Archyvas,2,FALSE)=$BL$1,\"\",VLOOKUP($BK288,Archyvas,5,FALSE))=0,\"\",IF(VLOOKUP($BK288,Archyvas,2,FALSE)=$BL$1,\"\",VLOOKUP($BK288,Archyvas,5,FALSE)))=\"\",\"\",IF(IF(VLOOKUP($BK288,Archyvas,2,FALSE)=$BL$1,\"\",VLOOKUP($BK288,Archyvas,2,FALSE))=0,\"\",IF(VLOOKUP($BK288,Archyvas,2,FALSE)=$BL$1,\"\",VLOOKUP($BK288,Archyvas,2,FALSE))))","v":{"$error":"#N/A"}},{"$f":"IF(IF(VLOOKUP($BK288,Archyvas,2,FALSE)=$BL$1,\"\",VLOOKUP($BK288,Archyvas,3,FALSE))=0,\"\",IF(VLOOKUP($BK288,Archyvas,2,FALSE)=$BL$1,\"\",VLOOKUP($BK288,Archyvas,3,FALSE)))","v":{"$error":"#N/A"}},{"$f":"IF(IF(VLOOKUP($BK288,Archyvas,2,FALSE)=$BL$1,\"\",VLOOKUP($BK288,Archyvas,4,FALSE))=0,\"\",IF(VLOOKUP($BK288,Archyvas,2,FALSE)=$BL$1,\"\",VLOOKUP($BK288,Archyvas,4,FALSE)))","v":{"$error":"#N/A"}},{"$f":"IF(IF(VLOOKUP($BK288,Archyvas,2,FALSE)=$BL$1,\"\",VLOOKUP($BK288,Archyvas,5,FALSE))=0,\"\",IF(VLOOKUP($BK288,Archyvas,2,FALSE)=$BL$1,\"\",VLOOKUP($BK288,Archyvas,5,FALSE)))","v":{"$error":"#N/A"}},{"$f":"IF(IF(VLOOKUP($BK288,Archyvas,2,FALSE)=$BL$1,\"\",VLOOKUP($BK288,Archyvas,6,FALSE))=0,\"\",IF(VLOOKUP($BK288,Archyvas,2,FALSE)=$BL$1,\"\",VLOOKUP($BK288,Archyvas,6,FALSE)))","v":{"$error":"#N/A"}},null,{"$f":"_xlfn.IFNA(IF(BS288=\"\",\"\",MAX(BR$1:BR287)+1),\"\")","v":""},"","","","","",""]
[null,null,null,null,null,null,null,null,null,null,null,null,null,null,null,null,null,null,null,null,null,null,null,null,null,null,null,null,null,null,null,null,null,null,null,null,null,null,null,null,null,null,null,null,null,null,null,null,null,null,null,null,null,null,null,null,null,{"$f":"IF(BG289=\"\",\"\",MAX(BF$1:BF288)+1)","v":""},{"$f":"IF(TEXT(Kortelė!$B$26,\"mm\")=IF(A289=\"\",\"\",TEXT(A289,\"mm\")),A289,\"\")","v":""},null,"",{"$f":"_xlfn.IFNA(IF(BL289=\"\",\"\",MAX(BJ$1:BJ288)+1),\"\")","v":""},{"$f":"BK288","v":""},{"$f":"IF(IF(IF(VLOOKUP($BK289,Archyvas,7,FALSE)=$BL$1,\"\",VLOOKUP($BK289,Archyvas,10,FALSE))=0,\"\",IF(VLOOKUP($BK289,Archyvas,7,FALSE)=$BL$1,\"\",VLOOKUP($BK289,Archyvas,10,FALSE)))=\"\",\"\",IF(IF(VLOOKUP($BK289,Archyvas,7,FALSE)=$BL$1,\"\",VLOOKUP($BK289,Archyvas,7,FALSE))=0,\"\",IF(VLOOKUP($BK289,Archyvas,7,FALSE)=$BL$1,\"\",VLOOKUP($BK289,Archyvas,7,FALSE))))","v":{"$error":"#N/A"}},{"$f":"IF(IF(VLOOKUP($BK289,Archyvas,7,FALSE)=$BL$1,\"\",VLOOKUP($BK289,Archyvas,8,FALSE))=0,\"\",IF(VLOOKUP($BK289,Archyvas,7,FALSE)=$BL$1,\"\",VLOOKUP($BK289,Archyvas,8,FALSE)))","v":{"$error":"#N/A"}},{"$f":"IF(IF(VLOOKUP($BK289,Archyvas,7,FALSE)=$BL$1,\"\",VLOOKUP($BK289,Archyvas,9,FALSE))=0,\"\",IF(VLOOKUP($BK289,Archyvas,7,FALSE)=$BL$1,\"\",VLOOKUP($BK289,Archyvas,9,FALSE)))","v":{"$error":"#N/A"}},{"$f":"IF(IF(VLOOKUP($BK289,Archyvas,7,FALSE)=$BL$1,\"\",VLOOKUP($BK289,Archyvas,10,FALSE))=0,\"\",IF(VLOOKUP($BK289,Archyvas,7,FALSE)=$BL$1,\"\",VLOOKUP($BK289,Archyvas,10,FALSE)))","v":{"$error":"#N/A"}},{"$f":"IF(IF(VLOOKUP($BK289,Archyvas,7,FALSE)=$BL$1,\"\",VLOOKUP($BK289,Archyvas,11,FALSE))=0,\"\",IF(VLOOKUP($BK289,Archyvas,7,FALSE)=$BL$1,\"\",VLOOKUP($BK289,Archyvas,11,FALSE)))","v":{"$error":"#N/A"}},null,{"$f":"_xlfn.IFNA(IF(BS289=\"\",\"\",MAX(BR$1:BR288)+1),\"\")","v":""},"","","","","",""]
[null,null,null,null,null,null,null,null,null,null,null,null,null,null,null,null,null,null,null,null,null,null,null,null,null,null,null,null,null,null,null,null,null,null,null,null,null,null,null,null,null,null,null,null,null,null,null,null,null,null,null,null,null,null,null,null,null,{"$f":"IF(BG290=\"\",\"\",MAX(BF$1:BF289)+1)","v":""},{"$f":"IF(TEXT(Kortelė!$B$26,\"mm\")=IF(A290=\"\",\"\",TEXT(A290,\"mm\")),A290,\"\")","v":""},null,"",{"$f":"_xlfn.IFNA(IF(BL290=\"\",\"\",MAX(BJ$1:BJ289)+1),\"\")","v":""},"",{"$f":"IF(IF(IF(VLOOKUP($BK290,Archyvas,12,FALSE)=$BL$1,\"\",VLOOKUP($BK290,Archyvas,15,FALSE))=0,\"\",IF(VLOOKUP($BK290,Archyvas,12,FALSE)=$BL$1,\"\",VLOOKUP($BK290,Archyvas,15,FALSE)))=\"\",\"\",IF(IF(VLOOKUP($BK290,Archyvas,12,FALSE)=$BL$1,\"\",VLOOKUP($BK290,Archyvas,12,FALSE))=0,\"\",IF(VLOOKUP($BK290,Archyvas,12,FALSE)=$BL$1,\"\",VLOOKUP($BK290,Archyvas,12,FALSE))))","v":{"$error":"#N/A"}},{"$f":"IF(IF(VLOOKUP($BK290,Archyvas,12,FALSE)=$BL$1,\"\",VLOOKUP($BK290,Archyvas,13,FALSE))=0,\"\",IF(VLOOKUP($BK290,Archyvas,12,FALSE)=$BL$1,\"\",VLOOKUP($BK290,Archyvas,13,FALSE)))","v":{"$error":"#N/A"}},{"$f":"IF(IF(VLOOKUP($BK290,Archyvas,12,FALSE)=$BL$1,\"\",VLOOKUP($BK290,Archyvas,14,FALSE))=0,\"\",IF(VLOOKUP($BK290,Archyvas,12,FALSE)=$BL$1,\"\",VLOOKUP($BK290,Archyvas,14,FALSE)))","v":{"$error":"#N/A"}},{"$f":"IF(IF(VLOOKUP($BK290,Archyvas,12,FALSE)=$BL$1,\"\",VLOOKUP($BK290,Archyvas,15,FALSE))=0,\"\",IF(VLOOKUP($BK290,Archyvas,12,FALSE)=$BL$1,\"\",VLOOKUP($BK290,Archyvas,15,FALSE)))","v":{"$error":"#N/A"}},{"$f":"IF(IF(VLOOKUP($BK290,Archyvas,12,FALSE)=$BL$1,\"\",VLOOKUP($BK290,Archyvas,16,FALSE))=0,\"\",IF(VLOOKUP($BK290,Archyvas,12,FALSE)=$BL$1,\"\",VLOOKUP($BK290,Archyvas,16,FALSE)))","v":{"$error":"#N/A"}},null,{"$f":"_xlfn.IFNA(IF(BS290=\"\",\"\",MAX(BR$1:BR289)+1),\"\")","v":""},"","","","","",""]
[null,null,null,null,null,null,null,null,null,null,null,null,null,null,null,null,null,null,null,null,null,null,null,null,null,null,null,null,null,null,null,null,null,null,null,null,null,null,null,null,null,null,null,null,null,null,null,null,null,null,null,null,null,null,null,null,null,{"$f":"IF(BG291=\"\",\"\",MAX(BF$1:BF290)+1)","v":""},{"$f":"IF(TEXT(Kortelė!$B$26,\"mm\")=IF(A291=\"\",\"\",TEXT(A291,\"mm\")),A291,\"\")","v":""},null,"",{"$f":"_xlfn.IFNA(IF(BL291=\"\",\"\",MAX(BJ$1:BJ290)+1),\"\")","v":""},"",{"$f":"IF(IF(IF(VLOOKUP($BK291,Archyvas,17,FALSE)=$BL$1,\"\",VLOOKUP($BK291,Archyvas,20,FALSE))=0,\"\",IF(VLOOKUP($BK291,Archyvas,17,FALSE)=$BL$1,\"\",VLOOKUP($BK291,Archyvas,20,FALSE)))=\"\",\"\",IF(IF(VLOOKUP($BK291,Archyvas,17,FALSE)=$BL$1,\"\",VLOOKUP($BK291,Archyvas,17,FALSE))=0,\"\",IF(VLOOKUP($BK291,Archyvas,17,FALSE)=$BL$1,\"\",VLOOKUP($BK291,Archyvas,17,FALSE))))","v":{"$error":"#N/A"}},{"$f":"IF(IF(VLOOKUP($BK291,Archyvas,17,FALSE)=$BL$1,\"\",VLOOKUP($BK291,Archyvas,18,FALSE))=0,\"\",IF(VLOOKUP($BK291,Archyvas,17,FALSE)=$BL$1,\"\",VLOOKUP($BK291,Archyvas,18,FALSE)))","v":{"$error":"#N/A"}},{"$f":"IF(IF(VLOOKUP($BK291,Archyvas,17,FALSE)=$BL$1,\"\",VLOOKUP($BK291,Archyvas,19,FALSE))=0,\"\",IF(VLOOKUP($BK291,Archyvas,17,FALSE)=$BL$1,\"\",VLOOKUP($BK291,Archyvas,19,FALSE)))","v":{"$error":"#N/A"}},{"$f":"IF(IF(VLOOKUP($BK291,Archyvas,17,FALSE)=$BL$1,\"\",VLOOKUP($BK291,Archyvas,20,FALSE))=0,\"\",IF(VLOOKUP($BK291,Archyvas,17,FALSE)=$BL$1,\"\",VLOOKUP($BK291,Archyvas,20,FALSE)))","v":{"$error":"#N/A"}},{"$f":"IF(IF(VLOOKUP($BK291,Archyvas,17,FALSE)=$BL$1,\"\",VLOOKUP($BK291,Archyvas,21,FALSE))=0,\"\",IF(VLOOKUP($BK291,Archyvas,17,FALSE)=$BL$1,\"\",VLOOKUP($BK291,Archyvas,21,FALSE)))","v":{"$error":"#N/A"}},null,{"$f":"_xlfn.IFNA(IF(BS291=\"\",\"\",MAX(BR$1:BR290)+1),\"\")","v":""},"","","","","",""]
[null,null,null,null,null,null,null,null,null,null,null,null,null,null,null,null,null,null,null,null,null,null,null,null,null,null,null,null,null,null,null,null,null,null,null,null,null,null,null,null,null,null,null,null,null,null,null,null,null,null,null,null,null,null,null,null,null,{"$f":"IF(BG292=\"\",\"\",MAX(BF$1:BF291)+1)","v":""},{"$f":"IF(TEXT(Kortelė!$B$26,\"mm\")=IF(A292=\"\",\"\",TEXT(A292,\"mm\")),A292,\"\")","v":""},null,"",{"$f":"_xlfn.IFNA(IF(BL292=\"\",\"\",MAX(BJ$1:BJ291)+1),\"\")","v":""},"",{"$f":"IF(IF(IF(VLOOKUP($BK292,Archyvas,22,FALSE)=$BL$1,\"\",VLOOKUP($BK292,Archyvas,25,FALSE))=0,\"\",IF(VLOOKUP($BK292,Archyvas,22,FALSE)=$BL$1,\"\",VLOOKUP($BK292,Archyvas,25,FALSE)))=\"\",\"\",IF(IF(VLOOKUP($BK292,Archyvas,22,FALSE)=$BL$1,\"\",VLOOKUP($BK292,Archyvas,22,FALSE))=0,\"\",IF(VLOOKUP($BK292,Archyvas,22,FALSE)=$BL$1,\"\",VLOOKUP($BK292,Archyvas,22,FALSE))))","v":{"$error":"#N/A"}},{"$f":"IF(IF(VLOOKUP($BK292,Archyvas,22,FALSE)=$BL$1,\"\",VLOOKUP($BK292,Archyvas,23,FALSE))=0,\"\",IF(VLOOKUP($BK292,Archyvas,22,FALSE)=$BL$1,\"\",VLOOKUP($BK292,Archyvas,23,FALSE)))","v":{"$error":"#N/A"}},{"$f":"IF(IF(VLOOKUP($BK292,Archyvas,22,FALSE)=$BL$1,\"\",VLOOKUP($BK292,Archyvas,24,FALSE))=0,\"\",IF(VLOOKUP($BK292,Archyvas,22,FALSE)=$BL$1,\"\",VLOOKUP($BK292,Archyvas,24,FALSE)))","v":{"$error":"#N/A"}},{"$f":"IF(IF(VLOOKUP($BK292,Archyvas,22,FALSE)=$BL$1,\"\",VLOOKUP($BK292,Archyvas,25,FALSE))=0,\"\",IF(VLOOKUP($BK292,Archyvas,22,FALSE)=$BL$1,\"\",VLOOKUP($BK292,Archyvas,25,FALSE)))","v":{"$error":"#N/A"}},{"$f":"IF(IF(VLOOKUP($BK292,Archyvas,22,FALSE)=$BL$1,\"\",VLOOKUP($BK292,Archyvas,26,FALSE))=0,\"\",IF(VLOOKUP($BK292,Archyvas,22,FALSE)=$BL$1,\"\",VLOOKUP($BK292,Archyvas,26,FALSE)))","v":{"$error":"#N/A"}},null,{"$f":"_xlfn.IFNA(IF(BS292=\"\",\"\",MAX(BR$1:BR291)+1),\"\")","v":""},"","","","","",""]
[null,null,null,null,null,null,null,null,null,null,null,null,null,null,null,null,null,null,null,null,null,null,null,null,null,null,null,null,null,null,null,null,null,null,null,null,null,null,null,null,null,null,null,null,null,null,null,null,null,null,null,null,null,null,null,null,null,{"$f":"IF(BG293=\"\",\"\",MAX(BF$1:BF292)+1)","v":""},{"$f":"IF(TEXT(Kortelė!$B$26,\"mm\")=IF(A293=\"\",\"\",TEXT(A293,\"mm\")),A293,\"\")","v":""},null,"",{"$f":"_xlfn.IFNA(IF(BL293=\"\",\"\",MAX(BJ$1:BJ292)+1),\"\")","v":""},"",{"$f":"IF(IF(IF(VLOOKUP($BK293,Archyvas,27,FALSE)=$BL$1,\"\",VLOOKUP($BK293,Archyvas,30,FALSE))=0,\"\",IF(VLOOKUP($BK293,Archyvas,27,FALSE)=$BL$1,\"\",VLOOKUP($BK293,Archyvas,30,FALSE)))=\"\",\"\",IF(IF(VLOOKUP($BK293,Archyvas,27,FALSE)=$BL$1,\"\",VLOOKUP($BK293,Archyvas,27,FALSE))=0,\"\",IF(VLOOKUP($BK293,Archyvas,27,FALSE)=$BL$1,\"\",VLOOKUP($BK293,Archyvas,27,FALSE))))","v":{"$error":"#N/A"}},{"$f":"IF(IF(VLOOKUP($BK293,Archyvas,27,FALSE)=$BL$1,\"\",VLOOKUP($BK293,Archyvas,28,FALSE))=0,\"\",IF(VLOOKUP($BK293,Archyvas,27,FALSE)=$BL$1,\"\",VLOOKUP($BK293,Archyvas,28,FALSE)))","v":{"$error":"#N/A"}},{"$f":"IF(IF(VLOOKUP($BK293,Archyvas,27,FALSE)=$BL$1,\"\",VLOOKUP($BK293,Archyvas,29,FALSE))=0,\"\",IF(VLOOKUP($BK293,Archyvas,27,FALSE)=$BL$1,\"\",VLOOKUP($BK293,Archyvas,29,FALSE)))","v":{"$error":"#N/A"}},{"$f":"IF(IF(VLOOKUP($BK293,Archyvas,27,FALSE)=$BL$1,\"\",VLOOKUP($BK293,Archyvas,30,FALSE))=0,\"\",IF(VLOOKUP($BK293,Archyvas,27,FALSE)=$BL$1,\"\",VLOOKUP($BK293,Archyvas,30,FALSE)))","v":{"$error":"#N/A"}},{"$f":"IF(IF(VLOOKUP($BK293,Archyvas,27,FALSE)=$BL$1,\"\",VLOOKUP($BK293,Archyvas,31,FALSE))=0,\"\",IF(VLOOKUP($BK293,Archyvas,27,FALSE)=$BL$1,\"\",VLOOKUP($BK293,Archyvas,31,FALSE)))","v":{"$error":"#N/A"}},null,{"$f":"_xlfn.IFNA(IF(BS293=\"\",\"\",MAX(BR$1:BR292)+1),\"\")","v":""},"","","","","",""]
[null,null,null,null,null,null,null,null,null,null,null,null,null,null,null,null,null,null,null,null,null,null,null,null,null,null,null,null,null,null,null,null,null,null,null,null,null,null,null,null,null,null,null,null,null,null,null,null,null,null,null,null,null,null,null,null,null,{"$f":"IF(BG294=\"\",\"\",MAX(BF$1:BF293)+1)","v":""},{"$f":"IF(TEXT(Kortelė!$B$26,\"mm\")=IF(A294=\"\",\"\",TEXT(A294,\"mm\")),A294,\"\")","v":""},null,"",{"$f":"_xlfn.IFNA(IF(BL294=\"\",\"\",MAX(BJ$1:BJ293)+1),\"\")","v":""},"",{"$f":"IF(IF(IF(VLOOKUP($BK294,Archyvas,32,FALSE)=$BL$1,\"\",VLOOKUP($BK294,Archyvas,35,FALSE))=0,\"\",IF(VLOOKUP($BK294,Archyvas,32,FALSE)=$BL$1,\"\",VLOOKUP($BK294,Archyvas,35,FALSE)))=\"\",\"\",IF(IF(VLOOKUP($BK294,Archyvas,32,FALSE)=$BL$1,\"\",VLOOKUP($BK294,Archyvas,32,FALSE))=0,\"\",IF(VLOOKUP($BK294,Archyvas,32,FALSE)=$BL$1,\"\",VLOOKUP($BK294,Archyvas,32,FALSE))))","v":{"$error":"#N/A"}},{"$f":"IF(IF(VLOOKUP($BK294,Archyvas,32,FALSE)=$BL$1,\"\",VLOOKUP($BK294,Archyvas,33,FALSE))=0,\"\",IF(VLOOKUP($BK294,Archyvas,32,FALSE)=$BL$1,\"\",VLOOKUP($BK294,Archyvas,33,FALSE)))","v":{"$error":"#N/A"}},{"$f":"IF(IF(VLOOKUP($BK294,Archyvas,32,FALSE)=$BL$1,\"\",VLOOKUP($BK294,Archyvas,34,FALSE))=0,\"\",IF(VLOOKUP($BK294,Archyvas,32,FALSE)=$BL$1,\"\",VLOOKUP($BK294,Archyvas,34,FALSE)))","v":{"$error":"#N/A"}},{"$f":"IF(IF(VLOOKUP($BK294,Archyvas,32,FALSE)=$BL$1,\"\",VLOOKUP($BK294,Archyvas,35,FALSE))=0,\"\",IF(VLOOKUP($BK294,Archyvas,32,FALSE)=$BL$1,\"\",VLOOKUP($BK294,Archyvas,35,FALSE)))","v":{"$error":"#N/A"}},{"$f":"IF(IF(VLOOKUP($BK294,Archyvas,32,FALSE)=$BL$1,\"\",VLOOKUP($BK294,Archyvas,36,FALSE))=0,\"\",IF(VLOOKUP($BK294,Archyvas,32,FALSE)=$BL$1,\"\",VLOOKUP($BK294,Archyvas,36,FALSE)))","v":{"$error":"#N/A"}},null,{"$f":"_xlfn.IFNA(IF(BS294=\"\",\"\",MAX(BR$1:BR293)+1),\"\")","v":""},"","","","","",""]
[null,null,null,null,null,null,null,null,null,null,null,null,null,null,null,null,null,null,null,null,null,null,null,null,null,null,null,null,null,null,null,null,null,null,null,null,null,null,null,null,null,null,null,null,null,null,null,null,null,null,null,null,null,null,null,null,null,{"$f":"IF(BG295=\"\",\"\",MAX(BF$1:BF294)+1)","v":""},{"$f":"IF(TEXT(Kortelė!$B$26,\"mm\")=IF(A295=\"\",\"\",TEXT(A295,\"mm\")),A295,\"\")","v":""},null,"",{"$f":"_xlfn.IFNA(IF(BL295=\"\",\"\",MAX(BJ$1:BJ294)+1),\"\")","v":""},"",{"$f":"IF(IF(IF(VLOOKUP($BK295,Archyvas,37,FALSE)=$BL$1,\"\",VLOOKUP($BK295,Archyvas,40,FALSE))=0,\"\",IF(VLOOKUP($BK295,Archyvas,37,FALSE)=$BL$1,\"\",VLOOKUP($BK295,Archyvas,40,FALSE)))=\"\",\"\",IF(IF(VLOOKUP($BK295,Archyvas,37,FALSE)=$BL$1,\"\",VLOOKUP($BK295,Archyvas,37,FALSE))=0,\"\",IF(VLOOKUP($BK295,Archyvas,37,FALSE)=$BL$1,\"\",VLOOKUP($BK295,Archyvas,37,FALSE))))","v":{"$error":"#N/A"}},{"$f":"IF(IF(VLOOKUP($BK295,Archyvas,37,FALSE)=$BL$1,\"\",VLOOKUP($BK295,Archyvas,38,FALSE))=0,\"\",IF(VLOOKUP($BK295,Archyvas,37,FALSE)=$BL$1,\"\",VLOOKUP($BK295,Archyvas,38,FALSE)))","v":{"$error":"#N/A"}},{"$f":"IF(IF(VLOOKUP($BK295,Archyvas,37,FALSE)=$BL$1,\"\",VLOOKUP($BK295,Archyvas,39,FALSE))=0,\"\",IF(VLOOKUP($BK295,Archyvas,37,FALSE)=$BL$1,\"\",VLOOKUP($BK295,Archyvas,39,FALSE)))","v":{"$error":"#N/A"}},{"$f":"IF(IF(VLOOKUP($BK295,Archyvas,37,FALSE)=$BL$1,\"\",VLOOKUP($BK295,Archyvas,40,FALSE))=0,\"\",IF(VLOOKUP($BK295,Archyvas,37,FALSE)=$BL$1,\"\",VLOOKUP($BK295,Archyvas,40,FALSE)))","v":{"$error":"#N/A"}},{"$f":"IF(IF(VLOOKUP($BK295,Archyvas,37,FALSE)=$BL$1,\"\",VLOOKUP($BK295,Archyvas,41,FALSE))=0,\"\",IF(VLOOKUP($BK295,Archyvas,37,FALSE)=$BL$1,\"\",VLOOKUP($BK295,Archyvas,41,FALSE)))","v":{"$error":"#N/A"}},null,{"$f":"_xlfn.IFNA(IF(BS295=\"\",\"\",MAX(BR$1:BR294)+1),\"\")","v":""},"","","","","",""]
[null,null,null,null,null,null,null,null,null,null,null,null,null,null,null,null,null,null,null,null,null,null,null,null,null,null,null,null,null,null,null,null,null,null,null,null,null,null,null,null,null,null,null,null,null,null,null,null,null,null,null,null,null,null,null,null,null,{"$f":"IF(BG296=\"\",\"\",MAX(BF$1:BF295)+1)","v":""},{"$f":"IF(TEXT(Kortelė!$B$26,\"mm\")=IF(A296=\"\",\"\",TEXT(A296,\"mm\")),A296,\"\")","v":""},null,"",{"$f":"_xlfn.IFNA(IF(BL296=\"\",\"\",MAX(BJ$1:BJ295)+1),\"\")","v":""},"",{"$f":"IF(IF(IF(VLOOKUP($BK296,Archyvas,42,FALSE)=$BL$1,\"\",VLOOKUP($BK296,Archyvas,45,FALSE))=0,\"\",IF(VLOOKUP($BK296,Archyvas,42,FALSE)=$BL$1,\"\",VLOOKUP($BK296,Archyvas,45,FALSE)))=\"\",\"\",IF(IF(VLOOKUP($BK296,Archyvas,42,FALSE)=$BL$1,\"\",VLOOKUP($BK296,Archyvas,42,FALSE))=0,\"\",IF(VLOOKUP($BK296,Archyvas,42,FALSE)=$BL$1,\"\",VLOOKUP($BK296,Archyvas,42,FALSE))))","v":{"$error":"#N/A"}},{"$f":"IF(IF(VLOOKUP($BK296,Archyvas,42,FALSE)=$BL$1,\"\",VLOOKUP($BK296,Archyvas,43,FALSE))=0,\"\",IF(VLOOKUP($BK296,Archyvas,42,FALSE)=$BL$1,\"\",VLOOKUP($BK296,Archyvas,43,FALSE)))","v":{"$error":"#N/A"}},{"$f":"IF(IF(VLOOKUP($BK296,Archyvas,42,FALSE)=$BL$1,\"\",VLOOKUP($BK296,Archyvas,44,FALSE))=0,\"\",IF(VLOOKUP($BK296,Archyvas,42,FALSE)=$BL$1,\"\",VLOOKUP($BK296,Archyvas,44,FALSE)))","v":{"$error":"#N/A"}},{"$f":"IF(IF(VLOOKUP($BK296,Archyvas,42,FALSE)=$BL$1,\"\",VLOOKUP($BK296,Archyvas,45,FALSE))=0,\"\",IF(VLOOKUP($BK296,Archyvas,42,FALSE)=$BL$1,\"\",VLOOKUP($BK296,Archyvas,45,FALSE)))","v":{"$error":"#N/A"}},{"$f":"IF(IF(VLOOKUP($BK296,Archyvas,42,FALSE)=$BL$1,\"\",VLOOKUP($BK296,Archyvas,46,FALSE))=0,\"\",IF(VLOOKUP($BK296,Archyvas,42,FALSE)=$BL$1,\"\",VLOOKUP($BK296,Archyvas,46,FALSE)))","v":{"$error":"#N/A"}},null,{"$f":"_xlfn.IFNA(IF(BS296=\"\",\"\",MAX(BR$1:BR295)+1),\"\")","v":""},"","","","","",""]
[null,null,null,null,null,null,null,null,null,null,null,null,null,null,null,null,null,null,null,null,null,null,null,null,null,null,null,null,null,null,null,null,null,null,null,null,null,null,null,null,null,null,null,null,null,null,null,null,null,null,null,null,null,null,null,null,null,{"$f":"IF(BG297=\"\",\"\",MAX(BF$1:BF296)+1)","v":""},{"$f":"IF(TEXT(Kortelė!$B$26,\"mm\")=IF(A297=\"\",\"\",TEXT(A297,\"mm\")),A297,\"\")","v":""},null,"",{"$f":"_xlfn.IFNA(IF(BL297=\"\",\"\",MAX(BJ$1:BJ296)+1),\"\")","v":""},"",{"$f":"IF(IF(IF(VLOOKUP($BK297,Archyvas,47,FALSE)=$BL$1,\"\",VLOOKUP($BK297,Archyvas,50,FALSE))=0,\"\",IF(VLOOKUP($BK297,Archyvas,47,FALSE)=$BL$1,\"\",VLOOKUP($BK297,Archyvas,50,FALSE)))=\"\",\"\",IF(IF(VLOOKUP($BK297,Archyvas,47,FALSE)=$BL$1,\"\",VLOOKUP($BK297,Archyvas,47,FALSE))=0,\"\",IF(VLOOKUP($BK297,Archyvas,47,FALSE)=$BL$1,\"\",VLOOKUP($BK297,Archyvas,47,FALSE))))","v":{"$error":"#N/A"}},{"$f":"IF(IF(VLOOKUP($BK297,Archyvas,47,FALSE)=$BL$1,\"\",VLOOKUP($BK297,Archyvas,48,FALSE))=0,\"\",IF(VLOOKUP($BK297,Archyvas,47,FALSE)=$BL$1,\"\",VLOOKUP($BK297,Archyvas,48,FALSE)))","v":{"$error":"#N/A"}},{"$f":"IF(IF(VLOOKUP($BK297,Archyvas,47,FALSE)=$BL$1,\"\",VLOOKUP($BK297,Archyvas,49,FALSE))=0,\"\",IF(VLOOKUP($BK297,Archyvas,47,FALSE)=$BL$1,\"\",VLOOKUP($BK297,Archyvas,49,FALSE)))","v":{"$error":"#N/A"}},{"$f":"IF(IF(VLOOKUP($BK297,Archyvas,47,FALSE)=$BL$1,\"\",VLOOKUP($BK297,Archyvas,50,FALSE))=0,\"\",IF(VLOOKUP($BK297,Archyvas,47,FALSE)=$BL$1,\"\",VLOOKUP($BK297,Archyvas,50,FALSE)))","v":{"$error":"#N/A"}},{"$f":"IF(IF(VLOOKUP($BK297,Archyvas,47,FALSE)=$BL$1,\"\",VLOOKUP($BK297,Archyvas,51,FALSE))=0,\"\",IF(VLOOKUP($BK297,Archyvas,47,FALSE)=$BL$1,\"\",VLOOKUP($BK297,Archyvas,51,FALSE)))","v":{"$error":"#N/A"}},null,{"$f":"_xlfn.IFNA(IF(BS297=\"\",\"\",MAX(BR$1:BR296)+1),\"\")","v":""},"","","","","",""]
[null,null,null,null,null,null,null,null,null,null,null,null,null,null,null,null,null,null,null,null,null,null,null,null,null,null,null,null,null,null,null,null,null,null,null,null,null,null,null,null,null,null,null,null,null,null,null,null,null,null,null,null,null,null,null,null,null,{"$f":"IF(BG298=\"\",\"\",MAX(BF$1:BF297)+1)","v":""},{"$f":"IF(TEXT(Kortelė!$B$26,\"mm\")=IF(A298=\"\",\"\",TEXT(A298,\"mm\")),A298,\"\")","v":""},null,"",{"$f":"_xlfn.IFNA(IF(BL298=\"\",\"\",MAX(BJ$1:BJ297)+1),\"\")","v":""},null,null,null,null,null,null,null,{"$f":"_xlfn.IFNA(IF(BS298=\"\",\"\",MAX(BR$1:BR297)+1),\"\")","v":""},"","","","","",""]
[null,null,null,null,null,null,null,null,null,null,null,null,null,null,null,null,null,null,null,null,null,null,null,null,null,null,null,null,null,null,null,null,null,null,null,null,null,null,null,null,null,null,null,null,null,null,null,null,null,null,null,null,null,null,null,null,null,{"$f":"IF(BG299=\"\",\"\",MAX(BF$1:BF298)+1)","v":""},{"$f":"IF(TEXT(Kortelė!$B$26,\"mm\")=IF(A299=\"\",\"\",TEXT(A299,\"mm\")),A299,\"\")","v":""},null,"",{"$f":"_xlfn.IFNA(IF(BL299=\"\",\"\",MAX(BJ$1:BJ298)+1),\"\")","v":""},{"$f":"$BI$29","v":""},{"$f":"IF(IF(IF(VLOOKUP($BK299,Archyvas,2,FALSE)=$BL$1,\"\",VLOOKUP($BK299,Archyvas,5,FALSE))=0,\"\",IF(VLOOKUP($BK299,Archyvas,2,FALSE)=$BL$1,\"\",VLOOKUP($BK299,Archyvas,5,FALSE)))=\"\",\"\",IF(IF(VLOOKUP($BK299,Archyvas,2,FALSE)=$BL$1,\"\",VLOOKUP($BK299,Archyvas,2,FALSE))=0,\"\",IF(VLOOKUP($BK299,Archyvas,2,FALSE)=$BL$1,\"\",VLOOKUP($BK299,Archyvas,2,FALSE))))","v":{"$error":"#N/A"}},{"$f":"IF(IF(VLOOKUP($BK299,Archyvas,2,FALSE)=$BL$1,\"\",VLOOKUP($BK299,Archyvas,3,FALSE))=0,\"\",IF(VLOOKUP($BK299,Archyvas,2,FALSE)=$BL$1,\"\",VLOOKUP($BK299,Archyvas,3,FALSE)))","v":{"$error":"#N/A"}},{"$f":"IF(IF(VLOOKUP($BK299,Archyvas,2,FALSE)=$BL$1,\"\",VLOOKUP($BK299,Archyvas,4,FALSE))=0,\"\",IF(VLOOKUP($BK299,Archyvas,2,FALSE)=$BL$1,\"\",VLOOKUP($BK299,Archyvas,4,FALSE)))","v":{"$error":"#N/A"}},{"$f":"IF(IF(VLOOKUP($BK299,Archyvas,2,FALSE)=$BL$1,\"\",VLOOKUP($BK299,Archyvas,5,FALSE))=0,\"\",IF(VLOOKUP($BK299,Archyvas,2,FALSE)=$BL$1,\"\",VLOOKUP($BK299,Archyvas,5,FALSE)))","v":{"$error":"#N/A"}},{"$f":"IF(IF(VLOOKUP($BK299,Archyvas,2,FALSE)=$BL$1,\"\",VLOOKUP($BK299,Archyvas,6,FALSE))=0,\"\",IF(VLOOKUP($BK299,Archyvas,2,FALSE)=$BL$1,\"\",VLOOKUP($BK299,Archyvas,6,FALSE)))","v":{"$error":"#N/A"}},null,{"$f":"_xlfn.IFNA(IF(BS299=\"\",\"\",MAX(BR$1:BR298)+1),\"\")","v":""},"","","","","",""]
[null,null,null,null,null,null,null,null,null,null,null,null,null,null,null,null,null,null,null,null,null,null,null,null,null,null,null,null,null,null,null,null,null,null,null,null,null,null,null,null,null,null,null,null,null,null,null,null,null,null,null,null,null,null,null,null,null,{"$f":"IF(BG300=\"\",\"\",MAX(BF$1:BF299)+1)","v":""},{"$f":"IF(TEXT(Kortelė!$B$26,\"mm\")=IF(A300=\"\",\"\",TEXT(A300,\"mm\")),A300,\"\")","v":""},null,"",{"$f":"_xlfn.IFNA(IF(BL300=\"\",\"\",MAX(BJ$1:BJ299)+1),\"\")","v":""},{"$f":"BK299","v":""},{"$f":"IF(IF(IF(VLOOKUP($BK300,Archyvas,7,FALSE)=$BL$1,\"\",VLOOKUP($BK300,Archyvas,10,FALSE))=0,\"\",IF(VLOOKUP($BK300,Archyvas,7,FALSE)=$BL$1,\"\",VLOOKUP($BK300,Archyvas,10,FALSE)))=\"\",\"\",IF(IF(VLOOKUP($BK300,Archyvas,7,FALSE)=$BL$1,\"\",VLOOKUP($BK300,Archyvas,7,FALSE))=0,\"\",IF(VLOOKUP($BK300,Archyvas,7,FALSE)=$BL$1,\"\",VLOOKUP($BK300,Archyvas,7,FALSE))))","v":{"$error":"#N/A"}},{"$f":"IF(IF(VLOOKUP($BK300,Archyvas,7,FALSE)=$BL$1,\"\",VLOOKUP($BK300,Archyvas,8,FALSE))=0,\"\",IF(VLOOKUP($BK300,Archyvas,7,FALSE)=$BL$1,\"\",VLOOKUP($BK300,Archyvas,8,FALSE)))","v":{"$error":"#N/A"}},{"$f":"IF(IF(VLOOKUP($BK300,Archyvas,7,FALSE)=$BL$1,\"\",VLOOKUP($BK300,Archyvas,9,FALSE))=0,\"\",IF(VLOOKUP($BK300,Archyvas,7,FALSE)=$BL$1,\"\",VLOOKUP($BK300,Archyvas,9,FALSE)))","v":{"$error":"#N/A"}},{"$f":"IF(IF(VLOOKUP($BK300,Archyvas,7,FALSE)=$BL$1,\"\",VLOOKUP($BK300,Archyvas,10,FALSE))=0,\"\",IF(VLOOKUP($BK300,Archyvas,7,FALSE)=$BL$1,\"\",VLOOKUP($BK300,Archyvas,10,FALSE)))","v":{"$error":"#N/A"}},{"$f":"IF(IF(VLOOKUP($BK300,Archyvas,7,FALSE)=$BL$1,\"\",VLOOKUP($BK300,Archyvas,11,FALSE))=0,\"\",IF(VLOOKUP($BK300,Archyvas,7,FALSE)=$BL$1,\"\",VLOOKUP($BK300,Archyvas,11,FALSE)))","v":{"$error":"#N/A"}},null,{"$f":"_xlfn.IFNA(IF(BS300=\"\",\"\",MAX(BR$1:BR299)+1),\"\")","v":""},"","","","","",""]
[null,null,null,null,null,null,null,null,null,null,null,null,null,null,null,null,null,null,null,null,null,null,null,null,null,null,null,null,null,null,null,null,null,null,null,null,null,null,null,null,null,null,null,null,null,null,null,null,null,null,null,null,null,null,null,null,null,{"$f":"IF(BG301=\"\",\"\",MAX(BF$1:BF300)+1)","v":""},{"$f":"IF(TEXT(Kortelė!$B$26,\"mm\")=IF(A301=\"\",\"\",TEXT(A301,\"mm\")),A301,\"\")","v":""},null,"",{"$f":"_xlfn.IFNA(IF(BL301=\"\",\"\",MAX(BJ$1:BJ300)+1),\"\")","v":""},"",{"$f":"IF(IF(IF(VLOOKUP($BK301,Archyvas,12,FALSE)=$BL$1,\"\",VLOOKUP($BK301,Archyvas,15,FALSE))=0,\"\",IF(VLOOKUP($BK301,Archyvas,12,FALSE)=$BL$1,\"\",VLOOKUP($BK301,Archyvas,15,FALSE)))=\"\",\"\",IF(IF(VLOOKUP($BK301,Archyvas,12,FALSE)=$BL$1,\"\",VLOOKUP($BK301,Archyvas,12,FALSE))=0,\"\",IF(VLOOKUP($BK301,Archyvas,12,FALSE)=$BL$1,\"\",VLOOKUP($BK301,Archyvas,12,FALSE))))","v":{"$error":"#N/A"}},{"$f":"IF(IF(VLOOKUP($BK301,Archyvas,12,FALSE)=$BL$1,\"\",VLOOKUP($BK301,Archyvas,13,FALSE))=0,\"\",IF(VLOOKUP($BK301,Archyvas,12,FALSE)=$BL$1,\"\",VLOOKUP($BK301,Archyvas,13,FALSE)))","v":{"$error":"#N/A"}},{"$f":"IF(IF(VLOOKUP($BK301,Archyvas,12,FALSE)=$BL$1,\"\",VLOOKUP($BK301,Archyvas,14,FALSE))=0,\"\",IF(VLOOKUP($BK301,Archyvas,12,FALSE)=$BL$1,\"\",VLOOKUP($BK301,Archyvas,14,FALSE)))","v":{"$error":"#N/A"}},{"$f":"IF(IF(VLOOKUP($BK301,Archyvas,12,FALSE)=$BL$1,\"\",VLOOKUP($BK301,Archyvas,15,FALSE))=0,\"\",IF(VLOOKUP($BK301,Archyvas,12,FALSE)=$BL$1,\"\",VLOOKUP($BK301,Archyvas,15,FALSE)))","v":{"$error":"#N/A"}},{"$f":"IF(IF(VLOOKUP($BK301,Archyvas,12,FALSE)=$BL$1,\"\",VLOOKUP($BK301,Archyvas,16,FALSE))=0,\"\",IF(VLOOKUP($BK301,Archyvas,12,FALSE)=$BL$1,\"\",VLOOKUP($BK301,Archyvas,16,FALSE)))","v":{"$error":"#N/A"}},null,{"$f":"_xlfn.IFNA(IF(BS301=\"\",\"\",MAX(BR$1:BR300)+1),\"\")","v":""},"","","","","",""]
[null,null,null,null,null,null,null,null,null,null,null,null,null,null,null,null,null,null,null,null,null,null,null,null,null,null,null,null,null,null,null,null,null,null,null,null,null,null,null,null,null,null,null,null,null,null,null,null,null,null,null,null,null,null,null,null,null,{"$f":"IF(BG302=\"\",\"\",MAX(BF$1:BF301)+1)","v":""},{"$f":"IF(TEXT(Kortelė!$B$26,\"mm\")=IF(A302=\"\",\"\",TEXT(A302,\"mm\")),A302,\"\")","v":""},null,"",{"$f":"_xlfn.IFNA(IF(BL302=\"\",\"\",MAX(BJ$1:BJ301)+1),\"\")","v":""},"",{"$f":"IF(IF(IF(VLOOKUP($BK302,Archyvas,17,FALSE)=$BL$1,\"\",VLOOKUP($BK302,Archyvas,20,FALSE))=0,\"\",IF(VLOOKUP($BK302,Archyvas,17,FALSE)=$BL$1,\"\",VLOOKUP($BK302,Archyvas,20,FALSE)))=\"\",\"\",IF(IF(VLOOKUP($BK302,Archyvas,17,FALSE)=$BL$1,\"\",VLOOKUP($BK302,Archyvas,17,FALSE))=0,\"\",IF(VLOOKUP($BK302,Archyvas,17,FALSE)=$BL$1,\"\",VLOOKUP($BK302,Archyvas,17,FALSE))))","v":{"$error":"#N/A"}},{"$f":"IF(IF(VLOOKUP($BK302,Archyvas,17,FALSE)=$BL$1,\"\",VLOOKUP($BK302,Archyvas,18,FALSE))=0,\"\",IF(VLOOKUP($BK302,Archyvas,17,FALSE)=$BL$1,\"\",VLOOKUP($BK302,Archyvas,18,FALSE)))","v":{"$error":"#N/A"}},{"$f":"IF(IF(VLOOKUP($BK302,Archyvas,17,FALSE)=$BL$1,\"\",VLOOKUP($BK302,Archyvas,19,FALSE))=0,\"\",IF(VLOOKUP($BK302,Archyvas,17,FALSE)=$BL$1,\"\",VLOOKUP($BK302,Archyvas,19,FALSE)))","v":{"$error":"#N/A"}},{"$f":"IF(IF(VLOOKUP($BK302,Archyvas,17,FALSE)=$BL$1,\"\",VLOOKUP($BK302,Archyvas,20,FALSE))=0,\"\",IF(VLOOKUP($BK302,Archyvas,17,FALSE)=$BL$1,\"\",VLOOKUP($BK302,Archyvas,20,FALSE)))","v":{"$error":"#N/A"}},{"$f":"IF(IF(VLOOKUP($BK302,Archyvas,17,FALSE)=$BL$1,\"\",VLOOKUP($BK302,Archyvas,21,FALSE))=0,\"\",IF(VLOOKUP($BK302,Archyvas,17,FALSE)=$BL$1,\"\",VLOOKUP($BK302,Archyvas,21,FALSE)))","v":{"$error":"#N/A"}},null,{"$f":"_xlfn.IFNA(IF(BS302=\"\",\"\",MAX(BR$1:BR301)+1),\"\")","v":""},"","","","","",""]
[null,null,null,null,null,null,null,null,null,null,null,null,null,null,null,null,null,null,null,null,null,null,null,null,null,null,null,null,null,null,null,null,null,null,null,null,null,null,null,null,null,null,null,null,null,null,null,null,null,null,null,null,null,null,null,null,null,{"$f":"IF(BG303=\"\",\"\",MAX(BF$1:BF302)+1)","v":""},{"$f":"IF(TEXT(Kortelė!$B$26,\"mm\")=IF(A303=\"\",\"\",TEXT(A303,\"mm\")),A303,\"\")","v":""},null,"",{"$f":"_xlfn.IFNA(IF(BL303=\"\",\"\",MAX(BJ$1:BJ302)+1),\"\")","v":""},"",{"$f":"IF(IF(IF(VLOOKUP($BK303,Archyvas,22,FALSE)=$BL$1,\"\",VLOOKUP($BK303,Archyvas,25,FALSE))=0,\"\",IF(VLOOKUP($BK303,Archyvas,22,FALSE)=$BL$1,\"\",VLOOKUP($BK303,Archyvas,25,FALSE)))=\"\",\"\",IF(IF(VLOOKUP($BK303,Archyvas,22,FALSE)=$BL$1,\"\",VLOOKUP($BK303,Archyvas,22,FALSE))=0,\"\",IF(VLOOKUP($BK303,Archyvas,22,FALSE)=$BL$1,\"\",VLOOKUP($BK303,Archyvas,22,FALSE))))","v":{"$error":"#N/A"}},{"$f":"IF(IF(VLOOKUP($BK303,Archyvas,22,FALSE)=$BL$1,\"\",VLOOKUP($BK303,Archyvas,23,FALSE))=0,\"\",IF(VLOOKUP($BK303,Archyvas,22,FALSE)=$BL$1,\"\",VLOOKUP($BK303,Archyvas,23,FALSE)))","v":{"$error":"#N/A"}},{"$f":"IF(IF(VLOOKUP($BK303,Archyvas,22,FALSE)=$BL$1,\"\",VLOOKUP($BK303,Archyvas,24,FALSE))=0,\"\",IF(VLOOKUP($BK303,Archyvas,22,FALSE)=$BL$1,\"\",VLOOKUP($BK303,Archyvas,24,FALSE)))","v":{"$error":"#N/A"}},{"$f":"IF(IF(VLOOKUP($BK303,Archyvas,22,FALSE)=$BL$1,\"\",VLOOKUP($BK303,Archyvas,25,FALSE))=0,\"\",IF(VLOOKUP($BK303,Archyvas,22,FALSE)=$BL$1,\"\",VLOOKUP($BK303,Archyvas,25,FALSE)))","v":{"$error":"#N/A"}},{"$f":"IF(IF(VLOOKUP($BK303,Archyvas,22,FALSE)=$BL$1,\"\",VLOOKUP($BK303,Archyvas,26,FALSE))=0,\"\",IF(VLOOKUP($BK303,Archyvas,22,FALSE)=$BL$1,\"\",VLOOKUP($BK303,Archyvas,26,FALSE)))","v":{"$error":"#N/A"}},null,{"$f":"_xlfn.IFNA(IF(BS303=\"\",\"\",MAX(BR$1:BR302)+1),\"\")","v":""},"","","","","",""]
[null,null,null,null,null,null,null,null,null,null,null,null,null,null,null,null,null,null,null,null,null,null,null,null,null,null,null,null,null,null,null,null,null,null,null,null,null,null,null,null,null,null,null,null,null,null,null,null,null,null,null,null,null,null,null,null,null,{"$f":"IF(BG304=\"\",\"\",MAX(BF$1:BF303)+1)","v":""},{"$f":"IF(TEXT(Kortelė!$B$26,\"mm\")=IF(A304=\"\",\"\",TEXT(A304,\"mm\")),A304,\"\")","v":""},null,"",{"$f":"_xlfn.IFNA(IF(BL304=\"\",\"\",MAX(BJ$1:BJ303)+1),\"\")","v":""},"",{"$f":"IF(IF(IF(VLOOKUP($BK304,Archyvas,27,FALSE)=$BL$1,\"\",VLOOKUP($BK304,Archyvas,30,FALSE))=0,\"\",IF(VLOOKUP($BK304,Archyvas,27,FALSE)=$BL$1,\"\",VLOOKUP($BK304,Archyvas,30,FALSE)))=\"\",\"\",IF(IF(VLOOKUP($BK304,Archyvas,27,FALSE)=$BL$1,\"\",VLOOKUP($BK304,Archyvas,27,FALSE))=0,\"\",IF(VLOOKUP($BK304,Archyvas,27,FALSE)=$BL$1,\"\",VLOOKUP($BK304,Archyvas,27,FALSE))))","v":{"$error":"#N/A"}},{"$f":"IF(IF(VLOOKUP($BK304,Archyvas,27,FALSE)=$BL$1,\"\",VLOOKUP($BK304,Archyvas,28,FALSE))=0,\"\",IF(VLOOKUP($BK304,Archyvas,27,FALSE)=$BL$1,\"\",VLOOKUP($BK304,Archyvas,28,FALSE)))","v":{"$error":"#N/A"}},{"$f":"IF(IF(VLOOKUP($BK304,Archyvas,27,FALSE)=$BL$1,\"\",VLOOKUP($BK304,Archyvas,29,FALSE))=0,\"\",IF(VLOOKUP($BK304,Archyvas,27,FALSE)=$BL$1,\"\",VLOOKUP($BK304,Archyvas,29,FALSE)))","v":{"$error":"#N/A"}},{"$f":"IF(IF(VLOOKUP($BK304,Archyvas,27,FALSE)=$BL$1,\"\",VLOOKUP($BK304,Archyvas,30,FALSE))=0,\"\",IF(VLOOKUP($BK304,Archyvas,27,FALSE)=$BL$1,\"\",VLOOKUP($BK304,Archyvas,30,FALSE)))","v":{"$error":"#N/A"}},{"$f":"IF(IF(VLOOKUP($BK304,Archyvas,27,FALSE)=$BL$1,\"\",VLOOKUP($BK304,Archyvas,31,FALSE))=0,\"\",IF(VLOOKUP($BK304,Archyvas,27,FALSE)=$BL$1,\"\",VLOOKUP($BK304,Archyvas,31,FALSE)))","v":{"$error":"#N/A"}},null,{"$f":"_xlfn.IFNA(IF(BS304=\"\",\"\",MAX(BR$1:BR303)+1),\"\")","v":""},"","","","","",""]
[null,null,null,null,null,null,null,null,null,null,null,null,null,null,null,null,null,null,null,null,null,null,null,null,null,null,null,null,null,null,null,null,null,null,null,null,null,null,null,null,null,null,null,null,null,null,null,null,null,null,null,null,null,null,null,null,null,{"$f":"IF(BG305=\"\",\"\",MAX(BF$1:BF304)+1)","v":""},{"$f":"IF(TEXT(Kortelė!$B$26,\"mm\")=IF(A305=\"\",\"\",TEXT(A305,\"mm\")),A305,\"\")","v":""},null,"",{"$f":"_xlfn.IFNA(IF(BL305=\"\",\"\",MAX(BJ$1:BJ304)+1),\"\")","v":""},"",{"$f":"IF(IF(IF(VLOOKUP($BK305,Archyvas,32,FALSE)=$BL$1,\"\",VLOOKUP($BK305,Archyvas,35,FALSE))=0,\"\",IF(VLOOKUP($BK305,Archyvas,32,FALSE)=$BL$1,\"\",VLOOKUP($BK305,Archyvas,35,FALSE)))=\"\",\"\",IF(IF(VLOOKUP($BK305,Archyvas,32,FALSE)=$BL$1,\"\",VLOOKUP($BK305,Archyvas,32,FALSE))=0,\"\",IF(VLOOKUP($BK305,Archyvas,32,FALSE)=$BL$1,\"\",VLOOKUP($BK305,Archyvas,32,FALSE))))","v":{"$error":"#N/A"}},{"$f":"IF(IF(VLOOKUP($BK305,Archyvas,32,FALSE)=$BL$1,\"\",VLOOKUP($BK305,Archyvas,33,FALSE))=0,\"\",IF(VLOOKUP($BK305,Archyvas,32,FALSE)=$BL$1,\"\",VLOOKUP($BK305,Archyvas,33,FALSE)))","v":{"$error":"#N/A"}},{"$f":"IF(IF(VLOOKUP($BK305,Archyvas,32,FALSE)=$BL$1,\"\",VLOOKUP($BK305,Archyvas,34,FALSE))=0,\"\",IF(VLOOKUP($BK305,Archyvas,32,FALSE)=$BL$1,\"\",VLOOKUP($BK305,Archyvas,34,FALSE)))","v":{"$error":"#N/A"}},{"$f":"IF(IF(VLOOKUP($BK305,Archyvas,32,FALSE)=$BL$1,\"\",VLOOKUP($BK305,Archyvas,35,FALSE))=0,\"\",IF(VLOOKUP($BK305,Archyvas,32,FALSE)=$BL$1,\"\",VLOOKUP($BK305,Archyvas,35,FALSE)))","v":{"$error":"#N/A"}},{"$f":"IF(IF(VLOOKUP($BK305,Archyvas,32,FALSE)=$BL$1,\"\",VLOOKUP($BK305,Archyvas,36,FALSE))=0,\"\",IF(VLOOKUP($BK305,Archyvas,32,FALSE)=$BL$1,\"\",VLOOKUP($BK305,Archyvas,36,FALSE)))","v":{"$error":"#N/A"}},null,{"$f":"_xlfn.IFNA(IF(BS305=\"\",\"\",MAX(BR$1:BR304)+1),\"\")","v":""},"","","","","",""]
[null,null,null,null,null,null,null,null,null,null,null,null,null,null,null,null,null,null,null,null,null,null,null,null,null,null,null,null,null,null,null,null,null,null,null,null,null,null,null,null,null,null,null,null,null,null,null,null,null,null,null,null,null,null,null,null,null,{"$f":"IF(BG306=\"\",\"\",MAX(BF$1:BF305)+1)","v":""},{"$f":"IF(TEXT(Kortelė!$B$26,\"mm\")=IF(A306=\"\",\"\",TEXT(A306,\"mm\")),A306,\"\")","v":""},null,"",{"$f":"_xlfn.IFNA(IF(BL306=\"\",\"\",MAX(BJ$1:BJ305)+1),\"\")","v":""},"",{"$f":"IF(IF(IF(VLOOKUP($BK306,Archyvas,37,FALSE)=$BL$1,\"\",VLOOKUP($BK306,Archyvas,40,FALSE))=0,\"\",IF(VLOOKUP($BK306,Archyvas,37,FALSE)=$BL$1,\"\",VLOOKUP($BK306,Archyvas,40,FALSE)))=\"\",\"\",IF(IF(VLOOKUP($BK306,Archyvas,37,FALSE)=$BL$1,\"\",VLOOKUP($BK306,Archyvas,37,FALSE))=0,\"\",IF(VLOOKUP($BK306,Archyvas,37,FALSE)=$BL$1,\"\",VLOOKUP($BK306,Archyvas,37,FALSE))))","v":{"$error":"#N/A"}},{"$f":"IF(IF(VLOOKUP($BK306,Archyvas,37,FALSE)=$BL$1,\"\",VLOOKUP($BK306,Archyvas,38,FALSE))=0,\"\",IF(VLOOKUP($BK306,Archyvas,37,FALSE)=$BL$1,\"\",VLOOKUP($BK306,Archyvas,38,FALSE)))","v":{"$error":"#N/A"}},{"$f":"IF(IF(VLOOKUP($BK306,Archyvas,37,FALSE)=$BL$1,\"\",VLOOKUP($BK306,Archyvas,39,FALSE))=0,\"\",IF(VLOOKUP($BK306,Archyvas,37,FALSE)=$BL$1,\"\",VLOOKUP($BK306,Archyvas,39,FALSE)))","v":{"$error":"#N/A"}},{"$f":"IF(IF(VLOOKUP($BK306,Archyvas,37,FALSE)=$BL$1,\"\",VLOOKUP($BK306,Archyvas,40,FALSE))=0,\"\",IF(VLOOKUP($BK306,Archyvas,37,FALSE)=$BL$1,\"\",VLOOKUP($BK306,Archyvas,40,FALSE)))","v":{"$error":"#N/A"}},{"$f":"IF(IF(VLOOKUP($BK306,Archyvas,37,FALSE)=$BL$1,\"\",VLOOKUP($BK306,Archyvas,41,FALSE))=0,\"\",IF(VLOOKUP($BK306,Archyvas,37,FALSE)=$BL$1,\"\",VLOOKUP($BK306,Archyvas,41,FALSE)))","v":{"$error":"#N/A"}},null,{"$f":"_xlfn.IFNA(IF(BS306=\"\",\"\",MAX(BR$1:BR305)+1),\"\")","v":""},"","","","","",""]
[null,null,null,null,null,null,null,null,null,null,null,null,null,null,null,null,null,null,null,null,null,null,null,null,null,null,null,null,null,null,null,null,null,null,null,null,null,null,null,null,null,null,null,null,null,null,null,null,null,null,null,null,null,null,null,null,null,{"$f":"IF(BG307=\"\",\"\",MAX(BF$1:BF306)+1)","v":""},{"$f":"IF(TEXT(Kortelė!$B$26,\"mm\")=IF(A307=\"\",\"\",TEXT(A307,\"mm\")),A307,\"\")","v":""},null,"",{"$f":"_xlfn.IFNA(IF(BL307=\"\",\"\",MAX(BJ$1:BJ306)+1),\"\")","v":""},"",{"$f":"IF(IF(IF(VLOOKUP($BK307,Archyvas,42,FALSE)=$BL$1,\"\",VLOOKUP($BK307,Archyvas,45,FALSE))=0,\"\",IF(VLOOKUP($BK307,Archyvas,42,FALSE)=$BL$1,\"\",VLOOKUP($BK307,Archyvas,45,FALSE)))=\"\",\"\",IF(IF(VLOOKUP($BK307,Archyvas,42,FALSE)=$BL$1,\"\",VLOOKUP($BK307,Archyvas,42,FALSE))=0,\"\",IF(VLOOKUP($BK307,Archyvas,42,FALSE)=$BL$1,\"\",VLOOKUP($BK307,Archyvas,42,FALSE))))","v":{"$error":"#N/A"}},{"$f":"IF(IF(VLOOKUP($BK307,Archyvas,42,FALSE)=$BL$1,\"\",VLOOKUP($BK307,Archyvas,43,FALSE))=0,\"\",IF(VLOOKUP($BK307,Archyvas,42,FALSE)=$BL$1,\"\",VLOOKUP($BK307,Archyvas,43,FALSE)))","v":{"$error":"#N/A"}},{"$f":"IF(IF(VLOOKUP($BK307,Archyvas,42,FALSE)=$BL$1,\"\",VLOOKUP($BK307,Archyvas,44,FALSE))=0,\"\",IF(VLOOKUP($BK307,Archyvas,42,FALSE)=$BL$1,\"\",VLOOKUP($BK307,Archyvas,44,FALSE)))","v":{"$error":"#N/A"}},{"$f":"IF(IF(VLOOKUP($BK307,Archyvas,42,FALSE)=$BL$1,\"\",VLOOKUP($BK307,Archyvas,45,FALSE))=0,\"\",IF(VLOOKUP($BK307,Archyvas,42,FALSE)=$BL$1,\"\",VLOOKUP($BK307,Archyvas,45,FALSE)))","v":{"$error":"#N/A"}},{"$f":"IF(IF(VLOOKUP($BK307,Archyvas,42,FALSE)=$BL$1,\"\",VLOOKUP($BK307,Archyvas,46,FALSE))=0,\"\",IF(VLOOKUP($BK307,Archyvas,42,FALSE)=$BL$1,\"\",VLOOKUP($BK307,Archyvas,46,FALSE)))","v":{"$error":"#N/A"}},null,{"$f":"_xlfn.IFNA(IF(BS307=\"\",\"\",MAX(BR$1:BR306)+1),\"\")","v":""},"","","","","",""]
[null,null,null,null,null,null,null,null,null,null,null,null,null,null,null,null,null,null,null,null,null,null,null,null,null,null,null,null,null,null,null,null,null,null,null,null,null,null,null,null,null,null,null,null,null,null,null,null,null,null,null,null,null,null,null,null,null,{"$f":"IF(BG308=\"\",\"\",MAX(BF$1:BF307)+1)","v":""},{"$f":"IF(TEXT(Kortelė!$B$26,\"mm\")=IF(A308=\"\",\"\",TEXT(A308,\"mm\")),A308,\"\")","v":""},null,"",{"$f":"_xlfn.IFNA(IF(BL308=\"\",\"\",MAX(BJ$1:BJ307)+1),\"\")","v":""},"",{"$f":"IF(IF(IF(VLOOKUP($BK308,Archyvas,47,FALSE)=$BL$1,\"\",VLOOKUP($BK308,Archyvas,50,FALSE))=0,\"\",IF(VLOOKUP($BK308,Archyvas,47,FALSE)=$BL$1,\"\",VLOOKUP($BK308,Archyvas,50,FALSE)))=\"\",\"\",IF(IF(VLOOKUP($BK308,Archyvas,47,FALSE)=$BL$1,\"\",VLOOKUP($BK308,Archyvas,47,FALSE))=0,\"\",IF(VLOOKUP($BK308,Archyvas,47,FALSE)=$BL$1,\"\",VLOOKUP($BK308,Archyvas,47,FALSE))))","v":{"$error":"#N/A"}},{"$f":"IF(IF(VLOOKUP($BK308,Archyvas,47,FALSE)=$BL$1,\"\",VLOOKUP($BK308,Archyvas,48,FALSE))=0,\"\",IF(VLOOKUP($BK308,Archyvas,47,FALSE)=$BL$1,\"\",VLOOKUP($BK308,Archyvas,48,FALSE)))","v":{"$error":"#N/A"}},{"$f":"IF(IF(VLOOKUP($BK308,Archyvas,47,FALSE)=$BL$1,\"\",VLOOKUP($BK308,Archyvas,49,FALSE))=0,\"\",IF(VLOOKUP($BK308,Archyvas,47,FALSE)=$BL$1,\"\",VLOOKUP($BK308,Archyvas,49,FALSE)))","v":{"$error":"#N/A"}},{"$f":"IF(IF(VLOOKUP($BK308,Archyvas,47,FALSE)=$BL$1,\"\",VLOOKUP($BK308,Archyvas,50,FALSE))=0,\"\",IF(VLOOKUP($BK308,Archyvas,47,FALSE)=$BL$1,\"\",VLOOKUP($BK308,Archyvas,50,FALSE)))","v":{"$error":"#N/A"}},{"$f":"IF(IF(VLOOKUP($BK308,Archyvas,47,FALSE)=$BL$1,\"\",VLOOKUP($BK308,Archyvas,51,FALSE))=0,\"\",IF(VLOOKUP($BK308,Archyvas,47,FALSE)=$BL$1,\"\",VLOOKUP($BK308,Archyvas,51,FALSE)))","v":{"$error":"#N/A"}},null,{"$f":"_xlfn.IFNA(IF(BS308=\"\",\"\",MAX(BR$1:BR307)+1),\"\")","v":""},"","","","","",""]
[null,null,null,null,null,null,null,null,null,null,null,null,null,null,null,null,null,null,null,null,null,null,null,null,null,null,null,null,null,null,null,null,null,null,null,null,null,null,null,null,null,null,null,null,null,null,null,null,null,null,null,null,null,null,null,null,null,{"$f":"IF(BG309=\"\",\"\",MAX(BF$1:BF308)+1)","v":""},{"$f":"IF(TEXT(Kortelė!$B$26,\"mm\")=IF(A309=\"\",\"\",TEXT(A309,\"mm\")),A309,\"\")","v":""},null,"",{"$f":"_xlfn.IFNA(IF(BL309=\"\",\"\",MAX(BJ$1:BJ308)+1),\"\")","v":""},"",null,null,null,null,null,null,{"$f":"_xlfn.IFNA(IF(BS309=\"\",\"\",MAX(BR$1:BR308)+1),\"\")","v":""},"","","","","",""]
[null,null,null,null,null,null,null,null,null,null,null,null,null,null,null,null,null,null,null,null,null,null,null,null,null,null,null,null,null,null,null,null,null,null,null,null,null,null,null,null,null,null,null,null,null,null,null,null,null,null,null,null,null,null,null,null,null,{"$f":"IF(BG310=\"\",\"\",MAX(BF$1:BF309)+1)","v":""},{"$f":"IF(TEXT(Kortelė!$B$26,\"mm\")=IF(A310=\"\",\"\",TEXT(A310,\"mm\")),A310,\"\")","v":""},null,"",{"$f":"_xlfn.IFNA(IF(BL310=\"\",\"\",MAX(BJ$1:BJ309)+1),\"\")","v":""},{"$f":"$BI$30","v":""},{"$f":"IF(IF(IF(VLOOKUP($BK310,Archyvas,2,FALSE)=$BL$1,\"\",VLOOKUP($BK310,Archyvas,5,FALSE))=0,\"\",IF(VLOOKUP($BK310,Archyvas,2,FALSE)=$BL$1,\"\",VLOOKUP($BK310,Archyvas,5,FALSE)))=\"\",\"\",IF(IF(VLOOKUP($BK310,Archyvas,2,FALSE)=$BL$1,\"\",VLOOKUP($BK310,Archyvas,2,FALSE))=0,\"\",IF(VLOOKUP($BK310,Archyvas,2,FALSE)=$BL$1,\"\",VLOOKUP($BK310,Archyvas,2,FALSE))))","v":{"$error":"#N/A"}},{"$f":"IF(IF(VLOOKUP($BK310,Archyvas,2,FALSE)=$BL$1,\"\",VLOOKUP($BK310,Archyvas,3,FALSE))=0,\"\",IF(VLOOKUP($BK310,Archyvas,2,FALSE)=$BL$1,\"\",VLOOKUP($BK310,Archyvas,3,FALSE)))","v":{"$error":"#N/A"}},{"$f":"IF(IF(VLOOKUP($BK310,Archyvas,2,FALSE)=$BL$1,\"\",VLOOKUP($BK310,Archyvas,4,FALSE))=0,\"\",IF(VLOOKUP($BK310,Archyvas,2,FALSE)=$BL$1,\"\",VLOOKUP($BK310,Archyvas,4,FALSE)))","v":{"$error":"#N/A"}},{"$f":"IF(IF(VLOOKUP($BK310,Archyvas,2,FALSE)=$BL$1,\"\",VLOOKUP($BK310,Archyvas,5,FALSE))=0,\"\",IF(VLOOKUP($BK310,Archyvas,2,FALSE)=$BL$1,\"\",VLOOKUP($BK310,Archyvas,5,FALSE)))","v":{"$error":"#N/A"}},{"$f":"IF(IF(VLOOKUP($BK310,Archyvas,2,FALSE)=$BL$1,\"\",VLOOKUP($BK310,Archyvas,6,FALSE))=0,\"\",IF(VLOOKUP($BK310,Archyvas,2,FALSE)=$BL$1,\"\",VLOOKUP($BK310,Archyvas,6,FALSE)))","v":{"$error":"#N/A"}},null,{"$f":"_xlfn.IFNA(IF(BS310=\"\",\"\",MAX(BR$1:BR309)+1),\"\")","v":""},"","","","","",""]
[null,null,null,null,null,null,null,null,null,null,null,null,null,null,null,null,null,null,null,null,null,null,null,null,null,null,null,null,null,null,null,null,null,null,null,null,null,null,null,null,null,null,null,null,null,null,null,null,null,null,null,null,null,null,null,null,null,{"$f":"IF(BG311=\"\",\"\",MAX(BF$1:BF310)+1)","v":""},{"$f":"IF(TEXT(Kortelė!$B$26,\"mm\")=IF(A311=\"\",\"\",TEXT(A311,\"mm\")),A311,\"\")","v":""},null,"",{"$f":"_xlfn.IFNA(IF(BL311=\"\",\"\",MAX(BJ$1:BJ310)+1),\"\")","v":""},{"$f":"BK310","v":""},{"$f":"IF(IF(IF(VLOOKUP($BK311,Archyvas,7,FALSE)=$BL$1,\"\",VLOOKUP($BK311,Archyvas,10,FALSE))=0,\"\",IF(VLOOKUP($BK311,Archyvas,7,FALSE)=$BL$1,\"\",VLOOKUP($BK311,Archyvas,10,FALSE)))=\"\",\"\",IF(IF(VLOOKUP($BK311,Archyvas,7,FALSE)=$BL$1,\"\",VLOOKUP($BK311,Archyvas,7,FALSE))=0,\"\",IF(VLOOKUP($BK311,Archyvas,7,FALSE)=$BL$1,\"\",VLOOKUP($BK311,Archyvas,7,FALSE))))","v":{"$error":"#N/A"}},{"$f":"IF(IF(VLOOKUP($BK311,Archyvas,7,FALSE)=$BL$1,\"\",VLOOKUP($BK311,Archyvas,8,FALSE))=0,\"\",IF(VLOOKUP($BK311,Archyvas,7,FALSE)=$BL$1,\"\",VLOOKUP($BK311,Archyvas,8,FALSE)))","v":{"$error":"#N/A"}},{"$f":"IF(IF(VLOOKUP($BK311,Archyvas,7,FALSE)=$BL$1,\"\",VLOOKUP($BK311,Archyvas,9,FALSE))=0,\"\",IF(VLOOKUP($BK311,Archyvas,7,FALSE)=$BL$1,\"\",VLOOKUP($BK311,Archyvas,9,FALSE)))","v":{"$error":"#N/A"}},{"$f":"IF(IF(VLOOKUP($BK311,Archyvas,7,FALSE)=$BL$1,\"\",VLOOKUP($BK311,Archyvas,10,FALSE))=0,\"\",IF(VLOOKUP($BK311,Archyvas,7,FALSE)=$BL$1,\"\",VLOOKUP($BK311,Archyvas,10,FALSE)))","v":{"$error":"#N/A"}},{"$f":"IF(IF(VLOOKUP($BK311,Archyvas,7,FALSE)=$BL$1,\"\",VLOOKUP($BK311,Archyvas,11,FALSE))=0,\"\",IF(VLOOKUP($BK311,Archyvas,7,FALSE)=$BL$1,\"\",VLOOKUP($BK311,Archyvas,11,FALSE)))","v":{"$error":"#N/A"}},null,{"$f":"_xlfn.IFNA(IF(BS311=\"\",\"\",MAX(BR$1:BR310)+1),\"\")","v":""},"","","","","",""]
[null,null,null,null,null,null,null,null,null,null,null,null,null,null,null,null,null,null,null,null,null,null,null,null,null,null,null,null,null,null,null,null,null,null,null,null,null,null,null,null,null,null,null,null,null,null,null,null,null,null,null,null,null,null,null,null,null,{"$f":"IF(BG312=\"\",\"\",MAX(BF$1:BF311)+1)","v":""},{"$f":"IF(TEXT(Kortelė!$B$26,\"mm\")=IF(A312=\"\",\"\",TEXT(A312,\"mm\")),A312,\"\")","v":""},null,"",{"$f":"_xlfn.IFNA(IF(BL312=\"\",\"\",MAX(BJ$1:BJ311)+1),\"\")","v":""},"",{"$f":"IF(IF(IF(VLOOKUP($BK312,Archyvas,12,FALSE)=$BL$1,\"\",VLOOKUP($BK312,Archyvas,15,FALSE))=0,\"\",IF(VLOOKUP($BK312,Archyvas,12,FALSE)=$BL$1,\"\",VLOOKUP($BK312,Archyvas,15,FALSE)))=\"\",\"\",IF(IF(VLOOKUP($BK312,Archyvas,12,FALSE)=$BL$1,\"\",VLOOKUP($BK312,Archyvas,12,FALSE))=0,\"\",IF(VLOOKUP($BK312,Archyvas,12,FALSE)=$BL$1,\"\",VLOOKUP($BK312,Archyvas,12,FALSE))))","v":{"$error":"#N/A"}},{"$f":"IF(IF(VLOOKUP($BK312,Archyvas,12,FALSE)=$BL$1,\"\",VLOOKUP($BK312,Archyvas,13,FALSE))=0,\"\",IF(VLOOKUP($BK312,Archyvas,12,FALSE)=$BL$1,\"\",VLOOKUP($BK312,Archyvas,13,FALSE)))","v":{"$error":"#N/A"}},{"$f":"IF(IF(VLOOKUP($BK312,Archyvas,12,FALSE)=$BL$1,\"\",VLOOKUP($BK312,Archyvas,14,FALSE))=0,\"\",IF(VLOOKUP($BK312,Archyvas,12,FALSE)=$BL$1,\"\",VLOOKUP($BK312,Archyvas,14,FALSE)))","v":{"$error":"#N/A"}},{"$f":"IF(IF(VLOOKUP($BK312,Archyvas,12,FALSE)=$BL$1,\"\",VLOOKUP($BK312,Archyvas,15,FALSE))=0,\"\",IF(VLOOKUP($BK312,Archyvas,12,FALSE)=$BL$1,\"\",VLOOKUP($BK312,Archyvas,15,FALSE)))","v":{"$error":"#N/A"}},{"$f":"IF(IF(VLOOKUP($BK312,Archyvas,12,FALSE)=$BL$1,\"\",VLOOKUP($BK312,Archyvas,16,FALSE))=0,\"\",IF(VLOOKUP($BK312,Archyvas,12,FALSE)=$BL$1,\"\",VLOOKUP($BK312,Archyvas,16,FALSE)))","v":{"$error":"#N/A"}},null,{"$f":"_xlfn.IFNA(IF(BS312=\"\",\"\",MAX(BR$1:BR311)+1),\"\")","v":""},"","","","","",""]
[null,null,null,null,null,null,null,null,null,null,null,null,null,null,null,null,null,null,null,null,null,null,null,null,null,null,null,null,null,null,null,null,null,null,null,null,null,null,null,null,null,null,null,null,null,null,null,null,null,null,null,null,null,null,null,null,null,{"$f":"IF(BG313=\"\",\"\",MAX(BF$1:BF312)+1)","v":""},{"$f":"IF(TEXT(Kortelė!$B$26,\"mm\")=IF(A313=\"\",\"\",TEXT(A313,\"mm\")),A313,\"\")","v":""},null,"",{"$f":"_xlfn.IFNA(IF(BL313=\"\",\"\",MAX(BJ$1:BJ312)+1),\"\")","v":""},"",{"$f":"IF(IF(IF(VLOOKUP($BK313,Archyvas,17,FALSE)=$BL$1,\"\",VLOOKUP($BK313,Archyvas,20,FALSE))=0,\"\",IF(VLOOKUP($BK313,Archyvas,17,FALSE)=$BL$1,\"\",VLOOKUP($BK313,Archyvas,20,FALSE)))=\"\",\"\",IF(IF(VLOOKUP($BK313,Archyvas,17,FALSE)=$BL$1,\"\",VLOOKUP($BK313,Archyvas,17,FALSE))=0,\"\",IF(VLOOKUP($BK313,Archyvas,17,FALSE)=$BL$1,\"\",VLOOKUP($BK313,Archyvas,17,FALSE))))","v":{"$error":"#N/A"}},{"$f":"IF(IF(VLOOKUP($BK313,Archyvas,17,FALSE)=$BL$1,\"\",VLOOKUP($BK313,Archyvas,18,FALSE))=0,\"\",IF(VLOOKUP($BK313,Archyvas,17,FALSE)=$BL$1,\"\",VLOOKUP($BK313,Archyvas,18,FALSE)))","v":{"$error":"#N/A"}},{"$f":"IF(IF(VLOOKUP($BK313,Archyvas,17,FALSE)=$BL$1,\"\",VLOOKUP($BK313,Archyvas,19,FALSE))=0,\"\",IF(VLOOKUP($BK313,Archyvas,17,FALSE)=$BL$1,\"\",VLOOKUP($BK313,Archyvas,19,FALSE)))","v":{"$error":"#N/A"}},{"$f":"IF(IF(VLOOKUP($BK313,Archyvas,17,FALSE)=$BL$1,\"\",VLOOKUP($BK313,Archyvas,20,FALSE))=0,\"\",IF(VLOOKUP($BK313,Archyvas,17,FALSE)=$BL$1,\"\",VLOOKUP($BK313,Archyvas,20,FALSE)))","v":{"$error":"#N/A"}},{"$f":"IF(IF(VLOOKUP($BK313,Archyvas,17,FALSE)=$BL$1,\"\",VLOOKUP($BK313,Archyvas,21,FALSE))=0,\"\",IF(VLOOKUP($BK313,Archyvas,17,FALSE)=$BL$1,\"\",VLOOKUP($BK313,Archyvas,21,FALSE)))","v":{"$error":"#N/A"}},null,{"$f":"_xlfn.IFNA(IF(BS313=\"\",\"\",MAX(BR$1:BR312)+1),\"\")","v":""},"","","","","",""]
[null,null,null,null,null,null,null,null,null,null,null,null,null,null,null,null,null,null,null,null,null,null,null,null,null,null,null,null,null,null,null,null,null,null,null,null,null,null,null,null,null,null,null,null,null,null,null,null,null,null,null,null,null,null,null,null,null,{"$f":"IF(BG314=\"\",\"\",MAX(BF$1:BF313)+1)","v":""},{"$f":"IF(TEXT(Kortelė!$B$26,\"mm\")=IF(A314=\"\",\"\",TEXT(A314,\"mm\")),A314,\"\")","v":""},null,"",{"$f":"_xlfn.IFNA(IF(BL314=\"\",\"\",MAX(BJ$1:BJ313)+1),\"\")","v":""},"",{"$f":"IF(IF(IF(VLOOKUP($BK314,Archyvas,22,FALSE)=$BL$1,\"\",VLOOKUP($BK314,Archyvas,25,FALSE))=0,\"\",IF(VLOOKUP($BK314,Archyvas,22,FALSE)=$BL$1,\"\",VLOOKUP($BK314,Archyvas,25,FALSE)))=\"\",\"\",IF(IF(VLOOKUP($BK314,Archyvas,22,FALSE)=$BL$1,\"\",VLOOKUP($BK314,Archyvas,22,FALSE))=0,\"\",IF(VLOOKUP($BK314,Archyvas,22,FALSE)=$BL$1,\"\",VLOOKUP($BK314,Archyvas,22,FALSE))))","v":{"$error":"#N/A"}},{"$f":"IF(IF(VLOOKUP($BK314,Archyvas,22,FALSE)=$BL$1,\"\",VLOOKUP($BK314,Archyvas,23,FALSE))=0,\"\",IF(VLOOKUP($BK314,Archyvas,22,FALSE)=$BL$1,\"\",VLOOKUP($BK314,Archyvas,23,FALSE)))","v":{"$error":"#N/A"}},{"$f":"IF(IF(VLOOKUP($BK314,Archyvas,22,FALSE)=$BL$1,\"\",VLOOKUP($BK314,Archyvas,24,FALSE))=0,\"\",IF(VLOOKUP($BK314,Archyvas,22,FALSE)=$BL$1,\"\",VLOOKUP($BK314,Archyvas,24,FALSE)))","v":{"$error":"#N/A"}},{"$f":"IF(IF(VLOOKUP($BK314,Archyvas,22,FALSE)=$BL$1,\"\",VLOOKUP($BK314,Archyvas,25,FALSE))=0,\"\",IF(VLOOKUP($BK314,Archyvas,22,FALSE)=$BL$1,\"\",VLOOKUP($BK314,Archyvas,25,FALSE)))","v":{"$error":"#N/A"}},{"$f":"IF(IF(VLOOKUP($BK314,Archyvas,22,FALSE)=$BL$1,\"\",VLOOKUP($BK314,Archyvas,26,FALSE))=0,\"\",IF(VLOOKUP($BK314,Archyvas,22,FALSE)=$BL$1,\"\",VLOOKUP($BK314,Archyvas,26,FALSE)))","v":{"$error":"#N/A"}},null,{"$f":"_xlfn.IFNA(IF(BS314=\"\",\"\",MAX(BR$1:BR313)+1),\"\")","v":""},"","","","","",""]
[null,null,null,null,null,null,null,null,null,null,null,null,null,null,null,null,null,null,null,null,null,null,null,null,null,null,null,null,null,null,null,null,null,null,null,null,null,null,null,null,null,null,null,null,null,null,null,null,null,null,null,null,null,null,null,null,null,{"$f":"IF(BG315=\"\",\"\",MAX(BF$1:BF314)+1)","v":""},{"$f":"IF(TEXT(Kortelė!$B$26,\"mm\")=IF(A315=\"\",\"\",TEXT(A315,\"mm\")),A315,\"\")","v":""},null,"",{"$f":"_xlfn.IFNA(IF(BL315=\"\",\"\",MAX(BJ$1:BJ314)+1),\"\")","v":""},"",{"$f":"IF(IF(IF(VLOOKUP($BK315,Archyvas,27,FALSE)=$BL$1,\"\",VLOOKUP($BK315,Archyvas,30,FALSE))=0,\"\",IF(VLOOKUP($BK315,Archyvas,27,FALSE)=$BL$1,\"\",VLOOKUP($BK315,Archyvas,30,FALSE)))=\"\",\"\",IF(IF(VLOOKUP($BK315,Archyvas,27,FALSE)=$BL$1,\"\",VLOOKUP($BK315,Archyvas,27,FALSE))=0,\"\",IF(VLOOKUP($BK315,Archyvas,27,FALSE)=$BL$1,\"\",VLOOKUP($BK315,Archyvas,27,FALSE))))","v":{"$error":"#N/A"}},{"$f":"IF(IF(VLOOKUP($BK315,Archyvas,27,FALSE)=$BL$1,\"\",VLOOKUP($BK315,Archyvas,28,FALSE))=0,\"\",IF(VLOOKUP($BK315,Archyvas,27,FALSE)=$BL$1,\"\",VLOOKUP($BK315,Archyvas,28,FALSE)))","v":{"$error":"#N/A"}},{"$f":"IF(IF(VLOOKUP($BK315,Archyvas,27,FALSE)=$BL$1,\"\",VLOOKUP($BK315,Archyvas,29,FALSE))=0,\"\",IF(VLOOKUP($BK315,Archyvas,27,FALSE)=$BL$1,\"\",VLOOKUP($BK315,Archyvas,29,FALSE)))","v":{"$error":"#N/A"}},{"$f":"IF(IF(VLOOKUP($BK315,Archyvas,27,FALSE)=$BL$1,\"\",VLOOKUP($BK315,Archyvas,30,FALSE))=0,\"\",IF(VLOOKUP($BK315,Archyvas,27,FALSE)=$BL$1,\"\",VLOOKUP($BK315,Archyvas,30,FALSE)))","v":{"$error":"#N/A"}},{"$f":"IF(IF(VLOOKUP($BK315,Archyvas,27,FALSE)=$BL$1,\"\",VLOOKUP($BK315,Archyvas,31,FALSE))=0,\"\",IF(VLOOKUP($BK315,Archyvas,27,FALSE)=$BL$1,\"\",VLOOKUP($BK315,Archyvas,31,FALSE)))","v":{"$error":"#N/A"}},null,{"$f":"_xlfn.IFNA(IF(BS315=\"\",\"\",MAX(BR$1:BR314)+1),\"\")","v":""},"","","","","",""]
[null,null,null,null,null,null,null,null,null,null,null,null,null,null,null,null,null,null,null,null,null,null,null,null,null,null,null,null,null,null,null,null,null,null,null,null,null,null,null,null,null,null,null,null,null,null,null,null,null,null,null,null,null,null,null,null,null,{"$f":"IF(BG316=\"\",\"\",MAX(BF$1:BF315)+1)","v":""},{"$f":"IF(TEXT(Kortelė!$B$26,\"mm\")=IF(A316=\"\",\"\",TEXT(A316,\"mm\")),A316,\"\")","v":""},null,"",{"$f":"_xlfn.IFNA(IF(BL316=\"\",\"\",MAX(BJ$1:BJ315)+1),\"\")","v":""},"",{"$f":"IF(IF(IF(VLOOKUP($BK316,Archyvas,32,FALSE)=$BL$1,\"\",VLOOKUP($BK316,Archyvas,35,FALSE))=0,\"\",IF(VLOOKUP($BK316,Archyvas,32,FALSE)=$BL$1,\"\",VLOOKUP($BK316,Archyvas,35,FALSE)))=\"\",\"\",IF(IF(VLOOKUP($BK316,Archyvas,32,FALSE)=$BL$1,\"\",VLOOKUP($BK316,Archyvas,32,FALSE))=0,\"\",IF(VLOOKUP($BK316,Archyvas,32,FALSE)=$BL$1,\"\",VLOOKUP($BK316,Archyvas,32,FALSE))))","v":{"$error":"#N/A"}},{"$f":"IF(IF(VLOOKUP($BK316,Archyvas,32,FALSE)=$BL$1,\"\",VLOOKUP($BK316,Archyvas,33,FALSE))=0,\"\",IF(VLOOKUP($BK316,Archyvas,32,FALSE)=$BL$1,\"\",VLOOKUP($BK316,Archyvas,33,FALSE)))","v":{"$error":"#N/A"}},{"$f":"IF(IF(VLOOKUP($BK316,Archyvas,32,FALSE)=$BL$1,\"\",VLOOKUP($BK316,Archyvas,34,FALSE))=0,\"\",IF(VLOOKUP($BK316,Archyvas,32,FALSE)=$BL$1,\"\",VLOOKUP($BK316,Archyvas,34,FALSE)))","v":{"$error":"#N/A"}},{"$f":"IF(IF(VLOOKUP($BK316,Archyvas,32,FALSE)=$BL$1,\"\",VLOOKUP($BK316,Archyvas,35,FALSE))=0,\"\",IF(VLOOKUP($BK316,Archyvas,32,FALSE)=$BL$1,\"\",VLOOKUP($BK316,Archyvas,35,FALSE)))","v":{"$error":"#N/A"}},{"$f":"IF(IF(VLOOKUP($BK316,Archyvas,32,FALSE)=$BL$1,\"\",VLOOKUP($BK316,Archyvas,36,FALSE))=0,\"\",IF(VLOOKUP($BK316,Archyvas,32,FALSE)=$BL$1,\"\",VLOOKUP($BK316,Archyvas,36,FALSE)))","v":{"$error":"#N/A"}},null,{"$f":"_xlfn.IFNA(IF(BS316=\"\",\"\",MAX(BR$1:BR315)+1),\"\")","v":""},"","","","","",""]
[null,null,null,null,null,null,null,null,null,null,null,null,null,null,null,null,null,null,null,null,null,null,null,null,null,null,null,null,null,null,null,null,null,null,null,null,null,null,null,null,null,null,null,null,null,null,null,null,null,null,null,null,null,null,null,null,null,{"$f":"IF(BG317=\"\",\"\",MAX(BF$1:BF316)+1)","v":""},{"$f":"IF(TEXT(Kortelė!$B$26,\"mm\")=IF(A317=\"\",\"\",TEXT(A317,\"mm\")),A317,\"\")","v":""},null,"",{"$f":"_xlfn.IFNA(IF(BL317=\"\",\"\",MAX(BJ$1:BJ316)+1),\"\")","v":""},"",{"$f":"IF(IF(IF(VLOOKUP($BK317,Archyvas,37,FALSE)=$BL$1,\"\",VLOOKUP($BK317,Archyvas,40,FALSE))=0,\"\",IF(VLOOKUP($BK317,Archyvas,37,FALSE)=$BL$1,\"\",VLOOKUP($BK317,Archyvas,40,FALSE)))=\"\",\"\",IF(IF(VLOOKUP($BK317,Archyvas,37,FALSE)=$BL$1,\"\",VLOOKUP($BK317,Archyvas,37,FALSE))=0,\"\",IF(VLOOKUP($BK317,Archyvas,37,FALSE)=$BL$1,\"\",VLOOKUP($BK317,Archyvas,37,FALSE))))","v":{"$error":"#N/A"}},{"$f":"IF(IF(VLOOKUP($BK317,Archyvas,37,FALSE)=$BL$1,\"\",VLOOKUP($BK317,Archyvas,38,FALSE))=0,\"\",IF(VLOOKUP($BK317,Archyvas,37,FALSE)=$BL$1,\"\",VLOOKUP($BK317,Archyvas,38,FALSE)))","v":{"$error":"#N/A"}},{"$f":"IF(IF(VLOOKUP($BK317,Archyvas,37,FALSE)=$BL$1,\"\",VLOOKUP($BK317,Archyvas,39,FALSE))=0,\"\",IF(VLOOKUP($BK317,Archyvas,37,FALSE)=$BL$1,\"\",VLOOKUP($BK317,Archyvas,39,FALSE)))","v":{"$error":"#N/A"}},{"$f":"IF(IF(VLOOKUP($BK317,Archyvas,37,FALSE)=$BL$1,\"\",VLOOKUP($BK317,Archyvas,40,FALSE))=0,\"\",IF(VLOOKUP($BK317,Archyvas,37,FALSE)=$BL$1,\"\",VLOOKUP($BK317,Archyvas,40,FALSE)))","v":{"$error":"#N/A"}},{"$f":"IF(IF(VLOOKUP($BK317,Archyvas,37,FALSE)=$BL$1,\"\",VLOOKUP($BK317,Archyvas,41,FALSE))=0,\"\",IF(VLOOKUP($BK317,Archyvas,37,FALSE)=$BL$1,\"\",VLOOKUP($BK317,Archyvas,41,FALSE)))","v":{"$error":"#N/A"}},null,{"$f":"_xlfn.IFNA(IF(BS317=\"\",\"\",MAX(BR$1:BR316)+1),\"\")","v":""},"","","","","",""]
[null,null,null,null,null,null,null,null,null,null,null,null,null,null,null,null,null,null,null,null,null,null,null,null,null,null,null,null,null,null,null,null,null,null,null,null,null,null,null,null,null,null,null,null,null,null,null,null,null,null,null,null,null,null,null,null,null,{"$f":"IF(BG318=\"\",\"\",MAX(BF$1:BF317)+1)","v":""},{"$f":"IF(TEXT(Kortelė!$B$26,\"mm\")=IF(A318=\"\",\"\",TEXT(A318,\"mm\")),A318,\"\")","v":""},null,"",{"$f":"_xlfn.IFNA(IF(BL318=\"\",\"\",MAX(BJ$1:BJ317)+1),\"\")","v":""},"",{"$f":"IF(IF(IF(VLOOKUP($BK318,Archyvas,42,FALSE)=$BL$1,\"\",VLOOKUP($BK318,Archyvas,45,FALSE))=0,\"\",IF(VLOOKUP($BK318,Archyvas,42,FALSE)=$BL$1,\"\",VLOOKUP($BK318,Archyvas,45,FALSE)))=\"\",\"\",IF(IF(VLOOKUP($BK318,Archyvas,42,FALSE)=$BL$1,\"\",VLOOKUP($BK318,Archyvas,42,FALSE))=0,\"\",IF(VLOOKUP($BK318,Archyvas,42,FALSE)=$BL$1,\"\",VLOOKUP($BK318,Archyvas,42,FALSE))))","v":{"$error":"#N/A"}},{"$f":"IF(IF(VLOOKUP($BK318,Archyvas,42,FALSE)=$BL$1,\"\",VLOOKUP($BK318,Archyvas,43,FALSE))=0,\"\",IF(VLOOKUP($BK318,Archyvas,42,FALSE)=$BL$1,\"\",VLOOKUP($BK318,Archyvas,43,FALSE)))","v":{"$error":"#N/A"}},{"$f":"IF(IF(VLOOKUP($BK318,Archyvas,42,FALSE)=$BL$1,\"\",VLOOKUP($BK318,Archyvas,44,FALSE))=0,\"\",IF(VLOOKUP($BK318,Archyvas,42,FALSE)=$BL$1,\"\",VLOOKUP($BK318,Archyvas,44,FALSE)))","v":{"$error":"#N/A"}},{"$f":"IF(IF(VLOOKUP($BK318,Archyvas,42,FALSE)=$BL$1,\"\",VLOOKUP($BK318,Archyvas,45,FALSE))=0,\"\",IF(VLOOKUP($BK318,Archyvas,42,FALSE)=$BL$1,\"\",VLOOKUP($BK318,Archyvas,45,FALSE)))","v":{"$error":"#N/A"}},{"$f":"IF(IF(VLOOKUP($BK318,Archyvas,42,FALSE)=$BL$1,\"\",VLOOKUP($BK318,Archyvas,46,FALSE))=0,\"\",IF(VLOOKUP($BK318,Archyvas,42,FALSE)=$BL$1,\"\",VLOOKUP($BK318,Archyvas,46,FALSE)))","v":{"$error":"#N/A"}},null,{"$f":"_xlfn.IFNA(IF(BS318=\"\",\"\",MAX(BR$1:BR317)+1),\"\")","v":""},"","","","","",""]
[null,null,null,null,null,null,null,null,null,null,null,null,null,null,null,null,null,null,null,null,null,null,null,null,null,null,null,null,null,null,null,null,null,null,null,null,null,null,null,null,null,null,null,null,null,null,null,null,null,null,null,null,null,null,null,null,null,{"$f":"IF(BG319=\"\",\"\",MAX(BF$1:BF318)+1)","v":""},{"$f":"IF(TEXT(Kortelė!$B$26,\"mm\")=IF(A319=\"\",\"\",TEXT(A319,\"mm\")),A319,\"\")","v":""},null,"",{"$f":"_xlfn.IFNA(IF(BL319=\"\",\"\",MAX(BJ$1:BJ318)+1),\"\")","v":""},"",{"$f":"IF(IF(IF(VLOOKUP($BK319,Archyvas,47,FALSE)=$BL$1,\"\",VLOOKUP($BK319,Archyvas,50,FALSE))=0,\"\",IF(VLOOKUP($BK319,Archyvas,47,FALSE)=$BL$1,\"\",VLOOKUP($BK319,Archyvas,50,FALSE)))=\"\",\"\",IF(IF(VLOOKUP($BK319,Archyvas,47,FALSE)=$BL$1,\"\",VLOOKUP($BK319,Archyvas,47,FALSE))=0,\"\",IF(VLOOKUP($BK319,Archyvas,47,FALSE)=$BL$1,\"\",VLOOKUP($BK319,Archyvas,47,FALSE))))","v":{"$error":"#N/A"}},{"$f":"IF(IF(VLOOKUP($BK319,Archyvas,47,FALSE)=$BL$1,\"\",VLOOKUP($BK319,Archyvas,48,FALSE))=0,\"\",IF(VLOOKUP($BK319,Archyvas,47,FALSE)=$BL$1,\"\",VLOOKUP($BK319,Archyvas,48,FALSE)))","v":{"$error":"#N/A"}},{"$f":"IF(IF(VLOOKUP($BK319,Archyvas,47,FALSE)=$BL$1,\"\",VLOOKUP($BK319,Archyvas,49,FALSE))=0,\"\",IF(VLOOKUP($BK319,Archyvas,47,FALSE)=$BL$1,\"\",VLOOKUP($BK319,Archyvas,49,FALSE)))","v":{"$error":"#N/A"}},{"$f":"IF(IF(VLOOKUP($BK319,Archyvas,47,FALSE)=$BL$1,\"\",VLOOKUP($BK319,Archyvas,50,FALSE))=0,\"\",IF(VLOOKUP($BK319,Archyvas,47,FALSE)=$BL$1,\"\",VLOOKUP($BK319,Archyvas,50,FALSE)))","v":{"$error":"#N/A"}},{"$f":"IF(IF(VLOOKUP($BK319,Archyvas,47,FALSE)=$BL$1,\"\",VLOOKUP($BK319,Archyvas,51,FALSE))=0,\"\",IF(VLOOKUP($BK319,Archyvas,47,FALSE)=$BL$1,\"\",VLOOKUP($BK319,Archyvas,51,FALSE)))","v":{"$error":"#N/A"}},null,{"$f":"_xlfn.IFNA(IF(BS319=\"\",\"\",MAX(BR$1:BR318)+1),\"\")","v":""},"","","","","",""]
[null,null,null,null,null,null,null,null,null,null,null,null,null,null,null,null,null,null,null,null,null,null,null,null,null,null,null,null,null,null,null,null,null,null,null,null,null,null,null,null,null,null,null,null,null,null,null,null,null,null,null,null,null,null,null,null,null,{"$f":"IF(BG320=\"\",\"\",MAX(BF$1:BF319)+1)","v":""},{"$f":"IF(TEXT(Kortelė!$B$26,\"mm\")=IF(A320=\"\",\"\",TEXT(A320,\"mm\")),A320,\"\")","v":""},null,"",{"$f":"_xlfn.IFNA(IF(BL320=\"\",\"\",MAX(BJ$1:BJ319)+1),\"\")","v":""},null,null,null,null,null,null,null,{"$f":"_xlfn.IFNA(IF(BS320=\"\",\"\",MAX(BR$1:BR319)+1),\"\")","v":""},"","","","","",""]
[null,null,null,null,null,null,null,null,null,null,null,null,null,null,null,null,null,null,null,null,null,null,null,null,null,null,null,null,null,null,null,null,null,null,null,null,null,null,null,null,null,null,null,null,null,null,null,null,null,null,null,null,null,null,null,null,null,{"$f":"IF(BG321=\"\",\"\",MAX(BF$1:BF320)+1)","v":""},{"$f":"IF(TEXT(Kortelė!$B$26,\"mm\")=IF(A321=\"\",\"\",TEXT(A321,\"mm\")),A321,\"\")","v":""},null,"",{"$f":"_xlfn.IFNA(IF(BL321=\"\",\"\",MAX(BJ$1:BJ320)+1),\"\")","v":""},{"$f":"$BI$31","v":""},{"$f":"IF(IF(IF(VLOOKUP($BK321,Archyvas,2,FALSE)=$BL$1,\"\",VLOOKUP($BK321,Archyvas,5,FALSE))=0,\"\",IF(VLOOKUP($BK321,Archyvas,2,FALSE)=$BL$1,\"\",VLOOKUP($BK321,Archyvas,5,FALSE)))=\"\",\"\",IF(IF(VLOOKUP($BK321,Archyvas,2,FALSE)=$BL$1,\"\",VLOOKUP($BK321,Archyvas,2,FALSE))=0,\"\",IF(VLOOKUP($BK321,Archyvas,2,FALSE)=$BL$1,\"\",VLOOKUP($BK321,Archyvas,2,FALSE))))","v":{"$error":"#N/A"}},{"$f":"IF(IF(VLOOKUP($BK321,Archyvas,2,FALSE)=$BL$1,\"\",VLOOKUP($BK321,Archyvas,3,FALSE))=0,\"\",IF(VLOOKUP($BK321,Archyvas,2,FALSE)=$BL$1,\"\",VLOOKUP($BK321,Archyvas,3,FALSE)))","v":{"$error":"#N/A"}},{"$f":"IF(IF(VLOOKUP($BK321,Archyvas,2,FALSE)=$BL$1,\"\",VLOOKUP($BK321,Archyvas,4,FALSE))=0,\"\",IF(VLOOKUP($BK321,Archyvas,2,FALSE)=$BL$1,\"\",VLOOKUP($BK321,Archyvas,4,FALSE)))","v":{"$error":"#N/A"}},{"$f":"IF(IF(VLOOKUP($BK321,Archyvas,2,FALSE)=$BL$1,\"\",VLOOKUP($BK321,Archyvas,5,FALSE))=0,\"\",IF(VLOOKUP($BK321,Archyvas,2,FALSE)=$BL$1,\"\",VLOOKUP($BK321,Archyvas,5,FALSE)))","v":{"$error":"#N/A"}},{"$f":"IF(IF(VLOOKUP($BK321,Archyvas,2,FALSE)=$BL$1,\"\",VLOOKUP($BK321,Archyvas,6,FALSE))=0,\"\",IF(VLOOKUP($BK321,Archyvas,2,FALSE)=$BL$1,\"\",VLOOKUP($BK321,Archyvas,6,FALSE)))","v":{"$error":"#N/A"}},null,{"$f":"_xlfn.IFNA(IF(BS321=\"\",\"\",MAX(BR$1:BR320)+1),\"\")","v":""},"","","","","",""]
[null,null,null,null,null,null,null,null,null,null,null,null,null,null,null,null,null,null,null,null,null,null,null,null,null,null,null,null,null,null,null,null,null,null,null,null,null,null,null,null,null,null,null,null,null,null,null,null,null,null,null,null,null,null,null,null,null,{"$f":"IF(BG322=\"\",\"\",MAX(BF$1:BF321)+1)","v":""},{"$f":"IF(TEXT(Kortelė!$B$26,\"mm\")=IF(A322=\"\",\"\",TEXT(A322,\"mm\")),A322,\"\")","v":""},null,{"$f":"IFERROR(INDEX($BG$2:$BG$500,MATCH(ROW()-ROW($A$1),$BF$2:$BF$500,0)),\"\")","v":""},{"$f":"_xlfn.IFNA(IF(BL322=\"\",\"\",MAX(BJ$1:BJ321)+1),\"\")","v":""},{"$f":"BK321","v":""},{"$f":"IF(IF(IF(VLOOKUP($BK322,Archyvas,7,FALSE)=$BL$1,\"\",VLOOKUP($BK322,Archyvas,10,FALSE))=0,\"\",IF(VLOOKUP($BK322,Archyvas,7,FALSE)=$BL$1,\"\",VLOOKUP($BK322,Archyvas,10,FALSE)))=\"\",\"\",IF(IF(VLOOKUP($BK322,Archyvas,7,FALSE)=$BL$1,\"\",VLOOKUP($BK322,Archyvas,7,FALSE))=0,\"\",IF(VLOOKUP($BK322,Archyvas,7,FALSE)=$BL$1,\"\",VLOOKUP($BK322,Archyvas,7,FALSE))))","v":{"$error":"#N/A"}},{"$f":"IF(IF(VLOOKUP($BK322,Archyvas,7,FALSE)=$BL$1,\"\",VLOOKUP($BK322,Archyvas,8,FALSE))=0,\"\",IF(VLOOKUP($BK322,Archyvas,7,FALSE)=$BL$1,\"\",VLOOKUP($BK322,Archyvas,8,FALSE)))","v":{"$error":"#N/A"}},{"$f":"IF(IF(VLOOKUP($BK322,Archyvas,7,FALSE)=$BL$1,\"\",VLOOKUP($BK322,Archyvas,9,FALSE))=0,\"\",IF(VLOOKUP($BK322,Archyvas,7,FALSE)=$BL$1,\"\",VLOOKUP($BK322,Archyvas,9,FALSE)))","v":{"$error":"#N/A"}},{"$f":"IF(IF(VLOOKUP($BK322,Archyvas,7,FALSE)=$BL$1,\"\",VLOOKUP($BK322,Archyvas,10,FALSE))=0,\"\",IF(VLOOKUP($BK322,Archyvas,7,FALSE)=$BL$1,\"\",VLOOKUP($BK322,Archyvas,10,FALSE)))","v":{"$error":"#N/A"}},{"$f":"IF(IF(VLOOKUP($BK322,Archyvas,7,FALSE)=$BL$1,\"\",VLOOKUP($BK322,Archyvas,11,FALSE))=0,\"\",IF(VLOOKUP($BK322,Archyvas,7,FALSE)=$BL$1,\"\",VLOOKUP($BK322,Archyvas,11,FALSE)))","v":{"$error":"#N/A"}},null,{"$f":"_xlfn.IFNA(IF(BS322=\"\",\"\",MAX(BR$1:BR321)+1),\"\")","v":""},{"$f":"IFERROR(INDEX(BK$2:BK$330,MATCH(ROW()-ROW($BJ$1),$BJ$2:$BJ$330,0)),\"\")","v":""},{"$f":"IFERROR(INDEX(BL$2:BL$330,MATCH(ROW()-ROW($BJ$1),$BJ$2:$BJ$330,0)),\"\")","v":""},{"$f":"IFERROR(INDEX(BM$2:BM$330,MATCH(ROW()-ROW($BJ$1),$BJ$2:$BJ$330,0)),\"\")","v":""},{"$f":"IFERROR(INDEX(BN$2:BN$330,MATCH(ROW()-ROW($BJ$1),$BJ$2:$BJ$330,0)),\"\")","v":""},{"$f":"IFERROR(INDEX(BO$2:BO$330,MATCH(ROW()-ROW($BJ$1),$BJ$2:$BJ$330,0)),\"\")","v":""},{"$f":"IFERROR(INDEX(BP$2:BP$330,MATCH(ROW()-ROW($BJ$1),$BJ$2:$BJ$330,0)),\"\")","v":""}]
[null,null,null,null,null,null,null,null,null,null,null,null,null,null,null,null,null,null,null,null,null,null,null,null,null,null,null,null,null,null,null,null,null,null,null,null,null,null,null,null,null,null,null,null,null,null,null,null,null,null,null,null,null,null,null,null,null,{"$f":"IF(BG323=\"\",\"\",MAX(BF$1:BF322)+1)","v":""},{"$f":"IF(TEXT(Kortelė!$B$26,\"mm\")=IF(A323=\"\",\"\",TEXT(A323,\"mm\")),A323,\"\")","v":""},null,"",{"$f":"_xlfn.IFNA(IF(BL323=\"\",\"\",MAX(BJ$1:BJ322)+1),\"\")","v":""},"",{"$f":"IF(IF(IF(VLOOKUP($BK323,Archyvas,12,FALSE)=$BL$1,\"\",VLOOKUP($BK323,Archyvas,15,FALSE))=0,\"\",IF(VLOOKUP($BK323,Archyvas,12,FALSE)=$BL$1,\"\",VLOOKUP($BK323,Archyvas,15,FALSE)))=\"\",\"\",IF(IF(VLOOKUP($BK323,Archyvas,12,FALSE)=$BL$1,\"\",VLOOKUP($BK323,Archyvas,12,FALSE))=0,\"\",IF(VLOOKUP($BK323,Archyvas,12,FALSE)=$BL$1,\"\",VLOOKUP($BK323,Archyvas,12,FALSE))))","v":{"$error":"#N/A"}},{"$f":"IF(IF(VLOOKUP($BK323,Archyvas,12,FALSE)=$BL$1,\"\",VLOOKUP($BK323,Archyvas,13,FALSE))=0,\"\",IF(VLOOKUP($BK323,Archyvas,12,FALSE)=$BL$1,\"\",VLOOKUP($BK323,Archyvas,13,FALSE)))","v":{"$error":"#N/A"}},{"$f":"IF(IF(VLOOKUP($BK323,Archyvas,12,FALSE)=$BL$1,\"\",VLOOKUP($BK323,Archyvas,14,FALSE))=0,\"\",IF(VLOOKUP($BK323,Archyvas,12,FALSE)=$BL$1,\"\",VLOOKUP($BK323,Archyvas,14,FALSE)))","v":{"$error":"#N/A"}},{"$f":"IF(IF(VLOOKUP($BK323,Archyvas,12,FALSE)=$BL$1,\"\",VLOOKUP($BK323,Archyvas,15,FALSE))=0,\"\",IF(VLOOKUP($BK323,Archyvas,12,FALSE)=$BL$1,\"\",VLOOKUP($BK323,Archyvas,15,FALSE)))","v":{"$error":"#N/A"}},{"$f":"IF(IF(VLOOKUP($BK323,Archyvas,12,FALSE)=$BL$1,\"\",VLOOKUP($BK323,Archyvas,16,FALSE))=0,\"\",IF(VLOOKUP($BK323,Archyvas,12,FALSE)=$BL$1,\"\",VLOOKUP($BK323,Archyvas,16,FALSE)))","v":{"$error":"#N/A"}},null,{"$f":"_xlfn.IFNA(IF(BS323=\"\",\"\",MAX(BR$1:BR322)+1),\"\")","v":""},"","","","","",""]
[null,null,null,null,null,null,null,null,null,null,null,null,null,null,null,null,null,null,null,null,null,null,null,null,null,null,null,null,null,null,null,null,null,null,null,null,null,null,null,null,null,null,null,null,null,null,null,null,null,null,null,null,null,null,null,null,null,{"$f":"IF(BG324=\"\",\"\",MAX(BF$1:BF323)+1)","v":""},{"$f":"IF(TEXT(Kortelė!$B$26,\"mm\")=IF(A324=\"\",\"\",TEXT(A324,\"mm\")),A324,\"\")","v":""},null,"",{"$f":"_xlfn.IFNA(IF(BL324=\"\",\"\",MAX(BJ$1:BJ323)+1),\"\")","v":""},"",{"$f":"IF(IF(IF(VLOOKUP($BK324,Archyvas,17,FALSE)=$BL$1,\"\",VLOOKUP($BK324,Archyvas,20,FALSE))=0,\"\",IF(VLOOKUP($BK324,Archyvas,17,FALSE)=$BL$1,\"\",VLOOKUP($BK324,Archyvas,20,FALSE)))=\"\",\"\",IF(IF(VLOOKUP($BK324,Archyvas,17,FALSE)=$BL$1,\"\",VLOOKUP($BK324,Archyvas,17,FALSE))=0,\"\",IF(VLOOKUP($BK324,Archyvas,17,FALSE)=$BL$1,\"\",VLOOKUP($BK324,Archyvas,17,FALSE))))","v":{"$error":"#N/A"}},{"$f":"IF(IF(VLOOKUP($BK324,Archyvas,17,FALSE)=$BL$1,\"\",VLOOKUP($BK324,Archyvas,18,FALSE))=0,\"\",IF(VLOOKUP($BK324,Archyvas,17,FALSE)=$BL$1,\"\",VLOOKUP($BK324,Archyvas,18,FALSE)))","v":{"$error":"#N/A"}},{"$f":"IF(IF(VLOOKUP($BK324,Archyvas,17,FALSE)=$BL$1,\"\",VLOOKUP($BK324,Archyvas,19,FALSE))=0,\"\",IF(VLOOKUP($BK324,Archyvas,17,FALSE)=$BL$1,\"\",VLOOKUP($BK324,Archyvas,19,FALSE)))","v":{"$error":"#N/A"}},{"$f":"IF(IF(VLOOKUP($BK324,Archyvas,17,FALSE)=$BL$1,\"\",VLOOKUP($BK324,Archyvas,20,FALSE))=0,\"\",IF(VLOOKUP($BK324,Archyvas,17,FALSE)=$BL$1,\"\",VLOOKUP($BK324,Archyvas,20,FALSE)))","v":{"$error":"#N/A"}},{"$f":"IF(IF(VLOOKUP($BK324,Archyvas,17,FALSE)=$BL$1,\"\",VLOOKUP($BK324,Archyvas,21,FALSE))=0,\"\",IF(VLOOKUP($BK324,Archyvas,17,FALSE)=$BL$1,\"\",VLOOKUP($BK324,Archyvas,21,FALSE)))","v":{"$error":"#N/A"}},null,{"$f":"_xlfn.IFNA(IF(BS324=\"\",\"\",MAX(BR$1:BR323)+1),\"\")","v":""},"","","","","",""]
[null,null,null,null,null,null,null,null,null,null,null,null,null,null,null,null,null,null,null,null,null,null,null,null,null,null,null,null,null,null,null,null,null,null,null,null,null,null,null,null,null,null,null,null,null,null,null,null,null,null,null,null,null,null,null,null,null,{"$f":"IF(BG325=\"\",\"\",MAX(BF$1:BF324)+1)","v":""},{"$f":"IF(TEXT(Kortelė!$B$26,\"mm\")=IF(A325=\"\",\"\",TEXT(A325,\"mm\")),A325,\"\")","v":""},null,"",{"$f":"_xlfn.IFNA(IF(BL325=\"\",\"\",MAX(BJ$1:BJ324)+1),\"\")","v":""},"",{"$f":"IF(IF(IF(VLOOKUP($BK325,Archyvas,22,FALSE)=$BL$1,\"\",VLOOKUP($BK325,Archyvas,25,FALSE))=0,\"\",IF(VLOOKUP($BK325,Archyvas,22,FALSE)=$BL$1,\"\",VLOOKUP($BK325,Archyvas,25,FALSE)))=\"\",\"\",IF(IF(VLOOKUP($BK325,Archyvas,22,FALSE)=$BL$1,\"\",VLOOKUP($BK325,Archyvas,22,FALSE))=0,\"\",IF(VLOOKUP($BK325,Archyvas,22,FALSE)=$BL$1,\"\",VLOOKUP($BK325,Archyvas,22,FALSE))))","v":{"$error":"#N/A"}},{"$f":"IF(IF(VLOOKUP($BK325,Archyvas,22,FALSE)=$BL$1,\"\",VLOOKUP($BK325,Archyvas,23,FALSE))=0,\"\",IF(VLOOKUP($BK325,Archyvas,22,FALSE)=$BL$1,\"\",VLOOKUP($BK325,Archyvas,23,FALSE)))","v":{"$error":"#N/A"}},{"$f":"IF(IF(VLOOKUP($BK325,Archyvas,22,FALSE)=$BL$1,\"\",VLOOKUP($BK325,Archyvas,24,FALSE))=0,\"\",IF(VLOOKUP($BK325,Archyvas,22,FALSE)=$BL$1,\"\",VLOOKUP($BK325,Archyvas,24,FALSE)))","v":{"$error":"#N/A"}},{"$f":"IF(IF(VLOOKUP($BK325,Archyvas,22,FALSE)=$BL$1,\"\",VLOOKUP($BK325,Archyvas,25,FALSE))=0,\"\",IF(VLOOKUP($BK325,Archyvas,22,FALSE)=$BL$1,\"\",VLOOKUP($BK325,Archyvas,25,FALSE)))","v":{"$error":"#N/A"}},{"$f":"IF(IF(VLOOKUP($BK325,Archyvas,22,FALSE)=$BL$1,\"\",VLOOKUP($BK325,Archyvas,26,FALSE))=0,\"\",IF(VLOOKUP($BK325,Archyvas,22,FALSE)=$BL$1,\"\",VLOOKUP($BK325,Archyvas,26,FALSE)))","v":{"$error":"#N/A"}},null,{"$f":"_xlfn.IFNA(IF(BS325=\"\",\"\",MAX(BR$1:BR324)+1),\"\")","v":""},"","","","","",""]
[null,null,null,null,null,null,null,null,null,null,null,null,null,null,null,null,null,null,null,null,null,null,null,null,null,null,null,null,null,null,null,null,null,null,null,null,null,null,null,null,null,null,null,null,null,null,null,null,null,null,null,null,null,null,null,null,null,{"$f":"IF(BG326=\"\",\"\",MAX(BF$1:BF325)+1)","v":""},{"$f":"IF(TEXT(Kortelė!$B$26,\"mm\")=IF(A326=\"\",\"\",TEXT(A326,\"mm\")),A326,\"\")","v":""},null,"",{"$f":"_xlfn.IFNA(IF(BL326=\"\",\"\",MAX(BJ$1:BJ325)+1),\"\")","v":""},"",{"$f":"IF(IF(IF(VLOOKUP($BK326,Archyvas,27,FALSE)=$BL$1,\"\",VLOOKUP($BK326,Archyvas,30,FALSE))=0,\"\",IF(VLOOKUP($BK326,Archyvas,27,FALSE)=$BL$1,\"\",VLOOKUP($BK326,Archyvas,30,FALSE)))=\"\",\"\",IF(IF(VLOOKUP($BK326,Archyvas,27,FALSE)=$BL$1,\"\",VLOOKUP($BK326,Archyvas,27,FALSE))=0,\"\",IF(VLOOKUP($BK326,Archyvas,27,FALSE)=$BL$1,\"\",VLOOKUP($BK326,Archyvas,27,FALSE))))","v":{"$error":"#N/A"}},{"$f":"IF(IF(VLOOKUP($BK326,Archyvas,27,FALSE)=$BL$1,\"\",VLOOKUP($BK326,Archyvas,28,FALSE))=0,\"\",IF(VLOOKUP($BK326,Archyvas,27,FALSE)=$BL$1,\"\",VLOOKUP($BK326,Archyvas,28,FALSE)))","v":{"$error":"#N/A"}},{"$f":"IF(IF(VLOOKUP($BK326,Archyvas,27,FALSE)=$BL$1,\"\",VLOOKUP($BK326,Archyvas,29,FALSE))=0,\"\",IF(VLOOKUP($BK326,Archyvas,27,FALSE)=$BL$1,\"\",VLOOKUP($BK326,Archyvas,29,FALSE)))","v":{"$error":"#N/A"}},{"$f":"IF(IF(VLOOKUP($BK326,Archyvas,27,FALSE)=$BL$1,\"\",VLOOKUP($BK326,Archyvas,30,FALSE))=0,\"\",IF(VLOOKUP($BK326,Archyvas,27,FALSE)=$BL$1,\"\",VLOOKUP($BK326,Archyvas,30,FALSE)))","v":{"$error":"#N/A"}},{"$f":"IF(IF(VLOOKUP($BK326,Archyvas,27,FALSE)=$BL$1,\"\",VLOOKUP($BK326,Archyvas,31,FALSE))=0,\"\",IF(VLOOKUP($BK326,Archyvas,27,FALSE)=$BL$1,\"\",VLOOKUP($BK326,Archyvas,31,FALSE)))","v":{"$error":"#N/A"}},null,{"$f":"_xlfn.IFNA(IF(BS326=\"\",\"\",MAX(BR$1:BR325)+1),\"\")","v":""},"","","","","",""]
[null,null,null,null,null,null,null,null,null,null,null,null,null,null,null,null,null,null,null,null,null,null,null,null,null,null,null,null,null,null,null,null,null,null,null,null,null,null,null,null,null,null,null,null,null,null,null,null,null,null,null,null,null,null,null,null,null,{"$f":"IF(BG327=\"\",\"\",MAX(BF$1:BF326)+1)","v":""},{"$f":"IF(TEXT(Kortelė!$B$26,\"mm\")=IF(A327=\"\",\"\",TEXT(A327,\"mm\")),A327,\"\")","v":""},null,"",{"$f":"_xlfn.IFNA(IF(BL327=\"\",\"\",MAX(BJ$1:BJ326)+1),\"\")","v":""},"",{"$f":"IF(IF(IF(VLOOKUP($BK327,Archyvas,32,FALSE)=$BL$1,\"\",VLOOKUP($BK327,Archyvas,35,FALSE))=0,\"\",IF(VLOOKUP($BK327,Archyvas,32,FALSE)=$BL$1,\"\",VLOOKUP($BK327,Archyvas,35,FALSE)))=\"\",\"\",IF(IF(VLOOKUP($BK327,Archyvas,32,FALSE)=$BL$1,\"\",VLOOKUP($BK327,Archyvas,32,FALSE))=0,\"\",IF(VLOOKUP($BK327,Archyvas,32,FALSE)=$BL$1,\"\",VLOOKUP($BK327,Archyvas,32,FALSE))))","v":{"$error":"#N/A"}},{"$f":"IF(IF(VLOOKUP($BK327,Archyvas,32,FALSE)=$BL$1,\"\",VLOOKUP($BK327,Archyvas,33,FALSE))=0,\"\",IF(VLOOKUP($BK327,Archyvas,32,FALSE)=$BL$1,\"\",VLOOKUP($BK327,Archyvas,33,FALSE)))","v":{"$error":"#N/A"}},{"$f":"IF(IF(VLOOKUP($BK327,Archyvas,32,FALSE)=$BL$1,\"\",VLOOKUP($BK327,Archyvas,34,FALSE))=0,\"\",IF(VLOOKUP($BK327,Archyvas,32,FALSE)=$BL$1,\"\",VLOOKUP($BK327,Archyvas,34,FALSE)))","v":{"$error":"#N/A"}},{"$f":"IF(IF(VLOOKUP($BK327,Archyvas,32,FALSE)=$BL$1,\"\",VLOOKUP($BK327,Archyvas,35,FALSE))=0,\"\",IF(VLOOKUP($BK327,Archyvas,32,FALSE)=$BL$1,\"\",VLOOKUP($BK327,Archyvas,35,FALSE)))","v":{"$error":"#N/A"}},{"$f":"IF(IF(VLOOKUP($BK327,Archyvas,32,FALSE)=$BL$1,\"\",VLOOKUP($BK327,Archyvas,36,FALSE))=0,\"\",IF(VLOOKUP($BK327,Archyvas,32,FALSE)=$BL$1,\"\",VLOOKUP($BK327,Archyvas,36,FALSE)))","v":{"$error":"#N/A"}},null,{"$f":"_xlfn.IFNA(IF(BS327=\"\",\"\",MAX(BR$1:BR326)+1),\"\")","v":""},"","","","","",""]
[null,null,null,null,null,null,null,null,null,null,null,null,null,null,null,null,null,null,null,null,null,null,null,null,null,null,null,null,null,null,null,null,null,null,null,null,null,null,null,null,null,null,null,null,null,null,null,null,null,null,null,null,null,null,null,null,null,{"$f":"IF(BG328=\"\",\"\",MAX(BF$1:BF327)+1)","v":""},{"$f":"IF(TEXT(Kortelė!$B$26,\"mm\")=IF(A328=\"\",\"\",TEXT(A328,\"mm\")),A328,\"\")","v":""},null,"",{"$f":"_xlfn.IFNA(IF(BL328=\"\",\"\",MAX(BJ$1:BJ327)+1),\"\")","v":""},"",{"$f":"IF(IF(IF(VLOOKUP($BK328,Archyvas,37,FALSE)=$BL$1,\"\",VLOOKUP($BK328,Archyvas,40,FALSE))=0,\"\",IF(VLOOKUP($BK328,Archyvas,37,FALSE)=$BL$1,\"\",VLOOKUP($BK328,Archyvas,40,FALSE)))=\"\",\"\",IF(IF(VLOOKUP($BK328,Archyvas,37,FALSE)=$BL$1,\"\",VLOOKUP($BK328,Archyvas,37,FALSE))=0,\"\",IF(VLOOKUP($BK328,Archyvas,37,FALSE)=$BL$1,\"\",VLOOKUP($BK328,Archyvas,37,FALSE))))","v":{"$error":"#N/A"}},{"$f":"IF(IF(VLOOKUP($BK328,Archyvas,37,FALSE)=$BL$1,\"\",VLOOKUP($BK328,Archyvas,38,FALSE))=0,\"\",IF(VLOOKUP($BK328,Archyvas,37,FALSE)=$BL$1,\"\",VLOOKUP($BK328,Archyvas,38,FALSE)))","v":{"$error":"#N/A"}},{"$f":"IF(IF(VLOOKUP($BK328,Archyvas,37,FALSE)=$BL$1,\"\",VLOOKUP($BK328,Archyvas,39,FALSE))=0,\"\",IF(VLOOKUP($BK328,Archyvas,37,FALSE)=$BL$1,\"\",VLOOKUP($BK328,Archyvas,39,FALSE)))","v":{"$error":"#N/A"}},{"$f":"IF(IF(VLOOKUP($BK328,Archyvas,37,FALSE)=$BL$1,\"\",VLOOKUP($BK328,Archyvas,40,FALSE))=0,\"\",IF(VLOOKUP($BK328,Archyvas,37,FALSE)=$BL$1,\"\",VLOOKUP($BK328,Archyvas,40,FALSE)))","v":{"$error":"#N/A"}},{"$f":"IF(IF(VLOOKUP($BK328,Archyvas,37,FALSE)=$BL$1,\"\",VLOOKUP($BK328,Archyvas,41,FALSE))=0,\"\",IF(VLOOKUP($BK328,Archyvas,37,FALSE)=$BL$1,\"\",VLOOKUP($BK328,Archyvas,41,FALSE)))","v":{"$error":"#N/A"}},null,{"$f":"_xlfn.IFNA(IF(BS328=\"\",\"\",MAX(BR$1:BR327)+1),\"\")","v":""},"","","","","",""]
[null,null,null,null,null,null,null,null,null,null,null,null,null,null,null,null,null,null,null,null,null,null,null,null,null,null,null,null,null,null,null,null,null,null,null,null,null,null,null,null,null,null,null,null,null,null,null,null,null,null,null,null,null,null,null,null,null,{"$f":"IF(BG329=\"\",\"\",MAX(BF$1:BF328)+1)","v":""},{"$f":"IF(TEXT(Kortelė!$B$26,\"mm\")=IF(A329=\"\",\"\",TEXT(A329,\"mm\")),A329,\"\")","v":""},null,"",{"$f":"_xlfn.IFNA(IF(BL329=\"\",\"\",MAX(BJ$1:BJ328)+1),\"\")","v":""},"",{"$f":"IF(IF(IF(VLOOKUP($BK329,Archyvas,42,FALSE)=$BL$1,\"\",VLOOKUP($BK329,Archyvas,45,FALSE))=0,\"\",IF(VLOOKUP($BK329,Archyvas,42,FALSE)=$BL$1,\"\",VLOOKUP($BK329,Archyvas,45,FALSE)))=\"\",\"\",IF(IF(VLOOKUP($BK329,Archyvas,42,FALSE)=$BL$1,\"\",VLOOKUP($BK329,Archyvas,42,FALSE))=0,\"\",IF(VLOOKUP($BK329,Archyvas,42,FALSE)=$BL$1,\"\",VLOOKUP($BK329,Archyvas,42,FALSE))))","v":{"$error":"#N/A"}},{"$f":"IF(IF(VLOOKUP($BK329,Archyvas,42,FALSE)=$BL$1,\"\",VLOOKUP($BK329,Archyvas,43,FALSE))=0,\"\",IF(VLOOKUP($BK329,Archyvas,42,FALSE)=$BL$1,\"\",VLOOKUP($BK329,Archyvas,43,FALSE)))","v":{"$error":"#N/A"}},{"$f":"IF(IF(VLOOKUP($BK329,Archyvas,42,FALSE)=$BL$1,\"\",VLOOKUP($BK329,Archyvas,44,FALSE))=0,\"\",IF(VLOOKUP($BK329,Archyvas,42,FALSE)=$BL$1,\"\",VLOOKUP($BK329,Archyvas,44,FALSE)))","v":{"$error":"#N/A"}},{"$f":"IF(IF(VLOOKUP($BK329,Archyvas,42,FALSE)=$BL$1,\"\",VLOOKUP($BK329,Archyvas,45,FALSE))=0,\"\",IF(VLOOKUP($BK329,Archyvas,42,FALSE)=$BL$1,\"\",VLOOKUP($BK329,Archyvas,45,FALSE)))","v":{"$error":"#N/A"}},{"$f":"IF(IF(VLOOKUP($BK329,Archyvas,42,FALSE)=$BL$1,\"\",VLOOKUP($BK329,Archyvas,46,FALSE))=0,\"\",IF(VLOOKUP($BK329,Archyvas,42,FALSE)=$BL$1,\"\",VLOOKUP($BK329,Archyvas,46,FALSE)))","v":{"$error":"#N/A"}},null,{"$f":"_xlfn.IFNA(IF(BS329=\"\",\"\",MAX(BR$1:BR328)+1),\"\")","v":""},"","","","","",""]
[null,null,null,null,null,null,null,null,null,null,null,null,null,null,null,null,null,null,null,null,null,null,null,null,null,null,null,null,null,null,null,null,null,null,null,null,null,null,null,null,null,null,null,null,null,null,null,null,null,null,null,null,null,null,null,null,null,{"$f":"IF(BG330=\"\",\"\",MAX(BF$1:BF329)+1)","v":""},{"$f":"IF(TEXT(Kortelė!$B$26,\"mm\")=IF(A330=\"\",\"\",TEXT(A330,\"mm\")),A330,\"\")","v":""},null,"",{"$f":"_xlfn.IFNA(IF(BL330=\"\",\"\",MAX(BJ$1:BJ329)+1),\"\")","v":""},"",{"$f":"IF(IF(IF(VLOOKUP($BK330,Archyvas,47,FALSE)=$BL$1,\"\",VLOOKUP($BK330,Archyvas,50,FALSE))=0,\"\",IF(VLOOKUP($BK330,Archyvas,47,FALSE)=$BL$1,\"\",VLOOKUP($BK330,Archyvas,50,FALSE)))=\"\",\"\",IF(IF(VLOOKUP($BK330,Archyvas,47,FALSE)=$BL$1,\"\",VLOOKUP($BK330,Archyvas,47,FALSE))=0,\"\",IF(VLOOKUP($BK330,Archyvas,47,FALSE)=$BL$1,\"\",VLOOKUP($BK330,Archyvas,47,FALSE))))","v":{"$error":"#N/A"}},{"$f":"IF(IF(VLOOKUP($BK330,Archyvas,47,FALSE)=$BL$1,\"\",VLOOKUP($BK330,Archyvas,48,FALSE))=0,\"\",IF(VLOOKUP($BK330,Archyvas,47,FALSE)=$BL$1,\"\",VLOOKUP($BK330,Archyvas,48,FALSE)))","v":{"$error":"#N/A"}},{"$f":"IF(IF(VLOOKUP($BK330,Archyvas,47,FALSE)=$BL$1,\"\",VLOOKUP($BK330,Archyvas,49,FALSE))=0,\"\",IF(VLOOKUP($BK330,Archyvas,47,FALSE)=$BL$1,\"\",VLOOKUP($BK330,Archyvas,49,FALSE)))","v":{"$error":"#N/A"}},{"$f":"IF(IF(VLOOKUP($BK330,Archyvas,47,FALSE)=$BL$1,\"\",VLOOKUP($BK330,Archyvas,50,FALSE))=0,\"\",IF(VLOOKUP($BK330,Archyvas,47,FALSE)=$BL$1,\"\",VLOOKUP($BK330,Archyvas,50,FALSE)))","v":{"$error":"#N/A"}},{"$f":"IF(IF(VLOOKUP($BK330,Archyvas,47,FALSE)=$BL$1,\"\",VLOOKUP($BK330,Archyvas,51,FALSE))=0,\"\",IF(VLOOKUP($BK330,Archyvas,47,FALSE)=$BL$1,\"\",VLOOKUP($BK330,Archyvas,51,FALSE)))","v":{"$error":"#N/A"}},null,{"$f":"_xlfn.IFNA(IF(BS330=\"\",\"\",MAX(BR$1:BR329)+1),\"\")","v":""},"","","","","",""]
[null,null,null,null,null,null,null,null,null,null,null,null,null,null,null,null,null,null,null,null,null,null,null,null,null,null,null,null,null,null,null,null,null,null,null,null,null,null,null,null,null,null,null,null,null,null,null,null,null,null,null,null,null,null,null,null,null,{"$f":"IF(BG331=\"\",\"\",MAX(BF$1:BF330)+1)","v":""},{"$f":"IF(TEXT(Kortelė!$B$26,\"mm\")=IF(A331=\"\",\"\",TEXT(A331,\"mm\")),A331,\"\")","v":""},null,"",{"$f":"_xlfn.IFNA(IF(BL331=\"\",\"\",MAX(BJ$1:BJ330)+1),\"\")","v":""},"",null,null,null,null,null,null,{"$f":"_xlfn.IFNA(IF(BS331=\"\",\"\",MAX(BR$1:BR330)+1),\"\")","v":""}]

{"sheet":"Ataskaita_mėnesio","index":3,"n_rows":37,"n_cols":7,"rows_kept":37,"cut":false,"hidden":false,"merged":[[29,4,29,6],[30,4,30,6],[31,4,31,6],[23,4,23,6],[24,4,24,6],[25,4,25,6],[26,4,26,6],[27,4,27,6],[28,4,28,6],[22,4,22,6],[11,4,11,6],[12,4,12,6],[13,4,13,6],[14,4,14,6],[15,4,15,6],[16,4,16,6],[17,4,17,6],[18,4,18,6],[19,4,19,6],[20,4,20,6],[21,4,21,6],[1,1,1,6],[4,1,4,2],[4,3,4,6],[6,1,6,2],[8,1,8,2],[8,3,8,4]]}
[null,null,null,null,null,null,"TUNTILISTA"]
[null,"Velan Toimi Oy Y-tunnus 2462440-8 Laivalahden puistotie 10 00810 Helsinki"]
[]
[]
[null,"Työntekijä:",null,"Genė Murauskienė"]
[]
[null,"Kohteen nimi:"]
[]
[null,"Työnumero:"]
[]
[]
[null,"Nr.","Pvm","Tuntimäärä","Tehtäväkuvaus"]
[null,1,"2019-01-22","8h","Siivous   Ruusankatu 2, 00250 Helsinki"]
[null,2]
[null,3]
[null,4]
[null,5]
[null,6]
[null,7]
[null,8]
[null,9]
[null,10]
[null,11]
[null,12]
[null,13]
[null,14]
[null,15]
[null,16]
[null,17]
[null,18]
[null,19]
[null,20]
[]
[null,null,"Paika ja aika",null,null,"Hyväksynyt:"]
[]
[]
[null,null,null,null,"Valvoja:"]